{"text_format":"1","workbook":"xlsx","n_sheets":26,"sheets":["【データ】危険ポイント","評価シート","鳶土工","型枠大工","鉄筋工","左官","内装仕上","屋根・防水工","電工","重機土工・舗装工","解体工","林・造園工","トンネル","シールド・推進工","杭・配管・ 機械工","その他（交通誘導員他）","危険ポイント【削除禁止】","【元データ】評価シート","支店一覧","大工種一覧","工種一覧","資格一覧","注意事項","危険ポイント（可能性 重大性）","危険ポイントと対策（工種別）","災害一覧"],"not_rendered":{"charts":0,"images":0,"macros":0,"external_links":0,"defined_names":80,"comments":2,"pivot_tables":0},"unopened":[],"bounds":{"document_bytes":16777216,"sheet_cells":100000,"rows_first":2000,"rows_last":500,"rows_between":2000,"halvings":0,"cell_chars":16384,"cell_head_chars":4096},"cells_cut":0,"cells_raw":0,"read":"whole","date_system":"1900"}

{"sheet":"【データ】危険ポイント","index":0,"n_rows":251,"n_cols":26,"rows_kept":251,"cut":false,"hidden":false,"merged":[[0,1,0,15]]}
[null,"工種区分"]
["工種コード",null,"鳶土工","型枠大工","鉄筋工","左官","内装仕上","屋根・\n防水工","電工","重機土工\n・舗装工","解体工","林・造園工","トンネル","シールド・推進工","杭・配管・\n機械工","その他（交通誘導員他）","危険ポイント","起因物","事故型","可能性","重大性"]
[302010,1,1,null,null,null,null,null,null,null,null,null,null,null,null,null,".","アーク溶接装置","火災",{"$f":"INDEX(【元データ】評価シート!$B$63:$T$114,W3,X3)","v":2},{"$f":"INDEX(【元データ】評価シート!$B$5:$T$56,Y3,Z3)","v":2},null,{"$f":"MATCH(R3,【元データ】評価シート!$A$63:$A$114,0)","v":25},{"$f":"MATCH(S3,【元データ】評価シート!$B$62:$T$62,0)","v":16},{"$f":"MATCH(R3,【元データ】評価シート!$A$5:$A$56,0)","v":25},{"$f":"MATCH(S3,【元データ】評価シート!$B$4:$T$4,0)","v":16}]
[206010,2,1,1,1,null,null,null,null,1,null,null,1,1,1,null,"溶接時、火花が飛散する","アーク溶接装置","火災",{"$f":"INDEX(【元データ】評価シート!$B$63:$T$114,W4,X4)","v":2},{"$f":"INDEX(【元データ】評価シート!$B$5:$T$56,Y4,Z4)","v":2},null,{"$f":"MATCH(R4,【元データ】評価シート!$A$63:$A$114,0)","v":25},{"$f":"MATCH(S4,【元データ】評価シート!$B$62:$T$62,0)","v":16},{"$f":"MATCH(R4,【元データ】評価シート!$A$5:$A$56,0)","v":25},{"$f":"MATCH(S4,【元データ】評価シート!$B$4:$T$4,0)","v":16}]
[302010,3,null,null,null,null,null,null,null,1,null,null,null,null,null,null,"杭ジョイント溶接時、火傷する","アーク溶接装置","高温低温物との接触",{"$f":"INDEX(【元データ】評価シート!$B$63:$T$114,W5,X5)","v":3},{"$f":"INDEX(【元データ】評価シート!$B$5:$T$56,Y5,Z5)","v":2},null,{"$f":"MATCH(R5,【元データ】評価シート!$A$63:$A$114,0)","v":25},{"$f":"MATCH(S5,【元データ】評価シート!$B$62:$T$62,0)","v":11},{"$f":"MATCH(R5,【元データ】評価シート!$A$5:$A$56,0)","v":25},{"$f":"MATCH(S5,【元データ】評価シート!$B$4:$T$4,0)","v":11}]
[302010,4,1,null,null,null,null,null,null,null,null,null,null,null,null,null,"スタッド溶接時、火傷する","アーク溶接装置","高温低温物との接触",{"$f":"INDEX(【元データ】評価シート!$B$63:$T$114,W6,X6)","v":3},{"$f":"INDEX(【元データ】評価シート!$B$5:$T$56,Y6,Z6)","v":2},null,{"$f":"MATCH(R6,【元データ】評価シート!$A$63:$A$114,0)","v":25},{"$f":"MATCH(S6,【元データ】評価シート!$B$62:$T$62,0)","v":11},{"$f":"MATCH(R6,【元データ】評価シート!$A$5:$A$56,0)","v":25},{"$f":"MATCH(S6,【元データ】評価シート!$B$4:$T$4,0)","v":11}]
[109010,5,1,1,1,null,null,null,null,1,null,null,1,1,1,null,"溶接部で火傷する","アーク溶接装置","高温低温物との接触",{"$f":"INDEX(【元データ】評価シート!$B$63:$T$114,W7,X7)","v":3},{"$f":"INDEX(【元データ】評価シート!$B$5:$T$56,Y7,Z7)","v":2},null,{"$f":"MATCH(R7,【元データ】評価シート!$A$63:$A$114,0)","v":25},{"$f":"MATCH(S7,【元データ】評価シート!$B$62:$T$62,0)","v":11},{"$f":"MATCH(R7,【元データ】評価シート!$A$5:$A$56,0)","v":25},{"$f":"MATCH(S7,【元データ】評価シート!$B$4:$T$4,0)","v":11}]
[202010,6,1,null,null,null,null,null,null,null,null,null,1,1,null,null,"足場解体時、既存物、隣接建物に接触する","足場","激突",{"$f":"INDEX(【元データ】評価シート!$B$63:$T$114,W8,X8)","v":1},{"$f":"INDEX(【元データ】評価シート!$B$5:$T$56,Y8,Z8)","v":2},null,{"$f":"MATCH(R8,【元データ】評価シート!$A$63:$A$114,0)","v":34},{"$f":"MATCH(S8,【元データ】評価シート!$B$62:$T$62,0)","v":3},{"$f":"MATCH(R8,【元データ】評価シート!$A$5:$A$56,0)","v":34},{"$f":"MATCH(S8,【元データ】評価シート!$B$4:$T$4,0)","v":3}]
[101010,7,1,1,1,1,1,null,1,1,null,null,null,null,1,null,"立馬で材料荷渡しや作業時に転落する","足場","墜落・転落",{"$f":"INDEX(【元データ】評価シート!$B$63:$T$114,W9,X9)","v":5},{"$f":"INDEX(【元データ】評価シート!$B$5:$T$56,Y9,Z9)","v":5},null,{"$f":"MATCH(R9,【元データ】評価シート!$A$63:$A$114,0)","v":34},{"$f":"MATCH(S9,【元データ】評価シート!$B$62:$T$62,0)","v":1},{"$f":"MATCH(R9,【元データ】評価シート!$A$5:$A$56,0)","v":34},{"$f":"MATCH(S9,【元データ】評価シート!$B$4:$T$4,0)","v":1}]
[101010,8,1,1,1,1,1,null,1,1,null,null,null,null,1,null,"立馬の脚が段差・床スリーブにはまり、または縮んで転落・転倒する","足場","墜落・転落",{"$f":"INDEX(【元データ】評価シート!$B$63:$T$114,W10,X10)","v":5},{"$f":"INDEX(【元データ】評価シート!$B$5:$T$56,Y10,Z10)","v":5},null,{"$f":"MATCH(R10,【元データ】評価シート!$A$63:$A$114,0)","v":34},{"$f":"MATCH(S10,【元データ】評価シート!$B$62:$T$62,0)","v":1},{"$f":"MATCH(R10,【元データ】評価シート!$A$5:$A$56,0)","v":34},{"$f":"MATCH(S10,【元データ】評価シート!$B$4:$T$4,0)","v":1}]
[101010,9,1,1,1,1,1,null,1,1,null,null,null,null,1,null,"立馬から降りる時に踏み外して転落する","足場","踏み抜き",{"$f":"INDEX(【元データ】評価シート!$B$63:$T$114,W11,X11)","v":1},{"$f":"INDEX(【元データ】評価シート!$B$5:$T$56,Y11,Z11)","v":1},null,{"$f":"MATCH(R11,【元データ】評価シート!$A$63:$A$114,0)","v":34},{"$f":"MATCH(S11,【元データ】評価シート!$B$62:$T$62,0)","v":9},{"$f":"MATCH(R11,【元データ】評価シート!$A$5:$A$56,0)","v":34},{"$f":"MATCH(S11,【元データ】評価シート!$B$4:$T$4,0)","v":9}]
[706010,10,1,1,1,1,1,1,1,1,1,1,1,1,1,null,"梯子作業中バランスを崩して転落する","はしご等","墜落・転落",{"$f":"INDEX(【元データ】評価シート!$B$63:$T$114,W12,X12)","v":5},{"$f":"INDEX(【元データ】評価シート!$B$5:$T$56,Y12,Z12)","v":5},null,{"$f":"MATCH(R12,【元データ】評価シート!$A$63:$A$114,0)","v":32},{"$f":"MATCH(S12,【元データ】評価シート!$B$62:$T$62,0)","v":1},{"$f":"MATCH(R12,【元データ】評価シート!$A$5:$A$56,0)","v":32},{"$f":"MATCH(S12,【元データ】評価シート!$B$4:$T$4,0)","v":1}]
[105010,11,1,1,1,1,1,1,1,1,1,1,1,1,1,null,"足場使用時、足場から墜落する","足場","墜落・転落",{"$f":"INDEX(【元データ】評価シート!$B$63:$T$114,W13,X13)","v":5},{"$f":"INDEX(【元データ】評価シート!$B$5:$T$56,Y13,Z13)","v":5},null,{"$f":"MATCH(R13,【元データ】評価シート!$A$63:$A$114,0)","v":34},{"$f":"MATCH(S13,【元データ】評価シート!$B$62:$T$62,0)","v":1},{"$f":"MATCH(R13,【元データ】評価シート!$A$5:$A$56,0)","v":34},{"$f":"MATCH(S13,【元データ】評価シート!$B$4:$T$4,0)","v":1}]
[105010,12,1,1,1,1,1,1,1,1,1,1,1,1,1,null,"足場の隙間から墜落する","足場","墜落・転落",{"$f":"INDEX(【元データ】評価シート!$B$63:$T$114,W14,X14)","v":5},{"$f":"INDEX(【元データ】評価シート!$B$5:$T$56,Y14,Z14)","v":5},null,{"$f":"MATCH(R14,【元データ】評価シート!$A$63:$A$114,0)","v":34},{"$f":"MATCH(S14,【元データ】評価シート!$B$62:$T$62,0)","v":1},{"$f":"MATCH(R14,【元データ】評価シート!$A$5:$A$56,0)","v":34},{"$f":"MATCH(S14,【元データ】評価シート!$B$4:$T$4,0)","v":1}]
[202010,13,1,null,null,null,null,null,null,null,null,null,null,null,null,null,"枠組足場解体荷下ろし中、妻手摺の隙間から墜落する","足場","墜落・転落",{"$f":"INDEX(【元データ】評価シート!$B$63:$T$114,W15,X15)","v":5},{"$f":"INDEX(【元データ】評価シート!$B$5:$T$56,Y15,Z15)","v":5},null,{"$f":"MATCH(R15,【元データ】評価シート!$A$63:$A$114,0)","v":34},{"$f":"MATCH(S15,【元データ】評価シート!$B$62:$T$62,0)","v":1},{"$f":"MATCH(R15,【元データ】評価シート!$A$5:$A$56,0)","v":34},{"$f":"MATCH(S15,【元データ】評価シート!$B$4:$T$4,0)","v":1}]
[203010,14,1,1,1,1,1,1,1,1,1,1,1,1,1,null,"足場板を固定する際、足場板の天ビンにより墜落する","足場","踏み抜き",{"$f":"INDEX(【元データ】評価シート!$B$63:$T$114,W16,X16)","v":1},{"$f":"INDEX(【元データ】評価シート!$B$5:$T$56,Y16,Z16)","v":1},null,{"$f":"MATCH(R16,【元データ】評価シート!$A$63:$A$114,0)","v":34},{"$f":"MATCH(S16,【元データ】評価シート!$B$62:$T$62,0)","v":9},{"$f":"MATCH(R16,【元データ】評価シート!$A$5:$A$56,0)","v":34},{"$f":"MATCH(S16,【元データ】評価シート!$B$4:$T$4,0)","v":9}]
[402020,15,1,1,1,1,1,null,1,1,null,null,null,null,1,null,"立馬上で作業中突風にあおられ材料と共に転落する","足場","墜落・転落",{"$f":"INDEX(【元データ】評価シート!$B$63:$T$114,W17,X17)","v":5},{"$f":"INDEX(【元データ】評価シート!$B$5:$T$56,Y17,Z17)","v":5},null,{"$f":"MATCH(R17,【元データ】評価シート!$A$63:$A$114,0)","v":34},{"$f":"MATCH(S17,【元データ】評価シート!$B$62:$T$62,0)","v":1},{"$f":"MATCH(R17,【元データ】評価シート!$A$5:$A$56,0)","v":34},{"$f":"MATCH(S17,【元データ】評価シート!$B$4:$T$4,0)","v":1}]
[402020,16,null,1,null,null,null,null,null,null,null,null,null,null,null,null,"型枠建込み時、立馬から転落する","足場","墜落・転落",{"$f":"INDEX(【元データ】評価シート!$B$63:$T$114,W18,X18)","v":5},{"$f":"INDEX(【元データ】評価シート!$B$5:$T$56,Y18,Z18)","v":5},null,{"$f":"MATCH(R18,【元データ】評価シート!$A$63:$A$114,0)","v":34},{"$f":"MATCH(S18,【元データ】評価シート!$B$62:$T$62,0)","v":1},{"$f":"MATCH(R18,【元データ】評価シート!$A$5:$A$56,0)","v":34},{"$f":"MATCH(S18,【元データ】評価シート!$B$4:$T$4,0)","v":1}]
[402030,17,1,1,1,1,1,null,1,1,1,1,1,1,1,null,"足場の中桟に足を掛け作業中、中桟が外れて転落する","足場","墜落・転落",{"$f":"INDEX(【元データ】評価シート!$B$63:$T$114,W19,X19)","v":5},{"$f":"INDEX(【元データ】評価シート!$B$5:$T$56,Y19,Z19)","v":5},null,{"$f":"MATCH(R19,【元データ】評価シート!$A$63:$A$114,0)","v":34},{"$f":"MATCH(S19,【元データ】評価シート!$B$62:$T$62,0)","v":1},{"$f":"MATCH(R19,【元データ】評価シート!$A$5:$A$56,0)","v":34},{"$f":"MATCH(S19,【元データ】評価シート!$B$4:$T$4,0)","v":1}]
[404030,18,null,null,null,null,1,null,null,null,null,null,null,null,null,null,"錆止め塗装中、足場から転落する","足場","墜落・転落",{"$f":"INDEX(【元データ】評価シート!$B$63:$T$114,W20,X20)","v":5},{"$f":"INDEX(【元データ】評価シート!$B$5:$T$56,Y20,Z20)","v":5},null,{"$f":"MATCH(R20,【元データ】評価シート!$A$63:$A$114,0)","v":34},{"$f":"MATCH(S20,【元データ】評価シート!$B$62:$T$62,0)","v":1},{"$f":"MATCH(R20,【元データ】評価シート!$A$5:$A$56,0)","v":34},{"$f":"MATCH(S20,【元データ】評価シート!$B$4:$T$4,0)","v":1}]
[404080,19,null,null,null,null,1,null,1,null,null,null,null,null,null,null,"ローリング足場の手摺が外れて転落する","足場","墜落・転落",{"$f":"INDEX(【元データ】評価シート!$B$63:$T$114,W21,X21)","v":5},{"$f":"INDEX(【元データ】評価シート!$B$5:$T$56,Y21,Z21)","v":5},null,{"$f":"MATCH(R21,【元データ】評価シート!$A$63:$A$114,0)","v":34},{"$f":"MATCH(S21,【元データ】評価シート!$B$62:$T$62,0)","v":1},{"$f":"MATCH(R21,【元データ】評価シート!$A$5:$A$56,0)","v":34},{"$f":"MATCH(S21,【元データ】評価シート!$B$4:$T$4,0)","v":1}]
[404080,20,null,null,null,null,1,null,1,null,null,null,null,null,null,null,"ﾛｰﾘﾝｸﾞﾀﾜｰ使用時、身を寄り出して墜落する","足場","墜落・転落",{"$f":"INDEX(【元データ】評価シート!$B$63:$T$114,W22,X22)","v":5},{"$f":"INDEX(【元データ】評価シート!$B$5:$T$56,Y22,Z22)","v":5},null,{"$f":"MATCH(R22,【元データ】評価シート!$A$63:$A$114,0)","v":34},{"$f":"MATCH(S22,【元データ】評価シート!$B$62:$T$62,0)","v":1},{"$f":"MATCH(R22,【元データ】評価シート!$A$5:$A$56,0)","v":34},{"$f":"MATCH(S22,【元データ】評価シート!$B$4:$T$4,0)","v":1}]
[105010,21,1,1,1,1,1,1,1,1,1,1,1,1,1,null,"足場上で躓いて転倒する","足場","転倒",{"$f":"INDEX(【元データ】評価シート!$B$63:$T$114,W23,X23)","v":1},{"$f":"INDEX(【元データ】評価シート!$B$5:$T$56,Y23,Z23)","v":2},null,{"$f":"MATCH(R23,【元データ】評価シート!$A$63:$A$114,0)","v":34},{"$f":"MATCH(S23,【元データ】評価シート!$B$62:$T$62,0)","v":2},{"$f":"MATCH(R23,【元データ】評価シート!$A$5:$A$56,0)","v":34},{"$f":"MATCH(S23,【元データ】評価シート!$B$4:$T$4,0)","v":2}]
[202020,22,null,null,null,null,1,null,1,null,null,null,null,null,null,null,"ローリング足場が倒れて負傷する","足場","崩壊・倒壊",{"$f":"INDEX(【元データ】評価シート!$B$63:$T$114,W24,X24)","v":3},{"$f":"INDEX(【元データ】評価シート!$B$5:$T$56,Y24,Z24)","v":2},null,{"$f":"MATCH(R24,【元データ】評価シート!$A$63:$A$114,0)","v":34},{"$f":"MATCH(S24,【元データ】評価シート!$B$62:$T$62,0)","v":5},{"$f":"MATCH(R24,【元データ】評価シート!$A$5:$A$56,0)","v":34},{"$f":"MATCH(S24,【元データ】評価シート!$B$4:$T$4,0)","v":5}]
[402020,23,1,1,1,1,1,null,1,1,1,1,1,1,1,null,"布板昇降ハッチの蓋が閉まり手を詰める","足場","はさまれ・巻き込まれ",{"$f":"INDEX(【元データ】評価シート!$B$63:$T$114,W25,X25)","v":2},{"$f":"INDEX(【元データ】評価シート!$B$5:$T$56,Y25,Z25)","v":2},null,{"$f":"MATCH(R25,【元データ】評価シート!$A$63:$A$114,0)","v":34},{"$f":"MATCH(S25,【元データ】評価シート!$B$62:$T$62,0)","v":7},{"$f":"MATCH(R25,【元データ】評価シート!$A$5:$A$56,0)","v":34},{"$f":"MATCH(S25,【元データ】評価シート!$B$4:$T$4,0)","v":7}]
[105010,24,1,1,1,1,1,1,1,1,1,1,1,1,1,null,"足場使用時、足場から材料等を落下させる","足場","飛来・落下",{"$f":"INDEX(【元データ】評価シート!$B$63:$T$114,W26,X26)","v":2},{"$f":"INDEX(【元データ】評価シート!$B$5:$T$56,Y26,Z26)","v":2},null,{"$f":"MATCH(R26,【元データ】評価シート!$A$63:$A$114,0)","v":34},{"$f":"MATCH(S26,【元データ】評価シート!$B$62:$T$62,0)","v":4},{"$f":"MATCH(R26,【元データ】評価シート!$A$5:$A$56,0)","v":34},{"$f":"MATCH(S26,【元データ】評価シート!$B$4:$T$4,0)","v":4}]
[202010,25,1,null,null,null,null,null,null,null,null,null,null,null,null,null,"足場の大バラシ時、玉掛けワイヤーに引掛かり足場が倒れる","足場","崩壊・倒壊",{"$f":"INDEX(【元データ】評価シート!$B$63:$T$114,W27,X27)","v":3},{"$f":"INDEX(【元データ】評価シート!$B$5:$T$56,Y27,Z27)","v":2},null,{"$f":"MATCH(R27,【元データ】評価シート!$A$63:$A$114,0)","v":34},{"$f":"MATCH(S27,【元データ】評価シート!$B$62:$T$62,0)","v":5},{"$f":"MATCH(R27,【元データ】評価シート!$A$5:$A$56,0)","v":34},{"$f":"MATCH(S27,【元データ】評価シート!$B$4:$T$4,0)","v":5}]
[205010,26,1,null,null,null,null,null,null,null,null,null,null,null,null,null,"重量物運搬時インターロッキングに躓いて足の上に落下する","石、砂、砂利","転倒",{"$f":"INDEX(【元データ】評価シート!$B$63:$T$114,W28,X28)","v":1},{"$f":"INDEX(【元データ】評価シート!$B$5:$T$56,Y28,Z28)","v":2},null,{"$f":"MATCH(R28,【元データ】評価シート!$A$63:$A$114,0)","v":47},{"$f":"MATCH(S28,【元データ】評価シート!$B$62:$T$62,0)","v":2},{"$f":"MATCH(R28,【元データ】評価シート!$A$5:$A$56,0)","v":47},{"$f":"MATCH(S28,【元データ】評価シート!$B$4:$T$4,0)","v":2}]
[509020,27,1,null,null,null,null,null,null,null,null,null,null,null,null,null,"取付作業中吊元の後打ちアンカーが抜け、吊り荷が落下して手にあたる","足場","飛来・落下",{"$f":"INDEX(【元データ】評価シート!$B$63:$T$114,W29,X29)","v":2},{"$f":"INDEX(【元データ】評価シート!$B$5:$T$56,Y29,Z29)","v":2},null,{"$f":"MATCH(R29,【元データ】評価シート!$A$63:$A$114,0)","v":34},{"$f":"MATCH(S29,【元データ】評価シート!$B$62:$T$62,0)","v":4},{"$f":"MATCH(R29,【元データ】評価シート!$A$5:$A$56,0)","v":34},{"$f":"MATCH(S29,【元データ】評価シート!$B$4:$T$4,0)","v":4}]
[405010,28,1,null,null,null,null,null,null,null,null,null,null,null,null,null,"ＰＣを仮置きする際、手を挟む","石、砂、砂利","はさまれ・巻き込まれ",{"$f":"INDEX(【元データ】評価シート!$B$63:$T$114,W30,X30)","v":2},{"$f":"INDEX(【元データ】評価シート!$B$5:$T$56,Y30,Z30)","v":2},null,{"$f":"MATCH(R30,【元データ】評価シート!$A$63:$A$114,0)","v":47},{"$f":"MATCH(S30,【元データ】評価シート!$B$62:$T$62,0)","v":7},{"$f":"MATCH(R30,【元データ】評価シート!$A$5:$A$56,0)","v":47},{"$f":"MATCH(S30,【元データ】評価シート!$B$4:$T$4,0)","v":7}]
[405010,29,1,null,null,null,null,null,null,null,null,null,null,null,null,null,"PC柱・壁が倒れて負傷する","石、砂、砂利","はさまれ・巻き込まれ",{"$f":"INDEX(【元データ】評価シート!$B$63:$T$114,W31,X31)","v":2},{"$f":"INDEX(【元データ】評価シート!$B$5:$T$56,Y31,Z31)","v":2},null,{"$f":"MATCH(R31,【元データ】評価シート!$A$63:$A$114,0)","v":47},{"$f":"MATCH(S31,【元データ】評価シート!$B$62:$T$62,0)","v":7},{"$f":"MATCH(R31,【元データ】評価シート!$A$5:$A$56,0)","v":47},{"$f":"MATCH(S31,【元データ】評価シート!$B$4:$T$4,0)","v":7}]
[205010,30,1,null,null,null,1,null,null,null,null,null,1,1,null,null,"足場清掃時、足場からガラ等を落下させる","石、砂、砂利","飛来・落下",{"$f":"INDEX(【元データ】評価シート!$B$63:$T$114,W32,X32)","v":3},{"$f":"INDEX(【元データ】評価シート!$B$5:$T$56,Y32,Z32)","v":2},null,{"$f":"MATCH(R32,【元データ】評価シート!$A$63:$A$114,0)","v":47},{"$f":"MATCH(S32,【元データ】評価シート!$B$62:$T$62,0)","v":4},{"$f":"MATCH(R32,【元データ】評価シート!$A$5:$A$56,0)","v":47},{"$f":"MATCH(S32,【元データ】評価シート!$B$4:$T$4,0)","v":4}]
[401010,31,1,null,null,null,null,null,null,null,null,null,1,1,null,null,"コンクリートを外部に飛散させる","石、砂、砂利","飛来・落下",{"$f":"INDEX(【元データ】評価シート!$B$63:$T$114,W33,X33)","v":3},{"$f":"INDEX(【元データ】評価シート!$B$5:$T$56,Y33,Z33)","v":2},null,{"$f":"MATCH(R33,【元データ】評価シート!$A$63:$A$114,0)","v":47},{"$f":"MATCH(S33,【元データ】評価シート!$B$62:$T$62,0)","v":4},{"$f":"MATCH(R33,【元データ】評価シート!$A$5:$A$56,0)","v":47},{"$f":"MATCH(S33,【元データ】評価シート!$B$4:$T$4,0)","v":4}]
[302010,32,1,null,null,1,null,null,null,null,null,null,1,1,null,null,"ホース先端よりセメントミルクが飛び出し顔にかかる","石、砂、砂利","有害物等との接触",{"$f":"INDEX(【元データ】評価シート!$B$63:$T$114,W34,X34)","v":1},{"$f":"INDEX(【元データ】評価シート!$B$5:$T$56,Y34,Z34)","v":1},null,{"$f":"MATCH(R34,【元データ】評価シート!$A$63:$A$114,0)","v":47},{"$f":"MATCH(S34,【元データ】評価シート!$B$62:$T$62,0)","v":12},{"$f":"MATCH(R34,【元データ】評価シート!$A$5:$A$56,0)","v":47},{"$f":"MATCH(S34,【元データ】評価シート!$B$4:$T$4,0)","v":12}]
[401020,33,1,null,null,1,null,null,null,null,null,null,1,1,null,null,"手足にコンクリートが触れてただれる","石、砂、砂利","有害物等との接触",{"$f":"INDEX(【元データ】評価シート!$B$63:$T$114,W35,X35)","v":1},{"$f":"INDEX(【元データ】評価シート!$B$5:$T$56,Y35,Z35)","v":1},null,{"$f":"MATCH(R35,【元データ】評価シート!$A$63:$A$114,0)","v":47},{"$f":"MATCH(S35,【元データ】評価シート!$B$62:$T$62,0)","v":12},{"$f":"MATCH(R35,【元データ】評価シート!$A$5:$A$56,0)","v":47},{"$f":"MATCH(S35,【元データ】評価シート!$B$4:$T$4,0)","v":12}]
[403060,34,null,null,null,1,null,null,null,null,null,null,1,1,null,null,"グラウト材注入する際、グラウト材が目に入る","石、砂、砂利","有害物等との接触",{"$f":"INDEX(【元データ】評価シート!$B$63:$T$114,W36,X36)","v":1},{"$f":"INDEX(【元データ】評価シート!$B$5:$T$56,Y36,Z36)","v":1},null,{"$f":"MATCH(R36,【元データ】評価シート!$A$63:$A$114,0)","v":47},{"$f":"MATCH(S36,【元データ】評価シート!$B$62:$T$62,0)","v":12},{"$f":"MATCH(R36,【元データ】評価シート!$A$5:$A$56,0)","v":47},{"$f":"MATCH(S36,【元データ】評価シート!$B$4:$T$4,0)","v":12}]
[404020,35,1,1,1,null,null,null,null,1,1,null,1,1,1,null,"吊荷が強風であおられる","異常環境等","飛来・落下",{"$f":"INDEX(【元データ】評価シート!$B$63:$T$114,W37,X37)","v":1},{"$f":"INDEX(【元データ】評価シート!$B$5:$T$56,Y37,Z37)","v":1},null,{"$f":"MATCH(R37,【元データ】評価シート!$A$63:$A$114,0)","v":51},{"$f":"MATCH(S37,【元データ】評価シート!$B$62:$T$62,0)","v":4},{"$f":"MATCH(R37,【元データ】評価シート!$A$5:$A$56,0)","v":51},{"$f":"MATCH(S37,【元データ】評価シート!$B$4:$T$4,0)","v":4}]
[108010,36,1,1,1,null,null,null,null,1,1,null,1,1,1,null,"クレーン使用時、資材を既存物にぶつける","移動式クレーン","激突",{"$f":"INDEX(【元データ】評価シート!$B$63:$T$114,W38,X38)","v":1},{"$f":"INDEX(【元データ】評価シート!$B$5:$T$56,Y38,Z38)","v":2},null,{"$f":"MATCH(R38,【元データ】評価シート!$A$63:$A$114,0)","v":13},{"$f":"MATCH(S38,【元データ】評価シート!$B$62:$T$62,0)","v":3},{"$f":"MATCH(R38,【元データ】評価シート!$A$5:$A$56,0)","v":13},{"$f":"MATCH(S38,【元データ】評価シート!$B$4:$T$4,0)","v":3}]
[110010,37,1,1,1,null,null,1,1,1,1,1,1,1,1,null,"ユニック作業中誤作動にて吊荷が振れて負傷する","移動式クレーン","激突され",{"$f":"INDEX(【元データ】評価シート!$B$63:$T$114,W39,X39)","v":3},{"$f":"INDEX(【元データ】評価シート!$B$5:$T$56,Y39,Z39)","v":3},null,{"$f":"MATCH(R39,【元データ】評価シート!$A$63:$A$114,0)","v":13},{"$f":"MATCH(S39,【元データ】評価シート!$B$62:$T$62,0)","v":6},{"$f":"MATCH(R39,【元データ】評価シート!$A$5:$A$56,0)","v":13},{"$f":"MATCH(S39,【元データ】評価シート!$B$4:$T$4,0)","v":6}]
[108010,38,1,1,1,null,null,1,1,1,1,1,1,1,1,null,"ブーム組立時、高所から転落する","移動式クレーン","墜落・転落",{"$f":"INDEX(【元データ】評価シート!$B$63:$T$114,W40,X40)","v":4},{"$f":"INDEX(【元データ】評価シート!$B$5:$T$56,Y40,Z40)","v":4},null,{"$f":"MATCH(R40,【元データ】評価シート!$A$63:$A$114,0)","v":13},{"$f":"MATCH(S40,【元データ】評価シート!$B$62:$T$62,0)","v":1},{"$f":"MATCH(R40,【元データ】評価シート!$A$5:$A$56,0)","v":13},{"$f":"MATCH(S40,【元データ】評価シート!$B$4:$T$4,0)","v":1}]
[401020,39,1,1,1,null,null,1,1,1,1,1,1,1,1,null,"ブームをたたむ時、荷台から転落する","移動式クレーン","墜落・転落",{"$f":"INDEX(【元データ】評価シート!$B$63:$T$114,W41,X41)","v":4},{"$f":"INDEX(【元データ】評価シート!$B$5:$T$56,Y41,Z41)","v":4},null,{"$f":"MATCH(R41,【元データ】評価シート!$A$63:$A$114,0)","v":13},{"$f":"MATCH(S41,【元データ】評価シート!$B$62:$T$62,0)","v":1},{"$f":"MATCH(R41,【元データ】評価シート!$A$5:$A$56,0)","v":13},{"$f":"MATCH(S41,【元データ】評価シート!$B$4:$T$4,0)","v":1}]
[401020,40,1,null,null,null,null,null,null,null,null,null,1,1,null,null,"コンクリート打設中、ホースが暴れて接触し転倒する","移動式クレーン","転倒",{"$f":"INDEX(【元データ】評価シート!$B$63:$T$114,W42,X42)","v":2},{"$f":"INDEX(【元データ】評価シート!$B$5:$T$56,Y42,Z42)","v":2},null,{"$f":"MATCH(R42,【元データ】評価シート!$A$63:$A$114,0)","v":13},{"$f":"MATCH(S42,【元データ】評価シート!$B$62:$T$62,0)","v":2},{"$f":"MATCH(R42,【元データ】評価シート!$A$5:$A$56,0)","v":13},{"$f":"MATCH(S42,【元データ】評価シート!$B$4:$T$4,0)","v":2}]
[108010,41,1,1,1,null,null,null,1,1,1,1,1,1,1,null,"揚重機組立時、手･足を挟まれる","移動式クレーン","はさまれ・巻き込まれ",{"$f":"INDEX(【元データ】評価シート!$B$63:$T$114,W43,X43)","v":3},{"$f":"INDEX(【元データ】評価シート!$B$5:$T$56,Y43,Z43)","v":3},null,{"$f":"MATCH(R43,【元データ】評価シート!$A$63:$A$114,0)","v":13},{"$f":"MATCH(S43,【元データ】評価シート!$B$62:$T$62,0)","v":7},{"$f":"MATCH(R43,【元データ】評価シート!$A$5:$A$56,0)","v":13},{"$f":"MATCH(S43,【元データ】評価シート!$B$4:$T$4,0)","v":7}]
[401020,42,1,1,1,null,null,null,1,1,1,1,1,1,1,null,"ブームをたたむ時、手を挟む","移動式クレーン","はさまれ・巻き込まれ",{"$f":"INDEX(【元データ】評価シート!$B$63:$T$114,W44,X44)","v":3},{"$f":"INDEX(【元データ】評価シート!$B$5:$T$56,Y44,Z44)","v":3},null,{"$f":"MATCH(R44,【元データ】評価シート!$A$63:$A$114,0)","v":13},{"$f":"MATCH(S44,【元データ】評価シート!$B$62:$T$62,0)","v":7},{"$f":"MATCH(R44,【元データ】評価シート!$A$5:$A$56,0)","v":13},{"$f":"MATCH(S44,【元データ】評価シート!$B$4:$T$4,0)","v":7}]
[102010,43,1,1,1,null,null,null,1,1,1,1,1,1,1,null,"吊荷時、搬入車輛（ユニック車)が転倒する","移動式クレーン","崩壊・倒壊",{"$f":"INDEX(【元データ】評価シート!$B$63:$T$114,W45,X45)","v":3},{"$f":"INDEX(【元データ】評価シート!$B$5:$T$56,Y45,Z45)","v":2},null,{"$f":"MATCH(R45,【元データ】評価シート!$A$63:$A$114,0)","v":13},{"$f":"MATCH(S45,【元データ】評価シート!$B$62:$T$62,0)","v":5},{"$f":"MATCH(R45,【元データ】評価シート!$A$5:$A$56,0)","v":13},{"$f":"MATCH(S45,【元データ】評価シート!$B$4:$T$4,0)","v":5}]
[108010,44,1,1,1,null,null,null,1,1,1,1,1,1,1,null,"揚重機が転倒する","移動式クレーン","崩壊・倒壊",{"$f":"INDEX(【元データ】評価シート!$B$63:$T$114,W46,X46)","v":3},{"$f":"INDEX(【元データ】評価シート!$B$5:$T$56,Y46,Z46)","v":2},null,{"$f":"MATCH(R46,【元データ】評価シート!$A$63:$A$114,0)","v":13},{"$f":"MATCH(S46,【元データ】評価シート!$B$62:$T$62,0)","v":5},{"$f":"MATCH(R46,【元データ】評価シート!$A$5:$A$56,0)","v":13},{"$f":"MATCH(S46,【元データ】評価シート!$B$4:$T$4,0)","v":5}]
[110010,45,1,1,1,null,null,null,1,1,1,1,1,1,1,null,"資材荷吊り時アウトリガー下地盤が沈下しユニック車が転倒する","移動式クレーン","崩壊・倒壊",{"$f":"INDEX(【元データ】評価シート!$B$63:$T$114,W47,X47)","v":3},{"$f":"INDEX(【元データ】評価シート!$B$5:$T$56,Y47,Z47)","v":2},null,{"$f":"MATCH(R47,【元データ】評価シート!$A$63:$A$114,0)","v":13},{"$f":"MATCH(S47,【元データ】評価シート!$B$62:$T$62,0)","v":5},{"$f":"MATCH(R47,【元データ】評価シート!$A$5:$A$56,0)","v":13},{"$f":"MATCH(S47,【元データ】評価シート!$B$4:$T$4,0)","v":5}]
[110010,46,1,1,1,null,null,null,1,1,1,1,1,1,1,null,"資材荷吊り時過過重になりユニック車が転倒する","移動式クレーン","崩壊・倒壊",{"$f":"INDEX(【元データ】評価シート!$B$63:$T$114,W48,X48)","v":3},{"$f":"INDEX(【元データ】評価シート!$B$5:$T$56,Y48,Z48)","v":2},null,{"$f":"MATCH(R48,【元データ】評価シート!$A$63:$A$114,0)","v":13},{"$f":"MATCH(S48,【元データ】評価シート!$B$62:$T$62,0)","v":5},{"$f":"MATCH(R48,【元データ】評価シート!$A$5:$A$56,0)","v":13},{"$f":"MATCH(S48,【元データ】評価シート!$B$4:$T$4,0)","v":5}]
[401020,47,1,null,null,null,null,null,null,null,null,null,1,1,null,null,"ポンプ車のブームを合図なく動かしバランスを崩して転倒する","移動式クレーン","崩壊・倒壊",{"$f":"INDEX(【元データ】評価シート!$B$63:$T$114,W49,X49)","v":3},{"$f":"INDEX(【元データ】評価シート!$B$5:$T$56,Y49,Z49)","v":2},null,{"$f":"MATCH(R49,【元データ】評価シート!$A$63:$A$114,0)","v":13},{"$f":"MATCH(S49,【元データ】評価シート!$B$62:$T$62,0)","v":5},{"$f":"MATCH(R49,【元データ】評価シート!$A$5:$A$56,0)","v":13},{"$f":"MATCH(S49,【元データ】評価シート!$B$4:$T$4,0)","v":5}]
[401020,48,1,null,null,null,null,null,null,null,null,null,1,1,null,null,"圧送車が転倒する","移動式クレーン","崩壊・倒壊",{"$f":"INDEX(【元データ】評価シート!$B$63:$T$114,W50,X50)","v":3},{"$f":"INDEX(【元データ】評価シート!$B$5:$T$56,Y50,Z50)","v":2},null,{"$f":"MATCH(R50,【元データ】評価シート!$A$63:$A$114,0)","v":13},{"$f":"MATCH(S50,【元データ】評価シート!$B$62:$T$62,0)","v":5},{"$f":"MATCH(R50,【元データ】評価シート!$A$5:$A$56,0)","v":13},{"$f":"MATCH(S50,【元データ】評価シート!$B$4:$T$4,0)","v":5}]
[203030,49,1,null,null,null,null,null,null,null,null,null,null,null,null,null,"手摺取付け時、墜落する","開口部","墜落・転落",{"$f":"INDEX(【元データ】評価シート!$B$63:$T$114,W51,X51)","v":5},{"$f":"INDEX(【元データ】評価シート!$B$5:$T$56,Y51,Z51)","v":4},null,{"$f":"MATCH(R51,【元データ】評価シート!$A$63:$A$114,0)","v":37},{"$f":"MATCH(S51,【元データ】評価シート!$B$62:$T$62,0)","v":1},{"$f":"MATCH(R51,【元データ】評価シート!$A$5:$A$56,0)","v":37},{"$f":"MATCH(S51,【元データ】評価シート!$B$4:$T$4,0)","v":1}]
[206010,50,1,null,null,null,null,null,null,1,null,null,null,null,1,null,"構台架設時、梁から墜落する","開口部","墜落・転落",{"$f":"INDEX(【元データ】評価シート!$B$63:$T$114,W52,X52)","v":5},{"$f":"INDEX(【元データ】評価シート!$B$5:$T$56,Y52,Z52)","v":4},null,{"$f":"MATCH(R52,【元データ】評価シート!$A$63:$A$114,0)","v":37},{"$f":"MATCH(S52,【元データ】評価シート!$B$62:$T$62,0)","v":1},{"$f":"MATCH(R52,【元データ】評価シート!$A$5:$A$56,0)","v":37},{"$f":"MATCH(S52,【元データ】評価シート!$B$4:$T$4,0)","v":1}]
[301030,51,1,null,null,null,null,null,null,1,null,null,null,null,null,null,"切梁架設時、梁から墜落する","開口部","墜落・転落",{"$f":"INDEX(【元データ】評価シート!$B$63:$T$114,W53,X53)","v":5},{"$f":"INDEX(【元データ】評価シート!$B$5:$T$56,Y53,Z53)","v":4},null,{"$f":"MATCH(R53,【元データ】評価シート!$A$63:$A$114,0)","v":37},{"$f":"MATCH(S53,【元データ】評価シート!$B$62:$T$62,0)","v":1},{"$f":"MATCH(R53,【元データ】評価シート!$A$5:$A$56,0)","v":37},{"$f":"MATCH(S53,【元データ】評価シート!$B$4:$T$4,0)","v":1}]
[401010,52,1,1,1,1,1,1,1,1,1,1,1,1,1,null,"昇降設備を使用せずに墜落する","開口部","墜落・転落",{"$f":"INDEX(【元データ】評価シート!$B$63:$T$114,W54,X54)","v":5},{"$f":"INDEX(【元データ】評価シート!$B$5:$T$56,Y54,Z54)","v":4},null,{"$f":"MATCH(R54,【元データ】評価シート!$A$63:$A$114,0)","v":37},{"$f":"MATCH(S54,【元データ】評価シート!$B$62:$T$62,0)","v":1},{"$f":"MATCH(R54,【元データ】評価シート!$A$5:$A$56,0)","v":37},{"$f":"MATCH(S54,【元データ】評価シート!$B$4:$T$4,0)","v":1}]
[401010,53,1,1,1,1,1,1,1,1,1,1,1,1,1,null,"物を取ろうと足場に足を掛け滑って転落する","開口部","墜落・転落",{"$f":"INDEX(【元データ】評価シート!$B$63:$T$114,W55,X55)","v":5},{"$f":"INDEX(【元データ】評価シート!$B$5:$T$56,Y55,Z55)","v":4},null,{"$f":"MATCH(R55,【元データ】評価シート!$A$63:$A$114,0)","v":37},{"$f":"MATCH(S55,【元データ】評価シート!$B$62:$T$62,0)","v":1},{"$f":"MATCH(R55,【元データ】評価シート!$A$5:$A$56,0)","v":37},{"$f":"MATCH(S55,【元データ】評価シート!$B$4:$T$4,0)","v":1}]
[401010,54,1,1,1,1,1,1,1,1,1,1,1,1,1,null,"足場の隙間から墜落する","開口部","墜落・転落",{"$f":"INDEX(【元データ】評価シート!$B$63:$T$114,W56,X56)","v":5},{"$f":"INDEX(【元データ】評価シート!$B$5:$T$56,Y56,Z56)","v":4},null,{"$f":"MATCH(R56,【元データ】評価シート!$A$63:$A$114,0)","v":37},{"$f":"MATCH(S56,【元データ】評価シート!$B$62:$T$62,0)","v":1},{"$f":"MATCH(R56,【元データ】評価シート!$A$5:$A$56,0)","v":37},{"$f":"MATCH(S56,【元データ】評価シート!$B$4:$T$4,0)","v":1}]
[401010,55,1,1,1,null,null,null,null,null,null,null,null,null,null,null,"梁天端から転落する","開口部","墜落・転落",{"$f":"INDEX(【元データ】評価シート!$B$63:$T$114,W57,X57)","v":5},{"$f":"INDEX(【元データ】評価シート!$B$5:$T$56,Y57,Z57)","v":4},null,{"$f":"MATCH(R57,【元データ】評価シート!$A$63:$A$114,0)","v":37},{"$f":"MATCH(S57,【元データ】評価シート!$B$62:$T$62,0)","v":1},{"$f":"MATCH(R57,【元データ】評価シート!$A$5:$A$56,0)","v":37},{"$f":"MATCH(S57,【元データ】評価シート!$B$4:$T$4,0)","v":1}]
[402010,56,1,null,null,null,null,null,null,1,null,null,null,null,null,null,"地山・開口部から転落する","開口部","墜落・転落",{"$f":"INDEX(【元データ】評価シート!$B$63:$T$114,W58,X58)","v":5},{"$f":"INDEX(【元データ】評価シート!$B$5:$T$56,Y58,Z58)","v":4},null,{"$f":"MATCH(R58,【元データ】評価シート!$A$63:$A$114,0)","v":37},{"$f":"MATCH(S58,【元データ】評価シート!$B$62:$T$62,0)","v":1},{"$f":"MATCH(R58,【元データ】評価シート!$A$5:$A$56,0)","v":37},{"$f":"MATCH(S58,【元データ】評価シート!$B$4:$T$4,0)","v":1}]
[402020,57,1,1,1,null,null,1,null,null,1,null,1,1,1,null,"荷上げで開口部から墜落する","開口部","墜落・転落",{"$f":"INDEX(【元データ】評価シート!$B$63:$T$114,W59,X59)","v":5},{"$f":"INDEX(【元データ】評価シート!$B$5:$T$56,Y59,Z59)","v":4},null,{"$f":"MATCH(R59,【元データ】評価シート!$A$63:$A$114,0)","v":37},{"$f":"MATCH(S59,【元データ】評価シート!$B$62:$T$62,0)","v":1},{"$f":"MATCH(R59,【元データ】評価シート!$A$5:$A$56,0)","v":37},{"$f":"MATCH(S59,【元データ】評価シート!$B$4:$T$4,0)","v":1}]
[404010,58,1,null,null,null,null,null,null,null,null,null,null,null,null,null,"鉄骨地組中（スタンション親綱設置）梁上から踏み外して転落する","開口部","墜落・転落",{"$f":"INDEX(【元データ】評価シート!$B$63:$T$114,W60,X60)","v":5},{"$f":"INDEX(【元データ】評価シート!$B$5:$T$56,Y60,Z60)","v":4},null,{"$f":"MATCH(R60,【元データ】評価シート!$A$63:$A$114,0)","v":37},{"$f":"MATCH(S60,【元データ】評価シート!$B$62:$T$62,0)","v":1},{"$f":"MATCH(R60,【元データ】評価シート!$A$5:$A$56,0)","v":37},{"$f":"MATCH(S60,【元データ】評価シート!$B$4:$T$4,0)","v":1}]
[404030,59,1,null,null,null,null,null,null,null,null,null,null,null,null,null,"ﾎﾞﾙﾄ締め時、梁から墜落する","開口部","墜落・転落",{"$f":"INDEX(【元データ】評価シート!$B$63:$T$114,W61,X61)","v":5},{"$f":"INDEX(【元データ】評価シート!$B$5:$T$56,Y61,Z61)","v":4},null,{"$f":"MATCH(R61,【元データ】評価シート!$A$63:$A$114,0)","v":37},{"$f":"MATCH(S61,【元データ】評価シート!$B$62:$T$62,0)","v":1},{"$f":"MATCH(R61,【元データ】評価シート!$A$5:$A$56,0)","v":37},{"$f":"MATCH(S61,【元データ】評価シート!$B$4:$T$4,0)","v":1}]
[404050,60,1,null,null,null,null,null,null,null,null,null,null,null,null,null,"ﾃﾞｯｷ敷込み時、バランスを崩して墜落する","開口部","墜落・転落",{"$f":"INDEX(【元データ】評価シート!$B$63:$T$114,W62,X62)","v":5},{"$f":"INDEX(【元データ】評価シート!$B$5:$T$56,Y62,Z62)","v":4},null,{"$f":"MATCH(R62,【元データ】評価シート!$A$63:$A$114,0)","v":37},{"$f":"MATCH(S62,【元データ】評価シート!$B$62:$T$62,0)","v":1},{"$f":"MATCH(R62,【元データ】評価シート!$A$5:$A$56,0)","v":37},{"$f":"MATCH(S62,【元データ】評価シート!$B$4:$T$4,0)","v":1}]
[405010,61,1,null,null,null,null,null,null,null,null,null,null,null,1,null,"ＰＣ組立時、スラブ端部から墜落する","開口部","墜落・転落",{"$f":"INDEX(【元データ】評価シート!$B$63:$T$114,W63,X63)","v":5},{"$f":"INDEX(【元データ】評価シート!$B$5:$T$56,Y63,Z63)","v":4},null,{"$f":"MATCH(R63,【元データ】評価シート!$A$63:$A$114,0)","v":37},{"$f":"MATCH(S63,【元データ】評価シート!$B$62:$T$62,0)","v":1},{"$f":"MATCH(R63,【元データ】評価シート!$A$5:$A$56,0)","v":37},{"$f":"MATCH(S63,【元データ】評価シート!$B$4:$T$4,0)","v":1}]
[401010,62,1,null,null,null,null,null,null,1,null,null,null,null,null,null,"釜場に足をとられて転倒する","開口部","転倒",{"$f":"INDEX(【元データ】評価シート!$B$63:$T$114,W64,X64)","v":1},{"$f":"INDEX(【元データ】評価シート!$B$5:$T$56,Y64,Z64)","v":2},null,{"$f":"MATCH(R64,【元データ】評価シート!$A$63:$A$114,0)","v":37},{"$f":"MATCH(S64,【元データ】評価シート!$B$62:$T$62,0)","v":2},{"$f":"MATCH(R64,【元データ】評価シート!$A$5:$A$56,0)","v":37},{"$f":"MATCH(S64,【元データ】評価シート!$B$4:$T$4,0)","v":2}]
[203030,63,1,1,1,null,null,null,null,null,null,null,null,null,null,null,"梁上移動時、工具等が落下する","開口部","飛来・落下",{"$f":"INDEX(【元データ】評価シート!$B$63:$T$114,W65,X65)","v":1},{"$f":"INDEX(【元データ】評価シート!$B$5:$T$56,Y65,Z65)","v":1},null,{"$f":"MATCH(R65,【元データ】評価シート!$A$63:$A$114,0)","v":37},{"$f":"MATCH(S65,【元データ】評価シート!$B$62:$T$62,0)","v":4},{"$f":"MATCH(R65,【元データ】評価シート!$A$5:$A$56,0)","v":37},{"$f":"MATCH(S65,【元データ】評価シート!$B$4:$T$4,0)","v":4}]
[206010,64,1,null,null,null,null,null,null,null,null,null,null,null,1,null,"構台架設時、手が滑り工具類が落下する","開口部","飛来・落下",{"$f":"INDEX(【元データ】評価シート!$B$63:$T$114,W66,X66)","v":1},{"$f":"INDEX(【元データ】評価シート!$B$5:$T$56,Y66,Z66)","v":1},null,{"$f":"MATCH(R66,【元データ】評価シート!$A$63:$A$114,0)","v":37},{"$f":"MATCH(S66,【元データ】評価シート!$B$62:$T$62,0)","v":4},{"$f":"MATCH(R66,【元データ】評価シート!$A$5:$A$56,0)","v":37},{"$f":"MATCH(S66,【元データ】評価シート!$B$4:$T$4,0)","v":4}]
[404030,65,1,null,null,null,null,null,null,null,null,null,null,null,1,null,"ﾎﾞﾙﾄ締め時、手が滑り工具類が落下する","開口部","飛来・落下",{"$f":"INDEX(【元データ】評価シート!$B$63:$T$114,W67,X67)","v":1},{"$f":"INDEX(【元データ】評価シート!$B$5:$T$56,Y67,Z67)","v":1},null,{"$f":"MATCH(R67,【元データ】評価シート!$A$63:$A$114,0)","v":37},{"$f":"MATCH(S67,【元データ】評価シート!$B$62:$T$62,0)","v":4},{"$f":"MATCH(R67,【元データ】評価シート!$A$5:$A$56,0)","v":37},{"$f":"MATCH(S67,【元データ】評価シート!$B$4:$T$4,0)","v":4}]
[404050,66,1,null,null,null,null,null,null,null,null,null,null,null,1,null,"ﾃﾞｯｷ敷込み時、手が滑り工具類を落下させる","開口部","飛来・落下",{"$f":"INDEX(【元データ】評価シート!$B$63:$T$114,W68,X68)","v":1},{"$f":"INDEX(【元データ】評価シート!$B$5:$T$56,Y68,Z68)","v":1},null,{"$f":"MATCH(R68,【元データ】評価シート!$A$63:$A$114,0)","v":37},{"$f":"MATCH(S68,【元データ】評価シート!$B$62:$T$62,0)","v":4},{"$f":"MATCH(R68,【元データ】評価シート!$A$5:$A$56,0)","v":37},{"$f":"MATCH(S68,【元データ】評価シート!$B$4:$T$4,0)","v":4}]
[105010,67,1,1,1,1,1,1,1,null,1,null,null,null,null,null,"作業場所移動時、外部足場の階段で足が滑り転倒する","階段、桟橋","転倒",{"$f":"INDEX(【元データ】評価シート!$B$63:$T$114,W69,X69)","v":3},{"$f":"INDEX(【元データ】評価シート!$B$5:$T$56,Y69,Z69)","v":3},null,{"$f":"MATCH(R69,【元データ】評価シート!$A$63:$A$114,0)","v":36},{"$f":"MATCH(S69,【元データ】評価シート!$B$62:$T$62,0)","v":2},{"$f":"MATCH(R69,【元データ】評価シート!$A$5:$A$56,0)","v":36},{"$f":"MATCH(S69,【元データ】評価シート!$B$4:$T$4,0)","v":2}]
[402020,68,1,1,1,1,1,null,1,null,1,null,null,null,null,null,"手摺壁に足をかける際、足が滑り転倒する","階段、桟橋","転倒",{"$f":"INDEX(【元データ】評価シート!$B$63:$T$114,W70,X70)","v":3},{"$f":"INDEX(【元データ】評価シート!$B$5:$T$56,Y70,Z70)","v":3},null,{"$f":"MATCH(R70,【元データ】評価シート!$A$63:$A$114,0)","v":36},{"$f":"MATCH(S70,【元データ】評価シート!$B$62:$T$62,0)","v":2},{"$f":"MATCH(R70,【元データ】評価シート!$A$5:$A$56,0)","v":36},{"$f":"MATCH(S70,【元データ】評価シート!$B$4:$T$4,0)","v":2}]
[402050,69,1,1,1,null,null,null,null,null,null,null,null,null,null,null,"地中梁を乗り越える時に手足を負傷する","階段、桟橋","転倒",{"$f":"INDEX(【元データ】評価シート!$B$63:$T$114,W71,X71)","v":3},{"$f":"INDEX(【元データ】評価シート!$B$5:$T$56,Y71,Z71)","v":3},null,{"$f":"MATCH(R71,【元データ】評価シート!$A$63:$A$114,0)","v":36},{"$f":"MATCH(S71,【元データ】評価シート!$B$62:$T$62,0)","v":2},{"$f":"MATCH(R71,【元データ】評価シート!$A$5:$A$56,0)","v":36},{"$f":"MATCH(S71,【元データ】評価シート!$B$4:$T$4,0)","v":2}]
[206010,70,1,null,null,null,null,null,null,null,null,null,null,1,1,null,"ガス切断時アセチレンガスが漏れ、火事になる","ガス溶接装置","火災",{"$f":"INDEX(【元データ】評価シート!$B$63:$T$114,W72,X72)","v":3},{"$f":"INDEX(【元データ】評価シート!$B$5:$T$56,Y72,Z72)","v":2},null,{"$f":"MATCH(R72,【元データ】評価シート!$A$63:$A$114,0)","v":24},{"$f":"MATCH(S72,【元データ】評価シート!$B$62:$T$62,0)","v":16},{"$f":"MATCH(R72,【元データ】評価シート!$A$5:$A$56,0)","v":24},{"$f":"MATCH(S72,【元データ】評価シート!$B$4:$T$4,0)","v":16}]
[402050,71,1,null,null,null,null,null,null,null,null,null,null,1,1,null,"ピット内で酸欠する","可燃性のガス","有害物等との接触",{"$f":"INDEX(【元データ】評価シート!$B$63:$T$114,W73,X73)","v":2},{"$f":"INDEX(【元データ】評価シート!$B$5:$T$56,Y73,Z73)","v":2},null,{"$f":"MATCH(R73,【元データ】評価シート!$A$63:$A$114,0)","v":43},{"$f":"MATCH(S73,【元データ】評価シート!$B$62:$T$62,0)","v":12},{"$f":"MATCH(R73,【元データ】評価シート!$A$5:$A$56,0)","v":43},{"$f":"MATCH(S73,【元データ】評価シート!$B$4:$T$4,0)","v":12}]
[302010,72,null,null,null,null,null,null,null,null,null,null,null,1,null,null,"ロッド組立時、高所から転落する","基礎工事用機械","墜落・転落",{"$f":"INDEX(【元データ】評価シート!$B$63:$T$114,W74,X74)","v":2},{"$f":"INDEX(【元データ】評価シート!$B$5:$T$56,Y74,Z74)","v":2},null,{"$f":"MATCH(R74,【元データ】評価シート!$A$63:$A$114,0)","v":7},{"$f":"MATCH(S74,【元データ】評価シート!$B$62:$T$62,0)","v":1},{"$f":"MATCH(R74,【元データ】評価シート!$A$5:$A$56,0)","v":7},{"$f":"MATCH(S74,【元データ】評価シート!$B$4:$T$4,0)","v":1}]
[302010,73,null,null,null,null,null,null,null,null,null,null,null,null,1,null,"オーガー取付時、リーダーの間に手･足を挟む","基礎工事用機械","はさまれ・巻き込まれ",{"$f":"INDEX(【元データ】評価シート!$B$63:$T$114,W75,X75)","v":2},{"$f":"INDEX(【元データ】評価シート!$B$5:$T$56,Y75,Z75)","v":2},null,{"$f":"MATCH(R75,【元データ】評価シート!$A$63:$A$114,0)","v":7},{"$f":"MATCH(S75,【元データ】評価シート!$B$62:$T$62,0)","v":7},{"$f":"MATCH(R75,【元データ】評価シート!$A$5:$A$56,0)","v":7},{"$f":"MATCH(S75,【元データ】評価シート!$B$4:$T$4,0)","v":7}]
[302010,74,null,null,null,null,null,null,null,null,null,null,null,null,1,null,"杭打ち機と作業員が接触する","基礎工事用機械","はさまれ・巻き込まれ",{"$f":"INDEX(【元データ】評価シート!$B$63:$T$114,W76,X76)","v":2},{"$f":"INDEX(【元データ】評価シート!$B$5:$T$56,Y76,Z76)","v":2},null,{"$f":"MATCH(R76,【元データ】評価シート!$A$63:$A$114,0)","v":7},{"$f":"MATCH(S76,【元データ】評価シート!$B$62:$T$62,0)","v":7},{"$f":"MATCH(R76,【元データ】評価シート!$A$5:$A$56,0)","v":7},{"$f":"MATCH(S76,【元データ】評価シート!$B$4:$T$4,0)","v":7}]
[302010,75,null,null,null,null,null,null,null,null,null,null,null,null,1,null,"杭ジョイント時、下杭と上杭の間に指を挟む","基礎工事用機械","はさまれ・巻き込まれ",{"$f":"INDEX(【元データ】評価シート!$B$63:$T$114,W77,X77)","v":2},{"$f":"INDEX(【元データ】評価シート!$B$5:$T$56,Y77,Z77)","v":2},null,{"$f":"MATCH(R77,【元データ】評価シート!$A$63:$A$114,0)","v":7},{"$f":"MATCH(S77,【元データ】評価シート!$B$62:$T$62,0)","v":7},{"$f":"MATCH(R77,【元データ】評価シート!$A$5:$A$56,0)","v":7},{"$f":"MATCH(S77,【元データ】評価シート!$B$4:$T$4,0)","v":7}]
[302010,76,null,null,null,null,null,null,null,null,null,null,null,null,1,null,"杭吊込み時、既存物や作業員に接触する","基礎工事用機械","はさまれ・巻き込まれ",{"$f":"INDEX(【元データ】評価シート!$B$63:$T$114,W78,X78)","v":2},{"$f":"INDEX(【元データ】評価シート!$B$5:$T$56,Y78,Z78)","v":2},null,{"$f":"MATCH(R78,【元データ】評価シート!$A$63:$A$114,0)","v":7},{"$f":"MATCH(S78,【元データ】評価シート!$B$62:$T$62,0)","v":7},{"$f":"MATCH(R78,【元データ】評価シート!$A$5:$A$56,0)","v":7},{"$f":"MATCH(S78,【元データ】評価シート!$B$4:$T$4,0)","v":7}]
[301020,77,null,null,null,null,null,null,null,null,null,null,null,null,1,null,"削孔時に重機が転倒する","基礎工事用機械","崩壊・倒壊",{"$f":"INDEX(【元データ】評価シート!$B$63:$T$114,W79,X79)","v":2},{"$f":"INDEX(【元データ】評価シート!$B$5:$T$56,Y79,Z79)","v":1},null,{"$f":"MATCH(R79,【元データ】評価シート!$A$63:$A$114,0)","v":7},{"$f":"MATCH(S79,【元データ】評価シート!$B$62:$T$62,0)","v":5},{"$f":"MATCH(R79,【元データ】評価シート!$A$5:$A$56,0)","v":7},{"$f":"MATCH(S79,【元データ】評価シート!$B$4:$T$4,0)","v":5}]
[302010,78,null,null,null,null,null,null,null,null,null,null,null,null,1,null,"杭打ち機が転倒する","基礎工事用機械","崩壊・倒壊",{"$f":"INDEX(【元データ】評価シート!$B$63:$T$114,W80,X80)","v":2},{"$f":"INDEX(【元データ】評価シート!$B$5:$T$56,Y80,Z80)","v":1},null,{"$f":"MATCH(R80,【元データ】評価シート!$A$63:$A$114,0)","v":7},{"$f":"MATCH(S80,【元データ】評価シート!$B$62:$T$62,0)","v":5},{"$f":"MATCH(R80,【元データ】評価シート!$A$5:$A$56,0)","v":7},{"$f":"MATCH(S80,【元データ】評価シート!$B$4:$T$4,0)","v":5}]
[202010,79,null,null,null,null,null,null,null,null,null,null,null,null,1,null,"外壁の控えを取付け時に折り曲げた波板で手を負傷する","金属材料","切れ・こすれ",{"$f":"INDEX(【元データ】評価シート!$B$63:$T$114,W81,X81)","v":2},{"$f":"INDEX(【元データ】評価シート!$B$5:$T$56,Y81,Z81)","v":2},null,{"$f":"MATCH(R81,【元データ】評価シート!$A$63:$A$114,0)","v":45},{"$f":"MATCH(S81,【元データ】評価シート!$B$62:$T$62,0)","v":8},{"$f":"MATCH(R81,【元データ】評価シート!$A$5:$A$56,0)","v":45},{"$f":"MATCH(S81,【元データ】評価シート!$B$4:$T$4,0)","v":8}]
[203020,80,1,null,null,null,null,null,null,null,null,null,null,null,null,null,"差筋で足を切る","金属材料","切れ・こすれ",{"$f":"INDEX(【元データ】評価シート!$B$63:$T$114,W82,X82)","v":2},{"$f":"INDEX(【元データ】評価シート!$B$5:$T$56,Y82,Z82)","v":2},null,{"$f":"MATCH(R82,【元データ】評価シート!$A$63:$A$114,0)","v":45},{"$f":"MATCH(S82,【元データ】評価シート!$B$62:$T$62,0)","v":8},{"$f":"MATCH(R82,【元データ】評価シート!$A$5:$A$56,0)","v":45},{"$f":"MATCH(S82,【元データ】評価シート!$B$4:$T$4,0)","v":8}]
[402050,81,1,1,1,null,null,null,null,null,null,null,null,null,null,null,"小払し中、型枠材の釘が手に刺さる","金属材料","切れ・こすれ",{"$f":"INDEX(【元データ】評価シート!$B$63:$T$114,W83,X83)","v":2},{"$f":"INDEX(【元データ】評価シート!$B$5:$T$56,Y83,Z83)","v":2},null,{"$f":"MATCH(R83,【元データ】評価シート!$A$63:$A$114,0)","v":45},{"$f":"MATCH(S83,【元データ】評価シート!$B$62:$T$62,0)","v":8},{"$f":"MATCH(R83,【元データ】評価シート!$A$5:$A$56,0)","v":45},{"$f":"MATCH(S83,【元データ】評価シート!$B$4:$T$4,0)","v":8}]
[402050,82,null,1,null,null,null,null,null,null,null,null,null,null,null,null,"金物くさび取外し時、はねて目にあたり負傷する","金属材料","切れ・こすれ",{"$f":"INDEX(【元データ】評価シート!$B$63:$T$114,W84,X84)","v":2},{"$f":"INDEX(【元データ】評価シート!$B$5:$T$56,Y84,Z84)","v":2},null,{"$f":"MATCH(R84,【元データ】評価シート!$A$63:$A$114,0)","v":45},{"$f":"MATCH(S84,【元データ】評価シート!$B$62:$T$62,0)","v":8},{"$f":"MATCH(R84,【元データ】評価シート!$A$5:$A$56,0)","v":45},{"$f":"MATCH(S84,【元データ】評価シート!$B$4:$T$4,0)","v":8}]
[402050,83,null,1,null,null,null,null,null,null,null,null,null,null,null,null,"鋼管荷渡し時、手を挟む","金属材料","切れ・こすれ",{"$f":"INDEX(【元データ】評価シート!$B$63:$T$114,W85,X85)","v":2},{"$f":"INDEX(【元データ】評価シート!$B$5:$T$56,Y85,Z85)","v":2},null,{"$f":"MATCH(R85,【元データ】評価シート!$A$63:$A$114,0)","v":45},{"$f":"MATCH(S85,【元データ】評価シート!$B$62:$T$62,0)","v":8},{"$f":"MATCH(R85,【元データ】評価シート!$A$5:$A$56,0)","v":45},{"$f":"MATCH(S85,【元データ】評価シート!$B$4:$T$4,0)","v":8}]
[402070,84,null,1,null,null,null,null,null,null,null,null,null,null,null,null,"差筋で足を切る","金属材料","切れ・こすれ",{"$f":"INDEX(【元データ】評価シート!$B$63:$T$114,W86,X86)","v":2},{"$f":"INDEX(【元データ】評価シート!$B$5:$T$56,Y86,Z86)","v":2},null,{"$f":"MATCH(R86,【元データ】評価シート!$A$63:$A$114,0)","v":45},{"$f":"MATCH(S86,【元データ】評価シート!$B$62:$T$62,0)","v":8},{"$f":"MATCH(R86,【元データ】評価シート!$A$5:$A$56,0)","v":45},{"$f":"MATCH(S86,【元データ】評価シート!$B$4:$T$4,0)","v":8}]
[101010,85,1,1,1,null,null,null,null,null,null,null,null,1,null,null,"長尺物を振り回す際、作業員にぶつける","金属材料","激突",{"$f":"INDEX(【元データ】評価シート!$B$63:$T$114,W87,X87)","v":2},{"$f":"INDEX(【元データ】評価シート!$B$5:$T$56,Y87,Z87)","v":2},null,{"$f":"MATCH(R87,【元データ】評価シート!$A$63:$A$114,0)","v":45},{"$f":"MATCH(S87,【元データ】評価シート!$B$62:$T$62,0)","v":3},{"$f":"MATCH(R87,【元データ】評価シート!$A$5:$A$56,0)","v":45},{"$f":"MATCH(S87,【元データ】評価シート!$B$4:$T$4,0)","v":3}]
[202010,86,1,1,1,1,1,1,1,1,1,1,1,1,1,null,"資材にあたって負傷する","金属材料","激突",{"$f":"INDEX(【元データ】評価シート!$B$63:$T$114,W88,X88)","v":2},{"$f":"INDEX(【元データ】評価シート!$B$5:$T$56,Y88,Z88)","v":2},null,{"$f":"MATCH(R88,【元データ】評価シート!$A$63:$A$114,0)","v":45},{"$f":"MATCH(S88,【元データ】評価シート!$B$62:$T$62,0)","v":3},{"$f":"MATCH(R88,【元データ】評価シート!$A$5:$A$56,0)","v":45},{"$f":"MATCH(S88,【元データ】評価シート!$B$4:$T$4,0)","v":3}]
[202010,87,1,1,null,null,null,null,null,null,null,null,1,1,null,null,"単管パイプを受け取る際、バランスを崩して転倒する","金属材料","転倒",{"$f":"INDEX(【元データ】評価シート!$B$63:$T$114,W89,X89)","v":2},{"$f":"INDEX(【元データ】評価シート!$B$5:$T$56,Y89,Z89)","v":2},null,{"$f":"MATCH(R89,【元データ】評価シート!$A$63:$A$114,0)","v":45},{"$f":"MATCH(S89,【元データ】評価シート!$B$62:$T$62,0)","v":2},{"$f":"MATCH(R89,【元データ】評価シート!$A$5:$A$56,0)","v":45},{"$f":"MATCH(S89,【元データ】評価シート!$B$4:$T$4,0)","v":2}]
[301010,88,1,null,null,null,null,null,null,1,null,null,1,1,1,null,"敷鉄板敷き込み時、足を滑らせて転倒する","金属材料","転倒",{"$f":"INDEX(【元データ】評価シート!$B$63:$T$114,W90,X90)","v":2},{"$f":"INDEX(【元データ】評価シート!$B$5:$T$56,Y90,Z90)","v":2},null,{"$f":"MATCH(R90,【元データ】評価シート!$A$63:$A$114,0)","v":45},{"$f":"MATCH(S90,【元データ】評価シート!$B$62:$T$62,0)","v":2},{"$f":"MATCH(R90,【元データ】評価シート!$A$5:$A$56,0)","v":45},{"$f":"MATCH(S90,【元データ】評価シート!$B$4:$T$4,0)","v":2}]
[405010,89,1,null,null,null,null,null,null,null,null,null,1,1,1,null,"重量物を持って腰を痛める","金属材料","動作の反動・無理な動作",{"$f":"INDEX(【元データ】評価シート!$B$63:$T$114,W91,X91)","v":1},{"$f":"INDEX(【元データ】評価シート!$B$5:$T$56,Y91,Z91)","v":2},null,{"$f":"MATCH(R91,【元データ】評価シート!$A$63:$A$114,0)","v":45},{"$f":"MATCH(S91,【元データ】評価シート!$B$62:$T$62,0)","v":19},{"$f":"MATCH(R91,【元データ】評価シート!$A$5:$A$56,0)","v":45},{"$f":"MATCH(S91,【元データ】評価シート!$B$4:$T$4,0)","v":19}]
[202010,90,1,1,1,1,1,1,1,1,1,null,1,1,1,null,"単管パイプとクランプで指を挟む","金属材料","はさまれ・巻き込まれ",{"$f":"INDEX(【元データ】評価シート!$B$63:$T$114,W92,X92)","v":4},{"$f":"INDEX(【元データ】評価シート!$B$5:$T$56,Y92,Z92)","v":3},null,{"$f":"MATCH(R92,【元データ】評価シート!$A$63:$A$114,0)","v":45},{"$f":"MATCH(S92,【元データ】評価シート!$B$62:$T$62,0)","v":7},{"$f":"MATCH(R92,【元データ】評価シート!$A$5:$A$56,0)","v":45},{"$f":"MATCH(S92,【元データ】評価シート!$B$4:$T$4,0)","v":7}]
[206010,91,1,null,null,null,null,null,null,null,null,null,null,null,1,null,"構台を仮置きする際、手を挟む","金属材料","はさまれ・巻き込まれ",{"$f":"INDEX(【元データ】評価シート!$B$63:$T$114,W93,X93)","v":4},{"$f":"INDEX(【元データ】評価シート!$B$5:$T$56,Y93,Z93)","v":3},null,{"$f":"MATCH(R93,【元データ】評価シート!$A$63:$A$114,0)","v":45},{"$f":"MATCH(S93,【元データ】評価シート!$B$62:$T$62,0)","v":7},{"$f":"MATCH(R93,【元データ】評価シート!$A$5:$A$56,0)","v":45},{"$f":"MATCH(S93,【元データ】評価シート!$B$4:$T$4,0)","v":7}]
[403020,92,null,null,1,null,null,null,null,null,null,null,null,null,null,null,"上部に束ねていたフープ筋が自重でずれて手を挟む","金属材料","はさまれ・巻き込まれ",{"$f":"INDEX(【元データ】評価シート!$B$63:$T$114,W94,X94)","v":4},{"$f":"INDEX(【元データ】評価シート!$B$5:$T$56,Y94,Z94)","v":3},null,{"$f":"MATCH(R94,【元データ】評価シート!$A$63:$A$114,0)","v":45},{"$f":"MATCH(S94,【元データ】評価シート!$B$62:$T$62,0)","v":7},{"$f":"MATCH(R94,【元データ】評価シート!$A$5:$A$56,0)","v":45},{"$f":"MATCH(S94,【元データ】評価シート!$B$4:$T$4,0)","v":7}]
[403060,93,null,null,1,null,null,null,null,null,null,null,null,null,null,null,"鉄筋とカプラーとの間に指を挟む","金属材料","はさまれ・巻き込まれ",{"$f":"INDEX(【元データ】評価シート!$B$63:$T$114,W95,X95)","v":4},{"$f":"INDEX(【元データ】評価シート!$B$5:$T$56,Y95,Z95)","v":3},null,{"$f":"MATCH(R95,【元データ】評価シート!$A$63:$A$114,0)","v":45},{"$f":"MATCH(S95,【元データ】評価シート!$B$62:$T$62,0)","v":7},{"$f":"MATCH(R95,【元データ】評価シート!$A$5:$A$56,0)","v":45},{"$f":"MATCH(S95,【元データ】評価シート!$B$4:$T$4,0)","v":7}]
[404040,94,null,null,null,null,null,1,null,null,null,null,null,null,null,null,"ﾃﾞｯｷﾌﾟﾚｰﾄを仮置きする際、手を挟まれる","金属材料","はさまれ・巻き込まれ",{"$f":"INDEX(【元データ】評価シート!$B$63:$T$114,W96,X96)","v":4},{"$f":"INDEX(【元データ】評価シート!$B$5:$T$56,Y96,Z96)","v":3},null,{"$f":"MATCH(R96,【元データ】評価シート!$A$63:$A$114,0)","v":45},{"$f":"MATCH(S96,【元データ】評価シート!$B$62:$T$62,0)","v":7},{"$f":"MATCH(R96,【元データ】評価シート!$A$5:$A$56,0)","v":45},{"$f":"MATCH(S96,【元データ】評価シート!$B$4:$T$4,0)","v":7}]
[202010,95,1,1,1,1,1,1,1,1,1,null,1,1,1,null,"資材受渡し時、手が滑り、落下する","金属材料","飛来・落下",{"$f":"INDEX(【元データ】評価シート!$B$63:$T$114,W97,X97)","v":5},{"$f":"INDEX(【元データ】評価シート!$B$5:$T$56,Y97,Z97)","v":3},null,{"$f":"MATCH(R97,【元データ】評価シート!$A$63:$A$114,0)","v":45},{"$f":"MATCH(S97,【元データ】評価シート!$B$62:$T$62,0)","v":4},{"$f":"MATCH(R97,【元データ】評価シート!$A$5:$A$56,0)","v":45},{"$f":"MATCH(S97,【元データ】評価シート!$B$4:$T$4,0)","v":4}]
[203030,96,1,null,null,null,null,null,null,null,1,null,null,null,null,null,"つりチェーンの外れにより、部材が落下する","金属材料","飛来・落下",{"$f":"INDEX(【元データ】評価シート!$B$63:$T$114,W98,X98)","v":5},{"$f":"INDEX(【元データ】評価シート!$B$5:$T$56,Y98,Z98)","v":3},null,{"$f":"MATCH(R98,【元データ】評価シート!$A$63:$A$114,0)","v":45},{"$f":"MATCH(S98,【元データ】評価シート!$B$62:$T$62,0)","v":4},{"$f":"MATCH(R98,【元データ】評価シート!$A$5:$A$56,0)","v":45},{"$f":"MATCH(S98,【元データ】評価シート!$B$4:$T$4,0)","v":4}]
[404050,97,1,null,null,null,null,null,null,null,null,null,null,null,1,null,"デッキが鉄骨から外れて落下する","金属材料","飛来・落下",{"$f":"INDEX(【元データ】評価シート!$B$63:$T$114,W99,X99)","v":5},{"$f":"INDEX(【元データ】評価シート!$B$5:$T$56,Y99,Z99)","v":3},null,{"$f":"MATCH(R99,【元データ】評価シート!$A$63:$A$114,0)","v":45},{"$f":"MATCH(S99,【元データ】評価シート!$B$62:$T$62,0)","v":4},{"$f":"MATCH(R99,【元データ】評価シート!$A$5:$A$56,0)","v":45},{"$f":"MATCH(S99,【元データ】評価シート!$B$4:$T$4,0)","v":4}]
[404050,98,1,null,null,null,null,null,null,null,null,null,null,null,1,null,"ﾃﾞｯｷ敷込み時、手が滑り、ﾃﾞｯｷを落下させる","金属材料","飛来・落下",{"$f":"INDEX(【元データ】評価シート!$B$63:$T$114,W100,X100)","v":5},{"$f":"INDEX(【元データ】評価シート!$B$5:$T$56,Y100,Z100)","v":3},null,{"$f":"MATCH(R100,【元データ】評価シート!$A$63:$A$114,0)","v":45},{"$f":"MATCH(S100,【元データ】評価シート!$B$62:$T$62,0)","v":4},{"$f":"MATCH(R100,【元データ】評価シート!$A$5:$A$56,0)","v":45},{"$f":"MATCH(S100,【元データ】評価シート!$B$4:$T$4,0)","v":4}]
[402010,99,1,null,null,null,null,null,1,null,null,null,null,null,null,null,"結束バンド切断時に鋼管が崩れて負傷する","金属材料","崩壊・倒壊",{"$f":"INDEX(【元データ】評価シート!$B$63:$T$114,W101,X101)","v":5},{"$f":"INDEX(【元データ】評価シート!$B$5:$T$56,Y101,Z101)","v":3},null,{"$f":"MATCH(R101,【元データ】評価シート!$A$63:$A$114,0)","v":45},{"$f":"MATCH(S101,【元データ】評価シート!$B$62:$T$62,0)","v":5},{"$f":"MATCH(R101,【元データ】評価シート!$A$5:$A$56,0)","v":45},{"$f":"MATCH(S101,【元データ】評価シート!$B$4:$T$4,0)","v":5}]
[402020,100,null,1,null,null,null,null,null,null,null,null,null,null,null,null,"打ち損じた釘が目にあたる","金属材料","有害物等との接触",{"$f":"INDEX(【元データ】評価シート!$B$63:$T$114,W102,X102)","v":1},{"$f":"INDEX(【元データ】評価シート!$B$5:$T$56,Y102,Z102)","v":1},null,{"$f":"MATCH(R102,【元データ】評価シート!$A$63:$A$114,0)","v":45},{"$f":"MATCH(S102,【元データ】評価シート!$B$62:$T$62,0)","v":12},{"$f":"MATCH(R102,【元データ】評価シート!$A$5:$A$56,0)","v":45},{"$f":"MATCH(S102,【元データ】評価シート!$B$4:$T$4,0)","v":12}]
[301010,101,null,null,null,null,null,null,null,1,null,null,null,null,1,null,"重機使用時に誤って旋回レバーに触れ、作業員と接触する","掘削用機械","激突",{"$f":"INDEX(【元データ】評価シート!$B$63:$T$114,W103,X103)","v":1},{"$f":"INDEX(【元データ】評価シート!$B$5:$T$56,Y103,Z103)","v":2},null,{"$f":"MATCH(R103,【元データ】評価シート!$A$63:$A$114,0)","v":6},{"$f":"MATCH(S103,【元データ】評価シート!$B$62:$T$62,0)","v":3},{"$f":"MATCH(R103,【元データ】評価シート!$A$5:$A$56,0)","v":6},{"$f":"MATCH(S103,【元データ】評価シート!$B$4:$T$4,0)","v":3}]
[101010,102,1,null,null,null,null,null,null,1,null,null,null,null,1,null,"重機と作業員が接触する","掘削用機械","激突され",{"$f":"INDEX(【元データ】評価シート!$B$63:$T$114,W104,X104)","v":4},{"$f":"INDEX(【元データ】評価シート!$B$5:$T$56,Y104,Z104)","v":3},null,{"$f":"MATCH(R104,【元データ】評価シート!$A$63:$A$114,0)","v":6},{"$f":"MATCH(S104,【元データ】評価シート!$B$62:$T$62,0)","v":6},{"$f":"MATCH(R104,【元データ】評価シート!$A$5:$A$56,0)","v":6},{"$f":"MATCH(S104,【元データ】評価シート!$B$4:$T$4,0)","v":6}]
[301020,103,null,null,null,null,null,null,null,1,null,null,null,null,1,null,"重機移動時に敷鉄板で足を挟む","掘削用機械","はさまれ・巻き込まれ",{"$f":"INDEX(【元データ】評価シート!$B$63:$T$114,W105,X105)","v":4},{"$f":"INDEX(【元データ】評価シート!$B$5:$T$56,Y105,Z105)","v":3},null,{"$f":"MATCH(R105,【元データ】評価シート!$A$63:$A$114,0)","v":6},{"$f":"MATCH(S105,【元データ】評価シート!$B$62:$T$62,0)","v":7},{"$f":"MATCH(R105,【元データ】評価シート!$A$5:$A$56,0)","v":6},{"$f":"MATCH(S105,【元データ】評価シート!$B$4:$T$4,0)","v":7}]
[301020,104,1,null,null,null,null,null,null,1,null,null,null,null,null,null,"山留め架設時、吊荷が振れて手を挟む","クレーン","激突され",{"$f":"INDEX(【元データ】評価シート!$B$63:$T$114,W106,X106)","v":3},{"$f":"INDEX(【元データ】評価シート!$B$5:$T$56,Y106,Z106)","v":3},null,{"$f":"MATCH(R106,【元データ】評価シート!$A$63:$A$114,0)","v":12},{"$f":"MATCH(S106,【元データ】評価シート!$B$62:$T$62,0)","v":6},{"$f":"MATCH(R106,【元データ】評価シート!$A$5:$A$56,0)","v":12},{"$f":"MATCH(S106,【元データ】評価シート!$B$4:$T$4,0)","v":6}]
[101010,105,1,1,1,null,null,null,null,1,1,1,1,1,1,null,"揚重作業時クレーンが転倒する","クレーン","転倒",{"$f":"INDEX(【元データ】評価シート!$B$63:$T$114,W107,X107)","v":1},{"$f":"INDEX(【元データ】評価シート!$B$5:$T$56,Y107,Z107)","v":2},null,{"$f":"MATCH(R107,【元データ】評価シート!$A$63:$A$114,0)","v":12},{"$f":"MATCH(S107,【元データ】評価シート!$B$62:$T$62,0)","v":2},{"$f":"MATCH(R107,【元データ】評価シート!$A$5:$A$56,0)","v":12},{"$f":"MATCH(S107,【元データ】評価シート!$B$4:$T$4,0)","v":2}]
[301020,106,1,null,null,null,null,null,null,null,null,null,null,null,1,null,"鉄骨を仮置きする際、手を挟む","クレーン","はさまれ・巻き込まれ",{"$f":"INDEX(【元データ】評価シート!$B$63:$T$114,W108,X108)","v":4},{"$f":"INDEX(【元データ】評価シート!$B$5:$T$56,Y108,Z108)","v":3},null,{"$f":"MATCH(R108,【元データ】評価シート!$A$63:$A$114,0)","v":12},{"$f":"MATCH(S108,【元データ】評価シート!$B$62:$T$62,0)","v":7},{"$f":"MATCH(R108,【元データ】評価シート!$A$5:$A$56,0)","v":12},{"$f":"MATCH(S108,【元データ】評価シート!$B$4:$T$4,0)","v":7}]
[102010,107,1,null,null,null,null,null,null,null,null,null,null,null,1,null,"建方時、吊荷が外れ落下する","クレーン","飛来・落下",{"$f":"INDEX(【元データ】評価シート!$B$63:$T$114,W109,X109)","v":4},{"$f":"INDEX(【元データ】評価シート!$B$5:$T$56,Y109,Z109)","v":3},null,{"$f":"MATCH(R109,【元データ】評価シート!$A$63:$A$114,0)","v":12},{"$f":"MATCH(S109,【元データ】評価シート!$B$62:$T$62,0)","v":4},{"$f":"MATCH(R109,【元データ】評価シート!$A$5:$A$56,0)","v":12},{"$f":"MATCH(S109,【元データ】評価シート!$B$4:$T$4,0)","v":4}]
[103010,108,null,null,null,null,null,null,null,1,null,null,null,null,null,null,"アスファルト使用時、火傷する","高温・低温環境","高温低温物との接触",{"$f":"INDEX(【元データ】評価シート!$B$63:$T$114,W110,X110)","v":5},{"$f":"INDEX(【元データ】評価シート!$B$5:$T$56,Y110,Z110)","v":3},null,{"$f":"MATCH(R110,【元データ】評価シート!$A$63:$A$114,0)","v":52},{"$f":"MATCH(S110,【元データ】評価シート!$B$62:$T$62,0)","v":11},{"$f":"MATCH(R110,【元データ】評価シート!$A$5:$A$56,0)","v":52},{"$f":"MATCH(S110,【元データ】評価シート!$B$4:$T$4,0)","v":11}]
[105010,109,1,null,null,null,1,1,1,null,null,null,1,null,1,null,"高所作業車使用時、転落する","高所作業車","墜落・転落",{"$f":"INDEX(【元データ】評価シート!$B$63:$T$114,W111,X111)","v":3},{"$f":"INDEX(【元データ】評価シート!$B$5:$T$56,Y111,Z111)","v":3},null,{"$f":"MATCH(R111,【元データ】評価シート!$A$63:$A$114,0)","v":10},{"$f":"MATCH(S111,【元データ】評価シート!$B$62:$T$62,0)","v":1},{"$f":"MATCH(R111,【元データ】評価シート!$A$5:$A$56,0)","v":10},{"$f":"MATCH(S111,【元データ】評価シート!$B$4:$T$4,0)","v":1}]
[204010,110,1,null,null,null,1,1,1,null,null,null,1,null,1,null,"高所作業車使用時、身を寄り出して墜落する","高所作業車","墜落・転落",{"$f":"INDEX(【元データ】評価シート!$B$63:$T$114,W112,X112)","v":3},{"$f":"INDEX(【元データ】評価シート!$B$5:$T$56,Y112,Z112)","v":3},null,{"$f":"MATCH(R112,【元データ】評価シート!$A$63:$A$114,0)","v":10},{"$f":"MATCH(S112,【元データ】評価シート!$B$62:$T$62,0)","v":1},{"$f":"MATCH(R112,【元データ】評価シート!$A$5:$A$56,0)","v":10},{"$f":"MATCH(S112,【元データ】評価シート!$B$4:$T$4,0)","v":1}]
[402030,111,1,null,null,null,1,1,1,null,null,null,1,null,1,null,"高所作業車移動時に開口部の養生蓋に引っ掛かって転倒する","高所作業車","転倒",{"$f":"INDEX(【元データ】評価シート!$B$63:$T$114,W113,X113)","v":1},{"$f":"INDEX(【元データ】評価シート!$B$5:$T$56,Y113,Z113)","v":2},null,{"$f":"MATCH(R113,【元データ】評価シート!$A$63:$A$114,0)","v":10},{"$f":"MATCH(S113,【元データ】評価シート!$B$62:$T$62,0)","v":2},{"$f":"MATCH(R113,【元データ】評価シート!$A$5:$A$56,0)","v":10},{"$f":"MATCH(S113,【元データ】評価シート!$B$4:$T$4,0)","v":2}]
[103020,112,1,null,null,null,null,null,null,null,null,null,null,null,null,null,"仮囲い組立時、横桟より墜落する","作業床","墜落・転落",{"$f":"INDEX(【元データ】評価シート!$B$63:$T$114,W114,X114)","v":5},{"$f":"INDEX(【元データ】評価シート!$B$5:$T$56,Y114,Z114)","v":4},null,{"$f":"MATCH(R114,【元データ】評価シート!$A$63:$A$114,0)","v":39},{"$f":"MATCH(S114,【元データ】評価シート!$B$62:$T$62,0)","v":1},{"$f":"MATCH(R114,【元データ】評価シート!$A$5:$A$56,0)","v":39},{"$f":"MATCH(S114,【元データ】評価シート!$B$4:$T$4,0)","v":1}]
[201010,113,1,null,null,null,null,null,null,null,null,null,null,1,null,null,"梁天端から転落する","作業床","墜落・転落",{"$f":"INDEX(【元データ】評価シート!$B$63:$T$114,W115,X115)","v":5},{"$f":"INDEX(【元データ】評価シート!$B$5:$T$56,Y115,Z115)","v":4},null,{"$f":"MATCH(R115,【元データ】評価シート!$A$63:$A$114,0)","v":39},{"$f":"MATCH(S115,【元データ】評価シート!$B$62:$T$62,0)","v":1},{"$f":"MATCH(R115,【元データ】評価シート!$A$5:$A$56,0)","v":39},{"$f":"MATCH(S115,【元データ】評価シート!$B$4:$T$4,0)","v":1}]
[204010,114,null,null,1,null,null,null,null,null,null,null,null,null,null,null,"スラブ上での作業中、スラブ筋に躓いて転倒する","作業床","墜落・転落",{"$f":"INDEX(【元データ】評価シート!$B$63:$T$114,W116,X116)","v":5},{"$f":"INDEX(【元データ】評価シート!$B$5:$T$56,Y116,Z116)","v":4},null,{"$f":"MATCH(R116,【元データ】評価シート!$A$63:$A$114,0)","v":39},{"$f":"MATCH(S116,【元データ】評価シート!$B$62:$T$62,0)","v":1},{"$f":"MATCH(R116,【元データ】評価シート!$A$5:$A$56,0)","v":39},{"$f":"MATCH(S116,【元データ】評価シート!$B$4:$T$4,0)","v":1}]
[105010,115,1,null,null,null,null,null,null,null,null,null,1,null,null,null,"コンクリート打設中、スラブ筋に躓き転倒する","作業床","転倒",{"$f":"INDEX(【元データ】評価シート!$B$63:$T$114,W117,X117)","v":3},{"$f":"INDEX(【元データ】評価シート!$B$5:$T$56,Y117,Z117)","v":3},null,{"$f":"MATCH(R117,【元データ】評価シート!$A$63:$A$114,0)","v":39},{"$f":"MATCH(S117,【元データ】評価シート!$B$62:$T$62,0)","v":2},{"$f":"MATCH(R117,【元データ】評価シート!$A$5:$A$56,0)","v":39},{"$f":"MATCH(S117,【元データ】評価シート!$B$4:$T$4,0)","v":2}]
[401010,116,null,null,1,null,null,null,null,null,null,null,null,null,null,null,"スラブ（ﾃﾞｯｷ）上梁筋をまたごうとして転倒する","作業床","転倒",{"$f":"INDEX(【元データ】評価シート!$B$63:$T$114,W118,X118)","v":3},{"$f":"INDEX(【元データ】評価シート!$B$5:$T$56,Y118,Z118)","v":3},null,{"$f":"MATCH(R118,【元データ】評価シート!$A$63:$A$114,0)","v":39},{"$f":"MATCH(S118,【元データ】評価シート!$B$62:$T$62,0)","v":2},{"$f":"MATCH(R118,【元データ】評価シート!$A$5:$A$56,0)","v":39},{"$f":"MATCH(S118,【元データ】評価シート!$B$4:$T$4,0)","v":2}]
[403030,117,null,null,1,null,null,null,null,null,null,null,null,null,null,null,"地組架台が倒れて、鉄筋と接触する","作業床","転倒",{"$f":"INDEX(【元データ】評価シート!$B$63:$T$114,W119,X119)","v":3},{"$f":"INDEX(【元データ】評価シート!$B$5:$T$56,Y119,Z119)","v":3},null,{"$f":"MATCH(R119,【元データ】評価シート!$A$63:$A$114,0)","v":39},{"$f":"MATCH(S119,【元データ】評価シート!$B$62:$T$62,0)","v":2},{"$f":"MATCH(R119,【元データ】評価シート!$A$5:$A$56,0)","v":39},{"$f":"MATCH(S119,【元データ】評価シート!$B$4:$T$4,0)","v":2}]
[403030,118,null,1,null,null,null,null,null,null,null,null,null,null,null,null,"型枠建込み時、足場から墜落する","作業床","はさまれ・巻き込まれ",{"$f":"INDEX(【元データ】評価シート!$B$63:$T$114,W120,X120)","v":2},{"$f":"INDEX(【元データ】評価シート!$B$5:$T$56,Y120,Z120)","v":2},null,{"$f":"MATCH(R120,【元データ】評価シート!$A$63:$A$114,0)","v":39},{"$f":"MATCH(S120,【元データ】評価シート!$B$62:$T$62,0)","v":7},{"$f":"MATCH(R120,【元データ】評価シート!$A$5:$A$56,0)","v":39},{"$f":"MATCH(S120,【元データ】評価シート!$B$4:$T$4,0)","v":7}]
[402020,119,null,1,null,null,null,null,null,null,null,null,null,null,null,null,"支保工が解体された持出しｽﾗﾌﾞ型枠に乗り墜落する","支保工","墜落・転落",{"$f":"INDEX(【元データ】評価シート!$B$63:$T$114,W121,X121)","v":3},{"$f":"INDEX(【元データ】評価シート!$B$5:$T$56,Y121,Z121)","v":3},null,{"$f":"MATCH(R121,【元データ】評価シート!$A$63:$A$114,0)","v":35},{"$f":"MATCH(S121,【元データ】評価シート!$B$62:$T$62,0)","v":1},{"$f":"MATCH(R121,【元データ】評価シート!$A$5:$A$56,0)","v":35},{"$f":"MATCH(S121,【元データ】評価シート!$B$4:$T$4,0)","v":1}]
[402060,120,null,1,null,null,null,null,null,null,null,null,null,null,null,null,"打設後鉄筋水洗い時に足を乗せたサポートが外れて転倒する","支保工","墜落・転落",{"$f":"INDEX(【元データ】評価シート!$B$63:$T$114,W122,X122)","v":3},{"$f":"INDEX(【元データ】評価シート!$B$5:$T$56,Y122,Z122)","v":3},null,{"$f":"MATCH(R122,【元データ】評価シート!$A$63:$A$114,0)","v":35},{"$f":"MATCH(S122,【元データ】評価シート!$B$62:$T$62,0)","v":1},{"$f":"MATCH(R122,【元データ】評価シート!$A$5:$A$56,0)","v":35},{"$f":"MATCH(S122,【元データ】評価シート!$B$4:$T$4,0)","v":1}]
[401010,121,null,1,null,null,null,null,null,null,null,null,null,null,null,null,"パイプサポートが倒れて負傷する","支保工","転倒",{"$f":"INDEX(【元データ】評価シート!$B$63:$T$114,W123,X123)","v":1},{"$f":"INDEX(【元データ】評価シート!$B$5:$T$56,Y123,Z123)","v":2},null,{"$f":"MATCH(R123,【元データ】評価シート!$A$63:$A$114,0)","v":35},{"$f":"MATCH(S123,【元データ】評価シート!$B$62:$T$62,0)","v":2},{"$f":"MATCH(R123,【元データ】評価シート!$A$5:$A$56,0)","v":35},{"$f":"MATCH(S123,【元データ】評価シート!$B$4:$T$4,0)","v":2}]
[402020,122,null,1,null,null,null,null,null,null,null,null,null,null,null,null,"ﾊﾟｲﾌﾟｻﾎﾟｰﾄ受け渡し時上部サポートが抜けて負傷する","支保工","はさまれ・巻き込まれ",{"$f":"INDEX(【元データ】評価シート!$B$63:$T$114,W124,X124)","v":1},{"$f":"INDEX(【元データ】評価シート!$B$5:$T$56,Y124,Z124)","v":2},null,{"$f":"MATCH(R124,【元データ】評価シート!$A$63:$A$114,0)","v":35},{"$f":"MATCH(S124,【元データ】評価シート!$B$62:$T$62,0)","v":7},{"$f":"MATCH(R124,【元データ】評価シート!$A$5:$A$56,0)","v":35},{"$f":"MATCH(S124,【元データ】評価シート!$B$4:$T$4,0)","v":7}]
[402050,123,null,1,null,null,null,null,null,null,null,null,null,null,null,null,"大形型枠脱型時クレーンで吊上げた際に落下し負傷する","支保工","はさまれ・巻き込まれ",{"$f":"INDEX(【元データ】評価シート!$B$63:$T$114,W125,X125)","v":1},{"$f":"INDEX(【元データ】評価シート!$B$5:$T$56,Y125,Z125)","v":2},null,{"$f":"MATCH(R125,【元データ】評価シート!$A$63:$A$114,0)","v":35},{"$f":"MATCH(S125,【元データ】評価シート!$B$62:$T$62,0)","v":7},{"$f":"MATCH(R125,【元データ】評価シート!$A$5:$A$56,0)","v":35},{"$f":"MATCH(S125,【元データ】評価シート!$B$4:$T$4,0)","v":7}]
[402050,124,null,1,null,null,null,null,null,null,null,null,null,null,null,null,"外壁解体時、誤って型枠を落下させる","支保工","飛来・落下",{"$f":"INDEX(【元データ】評価シート!$B$63:$T$114,W126,X126)","v":2},{"$f":"INDEX(【元データ】評価シート!$B$5:$T$56,Y126,Z126)","v":2},null,{"$f":"MATCH(R126,【元データ】評価シート!$A$63:$A$114,0)","v":35},{"$f":"MATCH(S126,【元データ】評価シート!$B$62:$T$62,0)","v":4},{"$f":"MATCH(R126,【元データ】評価シート!$A$5:$A$56,0)","v":35},{"$f":"MATCH(S126,【元データ】評価シート!$B$4:$T$4,0)","v":4}]
[402050,125,null,1,null,null,null,null,null,null,null,null,null,null,null,null,"パイプサポートを緩めた時、根太材が落下して負傷する","支保工","飛来・落下",{"$f":"INDEX(【元データ】評価シート!$B$63:$T$114,W127,X127)","v":2},{"$f":"INDEX(【元データ】評価シート!$B$5:$T$56,Y127,Z127)","v":2},null,{"$f":"MATCH(R127,【元データ】評価シート!$A$63:$A$114,0)","v":35},{"$f":"MATCH(S127,【元データ】評価シート!$B$62:$T$62,0)","v":4},{"$f":"MATCH(R127,【元データ】評価シート!$A$5:$A$56,0)","v":35},{"$f":"MATCH(S127,【元データ】評価シート!$B$4:$T$4,0)","v":4}]
[402060,126,null,1,null,null,null,null,null,null,null,null,null,null,null,null,"型枠解体時、目にゴミが入る","支保工","飛来・落下",{"$f":"INDEX(【元データ】評価シート!$B$63:$T$114,W128,X128)","v":2},{"$f":"INDEX(【元データ】評価シート!$B$5:$T$56,Y128,Z128)","v":2},null,{"$f":"MATCH(R128,【元データ】評価シート!$A$63:$A$114,0)","v":35},{"$f":"MATCH(S128,【元データ】評価シート!$B$62:$T$62,0)","v":4},{"$f":"MATCH(R128,【元データ】評価シート!$A$5:$A$56,0)","v":35},{"$f":"MATCH(S128,【元データ】評価シート!$B$4:$T$4,0)","v":4}]
[402060,127,null,null,null,null,null,null,null,1,null,null,null,null,null,null,"舗装時、第三者と作業員が接触する","支保工","有害物等との接触",{"$f":"INDEX(【元データ】評価シート!$B$63:$T$114,W129,X129)","v":1},{"$f":"INDEX(【元データ】評価シート!$B$5:$T$56,Y129,Z129)","v":1},null,{"$f":"MATCH(R129,【元データ】評価シート!$A$63:$A$114,0)","v":35},{"$f":"MATCH(S129,【元データ】評価シート!$B$62:$T$62,0)","v":12},{"$f":"MATCH(R129,【元データ】評価シート!$A$5:$A$56,0)","v":35},{"$f":"MATCH(S129,【元データ】評価シート!$B$4:$T$4,0)","v":12}]
[103010,128,null,null,null,null,null,null,null,null,null,null,null,null,1,null,"杭周廻りのぬかるみに足をとられ、転倒する","締固め用機械","激突",{"$f":"INDEX(【元データ】評価シート!$B$63:$T$114,W130,X130)","v":2},{"$f":"INDEX(【元データ】評価シート!$B$5:$T$56,Y130,Z130)","v":2},null,{"$f":"MATCH(R130,【元データ】評価シート!$A$63:$A$114,0)","v":8},{"$f":"MATCH(S130,【元データ】評価シート!$B$62:$T$62,0)","v":3},{"$f":"MATCH(R130,【元データ】評価シート!$A$5:$A$56,0)","v":8},{"$f":"MATCH(S130,【元データ】評価シート!$B$4:$T$4,0)","v":3}]
[302010,129,null,null,null,null,null,null,null,1,null,null,null,null,null,null,"法面(土砂)が崩壊する","地山、岩石","転倒",{"$f":"INDEX(【元データ】評価シート!$B$63:$T$114,W131,X131)","v":3},{"$f":"INDEX(【元データ】評価シート!$B$5:$T$56,Y131,Z131)","v":2},null,{"$f":"MATCH(R131,【元データ】評価シート!$A$63:$A$114,0)","v":48},{"$f":"MATCH(S131,【元データ】評価シート!$B$62:$T$62,0)","v":2},{"$f":"MATCH(R131,【元データ】評価シート!$A$5:$A$56,0)","v":48},{"$f":"MATCH(S131,【元データ】評価シート!$B$4:$T$4,0)","v":2}]
[301010,130,null,null,null,null,null,null,null,null,null,null,1,null,null,null,"地山が崩壊する","地山、岩石","崩壊・倒壊",{"$f":"INDEX(【元データ】評価シート!$B$63:$T$114,W132,X132)","v":5},{"$f":"INDEX(【元データ】評価シート!$B$5:$T$56,Y132,Z132)","v":5},null,{"$f":"MATCH(R132,【元データ】評価シート!$A$63:$A$114,0)","v":48},{"$f":"MATCH(S132,【元データ】評価シート!$B$62:$T$62,0)","v":5},{"$f":"MATCH(R132,【元データ】評価シート!$A$5:$A$56,0)","v":48},{"$f":"MATCH(S132,【元データ】評価シート!$B$4:$T$4,0)","v":5}]
[301010,131,null,null,null,null,null,null,null,1,null,null,null,null,null,null,"残土が近隣家屋に流れる","地山、岩石","崩壊・倒壊",{"$f":"INDEX(【元データ】評価シート!$B$63:$T$114,W133,X133)","v":5},{"$f":"INDEX(【元データ】評価シート!$B$5:$T$56,Y133,Z133)","v":5},null,{"$f":"MATCH(R133,【元データ】評価シート!$A$63:$A$114,0)","v":48},{"$f":"MATCH(S133,【元データ】評価シート!$B$62:$T$62,0)","v":5},{"$f":"MATCH(R133,【元データ】評価シート!$A$5:$A$56,0)","v":48},{"$f":"MATCH(S133,【元データ】評価シート!$B$4:$T$4,0)","v":5}]
[301010,132,null,null,null,null,null,null,null,null,null,null,null,null,null,1,"誘導員が工事車輛に接触する","地山、岩石","崩壊・倒壊",{"$f":"INDEX(【元データ】評価シート!$B$63:$T$114,W134,X134)","v":5},{"$f":"INDEX(【元データ】評価シート!$B$5:$T$56,Y134,Z134)","v":5},null,{"$f":"MATCH(R134,【元データ】評価シート!$A$63:$A$114,0)","v":48},{"$f":"MATCH(S134,【元データ】評価シート!$B$62:$T$62,0)","v":5},{"$f":"MATCH(R134,【元データ】評価シート!$A$5:$A$56,0)","v":48},{"$f":"MATCH(S134,【元データ】評価シート!$B$4:$T$4,0)","v":5}]
[104010,133,1,null,null,null,null,null,null,null,null,null,null,null,null,null,"一輪車運搬時に作業床から転落する","乗用車、バス、バイク","激突され",{"$f":"INDEX(【元データ】評価シート!$B$63:$T$114,W135,X135)","v":3},{"$f":"INDEX(【元データ】評価シート!$B$5:$T$56,Y135,Z135)","v":3},null,{"$f":"MATCH(R135,【元データ】評価シート!$A$63:$A$114,0)","v":23},{"$f":"MATCH(S135,【元データ】評価シート!$B$62:$T$62,0)","v":6},{"$f":"MATCH(R135,【元データ】評価シート!$A$5:$A$56,0)","v":23},{"$f":"MATCH(S135,【元データ】評価シート!$B$4:$T$4,0)","v":6}]
[401010,134,1,null,null,null,null,null,null,null,null,null,null,null,null,null,"一輪車での運搬時、躓いて転倒する","人力運搬機","墜落・転落",{"$f":"INDEX(【元データ】評価シート!$B$63:$T$114,W136,X136)","v":3},{"$f":"INDEX(【元データ】評価シート!$B$5:$T$56,Y136,Z136)","v":3},null,{"$f":"MATCH(R136,【元データ】評価シート!$A$63:$A$114,0)","v":29},{"$f":"MATCH(S136,【元データ】評価シート!$B$62:$T$62,0)","v":1},{"$f":"MATCH(R136,【元データ】評価シート!$A$5:$A$56,0)","v":29},{"$f":"MATCH(S136,【元データ】評価シート!$B$4:$T$4,0)","v":1}]
[401010,135,1,1,1,1,1,1,1,1,1,null,null,1,1,null,"材料移動時、既存物、隣接建物に接触する","人力運搬機","転倒",{"$f":"INDEX(【元データ】評価シート!$B$63:$T$114,W137,X137)","v":3},{"$f":"INDEX(【元データ】評価シート!$B$5:$T$56,Y137,Z137)","v":3},null,{"$f":"MATCH(R137,【元データ】評価シート!$A$63:$A$114,0)","v":29},{"$f":"MATCH(S137,【元データ】評価シート!$B$62:$T$62,0)","v":2},{"$f":"MATCH(R137,【元データ】評価シート!$A$5:$A$56,0)","v":29},{"$f":"MATCH(S137,【元データ】評価シート!$B$4:$T$4,0)","v":2}]
[101010,136,null,null,null,null,null,null,null,null,null,null,null,1,1,null,"配管運搬時に、周囲の人に材料を当ててしまう","人力運搬機","激突",{"$f":"INDEX(【元データ】評価シート!$B$63:$T$114,W138,X138)","v":2},{"$f":"INDEX(【元データ】評価シート!$B$5:$T$56,Y138,Z138)","v":2},null,{"$f":"MATCH(R138,【元データ】評価シート!$A$63:$A$114,0)","v":29},{"$f":"MATCH(S138,【元データ】評価シート!$B$62:$T$62,0)","v":3},{"$f":"MATCH(R138,【元データ】評価シート!$A$5:$A$56,0)","v":29},{"$f":"MATCH(S138,【元データ】評価シート!$B$4:$T$4,0)","v":3}]
[105020,137,1,1,1,null,null,1,null,1,null,null,1,1,1,null,"溶接治具運搬時、足場に手をぶつけて負傷する","人力運搬機","激突",{"$f":"INDEX(【元データ】評価シート!$B$63:$T$114,W139,X139)","v":2},{"$f":"INDEX(【元データ】評価シート!$B$5:$T$56,Y139,Z139)","v":2},null,{"$f":"MATCH(R139,【元データ】評価シート!$A$63:$A$114,0)","v":29},{"$f":"MATCH(S139,【元データ】評価シート!$B$62:$T$62,0)","v":3},{"$f":"MATCH(R139,【元データ】評価シート!$A$5:$A$56,0)","v":29},{"$f":"MATCH(S139,【元データ】評価シート!$B$4:$T$4,0)","v":3}]
[403050,138,1,1,1,1,1,1,1,1,1,null,null,1,1,null,"材料運搬時、躓いて転倒する","人力運搬機","激突",{"$f":"INDEX(【元データ】評価シート!$B$63:$T$114,W140,X140)","v":2},{"$f":"INDEX(【元データ】評価シート!$B$5:$T$56,Y140,Z140)","v":2},null,{"$f":"MATCH(R140,【元データ】評価シート!$A$63:$A$114,0)","v":29},{"$f":"MATCH(S140,【元データ】評価シート!$B$62:$T$62,0)","v":3},{"$f":"MATCH(R140,【元データ】評価シート!$A$5:$A$56,0)","v":29},{"$f":"MATCH(S140,【元データ】評価シート!$B$4:$T$4,0)","v":3}]
[103010,139,1,1,1,1,1,1,1,1,1,null,null,1,1,null,"重量物を持って腰を痛める","人力運搬機","転倒",{"$f":"INDEX(【元データ】評価シート!$B$63:$T$114,W141,X141)","v":3},{"$f":"INDEX(【元データ】評価シート!$B$5:$T$56,Y141,Z141)","v":3},null,{"$f":"MATCH(R141,【元データ】評価シート!$A$63:$A$114,0)","v":29},{"$f":"MATCH(S141,【元データ】評価シート!$B$62:$T$62,0)","v":2},{"$f":"MATCH(R141,【元データ】評価シート!$A$5:$A$56,0)","v":29},{"$f":"MATCH(S141,【元データ】評価シート!$B$4:$T$4,0)","v":2}]
[105020,140,1,1,1,1,1,1,1,1,1,null,null,1,1,null,"資材運搬時、台車に手を挟まれて負傷する","人力運搬機","動作の反動・無理な動作",{"$f":"INDEX(【元データ】評価シート!$B$63:$T$114,W142,X142)","v":1},{"$f":"INDEX(【元データ】評価シート!$B$5:$T$56,Y142,Z142)","v":2},null,{"$f":"MATCH(R142,【元データ】評価シート!$A$63:$A$114,0)","v":29},{"$f":"MATCH(S142,【元データ】評価シート!$B$62:$T$62,0)","v":19},{"$f":"MATCH(R142,【元データ】評価シート!$A$5:$A$56,0)","v":29},{"$f":"MATCH(S142,【元データ】評価シート!$B$4:$T$4,0)","v":19}]
[110010,141,null,1,null,null,null,null,null,null,null,null,null,null,null,null,"ハンドリフトを車上から下ろす時に手を挟む","人力運搬機","はさまれ・巻き込まれ",{"$f":"INDEX(【元データ】評価シート!$B$63:$T$114,W143,X143)","v":4},{"$f":"INDEX(【元データ】評価シート!$B$5:$T$56,Y143,Z143)","v":3},null,{"$f":"MATCH(R143,【元データ】評価シート!$A$63:$A$114,0)","v":29},{"$f":"MATCH(S143,【元データ】評価シート!$B$62:$T$62,0)","v":7},{"$f":"MATCH(R143,【元データ】評価シート!$A$5:$A$56,0)","v":29},{"$f":"MATCH(S143,【元データ】評価シート!$B$4:$T$4,0)","v":7}]
[110010,142,null,null,null,null,null,null,null,null,null,null,null,null,1,null,"重量物運搬時パレットが傾き倒れる","エレベータ、リフト","はさまれ・巻き込まれ",{"$f":"INDEX(【元データ】評価シート!$B$63:$T$114,W144,X144)","v":3},{"$f":"INDEX(【元データ】評価シート!$B$5:$T$56,Y144,Z144)","v":3},null,{"$f":"MATCH(R144,【元データ】評価シート!$A$63:$A$114,0)","v":14},{"$f":"MATCH(S144,【元データ】評価シート!$B$62:$T$62,0)","v":7},{"$f":"MATCH(R144,【元データ】評価シート!$A$5:$A$56,0)","v":14},{"$f":"MATCH(S144,【元データ】評価シート!$B$4:$T$4,0)","v":7}]
[110010,143,1,null,null,null,null,null,null,null,null,null,null,null,null,null,"生コンバケツをクレーンにて吊り土砂を降ろす時に反動で手を挟む","人力運搬機","はさまれ・巻き込まれ",{"$f":"INDEX(【元データ】評価シート!$B$63:$T$114,W145,X145)","v":4},{"$f":"INDEX(【元データ】評価シート!$B$5:$T$56,Y145,Z145)","v":3},null,{"$f":"MATCH(R145,【元データ】評価シート!$A$63:$A$114,0)","v":29},{"$f":"MATCH(S145,【元データ】評価シート!$B$62:$T$62,0)","v":7},{"$f":"MATCH(R145,【元データ】評価シート!$A$5:$A$56,0)","v":29},{"$f":"MATCH(S145,【元データ】評価シート!$B$4:$T$4,0)","v":7}]
[301010,144,null,null,null,1,null,null,null,null,null,null,null,null,null,null,"ハンドミキサー使用時、手や服が巻き込まれる","人力機械","はさまれ・巻き込まれ",{"$f":"INDEX(【元データ】評価シート!$B$63:$T$114,W146,X146)","v":2},{"$f":"INDEX(【元データ】評価シート!$B$5:$T$56,Y146,Z146)","v":2},null,{"$f":"MATCH(R146,【元データ】評価シート!$A$63:$A$114,0)","v":30},{"$f":"MATCH(S146,【元データ】評価シート!$B$62:$T$62,0)","v":7},{"$f":"MATCH(R146,【元データ】評価シート!$A$5:$A$56,0)","v":30},{"$f":"MATCH(S146,【元データ】評価シート!$B$4:$T$4,0)","v":7}]
[502020,145,1,null,null,null,null,null,null,1,null,null,null,null,null,null,"ダンプ後退時、バックホーと接触する","人力機械","はさまれ・巻き込まれ",{"$f":"INDEX(【元データ】評価シート!$B$63:$T$114,W147,X147)","v":2},{"$f":"INDEX(【元データ】評価シート!$B$5:$T$56,Y147,Z147)","v":2},null,{"$f":"MATCH(R147,【元データ】評価シート!$A$63:$A$114,0)","v":30},{"$f":"MATCH(S147,【元データ】評価シート!$B$62:$T$62,0)","v":7},{"$f":"MATCH(R147,【元データ】評価シート!$A$5:$A$56,0)","v":30},{"$f":"MATCH(S147,【元データ】評価シート!$B$4:$T$4,0)","v":7}]
[103010,146,1,null,null,null,null,null,null,1,null,null,null,null,null,null,"後進ダンプにひかれて負傷する","整地・運搬・積込み用機械","激突",{"$f":"INDEX(【元データ】評価シート!$B$63:$T$114,W148,X148)","v":1},{"$f":"INDEX(【元データ】評価シート!$B$5:$T$56,Y148,Z148)","v":2},null,{"$f":"MATCH(R148,【元データ】評価シート!$A$63:$A$114,0)","v":5},{"$f":"MATCH(S148,【元データ】評価シート!$B$62:$T$62,0)","v":3},{"$f":"MATCH(R148,【元データ】評価シート!$A$5:$A$56,0)","v":5},{"$f":"MATCH(S148,【元データ】評価シート!$B$4:$T$4,0)","v":3}]
[205010,147,null,null,null,null,null,null,1,null,null,null,null,null,null,null,"配線接続時に、感電する","整地・運搬・積込み用機械","はさまれ・巻き込まれ",{"$f":"INDEX(【元データ】評価シート!$B$63:$T$114,W149,X149)","v":4},{"$f":"INDEX(【元データ】評価シート!$B$5:$T$56,Y149,Z149)","v":3},null,{"$f":"MATCH(R149,【元データ】評価シート!$A$63:$A$114,0)","v":5},{"$f":"MATCH(S149,【元データ】評価シート!$B$62:$T$62,0)","v":7},{"$f":"MATCH(R149,【元データ】評価シート!$A$5:$A$56,0)","v":5},{"$f":"MATCH(S149,【元データ】評価シート!$B$4:$T$4,0)","v":7}]
[105010,148,null,null,null,null,null,null,1,null,null,null,null,null,null,null,"配線結線時に充電部に接触して感電する","送配電線等","感電",{"$f":"INDEX(【元データ】評価シート!$B$63:$T$114,W150,X150)","v":4},{"$f":"INDEX(【元データ】評価シート!$B$5:$T$56,Y150,Z150)","v":2},null,{"$f":"MATCH(R150,【元データ】評価シート!$A$63:$A$114,0)","v":26},{"$f":"MATCH(S150,【元データ】評価シート!$B$62:$T$62,0)","v":13},{"$f":"MATCH(R150,【元データ】評価シート!$A$5:$A$56,0)","v":26},{"$f":"MATCH(S150,【元データ】評価シート!$B$4:$T$4,0)","v":13}]
[105010,149,null,null,null,null,null,null,1,null,null,null,null,null,null,null,"配線撤去時に誤って活線に接触して感電する","送配電線等","感電",{"$f":"INDEX(【元データ】評価シート!$B$63:$T$114,W151,X151)","v":4},{"$f":"INDEX(【元データ】評価シート!$B$5:$T$56,Y151,Z151)","v":2},null,{"$f":"MATCH(R151,【元データ】評価シート!$A$63:$A$114,0)","v":26},{"$f":"MATCH(S151,【元データ】評価シート!$B$62:$T$62,0)","v":13},{"$f":"MATCH(R151,【元データ】評価シート!$A$5:$A$56,0)","v":26},{"$f":"MATCH(S151,【元データ】評価シート!$B$4:$T$4,0)","v":13}]
[105010,150,null,null,null,null,null,null,1,null,null,null,null,null,null,null,"配線敷設時、鉄筋の結束線が指に刺さる","送配電線等","感電",{"$f":"INDEX(【元データ】評価シート!$B$63:$T$114,W152,X152)","v":4},{"$f":"INDEX(【元データ】評価シート!$B$5:$T$56,Y152,Z152)","v":2},null,{"$f":"MATCH(R152,【元データ】評価シート!$A$63:$A$114,0)","v":26},{"$f":"MATCH(S152,【元データ】評価シート!$B$62:$T$62,0)","v":13},{"$f":"MATCH(R152,【元データ】評価シート!$A$5:$A$56,0)","v":26},{"$f":"MATCH(S152,【元データ】評価シート!$B$4:$T$4,0)","v":13}]
[105010,151,null,null,null,null,null,null,1,null,null,null,null,null,null,null,"配線敷設時、鉄筋間に足を挟み転倒する","送配電線等","切れ・こすれ",{"$f":"INDEX(【元データ】評価シート!$B$63:$T$114,W153,X153)","v":1},{"$f":"INDEX(【元データ】評価シート!$B$5:$T$56,Y153,Z153)","v":1},null,{"$f":"MATCH(R153,【元データ】評価シート!$A$63:$A$114,0)","v":26},{"$f":"MATCH(S153,【元データ】評価シート!$B$62:$T$62,0)","v":8},{"$f":"MATCH(R153,【元データ】評価シート!$A$5:$A$56,0)","v":26},{"$f":"MATCH(S153,【元データ】評価シート!$B$4:$T$4,0)","v":8}]
[105010,152,null,null,null,null,null,null,1,null,null,null,null,null,null,null,"キャプタイヤーに躓き転倒する","送配電線等","転倒",{"$f":"INDEX(【元データ】評価シート!$B$63:$T$114,W154,X154)","v":2},{"$f":"INDEX(【元データ】評価シート!$B$5:$T$56,Y154,Z154)","v":2},null,{"$f":"MATCH(R154,【元データ】評価シート!$A$63:$A$114,0)","v":26},{"$f":"MATCH(S154,【元データ】評価シート!$B$62:$T$62,0)","v":2},{"$f":"MATCH(R154,【元データ】評価シート!$A$5:$A$56,0)","v":26},{"$f":"MATCH(S154,【元データ】評価シート!$B$4:$T$4,0)","v":2}]
[302010,153,1,null,null,null,null,null,null,1,null,null,1,1,1,null,"敷鉄板荷吊り時に玉掛けワイヤーが外れ、敷鉄板で手足を挟む","送配電線等","転倒",{"$f":"INDEX(【元データ】評価シート!$B$63:$T$114,W155,X155)","v":2},{"$f":"INDEX(【元データ】評価シート!$B$5:$T$56,Y155,Z155)","v":2},null,{"$f":"MATCH(R155,【元データ】評価シート!$A$63:$A$114,0)","v":26},{"$f":"MATCH(S155,【元データ】評価シート!$B$62:$T$62,0)","v":2},{"$f":"MATCH(R155,【元データ】評価シート!$A$5:$A$56,0)","v":26},{"$f":"MATCH(S155,【元データ】評価シート!$B$4:$T$4,0)","v":2}]
[110010,154,1,null,null,null,null,null,null,1,null,null,1,1,1,null,"荷吊り中、吊りフックから外れ敷鉄板で手を挟む","玉掛用具","はさまれ・巻き込まれ",{"$f":"INDEX(【元データ】評価シート!$B$63:$T$114,W156,X156)","v":3},{"$f":"INDEX(【元データ】評価シート!$B$5:$T$56,Y156,Z156)","v":2},null,{"$f":"MATCH(R156,【元データ】評価シート!$A$63:$A$114,0)","v":33},{"$f":"MATCH(S156,【元データ】評価シート!$B$62:$T$62,0)","v":7},{"$f":"MATCH(R156,【元データ】評価シート!$A$5:$A$56,0)","v":33},{"$f":"MATCH(S156,【元データ】評価シート!$B$4:$T$4,0)","v":7}]
[302010,155,1,null,null,null,null,null,null,1,null,null,1,1,1,null,"建方時、玉掛けワイヤーが切れて落下する","玉掛用具","はさまれ・巻き込まれ",{"$f":"INDEX(【元データ】評価シート!$B$63:$T$114,W157,X157)","v":3},{"$f":"INDEX(【元データ】評価シート!$B$5:$T$56,Y157,Z157)","v":2},null,{"$f":"MATCH(R157,【元データ】評価シート!$A$63:$A$114,0)","v":33},{"$f":"MATCH(S157,【元データ】評価シート!$B$62:$T$62,0)","v":7},{"$f":"MATCH(R157,【元データ】評価シート!$A$5:$A$56,0)","v":33},{"$f":"MATCH(S157,【元データ】評価シート!$B$4:$T$4,0)","v":7}]
[102010,156,1,null,null,null,null,null,null,1,null,null,1,1,1,null,"資材運搬時、鋼板が滑り落ち足を負傷する","玉掛用具","飛来・落下",{"$f":"INDEX(【元データ】評価シート!$B$63:$T$114,W158,X158)","v":4},{"$f":"INDEX(【元データ】評価シート!$B$5:$T$56,Y158,Z158)","v":3},null,{"$f":"MATCH(R158,【元データ】評価シート!$A$63:$A$114,0)","v":33},{"$f":"MATCH(S158,【元データ】評価シート!$B$62:$T$62,0)","v":4},{"$f":"MATCH(R158,【元データ】評価シート!$A$5:$A$56,0)","v":33},{"$f":"MATCH(S158,【元データ】評価シート!$B$4:$T$4,0)","v":4}]
[103020,157,null,null,null,null,null,null,null,null,null,null,null,null,1,null,"鋼矢板吊込作業時、ﾗｼﾞｺﾝｼｬｯｸﾙが玉掛けワイヤーごとはずれて落下し接触する","玉掛用具","飛来・落下",{"$f":"INDEX(【元データ】評価シート!$B$63:$T$114,W159,X159)","v":4},{"$f":"INDEX(【元データ】評価シート!$B$5:$T$56,Y159,Z159)","v":3},null,{"$f":"MATCH(R159,【元データ】評価シート!$A$63:$A$114,0)","v":33},{"$f":"MATCH(S159,【元データ】評価シート!$B$62:$T$62,0)","v":4},{"$f":"MATCH(R159,【元データ】評価シート!$A$5:$A$56,0)","v":33},{"$f":"MATCH(S159,【元データ】評価シート!$B$4:$T$4,0)","v":4}]
[301020,158,null,null,null,null,null,1,null,null,null,null,null,null,null,null,"ﾃﾞｯｷﾌﾟﾚｰﾄ取込み時、吊荷が外れ落下する","玉掛用具","飛来・落下",{"$f":"INDEX(【元データ】評価シート!$B$63:$T$114,W160,X160)","v":4},{"$f":"INDEX(【元データ】評価シート!$B$5:$T$56,Y160,Z160)","v":3},null,{"$f":"MATCH(R160,【元データ】評価シート!$A$63:$A$114,0)","v":33},{"$f":"MATCH(S160,【元データ】評価シート!$B$62:$T$62,0)","v":4},{"$f":"MATCH(R160,【元データ】評価シート!$A$5:$A$56,0)","v":33},{"$f":"MATCH(S160,【元データ】評価シート!$B$4:$T$4,0)","v":4}]
[404040,159,1,null,null,null,null,null,null,null,null,null,null,null,null,null,"足場の大バラシ時、介錯ロープがワイヤーに引掛かり足場が倒れる","玉掛用具","飛来・落下",{"$f":"INDEX(【元データ】評価シート!$B$63:$T$114,W161,X161)","v":4},{"$f":"INDEX(【元データ】評価シート!$B$5:$T$56,Y161,Z161)","v":3},null,{"$f":"MATCH(R161,【元データ】評価シート!$A$63:$A$114,0)","v":33},{"$f":"MATCH(S161,【元データ】評価シート!$B$62:$T$62,0)","v":4},{"$f":"MATCH(R161,【元データ】評価シート!$A$5:$A$56,0)","v":33},{"$f":"MATCH(S161,【元データ】評価シート!$B$4:$T$4,0)","v":4}]
[202010,160,null,null,null,1,1,null,null,null,null,null,null,null,null,null,"後ろ向きに掃き掃除中コーナー部の足場の隙間から墜落する","玉掛用具","崩壊・倒壊",{"$f":"INDEX(【元データ】評価シート!$B$63:$T$114,W162,X162)","v":3},{"$f":"INDEX(【元データ】評価シート!$B$5:$T$56,Y162,Z162)","v":3},null,{"$f":"MATCH(R162,【元データ】評価シート!$A$63:$A$114,0)","v":33},{"$f":"MATCH(S162,【元データ】評価シート!$B$62:$T$62,0)","v":5},{"$f":"MATCH(R162,【元データ】評価シート!$A$5:$A$56,0)","v":33},{"$f":"MATCH(S162,【元データ】評価シート!$B$4:$T$4,0)","v":5}]
[205010,161,null,null,null,null,null,null,null,null,null,null,null,null,1,null,"レール組立時、仮設ゴンドラから転落する","通路","墜落・転落",{"$f":"INDEX(【元データ】評価シート!$B$63:$T$114,W163,X163)","v":4},{"$f":"INDEX(【元データ】評価シート!$B$5:$T$56,Y163,Z163)","v":4},null,{"$f":"MATCH(R163,【元データ】評価シート!$A$63:$A$114,0)","v":40},{"$f":"MATCH(S163,【元データ】評価シート!$B$62:$T$62,0)","v":1},{"$f":"MATCH(R163,【元データ】評価シート!$A$5:$A$56,0)","v":40},{"$f":"MATCH(S163,【元データ】評価シート!$B$4:$T$4,0)","v":1}]
[605010,162,1,1,1,1,1,1,1,null,null,null,null,1,1,null,"通路足場から身を寄り出した際、墜落する","ゴンドラ","墜落・転落",{"$f":"INDEX(【元データ】評価シート!$B$63:$T$114,W164,X164)","v":1},{"$f":"INDEX(【元データ】評価シート!$B$5:$T$56,Y164,Z164)","v":2},null,{"$f":"MATCH(R164,【元データ】評価シート!$A$63:$A$114,0)","v":16},{"$f":"MATCH(S164,【元データ】評価シート!$B$62:$T$62,0)","v":1},{"$f":"MATCH(R164,【元データ】評価シート!$A$5:$A$56,0)","v":16},{"$f":"MATCH(S164,【元データ】評価シート!$B$4:$T$4,0)","v":1}]
[402010,163,null,null,1,null,null,null,null,null,null,null,null,null,null,null,"地中梁圧接中、移動時に転落する","通路","墜落・転落",{"$f":"INDEX(【元データ】評価シート!$B$63:$T$114,W165,X165)","v":4},{"$f":"INDEX(【元データ】評価シート!$B$5:$T$56,Y165,Z165)","v":4},null,{"$f":"MATCH(R165,【元データ】評価シート!$A$63:$A$114,0)","v":40},{"$f":"MATCH(S165,【元データ】評価シート!$B$62:$T$62,0)","v":1},{"$f":"MATCH(R165,【元データ】評価シート!$A$5:$A$56,0)","v":40},{"$f":"MATCH(S165,【元データ】評価シート!$B$4:$T$4,0)","v":1}]
[403050,164,null,null,null,null,null,1,null,null,null,null,null,null,null,null,"仮敷きのデッキプレートを歩行中転落する","通路","墜落・転落",{"$f":"INDEX(【元データ】評価シート!$B$63:$T$114,W166,X166)","v":4},{"$f":"INDEX(【元データ】評価シート!$B$5:$T$56,Y166,Z166)","v":4},null,{"$f":"MATCH(R166,【元データ】評価シート!$A$63:$A$114,0)","v":40},{"$f":"MATCH(S166,【元データ】評価シート!$B$62:$T$62,0)","v":1},{"$f":"MATCH(R166,【元データ】評価シート!$A$5:$A$56,0)","v":40},{"$f":"MATCH(S166,【元データ】評価シート!$B$4:$T$4,0)","v":1}]
[101010,165,1,1,1,1,1,1,1,1,1,null,1,1,1,null,"材料運搬時、段差に躓いて転倒する","通路","転倒",{"$f":"INDEX(【元データ】評価シート!$B$63:$T$114,W167,X167)","v":4},{"$f":"INDEX(【元データ】評価シート!$B$5:$T$56,Y167,Z167)","v":4},null,{"$f":"MATCH(R167,【元データ】評価シート!$A$63:$A$114,0)","v":40},{"$f":"MATCH(S167,【元データ】評価シート!$B$62:$T$62,0)","v":2},{"$f":"MATCH(R167,【元データ】評価シート!$A$5:$A$56,0)","v":40},{"$f":"MATCH(S167,【元データ】評価シート!$B$4:$T$4,0)","v":2}]
[101010,166,null,null,null,null,null,null,null,null,null,null,null,null,null,1,"誘導時、躓いて転倒する","通路","転倒",{"$f":"INDEX(【元データ】評価シート!$B$63:$T$114,W168,X168)","v":4},{"$f":"INDEX(【元データ】評価シート!$B$5:$T$56,Y168,Z168)","v":4},null,{"$f":"MATCH(R168,【元データ】評価シート!$A$63:$A$114,0)","v":40},{"$f":"MATCH(S168,【元データ】評価シート!$B$62:$T$62,0)","v":2},{"$f":"MATCH(R168,【元データ】評価シート!$A$5:$A$56,0)","v":40},{"$f":"MATCH(S168,【元データ】評価シート!$B$4:$T$4,0)","v":2}]
[104010,167,1,1,1,1,1,1,1,1,1,null,1,1,1,null,"足場上で躓いて転倒する","通路","転倒",{"$f":"INDEX(【元データ】評価シート!$B$63:$T$114,W169,X169)","v":4},{"$f":"INDEX(【元データ】評価シート!$B$5:$T$56,Y169,Z169)","v":4},null,{"$f":"MATCH(R169,【元データ】評価シート!$A$63:$A$114,0)","v":40},{"$f":"MATCH(S169,【元データ】評価シート!$B$62:$T$62,0)","v":2},{"$f":"MATCH(R169,【元データ】評価シート!$A$5:$A$56,0)","v":40},{"$f":"MATCH(S169,【元データ】評価シート!$B$4:$T$4,0)","v":2}]
[401010,168,1,1,1,1,1,1,1,1,1,null,1,1,1,null,"スラブ上で躓いて転倒する","通路","転倒",{"$f":"INDEX(【元データ】評価シート!$B$63:$T$114,W170,X170)","v":4},{"$f":"INDEX(【元データ】評価シート!$B$5:$T$56,Y170,Z170)","v":4},null,{"$f":"MATCH(R170,【元データ】評価シート!$A$63:$A$114,0)","v":40},{"$f":"MATCH(S170,【元データ】評価シート!$B$62:$T$62,0)","v":2},{"$f":"MATCH(R170,【元データ】評価シート!$A$5:$A$56,0)","v":40},{"$f":"MATCH(S170,【元データ】評価シート!$B$4:$T$4,0)","v":2}]
[401010,169,null,null,1,null,null,null,null,null,null,null,null,null,null,null,"鉄筋を担いでいる際、資材に躓いて転倒する","通路","転倒",{"$f":"INDEX(【元データ】評価シート!$B$63:$T$114,W171,X171)","v":4},{"$f":"INDEX(【元データ】評価シート!$B$5:$T$56,Y171,Z171)","v":4},null,{"$f":"MATCH(R171,【元データ】評価シート!$A$63:$A$114,0)","v":40},{"$f":"MATCH(S171,【元データ】評価シート!$B$62:$T$62,0)","v":2},{"$f":"MATCH(R171,【元データ】評価シート!$A$5:$A$56,0)","v":40},{"$f":"MATCH(S171,【元データ】評価シート!$B$4:$T$4,0)","v":2}]
[403030,170,null,null,1,null,null,null,null,null,null,null,null,null,null,null,"壁の差筋をまたぎ転倒する","通路","転倒",{"$f":"INDEX(【元データ】評価シート!$B$63:$T$114,W172,X172)","v":4},{"$f":"INDEX(【元データ】評価シート!$B$5:$T$56,Y172,Z172)","v":4},null,{"$f":"MATCH(R172,【元データ】評価シート!$A$63:$A$114,0)","v":40},{"$f":"MATCH(S172,【元データ】評価シート!$B$62:$T$62,0)","v":2},{"$f":"MATCH(R172,【元データ】評価シート!$A$5:$A$56,0)","v":40},{"$f":"MATCH(S172,【元データ】評価シート!$B$4:$T$4,0)","v":2}]
[403050,171,null,1,null,null,1,1,1,null,null,null,null,null,null,null,"カッターナイフで手を切る","通路","転倒",{"$f":"INDEX(【元データ】評価シート!$B$63:$T$114,W173,X173)","v":4},{"$f":"INDEX(【元データ】評価シート!$B$5:$T$56,Y173,Z173)","v":4},null,{"$f":"MATCH(R173,【元データ】評価シート!$A$63:$A$114,0)","v":40},{"$f":"MATCH(S173,【元データ】評価シート!$B$62:$T$62,0)","v":2},{"$f":"MATCH(R173,【元データ】評価シート!$A$5:$A$56,0)","v":40},{"$f":"MATCH(S173,【元データ】評価シート!$B$4:$T$4,0)","v":2}]
[101010,172,null,null,null,null,null,null,1,null,null,null,null,null,null,null,"束ねてあるビニールテープ切断時に、カッターナイフで手を切る","手工具","切れ・こすれ",{"$f":"INDEX(【元データ】評価シート!$B$63:$T$114,W174,X174)","v":3},{"$f":"INDEX(【元データ】評価シート!$B$5:$T$56,Y174,Z174)","v":3},null,{"$f":"MATCH(R174,【元データ】評価シート!$A$63:$A$114,0)","v":31},{"$f":"MATCH(S174,【元データ】評価シート!$B$62:$T$62,0)","v":8},{"$f":"MATCH(R174,【元データ】評価シート!$A$5:$A$56,0)","v":31},{"$f":"MATCH(S174,【元データ】評価シート!$B$4:$T$4,0)","v":8}]
[105010,173,1,1,null,null,null,1,null,null,null,null,null,null,null,null,"誤ってハンマーで指を叩く","手工具","切れ・こすれ",{"$f":"INDEX(【元データ】評価シート!$B$63:$T$114,W175,X175)","v":3},{"$f":"INDEX(【元データ】評価シート!$B$5:$T$56,Y175,Z175)","v":3},null,{"$f":"MATCH(R175,【元データ】評価シート!$A$63:$A$114,0)","v":31},{"$f":"MATCH(S175,【元データ】評価シート!$B$62:$T$62,0)","v":8},{"$f":"MATCH(R175,【元データ】評価シート!$A$5:$A$56,0)","v":31},{"$f":"MATCH(S175,【元データ】評価シート!$B$4:$T$4,0)","v":8}]
[301010,174,1,null,null,null,null,null,null,null,null,null,null,null,1,null,"インパクトドライバー使用時、指を巻き込まれて負傷する","手工具","切れ・こすれ",{"$f":"INDEX(【元データ】評価シート!$B$63:$T$114,W176,X176)","v":3},{"$f":"INDEX(【元データ】評価シート!$B$5:$T$56,Y176,Z176)","v":3},null,{"$f":"MATCH(R176,【元データ】評価シート!$A$63:$A$114,0)","v":31},{"$f":"MATCH(S176,【元データ】評価シート!$B$62:$T$62,0)","v":8},{"$f":"MATCH(R176,【元データ】評価シート!$A$5:$A$56,0)","v":31},{"$f":"MATCH(S176,【元データ】評価シート!$B$4:$T$4,0)","v":8}]
[302010,175,null,null,null,null,null,null,null,null,null,1,null,null,null,null,"手鋸で手や指を切る","手工具","切れ・こすれ",{"$f":"INDEX(【元データ】評価シート!$B$63:$T$114,W177,X177)","v":3},{"$f":"INDEX(【元データ】評価シート!$B$5:$T$56,Y177,Z177)","v":3},null,{"$f":"MATCH(R177,【元データ】評価シート!$A$63:$A$114,0)","v":31},{"$f":"MATCH(S177,【元データ】評価シート!$B$62:$T$62,0)","v":8},{"$f":"MATCH(R177,【元データ】評価シート!$A$5:$A$56,0)","v":31},{"$f":"MATCH(S177,【元データ】評価シート!$B$4:$T$4,0)","v":8}]
[402070,176,1,null,null,null,null,null,null,null,null,null,null,null,1,null,"シャーレンチ運搬時バランスを崩して転倒する","手工具","切れ・こすれ",{"$f":"INDEX(【元データ】評価シート!$B$63:$T$114,W178,X178)","v":3},{"$f":"INDEX(【元データ】評価シート!$B$5:$T$56,Y178,Z178)","v":3},null,{"$f":"MATCH(R178,【元データ】評価シート!$A$63:$A$114,0)","v":31},{"$f":"MATCH(S178,【元データ】評価シート!$B$62:$T$62,0)","v":8},{"$f":"MATCH(R178,【元データ】評価シート!$A$5:$A$56,0)","v":31},{"$f":"MATCH(S178,【元データ】評価シート!$B$4:$T$4,0)","v":8}]
[404030,177,1,null,null,null,null,null,null,null,null,null,null,null,1,null,"鉄骨建ち直し用フックに躓き転倒する","手工具","転倒",{"$f":"INDEX(【元データ】評価シート!$B$63:$T$114,W179,X179)","v":1},{"$f":"INDEX(【元データ】評価シート!$B$5:$T$56,Y179,Z179)","v":2},null,{"$f":"MATCH(R179,【元データ】評価シート!$A$63:$A$114,0)","v":31},{"$f":"MATCH(S179,【元データ】評価シート!$B$62:$T$62,0)","v":2},{"$f":"MATCH(R179,【元データ】評価シート!$A$5:$A$56,0)","v":31},{"$f":"MATCH(S179,【元データ】評価シート!$B$4:$T$4,0)","v":2}]
[404030,178,null,null,null,null,null,null,null,null,null,null,null,null,null,1,"スランプコーンを引き上げる際、腰を痛める","手工具","転倒",{"$f":"INDEX(【元データ】評価シート!$B$63:$T$114,W180,X180)","v":1},{"$f":"INDEX(【元データ】評価シート!$B$5:$T$56,Y180,Z180)","v":2},null,{"$f":"MATCH(R180,【元データ】評価シート!$A$63:$A$114,0)","v":31},{"$f":"MATCH(S180,【元データ】評価シート!$B$62:$T$62,0)","v":2},{"$f":"MATCH(R180,【元データ】評価シート!$A$5:$A$56,0)","v":31},{"$f":"MATCH(S180,【元データ】評価シート!$B$4:$T$4,0)","v":2}]
[109010,179,1,null,null,null,null,null,null,1,1,null,1,1,null,null,"振り上げたハンマーが目にあたる","手工具","動作の反動・無理な動作",{"$f":"INDEX(【元データ】評価シート!$B$63:$T$114,W181,X181)","v":1},{"$f":"INDEX(【元データ】評価シート!$B$5:$T$56,Y181,Z181)","v":2},null,{"$f":"MATCH(R181,【元データ】評価シート!$A$63:$A$114,0)","v":31},{"$f":"MATCH(S181,【元データ】評価シート!$B$62:$T$62,0)","v":19},{"$f":"MATCH(R181,【元データ】評価シート!$A$5:$A$56,0)","v":31},{"$f":"MATCH(S181,【元データ】評価シート!$B$4:$T$4,0)","v":19}]
[402020,180,null,1,null,null,null,null,null,null,null,null,null,null,null,null,"釘打ち機が暴発し手を負傷する","手工具","はさまれ・巻き込まれ",{"$f":"INDEX(【元データ】評価シート!$B$63:$T$114,W182,X182)","v":3},{"$f":"INDEX(【元データ】評価シート!$B$5:$T$56,Y182,Z182)","v":2},null,{"$f":"MATCH(R182,【元データ】評価シート!$A$63:$A$114,0)","v":31},{"$f":"MATCH(S182,【元データ】評価シート!$B$62:$T$62,0)","v":7},{"$f":"MATCH(R182,【元データ】評価シート!$A$5:$A$56,0)","v":31},{"$f":"MATCH(S182,【元データ】評価シート!$B$4:$T$4,0)","v":7}]
[402020,181,null,1,null,null,null,null,null,null,null,null,null,null,null,null,"バール使用時誤って手にあたる","手工具","はさまれ・巻き込まれ",{"$f":"INDEX(【元データ】評価シート!$B$63:$T$114,W183,X183)","v":3},{"$f":"INDEX(【元データ】評価シート!$B$5:$T$56,Y183,Z183)","v":2},null,{"$f":"MATCH(R183,【元データ】評価シート!$A$63:$A$114,0)","v":31},{"$f":"MATCH(S183,【元データ】評価シート!$B$62:$T$62,0)","v":7},{"$f":"MATCH(R183,【元データ】評価シート!$A$5:$A$56,0)","v":31},{"$f":"MATCH(S183,【元データ】評価シート!$B$4:$T$4,0)","v":7}]
[402050,182,null,null,1,null,null,null,null,null,null,null,null,null,null,null,"電動結束機使用時、手や指を詰める","手工具","はさまれ・巻き込まれ",{"$f":"INDEX(【元データ】評価シート!$B$63:$T$114,W184,X184)","v":3},{"$f":"INDEX(【元データ】評価シート!$B$5:$T$56,Y184,Z184)","v":2},null,{"$f":"MATCH(R184,【元データ】評価シート!$A$63:$A$114,0)","v":31},{"$f":"MATCH(S184,【元データ】評価シート!$B$62:$T$62,0)","v":7},{"$f":"MATCH(R184,【元データ】評価シート!$A$5:$A$56,0)","v":31},{"$f":"MATCH(S184,【元データ】評価シート!$B$4:$T$4,0)","v":7}]
[403030,183,1,null,null,null,null,null,null,null,null,null,null,null,1,null,"鉄骨建入治具での使用時に、定められた以外の使用をして負傷する","手工具","はさまれ・巻き込まれ",{"$f":"INDEX(【元データ】評価シート!$B$63:$T$114,W185,X185)","v":3},{"$f":"INDEX(【元データ】評価シート!$B$5:$T$56,Y185,Z185)","v":2},null,{"$f":"MATCH(R185,【元データ】評価シート!$A$63:$A$114,0)","v":31},{"$f":"MATCH(S185,【元データ】評価シート!$B$62:$T$62,0)","v":7},{"$f":"MATCH(R185,【元データ】評価シート!$A$5:$A$56,0)","v":31},{"$f":"MATCH(S185,【元データ】評価シート!$B$4:$T$4,0)","v":7}]
[404030,184,1,null,null,null,null,null,null,1,null,null,null,null,null,null,"切梁架設時、手が滑り工具類が落下する","手工具","はさまれ・巻き込まれ",{"$f":"INDEX(【元データ】評価シート!$B$63:$T$114,W186,X186)","v":3},{"$f":"INDEX(【元データ】評価シート!$B$5:$T$56,Y186,Z186)","v":2},null,{"$f":"MATCH(R186,【元データ】評価シート!$A$63:$A$114,0)","v":31},{"$f":"MATCH(S186,【元データ】評価シート!$B$62:$T$62,0)","v":7},{"$f":"MATCH(R186,【元データ】評価シート!$A$5:$A$56,0)","v":31},{"$f":"MATCH(S186,【元データ】評価シート!$B$4:$T$4,0)","v":7}]
[301030,185,1,1,1,null,null,1,null,null,null,null,1,1,1,null,"ベビーサンダー使用時、目に鉄粉が入る","手工具","飛来・落下",{"$f":"INDEX(【元データ】評価シート!$B$63:$T$114,W187,X187)","v":3},{"$f":"INDEX(【元データ】評価シート!$B$5:$T$56,Y187,Z187)","v":2},null,{"$f":"MATCH(R187,【元データ】評価シート!$A$63:$A$114,0)","v":31},{"$f":"MATCH(S187,【元データ】評価シート!$B$62:$T$62,0)","v":4},{"$f":"MATCH(R187,【元データ】評価シート!$A$5:$A$56,0)","v":31},{"$f":"MATCH(S187,【元データ】評価シート!$B$4:$T$4,0)","v":4}]
[302010,186,1,1,1,null,null,1,null,null,null,null,1,1,1,null,"カッターナイフで手を切る","手工具","有害物等との接触",{"$f":"INDEX(【元データ】評価シート!$B$63:$T$114,W188,X188)","v":1},{"$f":"INDEX(【元データ】評価シート!$B$5:$T$56,Y188,Z188)","v":1},null,{"$f":"MATCH(R188,【元データ】評価シート!$A$63:$A$114,0)","v":31},{"$f":"MATCH(S188,【元データ】評価シート!$B$62:$T$62,0)","v":12},{"$f":"MATCH(R188,【元データ】評価シート!$A$5:$A$56,0)","v":31},{"$f":"MATCH(S188,【元データ】評価シート!$B$4:$T$4,0)","v":12}]
[null,187,null,null,null,null,null,null,1,null,null,null,null,null,null,null,"分電盤移設時、感電する","手工具","動作の反動・無理な動作",{"$f":"INDEX(【元データ】評価シート!$B$63:$T$114,W189,X189)","v":1},{"$f":"INDEX(【元データ】評価シート!$B$5:$T$56,Y189,Z189)","v":2},null,{"$f":"MATCH(R189,【元データ】評価シート!$A$63:$A$114,0)","v":31},{"$f":"MATCH(S189,【元データ】評価シート!$B$62:$T$62,0)","v":19},{"$f":"MATCH(R189,【元データ】評価シート!$A$5:$A$56,0)","v":31},{"$f":"MATCH(S189,【元データ】評価シート!$B$4:$T$4,0)","v":19}]
[105010,188,null,null,null,null,null,null,1,null,null,null,null,null,null,null,"電源切替時、感電する","電力設備","感電",{"$f":"INDEX(【元データ】評価シート!$B$63:$T$114,W190,X190)","v":4},{"$f":"INDEX(【元データ】評価シート!$B$5:$T$56,Y190,Z190)","v":2},null,{"$f":"MATCH(R190,【元データ】評価シート!$A$63:$A$114,0)","v":27},{"$f":"MATCH(S190,【元データ】評価シート!$B$62:$T$62,0)","v":13},{"$f":"MATCH(R190,【元データ】評価シート!$A$5:$A$56,0)","v":27},{"$f":"MATCH(S190,【元データ】評価シート!$B$4:$T$4,0)","v":13}]
[105010,189,null,null,null,null,null,null,1,null,null,null,null,null,null,null,"電源投入時に機械・電動工具を点検していた人が負傷する","電力設備","感電",{"$f":"INDEX(【元データ】評価シート!$B$63:$T$114,W191,X191)","v":4},{"$f":"INDEX(【元データ】評価シート!$B$5:$T$56,Y191,Z191)","v":2},null,{"$f":"MATCH(R191,【元データ】評価シート!$A$63:$A$114,0)","v":27},{"$f":"MATCH(S191,【元データ】評価シート!$B$62:$T$62,0)","v":13},{"$f":"MATCH(R191,【元データ】評価シート!$A$5:$A$56,0)","v":27},{"$f":"MATCH(S191,【元データ】評価シート!$B$4:$T$4,0)","v":13}]
[105010,190,null,null,null,null,null,null,1,null,null,null,null,null,null,null,"停電時の点検清掃時に残留電荷により感電する","電力設備","感電",{"$f":"INDEX(【元データ】評価シート!$B$63:$T$114,W192,X192)","v":4},{"$f":"INDEX(【元データ】評価シート!$B$5:$T$56,Y192,Z192)","v":2},null,{"$f":"MATCH(R192,【元データ】評価シート!$A$63:$A$114,0)","v":27},{"$f":"MATCH(S192,【元データ】評価シート!$B$62:$T$62,0)","v":13},{"$f":"MATCH(R192,【元データ】評価シート!$A$5:$A$56,0)","v":27},{"$f":"MATCH(S192,【元データ】評価シート!$B$4:$T$4,0)","v":13}]
[105010,191,null,null,null,null,null,null,1,null,null,null,null,null,null,null,"水銀灯取付時、手を詰める","電力設備","感電",{"$f":"INDEX(【元データ】評価シート!$B$63:$T$114,W193,X193)","v":4},{"$f":"INDEX(【元データ】評価シート!$B$5:$T$56,Y193,Z193)","v":2},null,{"$f":"MATCH(R193,【元データ】評価シート!$A$63:$A$114,0)","v":27},{"$f":"MATCH(S193,【元データ】評価シート!$B$62:$T$62,0)","v":13},{"$f":"MATCH(R193,【元データ】評価シート!$A$5:$A$56,0)","v":27},{"$f":"MATCH(S193,【元データ】評価シート!$B$4:$T$4,0)","v":13}]
[105010,192,null,null,null,null,null,null,1,null,null,null,null,null,null,null,"足場に水銀灯を設置する時に器具を落下させ下部の作業員に当たる","電力設備","はさまれ・巻き込まれ",{"$f":"INDEX(【元データ】評価シート!$B$63:$T$114,W194,X194)","v":1},{"$f":"INDEX(【元データ】評価シート!$B$5:$T$56,Y194,Z194)","v":2},null,{"$f":"MATCH(R194,【元データ】評価シート!$A$63:$A$114,0)","v":27},{"$f":"MATCH(S194,【元データ】評価シート!$B$62:$T$62,0)","v":7},{"$f":"MATCH(R194,【元データ】評価シート!$A$5:$A$56,0)","v":27},{"$f":"MATCH(S194,【元データ】評価シート!$B$4:$T$4,0)","v":7}]
[105010,193,null,null,null,null,null,null,1,null,null,null,null,null,null,null,"分電盤取付時に落下させ足を詰める","電力設備","飛来・落下",{"$f":"INDEX(【元データ】評価シート!$B$63:$T$114,W195,X195)","v":1},{"$f":"INDEX(【元データ】評価シート!$B$5:$T$56,Y195,Z195)","v":1},null,{"$f":"MATCH(R195,【元データ】評価シート!$A$63:$A$114,0)","v":27},{"$f":"MATCH(S195,【元データ】評価シート!$B$62:$T$62,0)","v":4},{"$f":"MATCH(R195,【元データ】評価シート!$A$5:$A$56,0)","v":27},{"$f":"MATCH(S195,【元データ】評価シート!$B$4:$T$4,0)","v":4}]
[105010,194,null,1,null,null,null,null,null,null,null,null,null,null,null,null,"雨天時、丸のこを使用して感電する","電力設備","飛来・落下",{"$f":"INDEX(【元データ】評価シート!$B$63:$T$114,W196,X196)","v":1},{"$f":"INDEX(【元データ】評価シート!$B$5:$T$56,Y196,Z196)","v":1},null,{"$f":"MATCH(R196,【元データ】評価シート!$A$63:$A$114,0)","v":27},{"$f":"MATCH(S196,【元データ】評価シート!$B$62:$T$62,0)","v":4},{"$f":"MATCH(R196,【元データ】評価シート!$A$5:$A$56,0)","v":27},{"$f":"MATCH(S196,【元データ】評価シート!$B$4:$T$4,0)","v":4}]
[301010,195,1,1,1,null,null,1,null,null,null,null,1,1,1,null,"ベビーサンダー使用時、誤って手を切る","動力伝導機構","感電",{"$f":"INDEX(【元データ】評価シート!$B$63:$T$114,W197,X197)","v":1},{"$f":"INDEX(【元データ】評価シート!$B$5:$T$56,Y197,Z197)","v":1},null,{"$f":"MATCH(R197,【元データ】評価シート!$A$63:$A$114,0)","v":2},{"$f":"MATCH(S197,【元データ】評価シート!$B$62:$T$62,0)","v":13},{"$f":"MATCH(R197,【元データ】評価シート!$A$5:$A$56,0)","v":2},{"$f":"MATCH(S197,【元データ】評価シート!$B$4:$T$4,0)","v":13}]
[101010,196,null,null,null,null,null,null,null,null,null,1,null,null,null,null,"草刈り機で手や足を切る","動力伝導機構","切れ・こすれ",{"$f":"INDEX(【元データ】評価シート!$B$63:$T$114,W198,X198)","v":1},{"$f":"INDEX(【元データ】評価シート!$B$5:$T$56,Y198,Z198)","v":1},null,{"$f":"MATCH(R198,【元データ】評価シート!$A$63:$A$114,0)","v":2},{"$f":"MATCH(S198,【元データ】評価シート!$B$62:$T$62,0)","v":8},{"$f":"MATCH(R198,【元データ】評価シート!$A$5:$A$56,0)","v":2},{"$f":"MATCH(S198,【元データ】評価シート!$B$4:$T$4,0)","v":8}]
[101010,197,1,null,null,null,null,null,null,1,null,null,null,null,null,null,"インパクトドライバー使用時、指を負傷する","動力伝導機構","切れ・こすれ",{"$f":"INDEX(【元データ】評価シート!$B$63:$T$114,W199,X199)","v":1},{"$f":"INDEX(【元データ】評価シート!$B$5:$T$56,Y199,Z199)","v":1},null,{"$f":"MATCH(R199,【元データ】評価シート!$A$63:$A$114,0)","v":2},{"$f":"MATCH(S199,【元データ】評価シート!$B$62:$T$62,0)","v":8},{"$f":"MATCH(R199,【元データ】評価シート!$A$5:$A$56,0)","v":2},{"$f":"MATCH(S199,【元データ】評価シート!$B$4:$T$4,0)","v":8}]
[102010,198,1,null,1,null,null,null,null,1,null,null,null,null,1,null,"高速カッターで手を切る","動力伝導機構","切れ・こすれ",{"$f":"INDEX(【元データ】評価シート!$B$63:$T$114,W200,X200)","v":1},{"$f":"INDEX(【元データ】評価シート!$B$5:$T$56,Y200,Z200)","v":1},null,{"$f":"MATCH(R200,【元データ】評価シート!$A$63:$A$114,0)","v":2},{"$f":"MATCH(S200,【元データ】評価シート!$B$62:$T$62,0)","v":8},{"$f":"MATCH(R200,【元データ】評価シート!$A$5:$A$56,0)","v":2},{"$f":"MATCH(S200,【元データ】評価シート!$B$4:$T$4,0)","v":8}]
[105020,199,null,null,null,null,1,null,null,null,null,null,null,null,null,null,"スクレイパー刃の取替時に手を切る","動力伝導機構","切れ・こすれ",{"$f":"INDEX(【元データ】評価シート!$B$63:$T$114,W201,X201)","v":1},{"$f":"INDEX(【元データ】評価シート!$B$5:$T$56,Y201,Z201)","v":1},null,{"$f":"MATCH(R201,【元データ】評価シート!$A$63:$A$114,0)","v":2},{"$f":"MATCH(S201,【元データ】評価シート!$B$62:$T$62,0)","v":8},{"$f":"MATCH(R201,【元データ】評価シート!$A$5:$A$56,0)","v":2},{"$f":"MATCH(S201,【元データ】評価シート!$B$4:$T$4,0)","v":8}]
[205010,200,null,null,null,null,null,null,null,null,null,null,null,null,1,null,"プラント機械に手を巻き込まれる","動力伝導機構","切れ・こすれ",{"$f":"INDEX(【元データ】評価シート!$B$63:$T$114,W202,X202)","v":1},{"$f":"INDEX(【元データ】評価シート!$B$5:$T$56,Y202,Z202)","v":1},null,{"$f":"MATCH(R202,【元データ】評価シート!$A$63:$A$114,0)","v":2},{"$f":"MATCH(S202,【元データ】評価シート!$B$62:$T$62,0)","v":8},{"$f":"MATCH(R202,【元データ】評価シート!$A$5:$A$56,0)","v":2},{"$f":"MATCH(S202,【元データ】評価シート!$B$4:$T$4,0)","v":8}]
[404080,201,1,null,1,null,null,null,null,1,null,null,null,null,1,null,"高速ｶｯﾀｰの歯が、抜けてしまい損傷する","動力伝導機構","はさまれ・巻き込まれ",{"$f":"INDEX(【元データ】評価シート!$B$63:$T$114,W203,X203)","v":3},{"$f":"INDEX(【元データ】評価シート!$B$5:$T$56,Y203,Z203)","v":3},null,{"$f":"MATCH(R203,【元データ】評価シート!$A$63:$A$114,0)","v":2},{"$f":"MATCH(S203,【元データ】評価シート!$B$62:$T$62,0)","v":7},{"$f":"MATCH(R203,【元データ】評価シート!$A$5:$A$56,0)","v":2},{"$f":"MATCH(S203,【元データ】評価シート!$B$4:$T$4,0)","v":7}]
[105020,202,null,null,null,null,null,null,null,null,null,null,null,null,null,1,"工事車輛の搬出入時、第三者と接触する","動力伝導機構","破裂",{"$f":"INDEX(【元データ】評価シート!$B$63:$T$114,W204,X204)","v":1},{"$f":"INDEX(【元データ】評価シート!$B$5:$T$56,Y204,Z204)","v":1},null,{"$f":"MATCH(R204,【元データ】評価シート!$A$63:$A$114,0)","v":2},{"$f":"MATCH(S204,【元データ】評価シート!$B$62:$T$62,0)","v":15},{"$f":"MATCH(R204,【元データ】評価シート!$A$5:$A$56,0)","v":2},{"$f":"MATCH(S204,【元データ】評価シート!$B$4:$T$4,0)","v":15}]
[103010,203,null,null,null,null,null,null,null,null,null,null,null,null,null,1,"搬出入車輛が作業員と接触する","トラック","交通事故（道路）",{"$f":"INDEX(【元データ】評価シート!$B$63:$T$114,W205,X205)","v":5},{"$f":"INDEX(【元データ】評価シート!$B$5:$T$56,Y205,Z205)","v":5},null,{"$f":"MATCH(R205,【元データ】評価シート!$A$63:$A$114,0)","v":18},{"$f":"MATCH(S205,【元データ】評価シート!$B$62:$T$62,0)","v":17},{"$f":"MATCH(R205,【元データ】評価シート!$A$5:$A$56,0)","v":18},{"$f":"MATCH(S205,【元データ】評価シート!$B$4:$T$4,0)","v":17}]
[103010,204,null,null,null,null,null,null,null,null,null,null,null,null,null,1,"生コン車と接触する","トラック","交通事故（道路）",{"$f":"INDEX(【元データ】評価シート!$B$63:$T$114,W206,X206)","v":5},{"$f":"INDEX(【元データ】評価シート!$B$5:$T$56,Y206,Z206)","v":5},null,{"$f":"MATCH(R206,【元データ】評価シート!$A$63:$A$114,0)","v":18},{"$f":"MATCH(S206,【元データ】評価シート!$B$62:$T$62,0)","v":17},{"$f":"MATCH(R206,【元データ】評価シート!$A$5:$A$56,0)","v":18},{"$f":"MATCH(S206,【元データ】評価シート!$B$4:$T$4,0)","v":17}]
[109010,205,1,1,1,1,null,null,null,1,1,null,1,1,1,null,"積込み運搬中の資材の荷崩れで負傷する","トラック","交通事故（その他）",{"$f":"INDEX(【元データ】評価シート!$B$63:$T$114,W207,X207)","v":3},{"$f":"INDEX(【元データ】評価シート!$B$5:$T$56,Y207,Z207)","v":1},null,{"$f":"MATCH(R207,【元データ】評価シート!$A$63:$A$114,0)","v":18},{"$f":"MATCH(S207,【元データ】評価シート!$B$62:$T$62,0)","v":18},{"$f":"MATCH(R207,【元データ】評価シート!$A$5:$A$56,0)","v":18},{"$f":"MATCH(S207,【元データ】評価シート!$B$4:$T$4,0)","v":18}]
[110010,206,1,1,1,1,null,null,null,1,1,null,1,1,1,null,"荷卸し時、トレーラー上から転落する","トラック","激突され",{"$f":"INDEX(【元データ】評価シート!$B$63:$T$114,W208,X208)","v":4},{"$f":"INDEX(【元データ】評価シート!$B$5:$T$56,Y208,Z208)","v":3},null,{"$f":"MATCH(R208,【元データ】評価シート!$A$63:$A$114,0)","v":18},{"$f":"MATCH(S208,【元データ】評価シート!$B$62:$T$62,0)","v":6},{"$f":"MATCH(R208,【元データ】評価シート!$A$5:$A$56,0)","v":18},{"$f":"MATCH(S208,【元データ】評価シート!$B$4:$T$4,0)","v":6}]
[108010,207,null,1,null,null,1,null,null,null,null,null,null,1,null,null,"ピット内清掃時、ピット内で酸欠になる","トラック","墜落・転落",{"$f":"INDEX(【元データ】評価シート!$B$63:$T$114,W209,X209)","v":5},{"$f":"INDEX(【元データ】評価シート!$B$5:$T$56,Y209,Z209)","v":5},null,{"$f":"MATCH(R209,【元データ】評価シート!$A$63:$A$114,0)","v":18},{"$f":"MATCH(S209,【元データ】評価シート!$B$62:$T$62,0)","v":1},{"$f":"MATCH(R209,【元データ】評価シート!$A$5:$A$56,0)","v":18},{"$f":"MATCH(S209,【元データ】評価シート!$B$4:$T$4,0)","v":1}]
[205010,208,null,null,null,null,1,1,null,null,null,null,null,1,null,null,"有機溶剤で気分が悪くなる","有害物","有害物等との接触",{"$f":"INDEX(【元データ】評価シート!$B$63:$T$114,W210,X210)","v":4},{"$f":"INDEX(【元データ】評価シート!$B$5:$T$56,Y210,Z210)","v":2},null,{"$f":"MATCH(R210,【元データ】評価シート!$A$63:$A$114,0)","v":44},{"$f":"MATCH(S210,【元データ】評価シート!$B$62:$T$62,0)","v":12},{"$f":"MATCH(R210,【元データ】評価シート!$A$5:$A$56,0)","v":44},{"$f":"MATCH(S210,【元データ】評価シート!$B$4:$T$4,0)","v":12}]
[502020,209,1,1,1,1,1,1,1,1,1,null,1,1,1,null,"安全ブロックを使用せず梯子やタラップから転落する","はしご等","墜落・転落",{"$f":"INDEX(【元データ】評価シート!$B$63:$T$114,W211,X211)","v":5},{"$f":"INDEX(【元データ】評価シート!$B$5:$T$56,Y211,Z211)","v":5},null,{"$f":"MATCH(R211,【元データ】評価シート!$A$63:$A$114,0)","v":32},{"$f":"MATCH(S211,【元データ】評価シート!$B$62:$T$62,0)","v":1},{"$f":"MATCH(R211,【元データ】評価シート!$A$5:$A$56,0)","v":32},{"$f":"MATCH(S211,【元データ】評価シート!$B$4:$T$4,0)","v":1}]
[101010,210,null,1,null,null,1,null,null,null,null,null,null,1,null,null,"ピット内昇降時、足を滑らせ墜落する","はしご等","墜落・転落",{"$f":"INDEX(【元データ】評価シート!$B$63:$T$114,W212,X212)","v":5},{"$f":"INDEX(【元データ】評価シート!$B$5:$T$56,Y212,Z212)","v":5},null,{"$f":"MATCH(R212,【元データ】評価シート!$A$63:$A$114,0)","v":32},{"$f":"MATCH(S212,【元データ】評価シート!$B$62:$T$62,0)","v":1},{"$f":"MATCH(R212,【元データ】評価シート!$A$5:$A$56,0)","v":32},{"$f":"MATCH(S212,【元データ】評価シート!$B$4:$T$4,0)","v":1}]
[205010,211,1,null,null,null,1,null,1,null,null,null,null,1,null,null,"フォークリフト移動時、作業員と接触する","フォークリフト","激突",{"$f":"INDEX(【元データ】評価シート!$B$63:$T$114,W213,X213)","v":2},{"$f":"INDEX(【元データ】評価シート!$B$5:$T$56,Y213,Z213)","v":2},null,{"$f":"MATCH(R213,【元データ】評価シート!$A$63:$A$114,0)","v":19},{"$f":"MATCH(S213,【元データ】評価シート!$B$62:$T$62,0)","v":3},{"$f":"MATCH(R213,【元データ】評価シート!$A$5:$A$56,0)","v":19},{"$f":"MATCH(S213,【元データ】評価シート!$B$4:$T$4,0)","v":3}]
[110010,212,null,1,null,null,null,null,null,null,null,null,null,null,null,null,"サンダーや丸のこ等使用時、手がぶれたり、刃がはねて負傷する","丸のこ盤","切れ・こすれ",{"$f":"INDEX(【元データ】評価シート!$B$63:$T$114,W214,X214)","v":3},{"$f":"INDEX(【元データ】評価シート!$B$5:$T$56,Y214,Z214)","v":2},null,{"$f":"MATCH(R214,【元データ】評価シート!$A$63:$A$114,0)","v":3},{"$f":"MATCH(S214,【元データ】評価シート!$B$62:$T$62,0)","v":8},{"$f":"MATCH(R214,【元データ】評価シート!$A$5:$A$56,0)","v":3},{"$f":"MATCH(S214,【元データ】評価シート!$B$4:$T$4,0)","v":8}]
[101010,213,null,1,null,null,null,null,null,null,null,null,null,null,null,null,"不安定な状態で丸のこで指を切る","丸のこ盤","切れ・こすれ",{"$f":"INDEX(【元データ】評価シート!$B$63:$T$114,W215,X215)","v":3},{"$f":"INDEX(【元データ】評価シート!$B$5:$T$56,Y215,Z215)","v":2},null,{"$f":"MATCH(R215,【元データ】評価シート!$A$63:$A$114,0)","v":3},{"$f":"MATCH(S215,【元データ】評価シート!$B$62:$T$62,0)","v":8},{"$f":"MATCH(R215,【元データ】評価シート!$A$5:$A$56,0)","v":3},{"$f":"MATCH(S215,【元データ】評価シート!$B$4:$T$4,0)","v":8}]
[402010,214,null,1,null,null,null,null,null,null,null,null,null,null,null,null,"充電式丸のこ使用時（やむなく使用時）刃がはねて負傷する","丸のこ盤","切れ・こすれ",{"$f":"INDEX(【元データ】評価シート!$B$63:$T$114,W216,X216)","v":3},{"$f":"INDEX(【元データ】評価シート!$B$5:$T$56,Y216,Z216)","v":2},null,{"$f":"MATCH(R216,【元データ】評価シート!$A$63:$A$114,0)","v":3},{"$f":"MATCH(S216,【元データ】評価シート!$B$62:$T$62,0)","v":8},{"$f":"MATCH(R216,【元データ】評価シート!$A$5:$A$56,0)","v":3},{"$f":"MATCH(S216,【元データ】評価シート!$B$4:$T$4,0)","v":8}]
[402020,215,null,1,null,null,null,null,null,null,null,null,null,null,null,null,"丸のこ使用時わき見をして負傷する","丸のこ盤","はさまれ・巻き込まれ",{"$f":"INDEX(【元データ】評価シート!$B$63:$T$114,W217,X217)","v":3},{"$f":"INDEX(【元データ】評価シート!$B$5:$T$56,Y217,Z217)","v":2},null,{"$f":"MATCH(R217,【元データ】評価シート!$A$63:$A$114,0)","v":3},{"$f":"MATCH(S217,【元データ】評価シート!$B$62:$T$62,0)","v":7},{"$f":"MATCH(R217,【元データ】評価シート!$A$5:$A$56,0)","v":3},{"$f":"MATCH(S217,【元データ】評価シート!$B$4:$T$4,0)","v":7}]
[402020,216,null,1,null,null,null,null,null,null,null,null,null,null,null,null,"チップソー使用時、目に鉄粉が入る","木材、竹材","有害物等との接触",{"$f":"INDEX(【元データ】評価シート!$B$63:$T$114,W218,X218)","v":1},{"$f":"INDEX(【元データ】評価シート!$B$5:$T$56,Y218,Z218)","v":1},null,{"$f":"MATCH(R218,【元データ】評価シート!$A$63:$A$114,0)","v":46},{"$f":"MATCH(S218,【元データ】評価シート!$B$62:$T$62,0)","v":12},{"$f":"MATCH(R218,【元データ】評価シート!$A$5:$A$56,0)","v":46},{"$f":"MATCH(S218,【元データ】評価シート!$B$4:$T$4,0)","v":12}]
[403050,217,null,null,null,null,null,1,null,null,null,null,null,null,null,null,"屋根組立時、墜落する","屋根","墜落・転落",{"$f":"INDEX(【元データ】評価シート!$B$63:$T$114,W219,X219)","v":5},{"$f":"INDEX(【元データ】評価シート!$B$5:$T$56,Y219,Z219)","v":5},null,{"$f":"MATCH(R219,【元データ】評価シート!$A$63:$A$114,0)","v":38},{"$f":"MATCH(S219,【元データ】評価シート!$B$62:$T$62,0)","v":1},{"$f":"MATCH(R219,【元データ】評価シート!$A$5:$A$56,0)","v":38},{"$f":"MATCH(S219,【元データ】評価シート!$B$4:$T$4,0)","v":1}]
[102010,218,null,null,null,null,null,null,null,null,null,null,null,null,1,null,"汚水配管撤去時に汚物が目や口に入る","有害物","有害物等との接触",{"$f":"INDEX(【元データ】評価シート!$B$63:$T$114,W220,X220)","v":4},{"$f":"INDEX(【元データ】評価シート!$B$5:$T$56,Y220,Z220)","v":2},null,{"$f":"MATCH(R220,【元データ】評価シート!$A$63:$A$114,0)","v":44},{"$f":"MATCH(S220,【元データ】評価シート!$B$62:$T$62,0)","v":12},{"$f":"MATCH(R220,【元データ】評価シート!$A$5:$A$56,0)","v":44},{"$f":"MATCH(S220,【元データ】評価シート!$B$4:$T$4,0)","v":12}]
[null,220,null,null,null,null,null,null,null,null,null,1,null,null,null,null,"チェーンソーで伐木時、伐木した木が倒れかかり、挟まれる","チェーンソー","はさまれ・巻き込まれ",{"$f":"INDEX(【元データ】評価シート!$B$63:$T$114,W221,X221)","v":1},{"$f":"INDEX(【元データ】評価シート!$B$5:$T$56,Y221,Z221)","v":2},null,{"$f":"MATCH(R221,【元データ】評価シート!$A$63:$A$114,0)","v":4},{"$f":"MATCH(S221,【元データ】評価シート!$B$62:$T$62,0)","v":7},{"$f":"MATCH(R221,【元データ】評価シート!$A$5:$A$56,0)","v":4},{"$f":"MATCH(S221,【元データ】評価シート!$B$4:$T$4,0)","v":7}]
[null,221,null,null,null,null,null,null,null,null,null,1,null,null,null,null,"チェーンソー使用時、切断した粉が目に入る","チェーンソー","有害物等との接触",{"$f":"INDEX(【元データ】評価シート!$B$63:$T$114,W222,X222)","v":1},{"$f":"INDEX(【元データ】評価シート!$B$5:$T$56,Y222,Z222)","v":1},null,{"$f":"MATCH(R222,【元データ】評価シート!$A$63:$A$114,0)","v":4},{"$f":"MATCH(S222,【元データ】評価シート!$B$62:$T$62,0)","v":12},{"$f":"MATCH(R222,【元データ】評価シート!$A$5:$A$56,0)","v":4},{"$f":"MATCH(S222,【元データ】評価シート!$B$4:$T$4,0)","v":12}]
[null,222,null,null,null,null,null,null,null,null,null,1,null,null,null,null,"チェーンソーで二分割時、切断した木がはねて身体に当たる","チェーンソー","動作の反動・無理な動作",{"$f":"INDEX(【元データ】評価シート!$B$63:$T$114,W223,X223)","v":1},{"$f":"INDEX(【元データ】評価シート!$B$5:$T$56,Y223,Z223)","v":1},null,{"$f":"MATCH(R223,【元データ】評価シート!$A$63:$A$114,0)","v":4},{"$f":"MATCH(S223,【元データ】評価シート!$B$62:$T$62,0)","v":19},{"$f":"MATCH(R223,【元データ】評価シート!$A$5:$A$56,0)","v":4},{"$f":"MATCH(S223,【元データ】評価シート!$B$4:$T$4,0)","v":19}]
[null,223,null,null,null,null,null,null,null,null,null,1,null,null,null,null,"チェーンソー使用時、刃が下肢に接触する","チェーンソー","動作の反動・無理な動作",{"$f":"INDEX(【元データ】評価シート!$B$63:$T$114,W224,X224)","v":1},{"$f":"INDEX(【元データ】評価シート!$B$5:$T$56,Y224,Z224)","v":1},null,{"$f":"MATCH(R224,【元データ】評価シート!$A$63:$A$114,0)","v":4},{"$f":"MATCH(S224,【元データ】評価シート!$B$62:$T$62,0)","v":19},{"$f":"MATCH(R224,【元データ】評価シート!$A$5:$A$56,0)","v":4},{"$f":"MATCH(S224,【元データ】評価シート!$B$4:$T$4,0)","v":19}]
[null,224,null,null,null,null,null,null,null,null,null,null,1,1,1,null,"ウインチ巻取り時、介錯していた手が巻き込まれる","原動機","はさまれ・巻き込まれ",{"$f":"INDEX(【元データ】評価シート!$B$63:$T$114,W225,X225)","v":2},{"$f":"INDEX(【元データ】評価シート!$B$5:$T$56,Y225,Z225)","v":2},null,{"$f":"MATCH(R225,【元データ】評価シート!$A$63:$A$114,0)","v":1},{"$f":"MATCH(S225,【元データ】評価シート!$B$62:$T$62,0)","v":7},{"$f":"MATCH(R225,【元データ】評価シート!$A$5:$A$56,0)","v":1},{"$f":"MATCH(S225,【元データ】評価シート!$B$4:$T$4,0)","v":7}]
[null,225,null,null,null,null,null,null,null,null,null,null,1,1,1,null,"ウインチでけん引時、けん引ワイヤーが切断し、重量物と接触する","原動機","はさまれ・巻き込まれ",{"$f":"INDEX(【元データ】評価シート!$B$63:$T$114,W226,X226)","v":2},{"$f":"INDEX(【元データ】評価シート!$B$5:$T$56,Y226,Z226)","v":2},null,{"$f":"MATCH(R226,【元データ】評価シート!$A$63:$A$114,0)","v":1},{"$f":"MATCH(S226,【元データ】評価シート!$B$62:$T$62,0)","v":7},{"$f":"MATCH(R226,【元データ】評価シート!$A$5:$A$56,0)","v":1},{"$f":"MATCH(S226,【元データ】評価シート!$B$4:$T$4,0)","v":7}]
[null,226,null,null,null,null,null,null,null,null,1,null,null,null,null,null,"コンクリート破砕機で解体時、ガラが飛散し下敷きになる","解体用機械","激突され",{"$f":"INDEX(【元データ】評価シート!$B$63:$T$114,W227,X227)","v":3},{"$f":"INDEX(【元データ】評価シート!$B$5:$T$56,Y227,Z227)","v":2},null,{"$f":"MATCH(R227,【元データ】評価シート!$A$63:$A$114,0)","v":9},{"$f":"MATCH(S227,【元データ】評価シート!$B$62:$T$62,0)","v":6},{"$f":"MATCH(R227,【元データ】評価シート!$A$5:$A$56,0)","v":9},{"$f":"MATCH(S227,【元データ】評価シート!$B$4:$T$4,0)","v":6}]
[null,227,null,null,null,null,null,null,null,null,1,null,null,null,null,null,"コンクリート破砕機が旋回し、後方にいた作業員が挟まれる","解体用機械","はさまれ・巻き込まれ",{"$f":"INDEX(【元データ】評価シート!$B$63:$T$114,W228,X228)","v":3},{"$f":"INDEX(【元データ】評価シート!$B$5:$T$56,Y228,Z228)","v":3},null,{"$f":"MATCH(R228,【元データ】評価シート!$A$63:$A$114,0)","v":9},{"$f":"MATCH(S228,【元データ】評価シート!$B$62:$T$62,0)","v":7},{"$f":"MATCH(R228,【元データ】評価シート!$A$5:$A$56,0)","v":9},{"$f":"MATCH(S228,【元データ】評価シート!$B$4:$T$4,0)","v":7}]
[null,228,null,null,null,null,null,null,null,null,1,null,null,null,null,null,"圧砕機で鉄筋切断し、切断片が飛散し、作業員に当たる","解体用機械","激突され",{"$f":"INDEX(【元データ】評価シート!$B$63:$T$114,W229,X229)","v":3},{"$f":"INDEX(【元データ】評価シート!$B$5:$T$56,Y229,Z229)","v":2},null,{"$f":"MATCH(R229,【元データ】評価シート!$A$63:$A$114,0)","v":9},{"$f":"MATCH(S229,【元データ】評価シート!$B$62:$T$62,0)","v":6},{"$f":"MATCH(R229,【元データ】評価シート!$A$5:$A$56,0)","v":9},{"$f":"MATCH(S229,【元データ】評価シート!$B$4:$T$4,0)","v":6}]
[null,229,null,null,null,null,null,null,null,null,1,null,null,null,null,null,"コンクリート破砕機から降りる際、足を踏み外す","解体用機械","踏み抜き",{"$f":"INDEX(【元データ】評価シート!$B$63:$T$114,W230,X230)","v":1},{"$f":"INDEX(【元データ】評価シート!$B$5:$T$56,Y230,Z230)","v":1},null,{"$f":"MATCH(R230,【元データ】評価シート!$A$63:$A$114,0)","v":9},{"$f":"MATCH(S230,【元データ】評価シート!$B$62:$T$62,0)","v":9},{"$f":"MATCH(R230,【元データ】評価シート!$A$5:$A$56,0)","v":9},{"$f":"MATCH(S230,【元データ】評価シート!$B$4:$T$4,0)","v":9}]
[null,230,null,null,null,null,null,null,null,null,null,1,null,null,null,null,"伐倒機旋回時、周囲にいた作業員を巻き込む","伐木等機械","はさまれ・巻き込まれ",{"$f":"INDEX(【元データ】評価シート!$B$63:$T$114,W231,X231)","v":3},{"$f":"INDEX(【元データ】評価シート!$B$5:$T$56,Y231,Z231)","v":2},null,{"$f":"MATCH(R231,【元データ】評価シート!$A$63:$A$114,0)","v":11},{"$f":"MATCH(S231,【元データ】評価シート!$B$62:$T$62,0)","v":7},{"$f":"MATCH(R231,【元データ】評価シート!$A$5:$A$56,0)","v":11},{"$f":"MATCH(S231,【元データ】評価シート!$B$4:$T$4,0)","v":7}]
[null,231,null,null,null,null,null,null,null,null,null,1,null,null,null,null,"伐倒機で伐倒時、倒れる方向にいた作業員に接触する","伐木等機械","はさまれ・巻き込まれ",{"$f":"INDEX(【元データ】評価シート!$B$63:$T$114,W232,X232)","v":3},{"$f":"INDEX(【元データ】評価シート!$B$5:$T$56,Y232,Z232)","v":2},null,{"$f":"MATCH(R232,【元データ】評価シート!$A$63:$A$114,0)","v":11},{"$f":"MATCH(S232,【元データ】評価シート!$B$62:$T$62,0)","v":7},{"$f":"MATCH(R232,【元データ】評価シート!$A$5:$A$56,0)","v":11},{"$f":"MATCH(S232,【元データ】評価シート!$B$4:$T$4,0)","v":7}]
[null,232,null,null,null,null,null,null,null,null,null,1,null,null,null,null,"伐倒機が斜面で作業時、安定を崩して倒壊する","伐木等機械","崩壊・倒壊",{"$f":"INDEX(【元データ】評価シート!$B$63:$T$114,W233,X233)","v":2},{"$f":"INDEX(【元データ】評価シート!$B$5:$T$56,Y233,Z233)","v":1},null,{"$f":"MATCH(R233,【元データ】評価シート!$A$63:$A$114,0)","v":11},{"$f":"MATCH(S233,【元データ】評価シート!$B$62:$T$62,0)","v":5},{"$f":"MATCH(R233,【元データ】評価シート!$A$5:$A$56,0)","v":11},{"$f":"MATCH(S233,【元データ】評価シート!$B$4:$T$4,0)","v":5}]
[null,233,1,null,null,1,1,null,null,null,null,null,null,null,null,null,"エレベーター開口部から墜落する","エレベータ、リフト","墜落・転落",{"$f":"INDEX(【元データ】評価シート!$B$63:$T$114,W234,X234)","v":3},{"$f":"INDEX(【元データ】評価シート!$B$5:$T$56,Y234,Z234)","v":3},null,{"$f":"MATCH(R234,【元データ】評価シート!$A$63:$A$114,0)","v":14},{"$f":"MATCH(S234,【元データ】評価シート!$B$62:$T$62,0)","v":1},{"$f":"MATCH(R234,【元データ】評価シート!$A$5:$A$56,0)","v":14},{"$f":"MATCH(S234,【元データ】評価シート!$B$4:$T$4,0)","v":1}]
[null,234,1,null,null,null,null,null,null,null,null,null,null,null,null,null,"エレベーターで長尺もの運搬時、はみ出した資材が外部足場と接触する","エレベータ、リフト","崩壊・倒壊",{"$f":"INDEX(【元データ】評価シート!$B$63:$T$114,W235,X235)","v":1},{"$f":"INDEX(【元データ】評価シート!$B$5:$T$56,Y235,Z235)","v":1},null,{"$f":"MATCH(R235,【元データ】評価シート!$A$63:$A$114,0)","v":14},{"$f":"MATCH(S235,【元データ】評価シート!$B$62:$T$62,0)","v":5},{"$f":"MATCH(R235,【元データ】評価シート!$A$5:$A$56,0)","v":14},{"$f":"MATCH(S235,【元データ】評価シート!$B$4:$T$4,0)","v":5}]
[null,235,null,null,null,1,1,1,null,null,null,null,null,null,null,null,"ベビーホイストで資材吊り上げ時、玉掛が外れて落下する","揚貨装置","飛来・落下",{"$f":"INDEX(【元データ】評価シート!$B$63:$T$114,W236,X236)","v":1},{"$f":"INDEX(【元データ】評価シート!$B$5:$T$56,Y236,Z236)","v":1},null,{"$f":"MATCH(R236,【元データ】評価シート!$A$63:$A$114,0)","v":15},{"$f":"MATCH(S236,【元データ】評価シート!$B$62:$T$62,0)","v":4},{"$f":"MATCH(R236,【元データ】評価シート!$A$5:$A$56,0)","v":15},{"$f":"MATCH(S236,【元データ】評価シート!$B$4:$T$4,0)","v":4}]
[null,236,null,null,null,null,null,null,null,null,null,1,null,null,null,null,"索道で資材輸送時、資材の結束が外れる","機械集材装置、運材索道","飛来・落下",{"$f":"INDEX(【元データ】評価シート!$B$63:$T$114,W237,X237)","v":1},{"$f":"INDEX(【元データ】評価シート!$B$5:$T$56,Y237,Z237)","v":1},null,{"$f":"MATCH(R237,【元データ】評価シート!$A$63:$A$114,0)","v":17},{"$f":"MATCH(S237,【元データ】評価シート!$B$62:$T$62,0)","v":4},{"$f":"MATCH(R237,【元データ】評価シート!$A$5:$A$56,0)","v":17},{"$f":"MATCH(S237,【元データ】評価シート!$B$4:$T$4,0)","v":4}]
[null,237,null,null,null,null,null,null,null,null,null,null,1,1,null,null,"バッテリーカーでズリトロけん引時、脱線する","軌道装置","崩壊・倒壊",{"$f":"INDEX(【元データ】評価シート!$B$63:$T$114,W238,X238)","v":1},{"$f":"INDEX(【元データ】評価シート!$B$5:$T$56,Y238,Z238)","v":1},null,{"$f":"MATCH(R238,【元データ】評価シート!$A$63:$A$114,0)","v":20},{"$f":"MATCH(S238,【元データ】評価シート!$B$62:$T$62,0)","v":5},{"$f":"MATCH(R238,【元データ】評価シート!$A$5:$A$56,0)","v":20},{"$f":"MATCH(S238,【元データ】評価シート!$B$4:$T$4,0)","v":5}]
[null,238,null,null,null,null,null,null,null,null,null,null,1,1,null,null,"軌道装置後退時、周囲にいた作業員と接触する","軌道装置","はさまれ・巻き込まれ",{"$f":"INDEX(【元データ】評価シート!$B$63:$T$114,W239,X239)","v":2},{"$f":"INDEX(【元データ】評価シート!$B$5:$T$56,Y239,Z239)","v":2},null,{"$f":"MATCH(R239,【元データ】評価シート!$A$63:$A$114,0)","v":20},{"$f":"MATCH(S239,【元データ】評価シート!$B$62:$T$62,0)","v":7},{"$f":"MATCH(R239,【元データ】評価シート!$A$5:$A$56,0)","v":20},{"$f":"MATCH(S239,【元データ】評価シート!$B$4:$T$4,0)","v":7}]
[null,239,null,null,null,null,null,null,null,null,null,null,1,1,null,null,"軌道装置が曲線走行時、レール押え金物が外れ、脱線する","軌道装置","崩壊・倒壊",{"$f":"INDEX(【元データ】評価シート!$B$63:$T$114,W240,X240)","v":1},{"$f":"INDEX(【元データ】評価シート!$B$5:$T$56,Y240,Z240)","v":1},null,{"$f":"MATCH(R240,【元データ】評価シート!$A$63:$A$114,0)","v":20},{"$f":"MATCH(S240,【元データ】評価シート!$B$62:$T$62,0)","v":5},{"$f":"MATCH(R240,【元データ】評価シート!$A$5:$A$56,0)","v":20},{"$f":"MATCH(S240,【元データ】評価シート!$B$4:$T$4,0)","v":5}]
[null,240,null,null,null,null,null,null,null,null,null,null,1,1,null,null,"ベルトコンベアーの回転部に手を置き、巻き込まれる","コンベア","はさまれ・巻き込まれ",{"$f":"INDEX(【元データ】評価シート!$B$63:$T$114,W241,X241)","v":5},{"$f":"INDEX(【元データ】評価シート!$B$5:$T$56,Y241,Z241)","v":4},null,{"$f":"MATCH(R241,【元データ】評価シート!$A$63:$A$114,0)","v":21},{"$f":"MATCH(S241,【元データ】評価シート!$B$62:$T$62,0)","v":7},{"$f":"MATCH(R241,【元データ】評価シート!$A$5:$A$56,0)","v":21},{"$f":"MATCH(S241,【元データ】評価シート!$B$4:$T$4,0)","v":7}]
[null,241,null,null,null,null,null,null,null,null,null,null,1,1,null,null,"ベルトコンベアー修理作業時、間違って操作ボタンを押し、巻き込まれる","コンベア","はさまれ・巻き込まれ",{"$f":"INDEX(【元データ】評価シート!$B$63:$T$114,W242,X242)","v":5},{"$f":"INDEX(【元データ】評価シート!$B$5:$T$56,Y242,Z242)","v":4},null,{"$f":"MATCH(R242,【元データ】評価シート!$A$63:$A$114,0)","v":21},{"$f":"MATCH(S242,【元データ】評価シート!$B$62:$T$62,0)","v":7},{"$f":"MATCH(R242,【元データ】評価シート!$A$5:$A$56,0)","v":21},{"$f":"MATCH(S242,【元データ】評価シート!$B$4:$T$4,0)","v":7}]
[null,242,null,null,null,null,null,null,null,1,null,null,null,null,null,null,"不整地運搬車で斜面走行時、バランスを崩して転倒する","不整地運搬車","崩壊・倒壊",{"$f":"INDEX(【元データ】評価シート!$B$63:$T$114,W243,X243)","v":1},{"$f":"INDEX(【元データ】評価シート!$B$5:$T$56,Y243,Z243)","v":1},null,{"$f":"MATCH(R243,【元データ】評価シート!$A$63:$A$114,0)","v":22},{"$f":"MATCH(S243,【元データ】評価シート!$B$62:$T$62,0)","v":5},{"$f":"MATCH(R243,【元データ】評価シート!$A$5:$A$56,0)","v":22},{"$f":"MATCH(S243,【元データ】評価シート!$B$4:$T$4,0)","v":5}]
[null,243,null,null,null,null,null,null,null,1,null,null,null,null,null,null,"不整地運搬車走行時、土砂が崩壊し転倒する","不整地運搬車","崩壊・倒壊",{"$f":"INDEX(【元データ】評価シート!$B$63:$T$114,W244,X244)","v":1},{"$f":"INDEX(【元データ】評価シート!$B$5:$T$56,Y244,Z244)","v":1},null,{"$f":"MATCH(R244,【元データ】評価シート!$A$63:$A$114,0)","v":22},{"$f":"MATCH(S244,【元データ】評価シート!$B$62:$T$62,0)","v":5},{"$f":"MATCH(R244,【元データ】評価シート!$A$5:$A$56,0)","v":22},{"$f":"MATCH(S244,【元データ】評価シート!$B$4:$T$4,0)","v":5}]
[null,244,1,null,null,null,null,null,null,null,null,null,null,1,1,null,"チェーンブロックで鋼材引き寄せ時、引く方向に手を置き、挟まれる","人力クレーン等","はさまれ・巻き込まれ",{"$f":"INDEX(【元データ】評価シート!$B$63:$T$114,W245,X245)","v":3},{"$f":"INDEX(【元データ】評価シート!$B$5:$T$56,Y245,Z245)","v":2},null,{"$f":"MATCH(R245,【元データ】評価シート!$A$63:$A$114,0)","v":28},{"$f":"MATCH(S245,【元データ】評価シート!$B$62:$T$62,0)","v":7},{"$f":"MATCH(R245,【元データ】評価シート!$A$5:$A$56,0)","v":28},{"$f":"MATCH(S245,【元データ】評価シート!$B$4:$T$4,0)","v":7}]
[null,245,1,null,null,null,null,null,null,null,null,null,null,1,1,null,"２台のチェーンブロックで鋼材吊り上げ時、左右のバランスが悪く、片側に吊荷が流れ挟まれる","人力クレーン等","はさまれ・巻き込まれ",{"$f":"INDEX(【元データ】評価シート!$B$63:$T$114,W246,X246)","v":3},{"$f":"INDEX(【元データ】評価シート!$B$5:$T$56,Y246,Z246)","v":2},null,{"$f":"MATCH(R246,【元データ】評価シート!$A$63:$A$114,0)","v":28},{"$f":"MATCH(S246,【元データ】評価シート!$B$62:$T$62,0)","v":7},{"$f":"MATCH(R246,【元データ】評価シート!$A$5:$A$56,0)","v":28},{"$f":"MATCH(S246,【元データ】評価シート!$B$4:$T$4,0)","v":7}]
[null,246,1,1,1,1,1,1,null,1,1,null,1,1,1,null,"ガソリン容器が破損し、引火する","引火性の物","火災",{"$f":"INDEX(【元データ】評価シート!$B$63:$T$114,W247,X247)","v":3},{"$f":"INDEX(【元データ】評価シート!$B$5:$T$56,Y247,Z247)","v":2},null,{"$f":"MATCH(R247,【元データ】評価シート!$A$63:$A$114,0)","v":42},{"$f":"MATCH(S247,【元データ】評価シート!$B$62:$T$62,0)","v":16},{"$f":"MATCH(R247,【元データ】評価シート!$A$5:$A$56,0)","v":42},{"$f":"MATCH(S247,【元データ】評価シート!$B$4:$T$4,0)","v":16}]
[null,247,1,1,1,1,1,1,null,1,1,null,1,1,1,null,"軽油が漏洩し、引火する","引火性の物","火災",{"$f":"INDEX(【元データ】評価シート!$B$63:$T$114,W248,X248)","v":3},{"$f":"INDEX(【元データ】評価シート!$B$5:$T$56,Y248,Z248)","v":2},null,{"$f":"MATCH(R248,【元データ】評価シート!$A$63:$A$114,0)","v":42},{"$f":"MATCH(S248,【元データ】評価シート!$B$62:$T$62,0)","v":16},{"$f":"MATCH(R248,【元データ】評価シート!$A$5:$A$56,0)","v":42},{"$f":"MATCH(S248,【元データ】評価シート!$B$4:$T$4,0)","v":16}]
[null,248,null,null,null,null,null,null,null,null,null,1,null,null,null,null,"伐木時、かかり木が作業員に接触する","立木等","動作の反動・無理な動作",{"$f":"INDEX(【元データ】評価シート!$B$63:$T$114,W249,X249)","v":1},{"$f":"INDEX(【元データ】評価シート!$B$5:$T$56,Y249,Z249)","v":2},null,{"$f":"MATCH(R249,【元データ】評価シート!$A$63:$A$114,0)","v":49},{"$f":"MATCH(S249,【元データ】評価シート!$B$62:$T$62,0)","v":19},{"$f":"MATCH(R249,【元データ】評価シート!$A$5:$A$56,0)","v":49},{"$f":"MATCH(S249,【元データ】評価シート!$B$4:$T$4,0)","v":19}]
[null,249,null,null,null,null,null,null,null,null,null,null,1,null,null,null,"切羽からの突発湧水によりおぼれる","水","おぼれ",{"$f":"INDEX(【元データ】評価シート!$B$63:$T$114,W250,X250)","v":5},{"$f":"INDEX(【元データ】評価シート!$B$5:$T$56,Y250,Z250)","v":3},null,{"$f":"MATCH(R250,【元データ】評価シート!$A$63:$A$114,0)","v":50},{"$f":"MATCH(S250,【元データ】評価シート!$B$62:$T$62,0)","v":10},{"$f":"MATCH(R250,【元データ】評価シート!$A$5:$A$56,0)","v":50},{"$f":"MATCH(S250,【元データ】評価シート!$B$4:$T$4,0)","v":10}]
[null,null,null,"　　　　　　　　　　　　　　　　　　　　　　　　　　　　　　　　　　　　　　　　　　　　　　　　　　　　　　　　　　　　　　　　　　　　　　　　　　　　　　　　　　　　　　　　　　　　　　　　　　　　　　　　　　　　　　　　　　　　　　　　　　　　　　　　　　　　　　　　　　　　　　　　　　　　　　　　　　　　　　　　　　　　　　　　　　　　　　　　　　　　　　　　　　　　　　　　　　　　　　　　　　　　　　　　　　　　　　　　　　　　　　　　　　　　　　　　　　　　　　　　　　　　　　　　　　　　　　　　　　　　　　　　　　　　　　　　　　　　　　　　　　　　　　　　　　　　　　　　　　　　　　　　　　　　　　　　　　　　　　　　　　　　　　　　　　　　　　　　　　　　　　　　　　　　　　　　　　　　　　　　　　　　　　　　　　　　　　　　　　　　　　　　　　　　　　　　　　　　　　　　　　　　　　　　　　　　　　　　　　　　　　　　　　　　　　　　　　　　　　　　　　　　　　　　　　　　　　　　　　　　　　　　　　　　　　　　　　　　　　　　　　　　　　　　　　　　　　　　　　　　　　　　　　　　　　　　　　　　　　　　　　　　　　　　　　　　　　　　　　　　　　　　　　　　　　　　　　　　　　　　　　　　　　　　　　　　　　　　　　　　　　　　　　　　　　　　　　　　　　　　　　　　　　　　　　　　　　　　　　　　　　　　　　　　　　　　　　　　　　　　　　　　　　　　　　　　　　　　　　　　　　　　　　　　　　　　　　　　　　　　　　　　　　　　　　　　　　　　　　　　　　　　　　　　　　　　　　　　　　　　　　　　　　　　　　　　　　　　　　　　　　　　　　　　　　　　　　　　　　　　　　　　　　　　　　　　　　　　　　　　　　　　　　　　　　　　　　　　　　　　　　　　　　　　　　　　　　　　　　　　　　　　　　　　　　　　　　　　　　　　　　　　　　　　　　　　　　　　　　　　　　　　　　　　　　　　　　　　　　　　　　　　　　　　　　　　　　　　　　　　　　　　　　　　　　　　　　　　　　　　　　　　　　　　　　　　　　　　　　　　　　　　　　　　　　　　　　　　　　　　　　　　　　　　　　　　　　　　　　　　　　　　　　　　　　　　　　　　　　　　　　　　　　　　　　　　　　　　　　　　　　　　　　　　　　　　　　　　　　　　　　　　　　　　　　　　　　　　　　　　　　　　　　　　　　　　　　　　　　　　　　　　　　　　　　　　　　　　　　　　　　　　　　　　　　　　　　　　　　　　　　　　　　　　　　　　　　　　　　　　　　　　　　　　　　　　　　　　　　　　　　　　　　　　　　　　　　　　　　　　　　　　　　　　　　　　　　　　　　　　　　　　　　　　　　　　　　　　　　　　　　　　　　　　　　　　　　　　　　　　　　　　　　　　　　　　　　　　　　　　　　　　　　　　　　　　　　　　　　　　　　　　　　　　　　　　　　　　　　　　　　　　　　　　　　　　　　　　　　　　　　　　　　　　　　　　　　　　　　　　　　　　　　　　　　　　　　　　　　　　　　　　　　　　　　　　　　　　　　　　　　　　　　　　　　　　　　　　　　　　　　　　　　　　　　　　　　　　　　　　　　　　　　　　　　　　　　　　　　　　　　　　　　　　　　　　　　　　　　　　　　　　　　　　　　　　　　　　　　　　　　　　　　　　　　　　　　　　　　　　　　　　　　　　　　　　　　　　　　　　　　　　　　　　　　　　　　　　　　　　　　　　　　　　　　　　　　　　　　　　　　　　　　　　　　　　　　　　　　　　　　　　　　　　　　　　　　　　　　　　　　　　　　　　　　　　　　　　　　　　　　　　　　　　　　　　　　　　　　　　　　　　　　　　　　　　　　　　　　　　　　　　　　　　　　　　　　　　　　　　　　　　　　　　　　　　　　　　　　　　　　　　　　　　　　　　　　　　　　　　　　　　　　　　　　　　　　　　　　　　　　　　　　　　　　　　　　　　　　　　　　　　　　　　　　　　　　　　　　　　　　　　　　　　　　　　　　　　　　　　　　　　　　　　　　　　　　　　　　　　　　　　　　　　　　　　　　　　　　　　　"]

{"sheet":"評価シート","index":1,"n_rows":82,"n_cols":77,"rows_kept":82,"cut":false,"hidden":false,"merged":[[3,3,3,6],[2,3,2,6]]}
[]
[]
[null,null,"工種","危険ポイント"]
[null,null,"鳶土工","ポンプ車のブームを合図なく動かしバランスを崩して転倒する"]
[]
[null,null,"可能性",null,"重大性",null,"評価"]
[null,null,{"$f":"VLOOKUP($D4,危険ポイント【削除禁止】!Q3:S250,2,FALSE)","v":3},"×",{"$f":"VLOOKUP($D4,危険ポイント【削除禁止】!Q3:S250,3,FALSE)","v":2},"＝",{"$f":"C7*E7","v":6}]
[]
[]
[]
[]
[]
[]
[]
[]
[]
[]
[]
[]
[]
[]
[]
[]
[]
[]
[]
[]
[]
[]
[]
[]
[]
[]
[]
[]
[]
[]
[]
[]
[]
[]
[]
[]
[]
[]
[]
[]
[]
[]
[]
[]
[]
[]
[]
[]
[]
[]
[]
[]
[]
[]
[]
[]
[]
[]
[]
[]
[]
[null,null,null,null,null,null,null,null,null,null,null,null,null,null,null,null,null,null,null,null,null,null,null,null,null,null,null,null,null,null,null,null,null,null,null,null,null,null,null,null,null,null,null,null,null,null,null,null,null,null,null,null,null,null,null,null,null,null,null,null,null,null,null,null,null,null,null,null,null,null,null,null,null,null,null,null,"鳶土工"]
[null,null,null,null,null,null,null,null,null,null,null,null,null,null,null,null,null,null,null,null,null,null,null,null,null,null,null,null,null,null,null,null,null,null,null,null,null,null,null,null,null,null,null,null,null,null,null,null,null,null,null,null,null,null,null,null,null,null,null,null,null,null,null,null,null,null,null,null,null,null,null,null,null,null,null,null,"型枠大工"]
[null,null,null,null,null,null,null,null,null,null,null,null,null,null,null,null,null,null,null,null,null,null,null,null,null,null,null,null,null,null,null,null,null,null,null,null,null,null,null,null,null,null,null,null,null,null,null,null,null,null,null,null,null,null,null,null,null,null,null,null,null,null,null,null,null,null,null,null,null,null,null,null,null,null,null,null,"鉄筋工"]
[null,null,null,null,null,null,null,null,null,null,null,null,null,null,null,null,null,null,null,null,null,null,null,null,null,null,null,null,null,null,null,null,null,null,null,null,null,null,null,null,null,null,null,null,null,null,null,null,null,null,null,null,null,null,null,null,null,null,null,null,null,null,null,null,null,null,null,null,null,null,null,null,null,null,null,null,"左官"]
[null,null,null,null,null,null,null,null,null,null,null,null,null,null,null,null,null,null,null,null,null,null,null,null,null,null,null,null,null,null,null,null,null,null,null,null,null,null,null,null,null,null,null,null,null,null,null,null,null,null,null,null,null,null,null,null,null,null,null,null,null,null,null,null,null,null,null,null,null,null,null,null,null,null,null,null,"内装仕上"]
[null,null,null,null,null,null,null,null,null,null,null,null,null,null,null,null,null,null,null,null,null,null,null,null,null,null,null,null,null,null,null,null,null,null,null,null,null,null,null,null,null,null,null,null,null,null,null,null,null,null,null,null,null,null,null,null,null,null,null,null,null,null,null,null,null,null,null,null,null,null,null,null,null,null,null,null,"屋根・\n防水工"]
[null,null,null,null,null,null,null,null,null,null,null,null,null,null,null,null,null,null,null,null,null,null,null,null,null,null,null,null,null,null,null,null,null,null,null,null,null,null,null,null,null,null,null,null,null,null,null,null,null,null,null,null,null,null,null,null,null,null,null,null,null,null,null,null,null,null,null,null,null,null,null,null,null,null,null,null,"電工"]
[null,null,null,null,null,null,null,null,null,null,null,null,null,null,null,null,null,null,null,null,null,null,null,null,null,null,null,null,null,null,null,null,null,null,null,null,null,null,null,null,null,null,null,null,null,null,null,null,null,null,null,null,null,null,null,null,null,null,null,null,null,null,null,null,null,null,null,null,null,null,null,null,null,null,null,null,"重機土工\n・舗装工"]
[null,null,null,null,null,null,null,null,null,null,null,null,null,null,null,null,null,null,null,null,null,null,null,null,null,null,null,null,null,null,null,null,null,null,null,null,null,null,null,null,null,null,null,null,null,null,null,null,null,null,null,null,null,null,null,null,null,null,null,null,null,null,null,null,null,null,null,null,null,null,null,null,null,null,null,null,"解体工"]
[null,null,null,null,null,null,null,null,null,null,null,null,null,null,null,null,null,null,null,null,null,null,null,null,null,null,null,null,null,null,null,null,null,null,null,null,null,null,null,null,null,null,null,null,null,null,null,null,null,null,null,null,null,null,null,null,null,null,null,null,null,null,null,null,null,null,null,null,null,null,null,null,null,null,null,null,"林・造園工"]
[null,null,null,null,null,null,null,null,null,null,null,null,null,null,null,null,null,null,null,null,null,null,null,null,null,null,null,null,null,null,null,null,null,null,null,null,null,null,null,null,null,null,null,null,null,null,null,null,null,null,null,null,null,null,null,null,null,null,null,null,null,null,null,null,null,null,null,null,null,null,null,null,null,null,null,null,"トンネル"]
[null,null,null,null,null,null,null,null,null,null,null,null,null,null,null,null,null,null,null,null,null,null,null,null,null,null,null,null,null,null,null,null,null,null,null,null,null,null,null,null,null,null,null,null,null,null,null,null,null,null,null,null,null,null,null,null,null,null,null,null,null,null,null,null,null,null,null,null,null,null,null,null,null,null,null,null,"シールド・推進工"]
[null,null,null,null,null,null,null,null,null,null,null,null,null,null,null,null,null,null,null,null,null,null,null,null,null,null,null,null,null,null,null,null,null,null,null,null,null,null,null,null,null,null,null,null,null,null,null,null,null,null,null,null,null,null,null,null,null,null,null,null,null,null,null,null,null,null,null,null,null,null,null,null,null,null,null,null,"杭・配管・\n機械工"]
[null,null,null,null,null,null,null,null,null,null,null,null,null,null,null,null,null,null,null,null,null,null,null,null,null,null,null,null,null,null,null,null,null,null,null,null,null,null,null,null,null,null,null,null,null,null,null,null,null,null,null,null,null,null,null,null,null,null,null,null,null,null,null,null,null,null,null,null,null,null,null,null,null,null,null,null,"その他（交通誘導員他）"]

{"sheet":"鳶土工","index":2,"n_rows":133,"n_cols":13,"rows_kept":133,"cut":false,"hidden":false,"merged":[[0,1,0,2]]}
[null,"工種区分"]
["工種コード",null,"鳶土工","危険ポイント","起因物","事故型","可能性","重大性"]
[302010,1,1,"スタッド溶接時、火花が飛散する","アーク溶接装置","火災",{"$f":"INDEX(【元データ】評価シート!$B$63:$T$114,J3,K3)","v":2},{"$f":"INDEX(【元データ】評価シート!$B$5:$T$56,L3,M3)","v":2},null,{"$f":"MATCH(E3,【元データ】評価シート!$A$63:$A$114,0)","v":25},{"$f":"MATCH(F3,【元データ】評価シート!$B$62:$T$62,0)","v":16},{"$f":"MATCH(E3,【元データ】評価シート!$A$5:$A$56,0)","v":25},{"$f":"MATCH(F3,【元データ】評価シート!$B$4:$T$4,0)","v":16}]
[206010,2,1,"溶接時、火花が飛散する","アーク溶接装置","火災",{"$f":"INDEX(【元データ】評価シート!$B$63:$T$114,J4,K4)","v":2},{"$f":"INDEX(【元データ】評価シート!$B$5:$T$56,L4,M4)","v":2},null,{"$f":"MATCH(E4,【元データ】評価シート!$A$63:$A$114,0)","v":25},{"$f":"MATCH(F4,【元データ】評価シート!$B$62:$T$62,0)","v":16},{"$f":"MATCH(E4,【元データ】評価シート!$A$5:$A$56,0)","v":25},{"$f":"MATCH(F4,【元データ】評価シート!$B$4:$T$4,0)","v":16}]
[302010,4,1,"スタッド溶接時、火傷する","アーク溶接装置","高温低温物との接触",{"$f":"INDEX(【元データ】評価シート!$B$63:$T$114,J5,K5)","v":3},{"$f":"INDEX(【元データ】評価シート!$B$5:$T$56,L5,M5)","v":2},null,{"$f":"MATCH(E5,【元データ】評価シート!$A$63:$A$114,0)","v":25},{"$f":"MATCH(F5,【元データ】評価シート!$B$62:$T$62,0)","v":11},{"$f":"MATCH(E5,【元データ】評価シート!$A$5:$A$56,0)","v":25},{"$f":"MATCH(F5,【元データ】評価シート!$B$4:$T$4,0)","v":11}]
[109010,5,1,"溶接部で火傷する","アーク溶接装置","高温低温物との接触",{"$f":"INDEX(【元データ】評価シート!$B$63:$T$114,J6,K6)","v":3},{"$f":"INDEX(【元データ】評価シート!$B$5:$T$56,L6,M6)","v":2},null,{"$f":"MATCH(E6,【元データ】評価シート!$A$63:$A$114,0)","v":25},{"$f":"MATCH(F6,【元データ】評価シート!$B$62:$T$62,0)","v":11},{"$f":"MATCH(E6,【元データ】評価シート!$A$5:$A$56,0)","v":25},{"$f":"MATCH(F6,【元データ】評価シート!$B$4:$T$4,0)","v":11}]
[202010,6,1,"足場解体時、既存物、隣接建物に接触する","足場","激突",{"$f":"INDEX(【元データ】評価シート!$B$63:$T$114,J7,K7)","v":1},{"$f":"INDEX(【元データ】評価シート!$B$5:$T$56,L7,M7)","v":2},null,{"$f":"MATCH(E7,【元データ】評価シート!$A$63:$A$114,0)","v":34},{"$f":"MATCH(F7,【元データ】評価シート!$B$62:$T$62,0)","v":3},{"$f":"MATCH(E7,【元データ】評価シート!$A$5:$A$56,0)","v":34},{"$f":"MATCH(F7,【元データ】評価シート!$B$4:$T$4,0)","v":3}]
[101010,7,1,"立馬で材料荷渡しや作業時に転落する","足場","墜落・転落",{"$f":"INDEX(【元データ】評価シート!$B$63:$T$114,J8,K8)","v":5},{"$f":"INDEX(【元データ】評価シート!$B$5:$T$56,L8,M8)","v":5},null,{"$f":"MATCH(E8,【元データ】評価シート!$A$63:$A$114,0)","v":34},{"$f":"MATCH(F8,【元データ】評価シート!$B$62:$T$62,0)","v":1},{"$f":"MATCH(E8,【元データ】評価シート!$A$5:$A$56,0)","v":34},{"$f":"MATCH(F8,【元データ】評価シート!$B$4:$T$4,0)","v":1}]
[101010,8,1,"立馬の脚が段差・床スリーブにはまり、または縮んで転落・転倒する","足場","墜落・転落",{"$f":"INDEX(【元データ】評価シート!$B$63:$T$114,J9,K9)","v":5},{"$f":"INDEX(【元データ】評価シート!$B$5:$T$56,L9,M9)","v":5},null,{"$f":"MATCH(E9,【元データ】評価シート!$A$63:$A$114,0)","v":34},{"$f":"MATCH(F9,【元データ】評価シート!$B$62:$T$62,0)","v":1},{"$f":"MATCH(E9,【元データ】評価シート!$A$5:$A$56,0)","v":34},{"$f":"MATCH(F9,【元データ】評価シート!$B$4:$T$4,0)","v":1}]
[101010,9,1,"立馬から降りる時に踏み外して転落する","足場","踏み抜き",{"$f":"INDEX(【元データ】評価シート!$B$63:$T$114,J10,K10)","v":1},{"$f":"INDEX(【元データ】評価シート!$B$5:$T$56,L10,M10)","v":1},null,{"$f":"MATCH(E10,【元データ】評価シート!$A$63:$A$114,0)","v":34},{"$f":"MATCH(F10,【元データ】評価シート!$B$62:$T$62,0)","v":9},{"$f":"MATCH(E10,【元データ】評価シート!$A$5:$A$56,0)","v":34},{"$f":"MATCH(F10,【元データ】評価シート!$B$4:$T$4,0)","v":9}]
[706010,10,1,"梯子作業中バランスを崩して転落する","はしご等","墜落・転落",{"$f":"INDEX(【元データ】評価シート!$B$63:$T$114,J11,K11)","v":5},{"$f":"INDEX(【元データ】評価シート!$B$5:$T$56,L11,M11)","v":5},null,{"$f":"MATCH(E11,【元データ】評価シート!$A$63:$A$114,0)","v":32},{"$f":"MATCH(F11,【元データ】評価シート!$B$62:$T$62,0)","v":1},{"$f":"MATCH(E11,【元データ】評価シート!$A$5:$A$56,0)","v":32},{"$f":"MATCH(F11,【元データ】評価シート!$B$4:$T$4,0)","v":1}]
[105010,11,1,"足場使用時、足場から墜落する","足場","墜落・転落",{"$f":"INDEX(【元データ】評価シート!$B$63:$T$114,J12,K12)","v":5},{"$f":"INDEX(【元データ】評価シート!$B$5:$T$56,L12,M12)","v":5},null,{"$f":"MATCH(E12,【元データ】評価シート!$A$63:$A$114,0)","v":34},{"$f":"MATCH(F12,【元データ】評価シート!$B$62:$T$62,0)","v":1},{"$f":"MATCH(E12,【元データ】評価シート!$A$5:$A$56,0)","v":34},{"$f":"MATCH(F12,【元データ】評価シート!$B$4:$T$4,0)","v":1}]
[105010,12,1,"足場の隙間から墜落する","足場","墜落・転落",{"$f":"INDEX(【元データ】評価シート!$B$63:$T$114,J13,K13)","v":5},{"$f":"INDEX(【元データ】評価シート!$B$5:$T$56,L13,M13)","v":5},null,{"$f":"MATCH(E13,【元データ】評価シート!$A$63:$A$114,0)","v":34},{"$f":"MATCH(F13,【元データ】評価シート!$B$62:$T$62,0)","v":1},{"$f":"MATCH(E13,【元データ】評価シート!$A$5:$A$56,0)","v":34},{"$f":"MATCH(F13,【元データ】評価シート!$B$4:$T$4,0)","v":1}]
[202010,13,1,"枠組足場解体荷下ろし中、妻手摺の隙間から墜落する","足場","墜落・転落",{"$f":"INDEX(【元データ】評価シート!$B$63:$T$114,J14,K14)","v":5},{"$f":"INDEX(【元データ】評価シート!$B$5:$T$56,L14,M14)","v":5},null,{"$f":"MATCH(E14,【元データ】評価シート!$A$63:$A$114,0)","v":34},{"$f":"MATCH(F14,【元データ】評価シート!$B$62:$T$62,0)","v":1},{"$f":"MATCH(E14,【元データ】評価シート!$A$5:$A$56,0)","v":34},{"$f":"MATCH(F14,【元データ】評価シート!$B$4:$T$4,0)","v":1}]
[203010,14,1,"足場板を固定する際、足場板の天ビンにより墜落する","足場","踏み抜き",{"$f":"INDEX(【元データ】評価シート!$B$63:$T$114,J15,K15)","v":1},{"$f":"INDEX(【元データ】評価シート!$B$5:$T$56,L15,M15)","v":1},null,{"$f":"MATCH(E15,【元データ】評価シート!$A$63:$A$114,0)","v":34},{"$f":"MATCH(F15,【元データ】評価シート!$B$62:$T$62,0)","v":9},{"$f":"MATCH(E15,【元データ】評価シート!$A$5:$A$56,0)","v":34},{"$f":"MATCH(F15,【元データ】評価シート!$B$4:$T$4,0)","v":9}]
[402020,15,1,"立馬上で作業中突風にあおられ材料と共に転落する","足場","墜落・転落",{"$f":"INDEX(【元データ】評価シート!$B$63:$T$114,J16,K16)","v":5},{"$f":"INDEX(【元データ】評価シート!$B$5:$T$56,L16,M16)","v":5},null,{"$f":"MATCH(E16,【元データ】評価シート!$A$63:$A$114,0)","v":34},{"$f":"MATCH(F16,【元データ】評価シート!$B$62:$T$62,0)","v":1},{"$f":"MATCH(E16,【元データ】評価シート!$A$5:$A$56,0)","v":34},{"$f":"MATCH(F16,【元データ】評価シート!$B$4:$T$4,0)","v":1}]
[402030,17,1,"足場の中桟に足を掛け作業中、中桟が外れて転落する","足場","墜落・転落",{"$f":"INDEX(【元データ】評価シート!$B$63:$T$114,J17,K17)","v":5},{"$f":"INDEX(【元データ】評価シート!$B$5:$T$56,L17,M17)","v":5},null,{"$f":"MATCH(E17,【元データ】評価シート!$A$63:$A$114,0)","v":34},{"$f":"MATCH(F17,【元データ】評価シート!$B$62:$T$62,0)","v":1},{"$f":"MATCH(E17,【元データ】評価シート!$A$5:$A$56,0)","v":34},{"$f":"MATCH(F17,【元データ】評価シート!$B$4:$T$4,0)","v":1}]
[105010,21,1,"足場上で躓いて転倒する","足場","転倒",{"$f":"INDEX(【元データ】評価シート!$B$63:$T$114,J18,K18)","v":1},{"$f":"INDEX(【元データ】評価シート!$B$5:$T$56,L18,M18)","v":2},null,{"$f":"MATCH(E18,【元データ】評価シート!$A$63:$A$114,0)","v":34},{"$f":"MATCH(F18,【元データ】評価シート!$B$62:$T$62,0)","v":2},{"$f":"MATCH(E18,【元データ】評価シート!$A$5:$A$56,0)","v":34},{"$f":"MATCH(F18,【元データ】評価シート!$B$4:$T$4,0)","v":2}]
[402020,23,1,"布板昇降ハッチの蓋が閉まり手を詰める","足場","はさまれ・巻き込まれ",{"$f":"INDEX(【元データ】評価シート!$B$63:$T$114,J19,K19)","v":2},{"$f":"INDEX(【元データ】評価シート!$B$5:$T$56,L19,M19)","v":2},null,{"$f":"MATCH(E19,【元データ】評価シート!$A$63:$A$114,0)","v":34},{"$f":"MATCH(F19,【元データ】評価シート!$B$62:$T$62,0)","v":7},{"$f":"MATCH(E19,【元データ】評価シート!$A$5:$A$56,0)","v":34},{"$f":"MATCH(F19,【元データ】評価シート!$B$4:$T$4,0)","v":7}]
[105010,24,1,"足場使用時、足場から材料等を落下させる","足場","飛来・落下",{"$f":"INDEX(【元データ】評価シート!$B$63:$T$114,J20,K20)","v":2},{"$f":"INDEX(【元データ】評価シート!$B$5:$T$56,L20,M20)","v":2},null,{"$f":"MATCH(E20,【元データ】評価シート!$A$63:$A$114,0)","v":34},{"$f":"MATCH(F20,【元データ】評価シート!$B$62:$T$62,0)","v":4},{"$f":"MATCH(E20,【元データ】評価シート!$A$5:$A$56,0)","v":34},{"$f":"MATCH(F20,【元データ】評価シート!$B$4:$T$4,0)","v":4}]
[202010,25,1,"足場の大バラシ時、玉掛けワイヤーに引掛かり足場が倒れる","足場","崩壊・倒壊",{"$f":"INDEX(【元データ】評価シート!$B$63:$T$114,J21,K21)","v":3},{"$f":"INDEX(【元データ】評価シート!$B$5:$T$56,L21,M21)","v":2},null,{"$f":"MATCH(E21,【元データ】評価シート!$A$63:$A$114,0)","v":34},{"$f":"MATCH(F21,【元データ】評価シート!$B$62:$T$62,0)","v":5},{"$f":"MATCH(E21,【元データ】評価シート!$A$5:$A$56,0)","v":34},{"$f":"MATCH(F21,【元データ】評価シート!$B$4:$T$4,0)","v":5}]
[205010,26,1,"重量物運搬時インターロッキングに躓いて足の上に落下する","石、砂、砂利","転倒",{"$f":"INDEX(【元データ】評価シート!$B$63:$T$114,J22,K22)","v":1},{"$f":"INDEX(【元データ】評価シート!$B$5:$T$56,L22,M22)","v":2},null,{"$f":"MATCH(E22,【元データ】評価シート!$A$63:$A$114,0)","v":47},{"$f":"MATCH(F22,【元データ】評価シート!$B$62:$T$62,0)","v":2},{"$f":"MATCH(E22,【元データ】評価シート!$A$5:$A$56,0)","v":47},{"$f":"MATCH(F22,【元データ】評価シート!$B$4:$T$4,0)","v":2}]
[509020,27,1,"取付作業中吊元の後打ちアンカーが抜け、吊り荷が落下して手にあたる","足場","飛来・落下",{"$f":"INDEX(【元データ】評価シート!$B$63:$T$114,J23,K23)","v":2},{"$f":"INDEX(【元データ】評価シート!$B$5:$T$56,L23,M23)","v":2},null,{"$f":"MATCH(E23,【元データ】評価シート!$A$63:$A$114,0)","v":34},{"$f":"MATCH(F23,【元データ】評価シート!$B$62:$T$62,0)","v":4},{"$f":"MATCH(E23,【元データ】評価シート!$A$5:$A$56,0)","v":34},{"$f":"MATCH(F23,【元データ】評価シート!$B$4:$T$4,0)","v":4}]
[405010,28,1,"ＰＣを仮置きする際、手を挟む","石、砂、砂利","はさまれ・巻き込まれ",{"$f":"INDEX(【元データ】評価シート!$B$63:$T$114,J24,K24)","v":2},{"$f":"INDEX(【元データ】評価シート!$B$5:$T$56,L24,M24)","v":2},null,{"$f":"MATCH(E24,【元データ】評価シート!$A$63:$A$114,0)","v":47},{"$f":"MATCH(F24,【元データ】評価シート!$B$62:$T$62,0)","v":7},{"$f":"MATCH(E24,【元データ】評価シート!$A$5:$A$56,0)","v":47},{"$f":"MATCH(F24,【元データ】評価シート!$B$4:$T$4,0)","v":7}]
[405010,29,1,"PC柱・壁が倒れて負傷する","石、砂、砂利","はさまれ・巻き込まれ",{"$f":"INDEX(【元データ】評価シート!$B$63:$T$114,J25,K25)","v":2},{"$f":"INDEX(【元データ】評価シート!$B$5:$T$56,L25,M25)","v":2},null,{"$f":"MATCH(E25,【元データ】評価シート!$A$63:$A$114,0)","v":47},{"$f":"MATCH(F25,【元データ】評価シート!$B$62:$T$62,0)","v":7},{"$f":"MATCH(E25,【元データ】評価シート!$A$5:$A$56,0)","v":47},{"$f":"MATCH(F25,【元データ】評価シート!$B$4:$T$4,0)","v":7}]
[205010,30,1,"足場清掃時、足場からガラ等を落下させる","石、砂、砂利","飛来・落下",{"$f":"INDEX(【元データ】評価シート!$B$63:$T$114,J26,K26)","v":3},{"$f":"INDEX(【元データ】評価シート!$B$5:$T$56,L26,M26)","v":2},null,{"$f":"MATCH(E26,【元データ】評価シート!$A$63:$A$114,0)","v":47},{"$f":"MATCH(F26,【元データ】評価シート!$B$62:$T$62,0)","v":4},{"$f":"MATCH(E26,【元データ】評価シート!$A$5:$A$56,0)","v":47},{"$f":"MATCH(F26,【元データ】評価シート!$B$4:$T$4,0)","v":4}]
[401010,31,1,"コンクリートを外部に飛散させる","石、砂、砂利","飛来・落下",{"$f":"INDEX(【元データ】評価シート!$B$63:$T$114,J27,K27)","v":3},{"$f":"INDEX(【元データ】評価シート!$B$5:$T$56,L27,M27)","v":2},null,{"$f":"MATCH(E27,【元データ】評価シート!$A$63:$A$114,0)","v":47},{"$f":"MATCH(F27,【元データ】評価シート!$B$62:$T$62,0)","v":4},{"$f":"MATCH(E27,【元データ】評価シート!$A$5:$A$56,0)","v":47},{"$f":"MATCH(F27,【元データ】評価シート!$B$4:$T$4,0)","v":4}]
[302010,32,1,"ホース先端よりセメントミルクが飛び出し顔にかかる","石、砂、砂利","有害物等との接触",{"$f":"INDEX(【元データ】評価シート!$B$63:$T$114,J28,K28)","v":1},{"$f":"INDEX(【元データ】評価シート!$B$5:$T$56,L28,M28)","v":1},null,{"$f":"MATCH(E28,【元データ】評価シート!$A$63:$A$114,0)","v":47},{"$f":"MATCH(F28,【元データ】評価シート!$B$62:$T$62,0)","v":12},{"$f":"MATCH(E28,【元データ】評価シート!$A$5:$A$56,0)","v":47},{"$f":"MATCH(F28,【元データ】評価シート!$B$4:$T$4,0)","v":12}]
[401020,33,1,"手足にコンクリートが触れてただれる","石、砂、砂利","有害物等との接触",{"$f":"INDEX(【元データ】評価シート!$B$63:$T$114,J29,K29)","v":1},{"$f":"INDEX(【元データ】評価シート!$B$5:$T$56,L29,M29)","v":1},null,{"$f":"MATCH(E29,【元データ】評価シート!$A$63:$A$114,0)","v":47},{"$f":"MATCH(F29,【元データ】評価シート!$B$62:$T$62,0)","v":12},{"$f":"MATCH(E29,【元データ】評価シート!$A$5:$A$56,0)","v":47},{"$f":"MATCH(F29,【元データ】評価シート!$B$4:$T$4,0)","v":12}]
[404020,35,1,"吊荷が強風であおられる","異常環境等","飛来・落下",{"$f":"INDEX(【元データ】評価シート!$B$63:$T$114,J30,K30)","v":1},{"$f":"INDEX(【元データ】評価シート!$B$5:$T$56,L30,M30)","v":1},null,{"$f":"MATCH(E30,【元データ】評価シート!$A$63:$A$114,0)","v":51},{"$f":"MATCH(F30,【元データ】評価シート!$B$62:$T$62,0)","v":4},{"$f":"MATCH(E30,【元データ】評価シート!$A$5:$A$56,0)","v":51},{"$f":"MATCH(F30,【元データ】評価シート!$B$4:$T$4,0)","v":4}]
[108010,36,1,"クレーン使用時、資材を既存物にぶつける","移動式クレーン","激突",{"$f":"INDEX(【元データ】評価シート!$B$63:$T$114,J31,K31)","v":1},{"$f":"INDEX(【元データ】評価シート!$B$5:$T$56,L31,M31)","v":2},null,{"$f":"MATCH(E31,【元データ】評価シート!$A$63:$A$114,0)","v":13},{"$f":"MATCH(F31,【元データ】評価シート!$B$62:$T$62,0)","v":3},{"$f":"MATCH(E31,【元データ】評価シート!$A$5:$A$56,0)","v":13},{"$f":"MATCH(F31,【元データ】評価シート!$B$4:$T$4,0)","v":3}]
[110010,37,1,"ユニック作業中誤作動にて吊荷が振れて負傷する","移動式クレーン","激突され",{"$f":"INDEX(【元データ】評価シート!$B$63:$T$114,J32,K32)","v":3},{"$f":"INDEX(【元データ】評価シート!$B$5:$T$56,L32,M32)","v":3},null,{"$f":"MATCH(E32,【元データ】評価シート!$A$63:$A$114,0)","v":13},{"$f":"MATCH(F32,【元データ】評価シート!$B$62:$T$62,0)","v":6},{"$f":"MATCH(E32,【元データ】評価シート!$A$5:$A$56,0)","v":13},{"$f":"MATCH(F32,【元データ】評価シート!$B$4:$T$4,0)","v":6}]
[108010,38,1,"ブーム組立時、高所から転落する","移動式クレーン","墜落・転落",{"$f":"INDEX(【元データ】評価シート!$B$63:$T$114,J33,K33)","v":4},{"$f":"INDEX(【元データ】評価シート!$B$5:$T$56,L33,M33)","v":4},null,{"$f":"MATCH(E33,【元データ】評価シート!$A$63:$A$114,0)","v":13},{"$f":"MATCH(F33,【元データ】評価シート!$B$62:$T$62,0)","v":1},{"$f":"MATCH(E33,【元データ】評価シート!$A$5:$A$56,0)","v":13},{"$f":"MATCH(F33,【元データ】評価シート!$B$4:$T$4,0)","v":1}]
[401020,39,1,"ブームをたたむ時、荷台から転落する","移動式クレーン","墜落・転落",{"$f":"INDEX(【元データ】評価シート!$B$63:$T$114,J34,K34)","v":4},{"$f":"INDEX(【元データ】評価シート!$B$5:$T$56,L34,M34)","v":4},null,{"$f":"MATCH(E34,【元データ】評価シート!$A$63:$A$114,0)","v":13},{"$f":"MATCH(F34,【元データ】評価シート!$B$62:$T$62,0)","v":1},{"$f":"MATCH(E34,【元データ】評価シート!$A$5:$A$56,0)","v":13},{"$f":"MATCH(F34,【元データ】評価シート!$B$4:$T$4,0)","v":1}]
[401020,40,1,"コンクリート打設中、ホースが暴れて接触し転倒する","移動式クレーン","転倒",{"$f":"INDEX(【元データ】評価シート!$B$63:$T$114,J35,K35)","v":2},{"$f":"INDEX(【元データ】評価シート!$B$5:$T$56,L35,M35)","v":2},null,{"$f":"MATCH(E35,【元データ】評価シート!$A$63:$A$114,0)","v":13},{"$f":"MATCH(F35,【元データ】評価シート!$B$62:$T$62,0)","v":2},{"$f":"MATCH(E35,【元データ】評価シート!$A$5:$A$56,0)","v":13},{"$f":"MATCH(F35,【元データ】評価シート!$B$4:$T$4,0)","v":2}]
[108010,41,1,"揚重機組立時、手･足を挟まれる","移動式クレーン","はさまれ・巻き込まれ",{"$f":"INDEX(【元データ】評価シート!$B$63:$T$114,J36,K36)","v":3},{"$f":"INDEX(【元データ】評価シート!$B$5:$T$56,L36,M36)","v":3},null,{"$f":"MATCH(E36,【元データ】評価シート!$A$63:$A$114,0)","v":13},{"$f":"MATCH(F36,【元データ】評価シート!$B$62:$T$62,0)","v":7},{"$f":"MATCH(E36,【元データ】評価シート!$A$5:$A$56,0)","v":13},{"$f":"MATCH(F36,【元データ】評価シート!$B$4:$T$4,0)","v":7}]
[401020,42,1,"ブームをたたむ時、手を挟む","移動式クレーン","はさまれ・巻き込まれ",{"$f":"INDEX(【元データ】評価シート!$B$63:$T$114,J37,K37)","v":3},{"$f":"INDEX(【元データ】評価シート!$B$5:$T$56,L37,M37)","v":3},null,{"$f":"MATCH(E37,【元データ】評価シート!$A$63:$A$114,0)","v":13},{"$f":"MATCH(F37,【元データ】評価シート!$B$62:$T$62,0)","v":7},{"$f":"MATCH(E37,【元データ】評価シート!$A$5:$A$56,0)","v":13},{"$f":"MATCH(F37,【元データ】評価シート!$B$4:$T$4,0)","v":7}]
[102010,43,1,"吊荷時、搬入車輛（ユニック車)が転倒する","移動式クレーン","崩壊・倒壊",{"$f":"INDEX(【元データ】評価シート!$B$63:$T$114,J38,K38)","v":3},{"$f":"INDEX(【元データ】評価シート!$B$5:$T$56,L38,M38)","v":2},null,{"$f":"MATCH(E38,【元データ】評価シート!$A$63:$A$114,0)","v":13},{"$f":"MATCH(F38,【元データ】評価シート!$B$62:$T$62,0)","v":5},{"$f":"MATCH(E38,【元データ】評価シート!$A$5:$A$56,0)","v":13},{"$f":"MATCH(F38,【元データ】評価シート!$B$4:$T$4,0)","v":5}]
[108010,44,1,"揚重機が転倒する","移動式クレーン","崩壊・倒壊",{"$f":"INDEX(【元データ】評価シート!$B$63:$T$114,J39,K39)","v":3},{"$f":"INDEX(【元データ】評価シート!$B$5:$T$56,L39,M39)","v":2},null,{"$f":"MATCH(E39,【元データ】評価シート!$A$63:$A$114,0)","v":13},{"$f":"MATCH(F39,【元データ】評価シート!$B$62:$T$62,0)","v":5},{"$f":"MATCH(E39,【元データ】評価シート!$A$5:$A$56,0)","v":13},{"$f":"MATCH(F39,【元データ】評価シート!$B$4:$T$4,0)","v":5}]
[110010,45,1,"資材荷吊り時アウトリガー下地盤が沈下しユニック車が転倒する","移動式クレーン","崩壊・倒壊",{"$f":"INDEX(【元データ】評価シート!$B$63:$T$114,J40,K40)","v":3},{"$f":"INDEX(【元データ】評価シート!$B$5:$T$56,L40,M40)","v":2},null,{"$f":"MATCH(E40,【元データ】評価シート!$A$63:$A$114,0)","v":13},{"$f":"MATCH(F40,【元データ】評価シート!$B$62:$T$62,0)","v":5},{"$f":"MATCH(E40,【元データ】評価シート!$A$5:$A$56,0)","v":13},{"$f":"MATCH(F40,【元データ】評価シート!$B$4:$T$4,0)","v":5}]
[110010,46,1,"資材荷吊り時過過重になりユニック車が転倒する","移動式クレーン","崩壊・倒壊",{"$f":"INDEX(【元データ】評価シート!$B$63:$T$114,J41,K41)","v":3},{"$f":"INDEX(【元データ】評価シート!$B$5:$T$56,L41,M41)","v":2},null,{"$f":"MATCH(E41,【元データ】評価シート!$A$63:$A$114,0)","v":13},{"$f":"MATCH(F41,【元データ】評価シート!$B$62:$T$62,0)","v":5},{"$f":"MATCH(E41,【元データ】評価シート!$A$5:$A$56,0)","v":13},{"$f":"MATCH(F41,【元データ】評価シート!$B$4:$T$4,0)","v":5}]
[401020,47,1,"ポンプ車のブームを合図なく動かしバランスを崩して転倒する","移動式クレーン","崩壊・倒壊",{"$f":"INDEX(【元データ】評価シート!$B$63:$T$114,J42,K42)","v":3},{"$f":"INDEX(【元データ】評価シート!$B$5:$T$56,L42,M42)","v":2},null,{"$f":"MATCH(E42,【元データ】評価シート!$A$63:$A$114,0)","v":13},{"$f":"MATCH(F42,【元データ】評価シート!$B$62:$T$62,0)","v":5},{"$f":"MATCH(E42,【元データ】評価シート!$A$5:$A$56,0)","v":13},{"$f":"MATCH(F42,【元データ】評価シート!$B$4:$T$4,0)","v":5}]
[401020,48,1,"圧送車が転倒する","移動式クレーン","崩壊・倒壊",{"$f":"INDEX(【元データ】評価シート!$B$63:$T$114,J43,K43)","v":3},{"$f":"INDEX(【元データ】評価シート!$B$5:$T$56,L43,M43)","v":2},null,{"$f":"MATCH(E43,【元データ】評価シート!$A$63:$A$114,0)","v":13},{"$f":"MATCH(F43,【元データ】評価シート!$B$62:$T$62,0)","v":5},{"$f":"MATCH(E43,【元データ】評価シート!$A$5:$A$56,0)","v":13},{"$f":"MATCH(F43,【元データ】評価シート!$B$4:$T$4,0)","v":5}]
[203030,49,1,"手摺取付け時、墜落する","開口部","墜落・転落",{"$f":"INDEX(【元データ】評価シート!$B$63:$T$114,J44,K44)","v":5},{"$f":"INDEX(【元データ】評価シート!$B$5:$T$56,L44,M44)","v":4},null,{"$f":"MATCH(E44,【元データ】評価シート!$A$63:$A$114,0)","v":37},{"$f":"MATCH(F44,【元データ】評価シート!$B$62:$T$62,0)","v":1},{"$f":"MATCH(E44,【元データ】評価シート!$A$5:$A$56,0)","v":37},{"$f":"MATCH(F44,【元データ】評価シート!$B$4:$T$4,0)","v":1}]
[206010,50,1,"構台架設時、梁から墜落する","開口部","墜落・転落",{"$f":"INDEX(【元データ】評価シート!$B$63:$T$114,J45,K45)","v":5},{"$f":"INDEX(【元データ】評価シート!$B$5:$T$56,L45,M45)","v":4},null,{"$f":"MATCH(E45,【元データ】評価シート!$A$63:$A$114,0)","v":37},{"$f":"MATCH(F45,【元データ】評価シート!$B$62:$T$62,0)","v":1},{"$f":"MATCH(E45,【元データ】評価シート!$A$5:$A$56,0)","v":37},{"$f":"MATCH(F45,【元データ】評価シート!$B$4:$T$4,0)","v":1}]
[301030,51,1,"切梁架設時、梁から墜落する","開口部","墜落・転落",{"$f":"INDEX(【元データ】評価シート!$B$63:$T$114,J46,K46)","v":5},{"$f":"INDEX(【元データ】評価シート!$B$5:$T$56,L46,M46)","v":4},null,{"$f":"MATCH(E46,【元データ】評価シート!$A$63:$A$114,0)","v":37},{"$f":"MATCH(F46,【元データ】評価シート!$B$62:$T$62,0)","v":1},{"$f":"MATCH(E46,【元データ】評価シート!$A$5:$A$56,0)","v":37},{"$f":"MATCH(F46,【元データ】評価シート!$B$4:$T$4,0)","v":1}]
[401010,52,1,"昇降設備を使用せずに墜落する","開口部","墜落・転落",{"$f":"INDEX(【元データ】評価シート!$B$63:$T$114,J47,K47)","v":5},{"$f":"INDEX(【元データ】評価シート!$B$5:$T$56,L47,M47)","v":4},null,{"$f":"MATCH(E47,【元データ】評価シート!$A$63:$A$114,0)","v":37},{"$f":"MATCH(F47,【元データ】評価シート!$B$62:$T$62,0)","v":1},{"$f":"MATCH(E47,【元データ】評価シート!$A$5:$A$56,0)","v":37},{"$f":"MATCH(F47,【元データ】評価シート!$B$4:$T$4,0)","v":1}]
[401010,53,1,"物を取ろうと足場に足を掛け滑って転落する","開口部","墜落・転落",{"$f":"INDEX(【元データ】評価シート!$B$63:$T$114,J48,K48)","v":5},{"$f":"INDEX(【元データ】評価シート!$B$5:$T$56,L48,M48)","v":4},null,{"$f":"MATCH(E48,【元データ】評価シート!$A$63:$A$114,0)","v":37},{"$f":"MATCH(F48,【元データ】評価シート!$B$62:$T$62,0)","v":1},{"$f":"MATCH(E48,【元データ】評価シート!$A$5:$A$56,0)","v":37},{"$f":"MATCH(F48,【元データ】評価シート!$B$4:$T$4,0)","v":1}]
[401010,54,1,"足場の隙間から墜落する","開口部","墜落・転落",{"$f":"INDEX(【元データ】評価シート!$B$63:$T$114,J49,K49)","v":5},{"$f":"INDEX(【元データ】評価シート!$B$5:$T$56,L49,M49)","v":4},null,{"$f":"MATCH(E49,【元データ】評価シート!$A$63:$A$114,0)","v":37},{"$f":"MATCH(F49,【元データ】評価シート!$B$62:$T$62,0)","v":1},{"$f":"MATCH(E49,【元データ】評価シート!$A$5:$A$56,0)","v":37},{"$f":"MATCH(F49,【元データ】評価シート!$B$4:$T$4,0)","v":1}]
[401010,55,1,"梁天端から転落する","開口部","墜落・転落",{"$f":"INDEX(【元データ】評価シート!$B$63:$T$114,J50,K50)","v":5},{"$f":"INDEX(【元データ】評価シート!$B$5:$T$56,L50,M50)","v":4},null,{"$f":"MATCH(E50,【元データ】評価シート!$A$63:$A$114,0)","v":37},{"$f":"MATCH(F50,【元データ】評価シート!$B$62:$T$62,0)","v":1},{"$f":"MATCH(E50,【元データ】評価シート!$A$5:$A$56,0)","v":37},{"$f":"MATCH(F50,【元データ】評価シート!$B$4:$T$4,0)","v":1}]
[402010,56,1,"地山・開口部から転落する","開口部","墜落・転落",{"$f":"INDEX(【元データ】評価シート!$B$63:$T$114,J51,K51)","v":5},{"$f":"INDEX(【元データ】評価シート!$B$5:$T$56,L51,M51)","v":4},null,{"$f":"MATCH(E51,【元データ】評価シート!$A$63:$A$114,0)","v":37},{"$f":"MATCH(F51,【元データ】評価シート!$B$62:$T$62,0)","v":1},{"$f":"MATCH(E51,【元データ】評価シート!$A$5:$A$56,0)","v":37},{"$f":"MATCH(F51,【元データ】評価シート!$B$4:$T$4,0)","v":1}]
[402020,57,1,"荷上げで開口部から墜落する","開口部","墜落・転落",{"$f":"INDEX(【元データ】評価シート!$B$63:$T$114,J52,K52)","v":5},{"$f":"INDEX(【元データ】評価シート!$B$5:$T$56,L52,M52)","v":4},null,{"$f":"MATCH(E52,【元データ】評価シート!$A$63:$A$114,0)","v":37},{"$f":"MATCH(F52,【元データ】評価シート!$B$62:$T$62,0)","v":1},{"$f":"MATCH(E52,【元データ】評価シート!$A$5:$A$56,0)","v":37},{"$f":"MATCH(F52,【元データ】評価シート!$B$4:$T$4,0)","v":1}]
[404010,58,1,"鉄骨地組中（スタンション親綱設置）梁上から踏み外して転落する","開口部","墜落・転落",{"$f":"INDEX(【元データ】評価シート!$B$63:$T$114,J53,K53)","v":5},{"$f":"INDEX(【元データ】評価シート!$B$5:$T$56,L53,M53)","v":4},null,{"$f":"MATCH(E53,【元データ】評価シート!$A$63:$A$114,0)","v":37},{"$f":"MATCH(F53,【元データ】評価シート!$B$62:$T$62,0)","v":1},{"$f":"MATCH(E53,【元データ】評価シート!$A$5:$A$56,0)","v":37},{"$f":"MATCH(F53,【元データ】評価シート!$B$4:$T$4,0)","v":1}]
[404030,59,1,"ﾎﾞﾙﾄ締め時、梁から墜落する","開口部","墜落・転落",{"$f":"INDEX(【元データ】評価シート!$B$63:$T$114,J54,K54)","v":5},{"$f":"INDEX(【元データ】評価シート!$B$5:$T$56,L54,M54)","v":4},null,{"$f":"MATCH(E54,【元データ】評価シート!$A$63:$A$114,0)","v":37},{"$f":"MATCH(F54,【元データ】評価シート!$B$62:$T$62,0)","v":1},{"$f":"MATCH(E54,【元データ】評価シート!$A$5:$A$56,0)","v":37},{"$f":"MATCH(F54,【元データ】評価シート!$B$4:$T$4,0)","v":1}]
[404050,60,1,"ﾃﾞｯｷ敷込み時、バランスを崩して墜落する","開口部","墜落・転落",{"$f":"INDEX(【元データ】評価シート!$B$63:$T$114,J55,K55)","v":5},{"$f":"INDEX(【元データ】評価シート!$B$5:$T$56,L55,M55)","v":4},null,{"$f":"MATCH(E55,【元データ】評価シート!$A$63:$A$114,0)","v":37},{"$f":"MATCH(F55,【元データ】評価シート!$B$62:$T$62,0)","v":1},{"$f":"MATCH(E55,【元データ】評価シート!$A$5:$A$56,0)","v":37},{"$f":"MATCH(F55,【元データ】評価シート!$B$4:$T$4,0)","v":1}]
[405010,61,1,"ＰＣ組立時、スラブ端部から墜落する","開口部","墜落・転落",{"$f":"INDEX(【元データ】評価シート!$B$63:$T$114,J56,K56)","v":5},{"$f":"INDEX(【元データ】評価シート!$B$5:$T$56,L56,M56)","v":4},null,{"$f":"MATCH(E56,【元データ】評価シート!$A$63:$A$114,0)","v":37},{"$f":"MATCH(F56,【元データ】評価シート!$B$62:$T$62,0)","v":1},{"$f":"MATCH(E56,【元データ】評価シート!$A$5:$A$56,0)","v":37},{"$f":"MATCH(F56,【元データ】評価シート!$B$4:$T$4,0)","v":1}]
[401010,62,1,"釜場に足をとられて転倒する","開口部","転倒",{"$f":"INDEX(【元データ】評価シート!$B$63:$T$114,J57,K57)","v":1},{"$f":"INDEX(【元データ】評価シート!$B$5:$T$56,L57,M57)","v":2},null,{"$f":"MATCH(E57,【元データ】評価シート!$A$63:$A$114,0)","v":37},{"$f":"MATCH(F57,【元データ】評価シート!$B$62:$T$62,0)","v":2},{"$f":"MATCH(E57,【元データ】評価シート!$A$5:$A$56,0)","v":37},{"$f":"MATCH(F57,【元データ】評価シート!$B$4:$T$4,0)","v":2}]
[203030,63,1,"梁上移動時、工具等が落下する","開口部","飛来・落下",{"$f":"INDEX(【元データ】評価シート!$B$63:$T$114,J58,K58)","v":1},{"$f":"INDEX(【元データ】評価シート!$B$5:$T$56,L58,M58)","v":1},null,{"$f":"MATCH(E58,【元データ】評価シート!$A$63:$A$114,0)","v":37},{"$f":"MATCH(F58,【元データ】評価シート!$B$62:$T$62,0)","v":4},{"$f":"MATCH(E58,【元データ】評価シート!$A$5:$A$56,0)","v":37},{"$f":"MATCH(F58,【元データ】評価シート!$B$4:$T$4,0)","v":4}]
[206010,64,1,"構台架設時、手が滑り工具類が落下する","開口部","飛来・落下",{"$f":"INDEX(【元データ】評価シート!$B$63:$T$114,J59,K59)","v":1},{"$f":"INDEX(【元データ】評価シート!$B$5:$T$56,L59,M59)","v":1},null,{"$f":"MATCH(E59,【元データ】評価シート!$A$63:$A$114,0)","v":37},{"$f":"MATCH(F59,【元データ】評価シート!$B$62:$T$62,0)","v":4},{"$f":"MATCH(E59,【元データ】評価シート!$A$5:$A$56,0)","v":37},{"$f":"MATCH(F59,【元データ】評価シート!$B$4:$T$4,0)","v":4}]
[404030,65,1,"ﾎﾞﾙﾄ締め時、手が滑り工具類が落下する","開口部","飛来・落下",{"$f":"INDEX(【元データ】評価シート!$B$63:$T$114,J60,K60)","v":1},{"$f":"INDEX(【元データ】評価シート!$B$5:$T$56,L60,M60)","v":1},null,{"$f":"MATCH(E60,【元データ】評価シート!$A$63:$A$114,0)","v":37},{"$f":"MATCH(F60,【元データ】評価シート!$B$62:$T$62,0)","v":4},{"$f":"MATCH(E60,【元データ】評価シート!$A$5:$A$56,0)","v":37},{"$f":"MATCH(F60,【元データ】評価シート!$B$4:$T$4,0)","v":4}]
[404050,66,1,"ﾃﾞｯｷ敷込み時、手が滑り工具類を落下させる","開口部","飛来・落下",{"$f":"INDEX(【元データ】評価シート!$B$63:$T$114,J61,K61)","v":1},{"$f":"INDEX(【元データ】評価シート!$B$5:$T$56,L61,M61)","v":1},null,{"$f":"MATCH(E61,【元データ】評価シート!$A$63:$A$114,0)","v":37},{"$f":"MATCH(F61,【元データ】評価シート!$B$62:$T$62,0)","v":4},{"$f":"MATCH(E61,【元データ】評価シート!$A$5:$A$56,0)","v":37},{"$f":"MATCH(F61,【元データ】評価シート!$B$4:$T$4,0)","v":4}]
[105010,67,1,"作業場所移動時、外部足場の階段で足が滑り転倒する","階段、桟橋","転倒",{"$f":"INDEX(【元データ】評価シート!$B$63:$T$114,J62,K62)","v":3},{"$f":"INDEX(【元データ】評価シート!$B$5:$T$56,L62,M62)","v":3},null,{"$f":"MATCH(E62,【元データ】評価シート!$A$63:$A$114,0)","v":36},{"$f":"MATCH(F62,【元データ】評価シート!$B$62:$T$62,0)","v":2},{"$f":"MATCH(E62,【元データ】評価シート!$A$5:$A$56,0)","v":36},{"$f":"MATCH(F62,【元データ】評価シート!$B$4:$T$4,0)","v":2}]
[402020,68,1,"手摺壁に足をかける際、足が滑り転倒する","階段、桟橋","転倒",{"$f":"INDEX(【元データ】評価シート!$B$63:$T$114,J63,K63)","v":3},{"$f":"INDEX(【元データ】評価シート!$B$5:$T$56,L63,M63)","v":3},null,{"$f":"MATCH(E63,【元データ】評価シート!$A$63:$A$114,0)","v":36},{"$f":"MATCH(F63,【元データ】評価シート!$B$62:$T$62,0)","v":2},{"$f":"MATCH(E63,【元データ】評価シート!$A$5:$A$56,0)","v":36},{"$f":"MATCH(F63,【元データ】評価シート!$B$4:$T$4,0)","v":2}]
[402050,69,1,"地中梁を乗り越える時に手足を負傷する","階段、桟橋","転倒",{"$f":"INDEX(【元データ】評価シート!$B$63:$T$114,J64,K64)","v":3},{"$f":"INDEX(【元データ】評価シート!$B$5:$T$56,L64,M64)","v":3},null,{"$f":"MATCH(E64,【元データ】評価シート!$A$63:$A$114,0)","v":36},{"$f":"MATCH(F64,【元データ】評価シート!$B$62:$T$62,0)","v":2},{"$f":"MATCH(E64,【元データ】評価シート!$A$5:$A$56,0)","v":36},{"$f":"MATCH(F64,【元データ】評価シート!$B$4:$T$4,0)","v":2}]
[206010,70,1,"ガス切断時アセチレンガスが漏れ、火事になる","ガス溶接装置","火災",{"$f":"INDEX(【元データ】評価シート!$B$63:$T$114,J65,K65)","v":3},{"$f":"INDEX(【元データ】評価シート!$B$5:$T$56,L65,M65)","v":2},null,{"$f":"MATCH(E65,【元データ】評価シート!$A$63:$A$114,0)","v":24},{"$f":"MATCH(F65,【元データ】評価シート!$B$62:$T$62,0)","v":16},{"$f":"MATCH(E65,【元データ】評価シート!$A$5:$A$56,0)","v":24},{"$f":"MATCH(F65,【元データ】評価シート!$B$4:$T$4,0)","v":16}]
[402050,71,1,"ピット内で酸欠する","可燃性のガス","有害物等との接触",{"$f":"INDEX(【元データ】評価シート!$B$63:$T$114,J66,K66)","v":2},{"$f":"INDEX(【元データ】評価シート!$B$5:$T$56,L66,M66)","v":2},null,{"$f":"MATCH(E66,【元データ】評価シート!$A$63:$A$114,0)","v":43},{"$f":"MATCH(F66,【元データ】評価シート!$B$62:$T$62,0)","v":12},{"$f":"MATCH(E66,【元データ】評価シート!$A$5:$A$56,0)","v":43},{"$f":"MATCH(F66,【元データ】評価シート!$B$4:$T$4,0)","v":12}]
[203020,80,1,"差筋で足を切る","金属材料","切れ・こすれ",{"$f":"INDEX(【元データ】評価シート!$B$63:$T$114,J67,K67)","v":2},{"$f":"INDEX(【元データ】評価シート!$B$5:$T$56,L67,M67)","v":2},null,{"$f":"MATCH(E67,【元データ】評価シート!$A$63:$A$114,0)","v":45},{"$f":"MATCH(F67,【元データ】評価シート!$B$62:$T$62,0)","v":8},{"$f":"MATCH(E67,【元データ】評価シート!$A$5:$A$56,0)","v":45},{"$f":"MATCH(F67,【元データ】評価シート!$B$4:$T$4,0)","v":8}]
[402050,81,1,"小払し中、型枠材の釘が手に刺さる","金属材料","切れ・こすれ",{"$f":"INDEX(【元データ】評価シート!$B$63:$T$114,J68,K68)","v":2},{"$f":"INDEX(【元データ】評価シート!$B$5:$T$56,L68,M68)","v":2},null,{"$f":"MATCH(E68,【元データ】評価シート!$A$63:$A$114,0)","v":45},{"$f":"MATCH(F68,【元データ】評価シート!$B$62:$T$62,0)","v":8},{"$f":"MATCH(E68,【元データ】評価シート!$A$5:$A$56,0)","v":45},{"$f":"MATCH(F68,【元データ】評価シート!$B$4:$T$4,0)","v":8}]
[101010,85,1,"長尺物を振り回す際、作業員にぶつける","金属材料","激突",{"$f":"INDEX(【元データ】評価シート!$B$63:$T$114,J69,K69)","v":2},{"$f":"INDEX(【元データ】評価シート!$B$5:$T$56,L69,M69)","v":2},null,{"$f":"MATCH(E69,【元データ】評価シート!$A$63:$A$114,0)","v":45},{"$f":"MATCH(F69,【元データ】評価シート!$B$62:$T$62,0)","v":3},{"$f":"MATCH(E69,【元データ】評価シート!$A$5:$A$56,0)","v":45},{"$f":"MATCH(F69,【元データ】評価シート!$B$4:$T$4,0)","v":3}]
[202010,86,1,"資材にあたって負傷する","金属材料","激突",{"$f":"INDEX(【元データ】評価シート!$B$63:$T$114,J70,K70)","v":2},{"$f":"INDEX(【元データ】評価シート!$B$5:$T$56,L70,M70)","v":2},null,{"$f":"MATCH(E70,【元データ】評価シート!$A$63:$A$114,0)","v":45},{"$f":"MATCH(F70,【元データ】評価シート!$B$62:$T$62,0)","v":3},{"$f":"MATCH(E70,【元データ】評価シート!$A$5:$A$56,0)","v":45},{"$f":"MATCH(F70,【元データ】評価シート!$B$4:$T$4,0)","v":3}]
[202010,87,1,"単管パイプを受け取る際、バランスを崩して転倒する","金属材料","転倒",{"$f":"INDEX(【元データ】評価シート!$B$63:$T$114,J71,K71)","v":2},{"$f":"INDEX(【元データ】評価シート!$B$5:$T$56,L71,M71)","v":2},null,{"$f":"MATCH(E71,【元データ】評価シート!$A$63:$A$114,0)","v":45},{"$f":"MATCH(F71,【元データ】評価シート!$B$62:$T$62,0)","v":2},{"$f":"MATCH(E71,【元データ】評価シート!$A$5:$A$56,0)","v":45},{"$f":"MATCH(F71,【元データ】評価シート!$B$4:$T$4,0)","v":2}]
[301010,88,1,"敷鉄板敷き込み時、足を滑らせて転倒する","金属材料","転倒",{"$f":"INDEX(【元データ】評価シート!$B$63:$T$114,J72,K72)","v":2},{"$f":"INDEX(【元データ】評価シート!$B$5:$T$56,L72,M72)","v":2},null,{"$f":"MATCH(E72,【元データ】評価シート!$A$63:$A$114,0)","v":45},{"$f":"MATCH(F72,【元データ】評価シート!$B$62:$T$62,0)","v":2},{"$f":"MATCH(E72,【元データ】評価シート!$A$5:$A$56,0)","v":45},{"$f":"MATCH(F72,【元データ】評価シート!$B$4:$T$4,0)","v":2}]
[405010,89,1,"重量物を持って腰を痛める","金属材料","動作の反動・無理な動作",{"$f":"INDEX(【元データ】評価シート!$B$63:$T$114,J73,K73)","v":1},{"$f":"INDEX(【元データ】評価シート!$B$5:$T$56,L73,M73)","v":2},null,{"$f":"MATCH(E73,【元データ】評価シート!$A$63:$A$114,0)","v":45},{"$f":"MATCH(F73,【元データ】評価シート!$B$62:$T$62,0)","v":19},{"$f":"MATCH(E73,【元データ】評価シート!$A$5:$A$56,0)","v":45},{"$f":"MATCH(F73,【元データ】評価シート!$B$4:$T$4,0)","v":19}]
[202010,90,1,"単管パイプとクランプで指を挟む","金属材料","はさまれ・巻き込まれ",{"$f":"INDEX(【元データ】評価シート!$B$63:$T$114,J74,K74)","v":4},{"$f":"INDEX(【元データ】評価シート!$B$5:$T$56,L74,M74)","v":3},null,{"$f":"MATCH(E74,【元データ】評価シート!$A$63:$A$114,0)","v":45},{"$f":"MATCH(F74,【元データ】評価シート!$B$62:$T$62,0)","v":7},{"$f":"MATCH(E74,【元データ】評価シート!$A$5:$A$56,0)","v":45},{"$f":"MATCH(F74,【元データ】評価シート!$B$4:$T$4,0)","v":7}]
[206010,91,1,"構台を仮置きする際、手を挟む","金属材料","はさまれ・巻き込まれ",{"$f":"INDEX(【元データ】評価シート!$B$63:$T$114,J75,K75)","v":4},{"$f":"INDEX(【元データ】評価シート!$B$5:$T$56,L75,M75)","v":3},null,{"$f":"MATCH(E75,【元データ】評価シート!$A$63:$A$114,0)","v":45},{"$f":"MATCH(F75,【元データ】評価シート!$B$62:$T$62,0)","v":7},{"$f":"MATCH(E75,【元データ】評価シート!$A$5:$A$56,0)","v":45},{"$f":"MATCH(F75,【元データ】評価シート!$B$4:$T$4,0)","v":7}]
[202010,95,1,"資材受渡し時、手が滑り、落下する","金属材料","飛来・落下",{"$f":"INDEX(【元データ】評価シート!$B$63:$T$114,J76,K76)","v":5},{"$f":"INDEX(【元データ】評価シート!$B$5:$T$56,L76,M76)","v":3},null,{"$f":"MATCH(E76,【元データ】評価シート!$A$63:$A$114,0)","v":45},{"$f":"MATCH(F76,【元データ】評価シート!$B$62:$T$62,0)","v":4},{"$f":"MATCH(E76,【元データ】評価シート!$A$5:$A$56,0)","v":45},{"$f":"MATCH(F76,【元データ】評価シート!$B$4:$T$4,0)","v":4}]
[203030,96,1,"つりチェーンの外れにより、部材が落下する","金属材料","飛来・落下",{"$f":"INDEX(【元データ】評価シート!$B$63:$T$114,J77,K77)","v":5},{"$f":"INDEX(【元データ】評価シート!$B$5:$T$56,L77,M77)","v":3},null,{"$f":"MATCH(E77,【元データ】評価シート!$A$63:$A$114,0)","v":45},{"$f":"MATCH(F77,【元データ】評価シート!$B$62:$T$62,0)","v":4},{"$f":"MATCH(E77,【元データ】評価シート!$A$5:$A$56,0)","v":45},{"$f":"MATCH(F77,【元データ】評価シート!$B$4:$T$4,0)","v":4}]
[404050,97,1,"デッキが鉄骨から外れて落下する","金属材料","飛来・落下",{"$f":"INDEX(【元データ】評価シート!$B$63:$T$114,J78,K78)","v":5},{"$f":"INDEX(【元データ】評価シート!$B$5:$T$56,L78,M78)","v":3},null,{"$f":"MATCH(E78,【元データ】評価シート!$A$63:$A$114,0)","v":45},{"$f":"MATCH(F78,【元データ】評価シート!$B$62:$T$62,0)","v":4},{"$f":"MATCH(E78,【元データ】評価シート!$A$5:$A$56,0)","v":45},{"$f":"MATCH(F78,【元データ】評価シート!$B$4:$T$4,0)","v":4}]
[404050,98,1,"ﾃﾞｯｷ敷込み時、手が滑り、ﾃﾞｯｷを落下させる","金属材料","飛来・落下",{"$f":"INDEX(【元データ】評価シート!$B$63:$T$114,J79,K79)","v":5},{"$f":"INDEX(【元データ】評価シート!$B$5:$T$56,L79,M79)","v":3},null,{"$f":"MATCH(E79,【元データ】評価シート!$A$63:$A$114,0)","v":45},{"$f":"MATCH(F79,【元データ】評価シート!$B$62:$T$62,0)","v":4},{"$f":"MATCH(E79,【元データ】評価シート!$A$5:$A$56,0)","v":45},{"$f":"MATCH(F79,【元データ】評価シート!$B$4:$T$4,0)","v":4}]
[402010,99,1,"結束バンド切断時に鋼管が崩れて負傷する","金属材料","崩壊・倒壊",{"$f":"INDEX(【元データ】評価シート!$B$63:$T$114,J80,K80)","v":5},{"$f":"INDEX(【元データ】評価シート!$B$5:$T$56,L80,M80)","v":3},null,{"$f":"MATCH(E80,【元データ】評価シート!$A$63:$A$114,0)","v":45},{"$f":"MATCH(F80,【元データ】評価シート!$B$62:$T$62,0)","v":5},{"$f":"MATCH(E80,【元データ】評価シート!$A$5:$A$56,0)","v":45},{"$f":"MATCH(F80,【元データ】評価シート!$B$4:$T$4,0)","v":5}]
[101010,102,1,"重機と作業員が接触する","掘削用機械","激突され",{"$f":"INDEX(【元データ】評価シート!$B$63:$T$114,J81,K81)","v":4},{"$f":"INDEX(【元データ】評価シート!$B$5:$T$56,L81,M81)","v":3},null,{"$f":"MATCH(E81,【元データ】評価シート!$A$63:$A$114,0)","v":6},{"$f":"MATCH(F81,【元データ】評価シート!$B$62:$T$62,0)","v":6},{"$f":"MATCH(E81,【元データ】評価シート!$A$5:$A$56,0)","v":6},{"$f":"MATCH(F81,【元データ】評価シート!$B$4:$T$4,0)","v":6}]
[301020,104,1,"山留め架設時、吊荷が振れて手を挟む","クレーン","激突され",{"$f":"INDEX(【元データ】評価シート!$B$63:$T$114,J82,K82)","v":3},{"$f":"INDEX(【元データ】評価シート!$B$5:$T$56,L82,M82)","v":3},null,{"$f":"MATCH(E82,【元データ】評価シート!$A$63:$A$114,0)","v":12},{"$f":"MATCH(F82,【元データ】評価シート!$B$62:$T$62,0)","v":6},{"$f":"MATCH(E82,【元データ】評価シート!$A$5:$A$56,0)","v":12},{"$f":"MATCH(F82,【元データ】評価シート!$B$4:$T$4,0)","v":6}]
[101010,105,1,"揚重作業時クレーンが転倒する","クレーン","転倒",{"$f":"INDEX(【元データ】評価シート!$B$63:$T$114,J83,K83)","v":1},{"$f":"INDEX(【元データ】評価シート!$B$5:$T$56,L83,M83)","v":2},null,{"$f":"MATCH(E83,【元データ】評価シート!$A$63:$A$114,0)","v":12},{"$f":"MATCH(F83,【元データ】評価シート!$B$62:$T$62,0)","v":2},{"$f":"MATCH(E83,【元データ】評価シート!$A$5:$A$56,0)","v":12},{"$f":"MATCH(F83,【元データ】評価シート!$B$4:$T$4,0)","v":2}]
[301020,106,1,"鉄骨を仮置きする際、手を挟む","クレーン","はさまれ・巻き込まれ",{"$f":"INDEX(【元データ】評価シート!$B$63:$T$114,J84,K84)","v":4},{"$f":"INDEX(【元データ】評価シート!$B$5:$T$56,L84,M84)","v":3},null,{"$f":"MATCH(E84,【元データ】評価シート!$A$63:$A$114,0)","v":12},{"$f":"MATCH(F84,【元データ】評価シート!$B$62:$T$62,0)","v":7},{"$f":"MATCH(E84,【元データ】評価シート!$A$5:$A$56,0)","v":12},{"$f":"MATCH(F84,【元データ】評価シート!$B$4:$T$4,0)","v":7}]
[102010,107,1,"建方時、吊荷が外れ落下する","クレーン","飛来・落下",{"$f":"INDEX(【元データ】評価シート!$B$63:$T$114,J85,K85)","v":4},{"$f":"INDEX(【元データ】評価シート!$B$5:$T$56,L85,M85)","v":3},null,{"$f":"MATCH(E85,【元データ】評価シート!$A$63:$A$114,0)","v":12},{"$f":"MATCH(F85,【元データ】評価シート!$B$62:$T$62,0)","v":4},{"$f":"MATCH(E85,【元データ】評価シート!$A$5:$A$56,0)","v":12},{"$f":"MATCH(F85,【元データ】評価シート!$B$4:$T$4,0)","v":4}]
[105010,109,1,"高所作業車使用時、転落する","高所作業車","墜落・転落",{"$f":"INDEX(【元データ】評価シート!$B$63:$T$114,J86,K86)","v":3},{"$f":"INDEX(【元データ】評価シート!$B$5:$T$56,L86,M86)","v":3},null,{"$f":"MATCH(E86,【元データ】評価シート!$A$63:$A$114,0)","v":10},{"$f":"MATCH(F86,【元データ】評価シート!$B$62:$T$62,0)","v":1},{"$f":"MATCH(E86,【元データ】評価シート!$A$5:$A$56,0)","v":10},{"$f":"MATCH(F86,【元データ】評価シート!$B$4:$T$4,0)","v":1}]
[204010,110,1,"高所作業車使用時、身を寄り出して墜落する","高所作業車","墜落・転落",{"$f":"INDEX(【元データ】評価シート!$B$63:$T$114,J87,K87)","v":3},{"$f":"INDEX(【元データ】評価シート!$B$5:$T$56,L87,M87)","v":3},null,{"$f":"MATCH(E87,【元データ】評価シート!$A$63:$A$114,0)","v":10},{"$f":"MATCH(F87,【元データ】評価シート!$B$62:$T$62,0)","v":1},{"$f":"MATCH(E87,【元データ】評価シート!$A$5:$A$56,0)","v":10},{"$f":"MATCH(F87,【元データ】評価シート!$B$4:$T$4,0)","v":1}]
[402030,111,1,"高所作業車移動時に開口部の養生蓋に引っ掛かって転倒する","高所作業車","転倒",{"$f":"INDEX(【元データ】評価シート!$B$63:$T$114,J88,K88)","v":1},{"$f":"INDEX(【元データ】評価シート!$B$5:$T$56,L88,M88)","v":2},null,{"$f":"MATCH(E88,【元データ】評価シート!$A$63:$A$114,0)","v":10},{"$f":"MATCH(F88,【元データ】評価シート!$B$62:$T$62,0)","v":2},{"$f":"MATCH(E88,【元データ】評価シート!$A$5:$A$56,0)","v":10},{"$f":"MATCH(F88,【元データ】評価シート!$B$4:$T$4,0)","v":2}]
[103020,112,1,"仮囲い組立時、横桟より墜落する","作業床","墜落・転落",{"$f":"INDEX(【元データ】評価シート!$B$63:$T$114,J89,K89)","v":5},{"$f":"INDEX(【元データ】評価シート!$B$5:$T$56,L89,M89)","v":4},null,{"$f":"MATCH(E89,【元データ】評価シート!$A$63:$A$114,0)","v":39},{"$f":"MATCH(F89,【元データ】評価シート!$B$62:$T$62,0)","v":1},{"$f":"MATCH(E89,【元データ】評価シート!$A$5:$A$56,0)","v":39},{"$f":"MATCH(F89,【元データ】評価シート!$B$4:$T$4,0)","v":1}]
[201010,113,1,"梁天端から転落する","作業床","墜落・転落",{"$f":"INDEX(【元データ】評価シート!$B$63:$T$114,J90,K90)","v":5},{"$f":"INDEX(【元データ】評価シート!$B$5:$T$56,L90,M90)","v":4},null,{"$f":"MATCH(E90,【元データ】評価シート!$A$63:$A$114,0)","v":39},{"$f":"MATCH(F90,【元データ】評価シート!$B$62:$T$62,0)","v":1},{"$f":"MATCH(E90,【元データ】評価シート!$A$5:$A$56,0)","v":39},{"$f":"MATCH(F90,【元データ】評価シート!$B$4:$T$4,0)","v":1}]
[105010,115,1,"コンクリート打設中、スラブ筋に躓き転倒する","作業床","転倒",{"$f":"INDEX(【元データ】評価シート!$B$63:$T$114,J91,K91)","v":3},{"$f":"INDEX(【元データ】評価シート!$B$5:$T$56,L91,M91)","v":3},null,{"$f":"MATCH(E91,【元データ】評価シート!$A$63:$A$114,0)","v":39},{"$f":"MATCH(F91,【元データ】評価シート!$B$62:$T$62,0)","v":2},{"$f":"MATCH(E91,【元データ】評価シート!$A$5:$A$56,0)","v":39},{"$f":"MATCH(F91,【元データ】評価シート!$B$4:$T$4,0)","v":2}]
[104010,133,1,"一輪車運搬時に作業床から転落する","乗用車、バス、バイク","激突され",{"$f":"INDEX(【元データ】評価シート!$B$63:$T$114,J92,K92)","v":3},{"$f":"INDEX(【元データ】評価シート!$B$5:$T$56,L92,M92)","v":3},null,{"$f":"MATCH(E92,【元データ】評価シート!$A$63:$A$114,0)","v":23},{"$f":"MATCH(F92,【元データ】評価シート!$B$62:$T$62,0)","v":6},{"$f":"MATCH(E92,【元データ】評価シート!$A$5:$A$56,0)","v":23},{"$f":"MATCH(F92,【元データ】評価シート!$B$4:$T$4,0)","v":6}]
[401010,134,1,"一輪車での運搬時、躓いて転倒する","人力運搬機","墜落・転落",{"$f":"INDEX(【元データ】評価シート!$B$63:$T$114,J93,K93)","v":3},{"$f":"INDEX(【元データ】評価シート!$B$5:$T$56,L93,M93)","v":3},null,{"$f":"MATCH(E93,【元データ】評価シート!$A$63:$A$114,0)","v":29},{"$f":"MATCH(F93,【元データ】評価シート!$B$62:$T$62,0)","v":1},{"$f":"MATCH(E93,【元データ】評価シート!$A$5:$A$56,0)","v":29},{"$f":"MATCH(F93,【元データ】評価シート!$B$4:$T$4,0)","v":1}]
[401010,135,1,"材料移動時、既存物、隣接建物に接触する","人力運搬機","転倒",{"$f":"INDEX(【元データ】評価シート!$B$63:$T$114,J94,K94)","v":3},{"$f":"INDEX(【元データ】評価シート!$B$5:$T$56,L94,M94)","v":3},null,{"$f":"MATCH(E94,【元データ】評価シート!$A$63:$A$114,0)","v":29},{"$f":"MATCH(F94,【元データ】評価シート!$B$62:$T$62,0)","v":2},{"$f":"MATCH(E94,【元データ】評価シート!$A$5:$A$56,0)","v":29},{"$f":"MATCH(F94,【元データ】評価シート!$B$4:$T$4,0)","v":2}]
[105020,137,1,"溶接治具運搬時、足場に手をぶつけて負傷する","人力運搬機","激突",{"$f":"INDEX(【元データ】評価シート!$B$63:$T$114,J95,K95)","v":2},{"$f":"INDEX(【元データ】評価シート!$B$5:$T$56,L95,M95)","v":2},null,{"$f":"MATCH(E95,【元データ】評価シート!$A$63:$A$114,0)","v":29},{"$f":"MATCH(F95,【元データ】評価シート!$B$62:$T$62,0)","v":3},{"$f":"MATCH(E95,【元データ】評価シート!$A$5:$A$56,0)","v":29},{"$f":"MATCH(F95,【元データ】評価シート!$B$4:$T$4,0)","v":3}]
[403050,138,1,"材料運搬時、躓いて転倒する","人力運搬機","激突",{"$f":"INDEX(【元データ】評価シート!$B$63:$T$114,J96,K96)","v":2},{"$f":"INDEX(【元データ】評価シート!$B$5:$T$56,L96,M96)","v":2},null,{"$f":"MATCH(E96,【元データ】評価シート!$A$63:$A$114,0)","v":29},{"$f":"MATCH(F96,【元データ】評価シート!$B$62:$T$62,0)","v":3},{"$f":"MATCH(E96,【元データ】評価シート!$A$5:$A$56,0)","v":29},{"$f":"MATCH(F96,【元データ】評価シート!$B$4:$T$4,0)","v":3}]
[103010,139,1,"重量物を持って腰を痛める","人力運搬機","転倒",{"$f":"INDEX(【元データ】評価シート!$B$63:$T$114,J97,K97)","v":3},{"$f":"INDEX(【元データ】評価シート!$B$5:$T$56,L97,M97)","v":3},null,{"$f":"MATCH(E97,【元データ】評価シート!$A$63:$A$114,0)","v":29},{"$f":"MATCH(F97,【元データ】評価シート!$B$62:$T$62,0)","v":2},{"$f":"MATCH(E97,【元データ】評価シート!$A$5:$A$56,0)","v":29},{"$f":"MATCH(F97,【元データ】評価シート!$B$4:$T$4,0)","v":2}]
[105020,140,1,"資材運搬時、台車に手を挟まれて負傷する","人力運搬機","動作の反動・無理な動作",{"$f":"INDEX(【元データ】評価シート!$B$63:$T$114,J98,K98)","v":1},{"$f":"INDEX(【元データ】評価シート!$B$5:$T$56,L98,M98)","v":2},null,{"$f":"MATCH(E98,【元データ】評価シート!$A$63:$A$114,0)","v":29},{"$f":"MATCH(F98,【元データ】評価シート!$B$62:$T$62,0)","v":19},{"$f":"MATCH(E98,【元データ】評価シート!$A$5:$A$56,0)","v":29},{"$f":"MATCH(F98,【元データ】評価シート!$B$4:$T$4,0)","v":19}]
[110010,143,1,"生コンバケツをクレーンにて吊り土砂を降ろす時に反動で手を挟む","人力運搬機","はさまれ・巻き込まれ",{"$f":"INDEX(【元データ】評価シート!$B$63:$T$114,J99,K99)","v":4},{"$f":"INDEX(【元データ】評価シート!$B$5:$T$56,L99,M99)","v":3},null,{"$f":"MATCH(E99,【元データ】評価シート!$A$63:$A$114,0)","v":29},{"$f":"MATCH(F99,【元データ】評価シート!$B$62:$T$62,0)","v":7},{"$f":"MATCH(E99,【元データ】評価シート!$A$5:$A$56,0)","v":29},{"$f":"MATCH(F99,【元データ】評価シート!$B$4:$T$4,0)","v":7}]
[502020,145,1,"ダンプ後退時、バックホーと接触する","人力機械","はさまれ・巻き込まれ",{"$f":"INDEX(【元データ】評価シート!$B$63:$T$114,J100,K100)","v":2},{"$f":"INDEX(【元データ】評価シート!$B$5:$T$56,L100,M100)","v":2},null,{"$f":"MATCH(E100,【元データ】評価シート!$A$63:$A$114,0)","v":30},{"$f":"MATCH(F100,【元データ】評価シート!$B$62:$T$62,0)","v":7},{"$f":"MATCH(E100,【元データ】評価シート!$A$5:$A$56,0)","v":30},{"$f":"MATCH(F100,【元データ】評価シート!$B$4:$T$4,0)","v":7}]
[103010,146,1,"後進ダンプにひかれて負傷する","整地・運搬・積込み用機械","激突",{"$f":"INDEX(【元データ】評価シート!$B$63:$T$114,J101,K101)","v":1},{"$f":"INDEX(【元データ】評価シート!$B$5:$T$56,L101,M101)","v":2},null,{"$f":"MATCH(E101,【元データ】評価シート!$A$63:$A$114,0)","v":5},{"$f":"MATCH(F101,【元データ】評価シート!$B$62:$T$62,0)","v":3},{"$f":"MATCH(E101,【元データ】評価シート!$A$5:$A$56,0)","v":5},{"$f":"MATCH(F101,【元データ】評価シート!$B$4:$T$4,0)","v":3}]
[302010,153,1,"敷鉄板荷吊り時に玉掛けワイヤーが外れ、敷鉄板で手足を挟む","送配電線等","転倒",{"$f":"INDEX(【元データ】評価シート!$B$63:$T$114,J102,K102)","v":2},{"$f":"INDEX(【元データ】評価シート!$B$5:$T$56,L102,M102)","v":2},null,{"$f":"MATCH(E102,【元データ】評価シート!$A$63:$A$114,0)","v":26},{"$f":"MATCH(F102,【元データ】評価シート!$B$62:$T$62,0)","v":2},{"$f":"MATCH(E102,【元データ】評価シート!$A$5:$A$56,0)","v":26},{"$f":"MATCH(F102,【元データ】評価シート!$B$4:$T$4,0)","v":2}]
[110010,154,1,"荷吊り中、吊りフックから外れ敷鉄板で手を挟む","玉掛用具","はさまれ・巻き込まれ",{"$f":"INDEX(【元データ】評価シート!$B$63:$T$114,J103,K103)","v":3},{"$f":"INDEX(【元データ】評価シート!$B$5:$T$56,L103,M103)","v":2},null,{"$f":"MATCH(E103,【元データ】評価シート!$A$63:$A$114,0)","v":33},{"$f":"MATCH(F103,【元データ】評価シート!$B$62:$T$62,0)","v":7},{"$f":"MATCH(E103,【元データ】評価シート!$A$5:$A$56,0)","v":33},{"$f":"MATCH(F103,【元データ】評価シート!$B$4:$T$4,0)","v":7}]
[302010,155,1,"建方時、玉掛けワイヤーが切れて落下する","玉掛用具","はさまれ・巻き込まれ",{"$f":"INDEX(【元データ】評価シート!$B$63:$T$114,J104,K104)","v":3},{"$f":"INDEX(【元データ】評価シート!$B$5:$T$56,L104,M104)","v":2},null,{"$f":"MATCH(E104,【元データ】評価シート!$A$63:$A$114,0)","v":33},{"$f":"MATCH(F104,【元データ】評価シート!$B$62:$T$62,0)","v":7},{"$f":"MATCH(E104,【元データ】評価シート!$A$5:$A$56,0)","v":33},{"$f":"MATCH(F104,【元データ】評価シート!$B$4:$T$4,0)","v":7}]
[102010,156,1,"資材運搬時、鋼板が滑り落ち足を負傷する","玉掛用具","飛来・落下",{"$f":"INDEX(【元データ】評価シート!$B$63:$T$114,J105,K105)","v":4},{"$f":"INDEX(【元データ】評価シート!$B$5:$T$56,L105,M105)","v":3},null,{"$f":"MATCH(E105,【元データ】評価シート!$A$63:$A$114,0)","v":33},{"$f":"MATCH(F105,【元データ】評価シート!$B$62:$T$62,0)","v":4},{"$f":"MATCH(E105,【元データ】評価シート!$A$5:$A$56,0)","v":33},{"$f":"MATCH(F105,【元データ】評価シート!$B$4:$T$4,0)","v":4}]
[404040,159,1,"足場の大バラシ時、介錯ロープがワイヤーに引掛かり足場が倒れる","玉掛用具","飛来・落下",{"$f":"INDEX(【元データ】評価シート!$B$63:$T$114,J106,K106)","v":4},{"$f":"INDEX(【元データ】評価シート!$B$5:$T$56,L106,M106)","v":3},null,{"$f":"MATCH(E106,【元データ】評価シート!$A$63:$A$114,0)","v":33},{"$f":"MATCH(F106,【元データ】評価シート!$B$62:$T$62,0)","v":4},{"$f":"MATCH(E106,【元データ】評価シート!$A$5:$A$56,0)","v":33},{"$f":"MATCH(F106,【元データ】評価シート!$B$4:$T$4,0)","v":4}]
[605010,162,1,"通路足場から身を寄り出した際、墜落する","ゴンドラ","墜落・転落",{"$f":"INDEX(【元データ】評価シート!$B$63:$T$114,J107,K107)","v":1},{"$f":"INDEX(【元データ】評価シート!$B$5:$T$56,L107,M107)","v":2},null,{"$f":"MATCH(E107,【元データ】評価シート!$A$63:$A$114,0)","v":16},{"$f":"MATCH(F107,【元データ】評価シート!$B$62:$T$62,0)","v":1},{"$f":"MATCH(E107,【元データ】評価シート!$A$5:$A$56,0)","v":16},{"$f":"MATCH(F107,【元データ】評価シート!$B$4:$T$4,0)","v":1}]
[101010,165,1,"材料運搬時、段差に躓いて転倒する","通路","転倒",{"$f":"INDEX(【元データ】評価シート!$B$63:$T$114,J108,K108)","v":4},{"$f":"INDEX(【元データ】評価シート!$B$5:$T$56,L108,M108)","v":4},null,{"$f":"MATCH(E108,【元データ】評価シート!$A$63:$A$114,0)","v":40},{"$f":"MATCH(F108,【元データ】評価シート!$B$62:$T$62,0)","v":2},{"$f":"MATCH(E108,【元データ】評価シート!$A$5:$A$56,0)","v":40},{"$f":"MATCH(F108,【元データ】評価シート!$B$4:$T$4,0)","v":2}]
[104010,167,1,"足場上で躓いて転倒する","通路","転倒",{"$f":"INDEX(【元データ】評価シート!$B$63:$T$114,J109,K109)","v":4},{"$f":"INDEX(【元データ】評価シート!$B$5:$T$56,L109,M109)","v":4},null,{"$f":"MATCH(E109,【元データ】評価シート!$A$63:$A$114,0)","v":40},{"$f":"MATCH(F109,【元データ】評価シート!$B$62:$T$62,0)","v":2},{"$f":"MATCH(E109,【元データ】評価シート!$A$5:$A$56,0)","v":40},{"$f":"MATCH(F109,【元データ】評価シート!$B$4:$T$4,0)","v":2}]
[401010,168,1,"スラブ上で躓いて転倒する","通路","転倒",{"$f":"INDEX(【元データ】評価シート!$B$63:$T$114,J110,K110)","v":4},{"$f":"INDEX(【元データ】評価シート!$B$5:$T$56,L110,M110)","v":4},null,{"$f":"MATCH(E110,【元データ】評価シート!$A$63:$A$114,0)","v":40},{"$f":"MATCH(F110,【元データ】評価シート!$B$62:$T$62,0)","v":2},{"$f":"MATCH(E110,【元データ】評価シート!$A$5:$A$56,0)","v":40},{"$f":"MATCH(F110,【元データ】評価シート!$B$4:$T$4,0)","v":2}]
[105010,173,1,"誤ってハンマーで指を叩く","手工具","切れ・こすれ",{"$f":"INDEX(【元データ】評価シート!$B$63:$T$114,J111,K111)","v":3},{"$f":"INDEX(【元データ】評価シート!$B$5:$T$56,L111,M111)","v":3},null,{"$f":"MATCH(E111,【元データ】評価シート!$A$63:$A$114,0)","v":31},{"$f":"MATCH(F111,【元データ】評価シート!$B$62:$T$62,0)","v":8},{"$f":"MATCH(E111,【元データ】評価シート!$A$5:$A$56,0)","v":31},{"$f":"MATCH(F111,【元データ】評価シート!$B$4:$T$4,0)","v":8}]
[301010,174,1,"インパクトドライバー使用時、指を巻き込まれて負傷する","手工具","切れ・こすれ",{"$f":"INDEX(【元データ】評価シート!$B$63:$T$114,J112,K112)","v":3},{"$f":"INDEX(【元データ】評価シート!$B$5:$T$56,L112,M112)","v":3},null,{"$f":"MATCH(E112,【元データ】評価シート!$A$63:$A$114,0)","v":31},{"$f":"MATCH(F112,【元データ】評価シート!$B$62:$T$62,0)","v":8},{"$f":"MATCH(E112,【元データ】評価シート!$A$5:$A$56,0)","v":31},{"$f":"MATCH(F112,【元データ】評価シート!$B$4:$T$4,0)","v":8}]
[402070,176,1,"シャーレンチ運搬時バランスを崩して転倒する","手工具","切れ・こすれ",{"$f":"INDEX(【元データ】評価シート!$B$63:$T$114,J113,K113)","v":3},{"$f":"INDEX(【元データ】評価シート!$B$5:$T$56,L113,M113)","v":3},null,{"$f":"MATCH(E113,【元データ】評価シート!$A$63:$A$114,0)","v":31},{"$f":"MATCH(F113,【元データ】評価シート!$B$62:$T$62,0)","v":8},{"$f":"MATCH(E113,【元データ】評価シート!$A$5:$A$56,0)","v":31},{"$f":"MATCH(F113,【元データ】評価シート!$B$4:$T$4,0)","v":8}]
[404030,177,1,"鉄骨建ち直し用フックに躓き転倒する","手工具","転倒",{"$f":"INDEX(【元データ】評価シート!$B$63:$T$114,J114,K114)","v":1},{"$f":"INDEX(【元データ】評価シート!$B$5:$T$56,L114,M114)","v":2},null,{"$f":"MATCH(E114,【元データ】評価シート!$A$63:$A$114,0)","v":31},{"$f":"MATCH(F114,【元データ】評価シート!$B$62:$T$62,0)","v":2},{"$f":"MATCH(E114,【元データ】評価シート!$A$5:$A$56,0)","v":31},{"$f":"MATCH(F114,【元データ】評価シート!$B$4:$T$4,0)","v":2}]
[109010,179,1,"振り上げたハンマーが目にあたる","手工具","動作の反動・無理な動作",{"$f":"INDEX(【元データ】評価シート!$B$63:$T$114,J115,K115)","v":1},{"$f":"INDEX(【元データ】評価シート!$B$5:$T$56,L115,M115)","v":2},null,{"$f":"MATCH(E115,【元データ】評価シート!$A$63:$A$114,0)","v":31},{"$f":"MATCH(F115,【元データ】評価シート!$B$62:$T$62,0)","v":19},{"$f":"MATCH(E115,【元データ】評価シート!$A$5:$A$56,0)","v":31},{"$f":"MATCH(F115,【元データ】評価シート!$B$4:$T$4,0)","v":19}]
[403030,183,1,"鉄骨建入治具での使用時に、定められた以外の使用をして負傷する","手工具","はさまれ・巻き込まれ",{"$f":"INDEX(【元データ】評価シート!$B$63:$T$114,J116,K116)","v":3},{"$f":"INDEX(【元データ】評価シート!$B$5:$T$56,L116,M116)","v":2},null,{"$f":"MATCH(E116,【元データ】評価シート!$A$63:$A$114,0)","v":31},{"$f":"MATCH(F116,【元データ】評価シート!$B$62:$T$62,0)","v":7},{"$f":"MATCH(E116,【元データ】評価シート!$A$5:$A$56,0)","v":31},{"$f":"MATCH(F116,【元データ】評価シート!$B$4:$T$4,0)","v":7}]
[404030,184,1,"切梁架設時、手が滑り工具類が落下する","手工具","はさまれ・巻き込まれ",{"$f":"INDEX(【元データ】評価シート!$B$63:$T$114,J117,K117)","v":3},{"$f":"INDEX(【元データ】評価シート!$B$5:$T$56,L117,M117)","v":2},null,{"$f":"MATCH(E117,【元データ】評価シート!$A$63:$A$114,0)","v":31},{"$f":"MATCH(F117,【元データ】評価シート!$B$62:$T$62,0)","v":7},{"$f":"MATCH(E117,【元データ】評価シート!$A$5:$A$56,0)","v":31},{"$f":"MATCH(F117,【元データ】評価シート!$B$4:$T$4,0)","v":7}]
[301030,185,1,"ベビーサンダー使用時、目に鉄粉が入る","手工具","飛来・落下",{"$f":"INDEX(【元データ】評価シート!$B$63:$T$114,J118,K118)","v":3},{"$f":"INDEX(【元データ】評価シート!$B$5:$T$56,L118,M118)","v":2},null,{"$f":"MATCH(E118,【元データ】評価シート!$A$63:$A$114,0)","v":31},{"$f":"MATCH(F118,【元データ】評価シート!$B$62:$T$62,0)","v":4},{"$f":"MATCH(E118,【元データ】評価シート!$A$5:$A$56,0)","v":31},{"$f":"MATCH(F118,【元データ】評価シート!$B$4:$T$4,0)","v":4}]
[302010,186,1,"カッターナイフで手を切る","手工具","有害物等との接触",{"$f":"INDEX(【元データ】評価シート!$B$63:$T$114,J119,K119)","v":1},{"$f":"INDEX(【元データ】評価シート!$B$5:$T$56,L119,M119)","v":1},null,{"$f":"MATCH(E119,【元データ】評価シート!$A$63:$A$114,0)","v":31},{"$f":"MATCH(F119,【元データ】評価シート!$B$62:$T$62,0)","v":12},{"$f":"MATCH(E119,【元データ】評価シート!$A$5:$A$56,0)","v":31},{"$f":"MATCH(F119,【元データ】評価シート!$B$4:$T$4,0)","v":12}]
[301010,195,1,"ベビーサンダー使用時、誤って手を切る","動力伝導機構","感電",{"$f":"INDEX(【元データ】評価シート!$B$63:$T$114,J120,K120)","v":1},{"$f":"INDEX(【元データ】評価シート!$B$5:$T$56,L120,M120)","v":1},null,{"$f":"MATCH(E120,【元データ】評価シート!$A$63:$A$114,0)","v":2},{"$f":"MATCH(F120,【元データ】評価シート!$B$62:$T$62,0)","v":13},{"$f":"MATCH(E120,【元データ】評価シート!$A$5:$A$56,0)","v":2},{"$f":"MATCH(F120,【元データ】評価シート!$B$4:$T$4,0)","v":13}]
[101010,197,1,"インパクトドライバー使用時、指を負傷する","動力伝導機構","切れ・こすれ",{"$f":"INDEX(【元データ】評価シート!$B$63:$T$114,J121,K121)","v":1},{"$f":"INDEX(【元データ】評価シート!$B$5:$T$56,L121,M121)","v":1},null,{"$f":"MATCH(E121,【元データ】評価シート!$A$63:$A$114,0)","v":2},{"$f":"MATCH(F121,【元データ】評価シート!$B$62:$T$62,0)","v":8},{"$f":"MATCH(E121,【元データ】評価シート!$A$5:$A$56,0)","v":2},{"$f":"MATCH(F121,【元データ】評価シート!$B$4:$T$4,0)","v":8}]
[102010,198,1,"高速カッターで手を切る","動力伝導機構","切れ・こすれ",{"$f":"INDEX(【元データ】評価シート!$B$63:$T$114,J122,K122)","v":1},{"$f":"INDEX(【元データ】評価シート!$B$5:$T$56,L122,M122)","v":1},null,{"$f":"MATCH(E122,【元データ】評価シート!$A$63:$A$114,0)","v":2},{"$f":"MATCH(F122,【元データ】評価シート!$B$62:$T$62,0)","v":8},{"$f":"MATCH(E122,【元データ】評価シート!$A$5:$A$56,0)","v":2},{"$f":"MATCH(F122,【元データ】評価シート!$B$4:$T$4,0)","v":8}]
[404080,201,1,"高速ｶｯﾀｰの歯が、抜けてしまい損傷する","動力伝導機構","はさまれ・巻き込まれ",{"$f":"INDEX(【元データ】評価シート!$B$63:$T$114,J123,K123)","v":3},{"$f":"INDEX(【元データ】評価シート!$B$5:$T$56,L123,M123)","v":3},null,{"$f":"MATCH(E123,【元データ】評価シート!$A$63:$A$114,0)","v":2},{"$f":"MATCH(F123,【元データ】評価シート!$B$62:$T$62,0)","v":7},{"$f":"MATCH(E123,【元データ】評価シート!$A$5:$A$56,0)","v":2},{"$f":"MATCH(F123,【元データ】評価シート!$B$4:$T$4,0)","v":7}]
[109010,205,1,"積込み運搬中の資材の荷崩れで負傷する","トラック","交通事故（その他）",{"$f":"INDEX(【元データ】評価シート!$B$63:$T$114,J124,K124)","v":3},{"$f":"INDEX(【元データ】評価シート!$B$5:$T$56,L124,M124)","v":1},null,{"$f":"MATCH(E124,【元データ】評価シート!$A$63:$A$114,0)","v":18},{"$f":"MATCH(F124,【元データ】評価シート!$B$62:$T$62,0)","v":18},{"$f":"MATCH(E124,【元データ】評価シート!$A$5:$A$56,0)","v":18},{"$f":"MATCH(F124,【元データ】評価シート!$B$4:$T$4,0)","v":18}]
[110010,206,1,"荷卸し時、トレーラー上から転落する","トラック","激突され",{"$f":"INDEX(【元データ】評価シート!$B$63:$T$114,J125,K125)","v":4},{"$f":"INDEX(【元データ】評価シート!$B$5:$T$56,L125,M125)","v":3},null,{"$f":"MATCH(E125,【元データ】評価シート!$A$63:$A$114,0)","v":18},{"$f":"MATCH(F125,【元データ】評価シート!$B$62:$T$62,0)","v":6},{"$f":"MATCH(E125,【元データ】評価シート!$A$5:$A$56,0)","v":18},{"$f":"MATCH(F125,【元データ】評価シート!$B$4:$T$4,0)","v":6}]
[502020,209,1,"安全ブロックを使用せず梯子やタラップから転落する","はしご等","墜落・転落",{"$f":"INDEX(【元データ】評価シート!$B$63:$T$114,J126,K126)","v":5},{"$f":"INDEX(【元データ】評価シート!$B$5:$T$56,L126,M126)","v":5},null,{"$f":"MATCH(E126,【元データ】評価シート!$A$63:$A$114,0)","v":32},{"$f":"MATCH(F126,【元データ】評価シート!$B$62:$T$62,0)","v":1},{"$f":"MATCH(E126,【元データ】評価シート!$A$5:$A$56,0)","v":32},{"$f":"MATCH(F126,【元データ】評価シート!$B$4:$T$4,0)","v":1}]
[205010,211,1,"フォークリフト移動時、作業員と接触する","フォークリフト","激突",{"$f":"INDEX(【元データ】評価シート!$B$63:$T$114,J127,K127)","v":2},{"$f":"INDEX(【元データ】評価シート!$B$5:$T$56,L127,M127)","v":2},null,{"$f":"MATCH(E127,【元データ】評価シート!$A$63:$A$114,0)","v":19},{"$f":"MATCH(F127,【元データ】評価シート!$B$62:$T$62,0)","v":3},{"$f":"MATCH(E127,【元データ】評価シート!$A$5:$A$56,0)","v":19},{"$f":"MATCH(F127,【元データ】評価シート!$B$4:$T$4,0)","v":3}]
[null,233,1,"エレベーター開口部から墜落する","エレベータ、リフト","墜落・転落",{"$f":"INDEX(【元データ】評価シート!$B$63:$T$114,J128,K128)","v":3},{"$f":"INDEX(【元データ】評価シート!$B$5:$T$56,L128,M128)","v":3},null,{"$f":"MATCH(E128,【元データ】評価シート!$A$63:$A$114,0)","v":14},{"$f":"MATCH(F128,【元データ】評価シート!$B$62:$T$62,0)","v":1},{"$f":"MATCH(E128,【元データ】評価シート!$A$5:$A$56,0)","v":14},{"$f":"MATCH(F128,【元データ】評価シート!$B$4:$T$4,0)","v":1}]
[null,234,1,"エレベーターで長尺もの運搬時、はみ出した資材が外部足場と接触する","エレベータ、リフト","崩壊・倒壊",{"$f":"INDEX(【元データ】評価シート!$B$63:$T$114,J129,K129)","v":1},{"$f":"INDEX(【元データ】評価シート!$B$5:$T$56,L129,M129)","v":1},null,{"$f":"MATCH(E129,【元データ】評価シート!$A$63:$A$114,0)","v":14},{"$f":"MATCH(F129,【元データ】評価シート!$B$62:$T$62,0)","v":5},{"$f":"MATCH(E129,【元データ】評価シート!$A$5:$A$56,0)","v":14},{"$f":"MATCH(F129,【元データ】評価シート!$B$4:$T$4,0)","v":5}]
[null,244,1,"チェーンブロックで鋼材引き寄せ時、引く方向に手を置き、挟まれる","人力クレーン等","はさまれ・巻き込まれ",{"$f":"INDEX(【元データ】評価シート!$B$63:$T$114,J130,K130)","v":3},{"$f":"INDEX(【元データ】評価シート!$B$5:$T$56,L130,M130)","v":2},null,{"$f":"MATCH(E130,【元データ】評価シート!$A$63:$A$114,0)","v":28},{"$f":"MATCH(F130,【元データ】評価シート!$B$62:$T$62,0)","v":7},{"$f":"MATCH(E130,【元データ】評価シート!$A$5:$A$56,0)","v":28},{"$f":"MATCH(F130,【元データ】評価シート!$B$4:$T$4,0)","v":7}]
[null,245,1,"２台のチェーンブロックで鋼材吊り上げ時、左右のバランスが悪く、片側に吊荷が流れ挟まれる","人力クレーン等","はさまれ・巻き込まれ",{"$f":"INDEX(【元データ】評価シート!$B$63:$T$114,J131,K131)","v":3},{"$f":"INDEX(【元データ】評価シート!$B$5:$T$56,L131,M131)","v":2},null,{"$f":"MATCH(E131,【元データ】評価シート!$A$63:$A$114,0)","v":28},{"$f":"MATCH(F131,【元データ】評価シート!$B$62:$T$62,0)","v":7},{"$f":"MATCH(E131,【元データ】評価シート!$A$5:$A$56,0)","v":28},{"$f":"MATCH(F131,【元データ】評価シート!$B$4:$T$4,0)","v":7}]
[null,246,1,"ガソリン容器が破損し、引火する","引火性の物","火災",{"$f":"INDEX(【元データ】評価シート!$B$63:$T$114,J132,K132)","v":3},{"$f":"INDEX(【元データ】評価シート!$B$5:$T$56,L132,M132)","v":2},null,{"$f":"MATCH(E132,【元データ】評価シート!$A$63:$A$114,0)","v":42},{"$f":"MATCH(F132,【元データ】評価シート!$B$62:$T$62,0)","v":16},{"$f":"MATCH(E132,【元データ】評価シート!$A$5:$A$56,0)","v":42},{"$f":"MATCH(F132,【元データ】評価シート!$B$4:$T$4,0)","v":16}]
[null,247,1,"軽油が漏洩し、引火する","引火性の物","火災",{"$f":"INDEX(【元データ】評価シート!$B$63:$T$114,J133,K133)","v":3},{"$f":"INDEX(【元データ】評価シート!$B$5:$T$56,L133,M133)","v":2},null,{"$f":"MATCH(E133,【元データ】評価シート!$A$63:$A$114,0)","v":42},{"$f":"MATCH(F133,【元データ】評価シート!$B$62:$T$62,0)","v":16},{"$f":"MATCH(E133,【元データ】評価シート!$A$5:$A$56,0)","v":42},{"$f":"MATCH(F133,【元データ】評価シート!$B$4:$T$4,0)","v":16}]

{"sheet":"型枠大工","index":3,"n_rows":87,"n_cols":13,"rows_kept":87,"cut":false,"hidden":false,"merged":[[0,1,0,2]]}
[null,"工種区分"]
["工種コード",null,"型枠大工","危険ポイント","起因物","事故型","可能性","重大性"]
[206010,2,1,"溶接時、火花が飛散する","アーク溶接装置","火災",{"$f":"INDEX(【元データ】評価シート!$B$63:$T$114,J3,K3)","v":2},{"$f":"INDEX(【元データ】評価シート!$B$5:$T$56,L3,M3)","v":2},null,{"$f":"MATCH(E3,【元データ】評価シート!$A$63:$A$114,0)","v":25},{"$f":"MATCH(F3,【元データ】評価シート!$B$62:$T$62,0)","v":16},{"$f":"MATCH(E3,【元データ】評価シート!$A$5:$A$56,0)","v":25},{"$f":"MATCH(F3,【元データ】評価シート!$B$4:$T$4,0)","v":16}]
[109010,5,1,"溶接部で火傷する","アーク溶接装置","高温低温物との接触",{"$f":"INDEX(【元データ】評価シート!$B$63:$T$114,J4,K4)","v":3},{"$f":"INDEX(【元データ】評価シート!$B$5:$T$56,L4,M4)","v":2},null,{"$f":"MATCH(E4,【元データ】評価シート!$A$63:$A$114,0)","v":25},{"$f":"MATCH(F4,【元データ】評価シート!$B$62:$T$62,0)","v":11},{"$f":"MATCH(E4,【元データ】評価シート!$A$5:$A$56,0)","v":25},{"$f":"MATCH(F4,【元データ】評価シート!$B$4:$T$4,0)","v":11}]
[101010,7,1,"立馬で材料荷渡しや作業時に転落する","足場","墜落・転落",{"$f":"INDEX(【元データ】評価シート!$B$63:$T$114,J5,K5)","v":5},{"$f":"INDEX(【元データ】評価シート!$B$5:$T$56,L5,M5)","v":5},null,{"$f":"MATCH(E5,【元データ】評価シート!$A$63:$A$114,0)","v":34},{"$f":"MATCH(F5,【元データ】評価シート!$B$62:$T$62,0)","v":1},{"$f":"MATCH(E5,【元データ】評価シート!$A$5:$A$56,0)","v":34},{"$f":"MATCH(F5,【元データ】評価シート!$B$4:$T$4,0)","v":1}]
[101010,8,1,"立馬の脚が段差・床スリーブにはまり、または縮んで転落・転倒する","足場","墜落・転落",{"$f":"INDEX(【元データ】評価シート!$B$63:$T$114,J6,K6)","v":5},{"$f":"INDEX(【元データ】評価シート!$B$5:$T$56,L6,M6)","v":5},null,{"$f":"MATCH(E6,【元データ】評価シート!$A$63:$A$114,0)","v":34},{"$f":"MATCH(F6,【元データ】評価シート!$B$62:$T$62,0)","v":1},{"$f":"MATCH(E6,【元データ】評価シート!$A$5:$A$56,0)","v":34},{"$f":"MATCH(F6,【元データ】評価シート!$B$4:$T$4,0)","v":1}]
[101010,9,1,"立馬から降りる時に踏み外して転落する","足場","踏み抜き",{"$f":"INDEX(【元データ】評価シート!$B$63:$T$114,J7,K7)","v":1},{"$f":"INDEX(【元データ】評価シート!$B$5:$T$56,L7,M7)","v":1},null,{"$f":"MATCH(E7,【元データ】評価シート!$A$63:$A$114,0)","v":34},{"$f":"MATCH(F7,【元データ】評価シート!$B$62:$T$62,0)","v":9},{"$f":"MATCH(E7,【元データ】評価シート!$A$5:$A$56,0)","v":34},{"$f":"MATCH(F7,【元データ】評価シート!$B$4:$T$4,0)","v":9}]
[706010,10,1,"梯子作業中バランスを崩して転落する","はしご等","墜落・転落",{"$f":"INDEX(【元データ】評価シート!$B$63:$T$114,J8,K8)","v":5},{"$f":"INDEX(【元データ】評価シート!$B$5:$T$56,L8,M8)","v":5},null,{"$f":"MATCH(E8,【元データ】評価シート!$A$63:$A$114,0)","v":32},{"$f":"MATCH(F8,【元データ】評価シート!$B$62:$T$62,0)","v":1},{"$f":"MATCH(E8,【元データ】評価シート!$A$5:$A$56,0)","v":32},{"$f":"MATCH(F8,【元データ】評価シート!$B$4:$T$4,0)","v":1}]
[105010,11,1,"足場使用時、足場から墜落する","足場","墜落・転落",{"$f":"INDEX(【元データ】評価シート!$B$63:$T$114,J9,K9)","v":5},{"$f":"INDEX(【元データ】評価シート!$B$5:$T$56,L9,M9)","v":5},null,{"$f":"MATCH(E9,【元データ】評価シート!$A$63:$A$114,0)","v":34},{"$f":"MATCH(F9,【元データ】評価シート!$B$62:$T$62,0)","v":1},{"$f":"MATCH(E9,【元データ】評価シート!$A$5:$A$56,0)","v":34},{"$f":"MATCH(F9,【元データ】評価シート!$B$4:$T$4,0)","v":1}]
[105010,12,1,"足場の隙間から墜落する","足場","墜落・転落",{"$f":"INDEX(【元データ】評価シート!$B$63:$T$114,J10,K10)","v":5},{"$f":"INDEX(【元データ】評価シート!$B$5:$T$56,L10,M10)","v":5},null,{"$f":"MATCH(E10,【元データ】評価シート!$A$63:$A$114,0)","v":34},{"$f":"MATCH(F10,【元データ】評価シート!$B$62:$T$62,0)","v":1},{"$f":"MATCH(E10,【元データ】評価シート!$A$5:$A$56,0)","v":34},{"$f":"MATCH(F10,【元データ】評価シート!$B$4:$T$4,0)","v":1}]
[203010,14,1,"足場板を固定する際、足場板の天ビンにより墜落する","足場","踏み抜き",{"$f":"INDEX(【元データ】評価シート!$B$63:$T$114,J11,K11)","v":1},{"$f":"INDEX(【元データ】評価シート!$B$5:$T$56,L11,M11)","v":1},null,{"$f":"MATCH(E11,【元データ】評価シート!$A$63:$A$114,0)","v":34},{"$f":"MATCH(F11,【元データ】評価シート!$B$62:$T$62,0)","v":9},{"$f":"MATCH(E11,【元データ】評価シート!$A$5:$A$56,0)","v":34},{"$f":"MATCH(F11,【元データ】評価シート!$B$4:$T$4,0)","v":9}]
[402020,15,1,"立馬上で作業中突風にあおられ材料と共に転落する","足場","墜落・転落",{"$f":"INDEX(【元データ】評価シート!$B$63:$T$114,J12,K12)","v":5},{"$f":"INDEX(【元データ】評価シート!$B$5:$T$56,L12,M12)","v":5},null,{"$f":"MATCH(E12,【元データ】評価シート!$A$63:$A$114,0)","v":34},{"$f":"MATCH(F12,【元データ】評価シート!$B$62:$T$62,0)","v":1},{"$f":"MATCH(E12,【元データ】評価シート!$A$5:$A$56,0)","v":34},{"$f":"MATCH(F12,【元データ】評価シート!$B$4:$T$4,0)","v":1}]
[402020,16,1,"型枠建込み時、立馬から転落する","足場","墜落・転落",{"$f":"INDEX(【元データ】評価シート!$B$63:$T$114,J13,K13)","v":5},{"$f":"INDEX(【元データ】評価シート!$B$5:$T$56,L13,M13)","v":5},null,{"$f":"MATCH(E13,【元データ】評価シート!$A$63:$A$114,0)","v":34},{"$f":"MATCH(F13,【元データ】評価シート!$B$62:$T$62,0)","v":1},{"$f":"MATCH(E13,【元データ】評価シート!$A$5:$A$56,0)","v":34},{"$f":"MATCH(F13,【元データ】評価シート!$B$4:$T$4,0)","v":1}]
[402030,17,1,"足場の中桟に足を掛け作業中、中桟が外れて転落する","足場","墜落・転落",{"$f":"INDEX(【元データ】評価シート!$B$63:$T$114,J14,K14)","v":5},{"$f":"INDEX(【元データ】評価シート!$B$5:$T$56,L14,M14)","v":5},null,{"$f":"MATCH(E14,【元データ】評価シート!$A$63:$A$114,0)","v":34},{"$f":"MATCH(F14,【元データ】評価シート!$B$62:$T$62,0)","v":1},{"$f":"MATCH(E14,【元データ】評価シート!$A$5:$A$56,0)","v":34},{"$f":"MATCH(F14,【元データ】評価シート!$B$4:$T$4,0)","v":1}]
[105010,21,1,"足場上で躓いて転倒する","足場","転倒",{"$f":"INDEX(【元データ】評価シート!$B$63:$T$114,J15,K15)","v":1},{"$f":"INDEX(【元データ】評価シート!$B$5:$T$56,L15,M15)","v":2},null,{"$f":"MATCH(E15,【元データ】評価シート!$A$63:$A$114,0)","v":34},{"$f":"MATCH(F15,【元データ】評価シート!$B$62:$T$62,0)","v":2},{"$f":"MATCH(E15,【元データ】評価シート!$A$5:$A$56,0)","v":34},{"$f":"MATCH(F15,【元データ】評価シート!$B$4:$T$4,0)","v":2}]
[402020,23,1,"布板昇降ハッチの蓋が閉まり手を詰める","足場","はさまれ・巻き込まれ",{"$f":"INDEX(【元データ】評価シート!$B$63:$T$114,J16,K16)","v":2},{"$f":"INDEX(【元データ】評価シート!$B$5:$T$56,L16,M16)","v":2},null,{"$f":"MATCH(E16,【元データ】評価シート!$A$63:$A$114,0)","v":34},{"$f":"MATCH(F16,【元データ】評価シート!$B$62:$T$62,0)","v":7},{"$f":"MATCH(E16,【元データ】評価シート!$A$5:$A$56,0)","v":34},{"$f":"MATCH(F16,【元データ】評価シート!$B$4:$T$4,0)","v":7}]
[105010,24,1,"足場使用時、足場から材料等を落下させる","足場","飛来・落下",{"$f":"INDEX(【元データ】評価シート!$B$63:$T$114,J17,K17)","v":2},{"$f":"INDEX(【元データ】評価シート!$B$5:$T$56,L17,M17)","v":2},null,{"$f":"MATCH(E17,【元データ】評価シート!$A$63:$A$114,0)","v":34},{"$f":"MATCH(F17,【元データ】評価シート!$B$62:$T$62,0)","v":4},{"$f":"MATCH(E17,【元データ】評価シート!$A$5:$A$56,0)","v":34},{"$f":"MATCH(F17,【元データ】評価シート!$B$4:$T$4,0)","v":4}]
[404020,35,1,"吊荷が強風であおられる","異常環境等","飛来・落下",{"$f":"INDEX(【元データ】評価シート!$B$63:$T$114,J18,K18)","v":1},{"$f":"INDEX(【元データ】評価シート!$B$5:$T$56,L18,M18)","v":1},null,{"$f":"MATCH(E18,【元データ】評価シート!$A$63:$A$114,0)","v":51},{"$f":"MATCH(F18,【元データ】評価シート!$B$62:$T$62,0)","v":4},{"$f":"MATCH(E18,【元データ】評価シート!$A$5:$A$56,0)","v":51},{"$f":"MATCH(F18,【元データ】評価シート!$B$4:$T$4,0)","v":4}]
[108010,36,1,"クレーン使用時、資材を既存物にぶつける","移動式クレーン","激突",{"$f":"INDEX(【元データ】評価シート!$B$63:$T$114,J19,K19)","v":1},{"$f":"INDEX(【元データ】評価シート!$B$5:$T$56,L19,M19)","v":2},null,{"$f":"MATCH(E19,【元データ】評価シート!$A$63:$A$114,0)","v":13},{"$f":"MATCH(F19,【元データ】評価シート!$B$62:$T$62,0)","v":3},{"$f":"MATCH(E19,【元データ】評価シート!$A$5:$A$56,0)","v":13},{"$f":"MATCH(F19,【元データ】評価シート!$B$4:$T$4,0)","v":3}]
[110010,37,1,"ユニック作業中誤作動にて吊荷が振れて負傷する","移動式クレーン","激突され",{"$f":"INDEX(【元データ】評価シート!$B$63:$T$114,J20,K20)","v":3},{"$f":"INDEX(【元データ】評価シート!$B$5:$T$56,L20,M20)","v":3},null,{"$f":"MATCH(E20,【元データ】評価シート!$A$63:$A$114,0)","v":13},{"$f":"MATCH(F20,【元データ】評価シート!$B$62:$T$62,0)","v":6},{"$f":"MATCH(E20,【元データ】評価シート!$A$5:$A$56,0)","v":13},{"$f":"MATCH(F20,【元データ】評価シート!$B$4:$T$4,0)","v":6}]
[108010,38,1,"ブーム組立時、高所から転落する","移動式クレーン","墜落・転落",{"$f":"INDEX(【元データ】評価シート!$B$63:$T$114,J21,K21)","v":4},{"$f":"INDEX(【元データ】評価シート!$B$5:$T$56,L21,M21)","v":4},null,{"$f":"MATCH(E21,【元データ】評価シート!$A$63:$A$114,0)","v":13},{"$f":"MATCH(F21,【元データ】評価シート!$B$62:$T$62,0)","v":1},{"$f":"MATCH(E21,【元データ】評価シート!$A$5:$A$56,0)","v":13},{"$f":"MATCH(F21,【元データ】評価シート!$B$4:$T$4,0)","v":1}]
[401020,39,1,"ブームをたたむ時、荷台から転落する","移動式クレーン","墜落・転落",{"$f":"INDEX(【元データ】評価シート!$B$63:$T$114,J22,K22)","v":4},{"$f":"INDEX(【元データ】評価シート!$B$5:$T$56,L22,M22)","v":4},null,{"$f":"MATCH(E22,【元データ】評価シート!$A$63:$A$114,0)","v":13},{"$f":"MATCH(F22,【元データ】評価シート!$B$62:$T$62,0)","v":1},{"$f":"MATCH(E22,【元データ】評価シート!$A$5:$A$56,0)","v":13},{"$f":"MATCH(F22,【元データ】評価シート!$B$4:$T$4,0)","v":1}]
[108010,41,1,"揚重機組立時、手･足を挟まれる","移動式クレーン","はさまれ・巻き込まれ",{"$f":"INDEX(【元データ】評価シート!$B$63:$T$114,J23,K23)","v":3},{"$f":"INDEX(【元データ】評価シート!$B$5:$T$56,L23,M23)","v":3},null,{"$f":"MATCH(E23,【元データ】評価シート!$A$63:$A$114,0)","v":13},{"$f":"MATCH(F23,【元データ】評価シート!$B$62:$T$62,0)","v":7},{"$f":"MATCH(E23,【元データ】評価シート!$A$5:$A$56,0)","v":13},{"$f":"MATCH(F23,【元データ】評価シート!$B$4:$T$4,0)","v":7}]
[401020,42,1,"ブームをたたむ時、手を挟む","移動式クレーン","はさまれ・巻き込まれ",{"$f":"INDEX(【元データ】評価シート!$B$63:$T$114,J24,K24)","v":3},{"$f":"INDEX(【元データ】評価シート!$B$5:$T$56,L24,M24)","v":3},null,{"$f":"MATCH(E24,【元データ】評価シート!$A$63:$A$114,0)","v":13},{"$f":"MATCH(F24,【元データ】評価シート!$B$62:$T$62,0)","v":7},{"$f":"MATCH(E24,【元データ】評価シート!$A$5:$A$56,0)","v":13},{"$f":"MATCH(F24,【元データ】評価シート!$B$4:$T$4,0)","v":7}]
[102010,43,1,"吊荷時、搬入車輛（ユニック車)が転倒する","移動式クレーン","崩壊・倒壊",{"$f":"INDEX(【元データ】評価シート!$B$63:$T$114,J25,K25)","v":3},{"$f":"INDEX(【元データ】評価シート!$B$5:$T$56,L25,M25)","v":2},null,{"$f":"MATCH(E25,【元データ】評価シート!$A$63:$A$114,0)","v":13},{"$f":"MATCH(F25,【元データ】評価シート!$B$62:$T$62,0)","v":5},{"$f":"MATCH(E25,【元データ】評価シート!$A$5:$A$56,0)","v":13},{"$f":"MATCH(F25,【元データ】評価シート!$B$4:$T$4,0)","v":5}]
[108010,44,1,"揚重機が転倒する","移動式クレーン","崩壊・倒壊",{"$f":"INDEX(【元データ】評価シート!$B$63:$T$114,J26,K26)","v":3},{"$f":"INDEX(【元データ】評価シート!$B$5:$T$56,L26,M26)","v":2},null,{"$f":"MATCH(E26,【元データ】評価シート!$A$63:$A$114,0)","v":13},{"$f":"MATCH(F26,【元データ】評価シート!$B$62:$T$62,0)","v":5},{"$f":"MATCH(E26,【元データ】評価シート!$A$5:$A$56,0)","v":13},{"$f":"MATCH(F26,【元データ】評価シート!$B$4:$T$4,0)","v":5}]
[110010,45,1,"資材荷吊り時アウトリガー下地盤が沈下しユニック車が転倒する","移動式クレーン","崩壊・倒壊",{"$f":"INDEX(【元データ】評価シート!$B$63:$T$114,J27,K27)","v":3},{"$f":"INDEX(【元データ】評価シート!$B$5:$T$56,L27,M27)","v":2},null,{"$f":"MATCH(E27,【元データ】評価シート!$A$63:$A$114,0)","v":13},{"$f":"MATCH(F27,【元データ】評価シート!$B$62:$T$62,0)","v":5},{"$f":"MATCH(E27,【元データ】評価シート!$A$5:$A$56,0)","v":13},{"$f":"MATCH(F27,【元データ】評価シート!$B$4:$T$4,0)","v":5}]
[110010,46,1,"資材荷吊り時過過重になりユニック車が転倒する","移動式クレーン","崩壊・倒壊",{"$f":"INDEX(【元データ】評価シート!$B$63:$T$114,J28,K28)","v":3},{"$f":"INDEX(【元データ】評価シート!$B$5:$T$56,L28,M28)","v":2},null,{"$f":"MATCH(E28,【元データ】評価シート!$A$63:$A$114,0)","v":13},{"$f":"MATCH(F28,【元データ】評価シート!$B$62:$T$62,0)","v":5},{"$f":"MATCH(E28,【元データ】評価シート!$A$5:$A$56,0)","v":13},{"$f":"MATCH(F28,【元データ】評価シート!$B$4:$T$4,0)","v":5}]
[401010,52,1,"昇降設備を使用せずに墜落する","開口部","墜落・転落",{"$f":"INDEX(【元データ】評価シート!$B$63:$T$114,J29,K29)","v":5},{"$f":"INDEX(【元データ】評価シート!$B$5:$T$56,L29,M29)","v":4},null,{"$f":"MATCH(E29,【元データ】評価シート!$A$63:$A$114,0)","v":37},{"$f":"MATCH(F29,【元データ】評価シート!$B$62:$T$62,0)","v":1},{"$f":"MATCH(E29,【元データ】評価シート!$A$5:$A$56,0)","v":37},{"$f":"MATCH(F29,【元データ】評価シート!$B$4:$T$4,0)","v":1}]
[401010,53,1,"物を取ろうと足場に足を掛け滑って転落する","開口部","墜落・転落",{"$f":"INDEX(【元データ】評価シート!$B$63:$T$114,J30,K30)","v":5},{"$f":"INDEX(【元データ】評価シート!$B$5:$T$56,L30,M30)","v":4},null,{"$f":"MATCH(E30,【元データ】評価シート!$A$63:$A$114,0)","v":37},{"$f":"MATCH(F30,【元データ】評価シート!$B$62:$T$62,0)","v":1},{"$f":"MATCH(E30,【元データ】評価シート!$A$5:$A$56,0)","v":37},{"$f":"MATCH(F30,【元データ】評価シート!$B$4:$T$4,0)","v":1}]
[401010,54,1,"足場の隙間から墜落する","開口部","墜落・転落",{"$f":"INDEX(【元データ】評価シート!$B$63:$T$114,J31,K31)","v":5},{"$f":"INDEX(【元データ】評価シート!$B$5:$T$56,L31,M31)","v":4},null,{"$f":"MATCH(E31,【元データ】評価シート!$A$63:$A$114,0)","v":37},{"$f":"MATCH(F31,【元データ】評価シート!$B$62:$T$62,0)","v":1},{"$f":"MATCH(E31,【元データ】評価シート!$A$5:$A$56,0)","v":37},{"$f":"MATCH(F31,【元データ】評価シート!$B$4:$T$4,0)","v":1}]
[401010,55,1,"梁天端から転落する","開口部","墜落・転落",{"$f":"INDEX(【元データ】評価シート!$B$63:$T$114,J32,K32)","v":5},{"$f":"INDEX(【元データ】評価シート!$B$5:$T$56,L32,M32)","v":4},null,{"$f":"MATCH(E32,【元データ】評価シート!$A$63:$A$114,0)","v":37},{"$f":"MATCH(F32,【元データ】評価シート!$B$62:$T$62,0)","v":1},{"$f":"MATCH(E32,【元データ】評価シート!$A$5:$A$56,0)","v":37},{"$f":"MATCH(F32,【元データ】評価シート!$B$4:$T$4,0)","v":1}]
[402020,57,1,"荷上げで開口部から墜落する","開口部","墜落・転落",{"$f":"INDEX(【元データ】評価シート!$B$63:$T$114,J33,K33)","v":5},{"$f":"INDEX(【元データ】評価シート!$B$5:$T$56,L33,M33)","v":4},null,{"$f":"MATCH(E33,【元データ】評価シート!$A$63:$A$114,0)","v":37},{"$f":"MATCH(F33,【元データ】評価シート!$B$62:$T$62,0)","v":1},{"$f":"MATCH(E33,【元データ】評価シート!$A$5:$A$56,0)","v":37},{"$f":"MATCH(F33,【元データ】評価シート!$B$4:$T$4,0)","v":1}]
[203030,63,1,"梁上移動時、工具等が落下する","開口部","飛来・落下",{"$f":"INDEX(【元データ】評価シート!$B$63:$T$114,J34,K34)","v":1},{"$f":"INDEX(【元データ】評価シート!$B$5:$T$56,L34,M34)","v":1},null,{"$f":"MATCH(E34,【元データ】評価シート!$A$63:$A$114,0)","v":37},{"$f":"MATCH(F34,【元データ】評価シート!$B$62:$T$62,0)","v":4},{"$f":"MATCH(E34,【元データ】評価シート!$A$5:$A$56,0)","v":37},{"$f":"MATCH(F34,【元データ】評価シート!$B$4:$T$4,0)","v":4}]
[105010,67,1,"作業場所移動時、外部足場の階段で足が滑り転倒する","階段、桟橋","転倒",{"$f":"INDEX(【元データ】評価シート!$B$63:$T$114,J35,K35)","v":3},{"$f":"INDEX(【元データ】評価シート!$B$5:$T$56,L35,M35)","v":3},null,{"$f":"MATCH(E35,【元データ】評価シート!$A$63:$A$114,0)","v":36},{"$f":"MATCH(F35,【元データ】評価シート!$B$62:$T$62,0)","v":2},{"$f":"MATCH(E35,【元データ】評価シート!$A$5:$A$56,0)","v":36},{"$f":"MATCH(F35,【元データ】評価シート!$B$4:$T$4,0)","v":2}]
[402020,68,1,"手摺壁に足をかける際、足が滑り転倒する","階段、桟橋","転倒",{"$f":"INDEX(【元データ】評価シート!$B$63:$T$114,J36,K36)","v":3},{"$f":"INDEX(【元データ】評価シート!$B$5:$T$56,L36,M36)","v":3},null,{"$f":"MATCH(E36,【元データ】評価シート!$A$63:$A$114,0)","v":36},{"$f":"MATCH(F36,【元データ】評価シート!$B$62:$T$62,0)","v":2},{"$f":"MATCH(E36,【元データ】評価シート!$A$5:$A$56,0)","v":36},{"$f":"MATCH(F36,【元データ】評価シート!$B$4:$T$4,0)","v":2}]
[402050,69,1,"地中梁を乗り越える時に手足を負傷する","階段、桟橋","転倒",{"$f":"INDEX(【元データ】評価シート!$B$63:$T$114,J37,K37)","v":3},{"$f":"INDEX(【元データ】評価シート!$B$5:$T$56,L37,M37)","v":3},null,{"$f":"MATCH(E37,【元データ】評価シート!$A$63:$A$114,0)","v":36},{"$f":"MATCH(F37,【元データ】評価シート!$B$62:$T$62,0)","v":2},{"$f":"MATCH(E37,【元データ】評価シート!$A$5:$A$56,0)","v":36},{"$f":"MATCH(F37,【元データ】評価シート!$B$4:$T$4,0)","v":2}]
[402050,81,1,"小払し中、型枠材の釘が手に刺さる","金属材料","切れ・こすれ",{"$f":"INDEX(【元データ】評価シート!$B$63:$T$114,J38,K38)","v":2},{"$f":"INDEX(【元データ】評価シート!$B$5:$T$56,L38,M38)","v":2},null,{"$f":"MATCH(E38,【元データ】評価シート!$A$63:$A$114,0)","v":45},{"$f":"MATCH(F38,【元データ】評価シート!$B$62:$T$62,0)","v":8},{"$f":"MATCH(E38,【元データ】評価シート!$A$5:$A$56,0)","v":45},{"$f":"MATCH(F38,【元データ】評価シート!$B$4:$T$4,0)","v":8}]
[402050,82,1,"金物くさび取外し時、はねて目にあたり負傷する","金属材料","切れ・こすれ",{"$f":"INDEX(【元データ】評価シート!$B$63:$T$114,J39,K39)","v":2},{"$f":"INDEX(【元データ】評価シート!$B$5:$T$56,L39,M39)","v":2},null,{"$f":"MATCH(E39,【元データ】評価シート!$A$63:$A$114,0)","v":45},{"$f":"MATCH(F39,【元データ】評価シート!$B$62:$T$62,0)","v":8},{"$f":"MATCH(E39,【元データ】評価シート!$A$5:$A$56,0)","v":45},{"$f":"MATCH(F39,【元データ】評価シート!$B$4:$T$4,0)","v":8}]
[402050,83,1,"鋼管荷渡し時、手を挟む","金属材料","切れ・こすれ",{"$f":"INDEX(【元データ】評価シート!$B$63:$T$114,J40,K40)","v":2},{"$f":"INDEX(【元データ】評価シート!$B$5:$T$56,L40,M40)","v":2},null,{"$f":"MATCH(E40,【元データ】評価シート!$A$63:$A$114,0)","v":45},{"$f":"MATCH(F40,【元データ】評価シート!$B$62:$T$62,0)","v":8},{"$f":"MATCH(E40,【元データ】評価シート!$A$5:$A$56,0)","v":45},{"$f":"MATCH(F40,【元データ】評価シート!$B$4:$T$4,0)","v":8}]
[402070,84,1,"差筋で足を切る","金属材料","切れ・こすれ",{"$f":"INDEX(【元データ】評価シート!$B$63:$T$114,J41,K41)","v":2},{"$f":"INDEX(【元データ】評価シート!$B$5:$T$56,L41,M41)","v":2},null,{"$f":"MATCH(E41,【元データ】評価シート!$A$63:$A$114,0)","v":45},{"$f":"MATCH(F41,【元データ】評価シート!$B$62:$T$62,0)","v":8},{"$f":"MATCH(E41,【元データ】評価シート!$A$5:$A$56,0)","v":45},{"$f":"MATCH(F41,【元データ】評価シート!$B$4:$T$4,0)","v":8}]
[101010,85,1,"長尺物を振り回す際、作業員にぶつける","金属材料","激突",{"$f":"INDEX(【元データ】評価シート!$B$63:$T$114,J42,K42)","v":2},{"$f":"INDEX(【元データ】評価シート!$B$5:$T$56,L42,M42)","v":2},null,{"$f":"MATCH(E42,【元データ】評価シート!$A$63:$A$114,0)","v":45},{"$f":"MATCH(F42,【元データ】評価シート!$B$62:$T$62,0)","v":3},{"$f":"MATCH(E42,【元データ】評価シート!$A$5:$A$56,0)","v":45},{"$f":"MATCH(F42,【元データ】評価シート!$B$4:$T$4,0)","v":3}]
[202010,86,1,"資材にあたって負傷する","金属材料","激突",{"$f":"INDEX(【元データ】評価シート!$B$63:$T$114,J43,K43)","v":2},{"$f":"INDEX(【元データ】評価シート!$B$5:$T$56,L43,M43)","v":2},null,{"$f":"MATCH(E43,【元データ】評価シート!$A$63:$A$114,0)","v":45},{"$f":"MATCH(F43,【元データ】評価シート!$B$62:$T$62,0)","v":3},{"$f":"MATCH(E43,【元データ】評価シート!$A$5:$A$56,0)","v":45},{"$f":"MATCH(F43,【元データ】評価シート!$B$4:$T$4,0)","v":3}]
[202010,87,1,"単管パイプを受け取る際、バランスを崩して転倒する","金属材料","転倒",{"$f":"INDEX(【元データ】評価シート!$B$63:$T$114,J44,K44)","v":2},{"$f":"INDEX(【元データ】評価シート!$B$5:$T$56,L44,M44)","v":2},null,{"$f":"MATCH(E44,【元データ】評価シート!$A$63:$A$114,0)","v":45},{"$f":"MATCH(F44,【元データ】評価シート!$B$62:$T$62,0)","v":2},{"$f":"MATCH(E44,【元データ】評価シート!$A$5:$A$56,0)","v":45},{"$f":"MATCH(F44,【元データ】評価シート!$B$4:$T$4,0)","v":2}]
[202010,90,1,"単管パイプとクランプで指を挟む","金属材料","はさまれ・巻き込まれ",{"$f":"INDEX(【元データ】評価シート!$B$63:$T$114,J45,K45)","v":4},{"$f":"INDEX(【元データ】評価シート!$B$5:$T$56,L45,M45)","v":3},null,{"$f":"MATCH(E45,【元データ】評価シート!$A$63:$A$114,0)","v":45},{"$f":"MATCH(F45,【元データ】評価シート!$B$62:$T$62,0)","v":7},{"$f":"MATCH(E45,【元データ】評価シート!$A$5:$A$56,0)","v":45},{"$f":"MATCH(F45,【元データ】評価シート!$B$4:$T$4,0)","v":7}]
[202010,95,1,"資材受渡し時、手が滑り、落下する","金属材料","飛来・落下",{"$f":"INDEX(【元データ】評価シート!$B$63:$T$114,J46,K46)","v":5},{"$f":"INDEX(【元データ】評価シート!$B$5:$T$56,L46,M46)","v":3},null,{"$f":"MATCH(E46,【元データ】評価シート!$A$63:$A$114,0)","v":45},{"$f":"MATCH(F46,【元データ】評価シート!$B$62:$T$62,0)","v":4},{"$f":"MATCH(E46,【元データ】評価シート!$A$5:$A$56,0)","v":45},{"$f":"MATCH(F46,【元データ】評価シート!$B$4:$T$4,0)","v":4}]
[402020,100,1,"打ち損じた釘が目にあたる","金属材料","有害物等との接触",{"$f":"INDEX(【元データ】評価シート!$B$63:$T$114,J47,K47)","v":1},{"$f":"INDEX(【元データ】評価シート!$B$5:$T$56,L47,M47)","v":1},null,{"$f":"MATCH(E47,【元データ】評価シート!$A$63:$A$114,0)","v":45},{"$f":"MATCH(F47,【元データ】評価シート!$B$62:$T$62,0)","v":12},{"$f":"MATCH(E47,【元データ】評価シート!$A$5:$A$56,0)","v":45},{"$f":"MATCH(F47,【元データ】評価シート!$B$4:$T$4,0)","v":12}]
[101010,105,1,"揚重作業時クレーンが転倒する","クレーン","転倒",{"$f":"INDEX(【元データ】評価シート!$B$63:$T$114,J48,K48)","v":1},{"$f":"INDEX(【元データ】評価シート!$B$5:$T$56,L48,M48)","v":2},null,{"$f":"MATCH(E48,【元データ】評価シート!$A$63:$A$114,0)","v":12},{"$f":"MATCH(F48,【元データ】評価シート!$B$62:$T$62,0)","v":2},{"$f":"MATCH(E48,【元データ】評価シート!$A$5:$A$56,0)","v":12},{"$f":"MATCH(F48,【元データ】評価シート!$B$4:$T$4,0)","v":2}]
[403030,118,1,"型枠建込み時、足場から墜落する","作業床","はさまれ・巻き込まれ",{"$f":"INDEX(【元データ】評価シート!$B$63:$T$114,J49,K49)","v":2},{"$f":"INDEX(【元データ】評価シート!$B$5:$T$56,L49,M49)","v":2},null,{"$f":"MATCH(E49,【元データ】評価シート!$A$63:$A$114,0)","v":39},{"$f":"MATCH(F49,【元データ】評価シート!$B$62:$T$62,0)","v":7},{"$f":"MATCH(E49,【元データ】評価シート!$A$5:$A$56,0)","v":39},{"$f":"MATCH(F49,【元データ】評価シート!$B$4:$T$4,0)","v":7}]
[402020,119,1,"支保工が解体された持出しｽﾗﾌﾞ型枠に乗り墜落する","支保工","墜落・転落",{"$f":"INDEX(【元データ】評価シート!$B$63:$T$114,J50,K50)","v":3},{"$f":"INDEX(【元データ】評価シート!$B$5:$T$56,L50,M50)","v":3},null,{"$f":"MATCH(E50,【元データ】評価シート!$A$63:$A$114,0)","v":35},{"$f":"MATCH(F50,【元データ】評価シート!$B$62:$T$62,0)","v":1},{"$f":"MATCH(E50,【元データ】評価シート!$A$5:$A$56,0)","v":35},{"$f":"MATCH(F50,【元データ】評価シート!$B$4:$T$4,0)","v":1}]
[402060,120,1,"打設後鉄筋水洗い時に足を乗せたサポートが外れて転倒する","支保工","墜落・転落",{"$f":"INDEX(【元データ】評価シート!$B$63:$T$114,J51,K51)","v":3},{"$f":"INDEX(【元データ】評価シート!$B$5:$T$56,L51,M51)","v":3},null,{"$f":"MATCH(E51,【元データ】評価シート!$A$63:$A$114,0)","v":35},{"$f":"MATCH(F51,【元データ】評価シート!$B$62:$T$62,0)","v":1},{"$f":"MATCH(E51,【元データ】評価シート!$A$5:$A$56,0)","v":35},{"$f":"MATCH(F51,【元データ】評価シート!$B$4:$T$4,0)","v":1}]
[401010,121,1,"パイプサポートが倒れて負傷する","支保工","転倒",{"$f":"INDEX(【元データ】評価シート!$B$63:$T$114,J52,K52)","v":1},{"$f":"INDEX(【元データ】評価シート!$B$5:$T$56,L52,M52)","v":2},null,{"$f":"MATCH(E52,【元データ】評価シート!$A$63:$A$114,0)","v":35},{"$f":"MATCH(F52,【元データ】評価シート!$B$62:$T$62,0)","v":2},{"$f":"MATCH(E52,【元データ】評価シート!$A$5:$A$56,0)","v":35},{"$f":"MATCH(F52,【元データ】評価シート!$B$4:$T$4,0)","v":2}]
[402020,122,1,"ﾊﾟｲﾌﾟｻﾎﾟｰﾄ受け渡し時上部サポートが抜けて負傷する","支保工","はさまれ・巻き込まれ",{"$f":"INDEX(【元データ】評価シート!$B$63:$T$114,J53,K53)","v":1},{"$f":"INDEX(【元データ】評価シート!$B$5:$T$56,L53,M53)","v":2},null,{"$f":"MATCH(E53,【元データ】評価シート!$A$63:$A$114,0)","v":35},{"$f":"MATCH(F53,【元データ】評価シート!$B$62:$T$62,0)","v":7},{"$f":"MATCH(E53,【元データ】評価シート!$A$5:$A$56,0)","v":35},{"$f":"MATCH(F53,【元データ】評価シート!$B$4:$T$4,0)","v":7}]
[402050,123,1,"大形型枠脱型時クレーンで吊上げた際に落下し負傷する","支保工","はさまれ・巻き込まれ",{"$f":"INDEX(【元データ】評価シート!$B$63:$T$114,J54,K54)","v":1},{"$f":"INDEX(【元データ】評価シート!$B$5:$T$56,L54,M54)","v":2},null,{"$f":"MATCH(E54,【元データ】評価シート!$A$63:$A$114,0)","v":35},{"$f":"MATCH(F54,【元データ】評価シート!$B$62:$T$62,0)","v":7},{"$f":"MATCH(E54,【元データ】評価シート!$A$5:$A$56,0)","v":35},{"$f":"MATCH(F54,【元データ】評価シート!$B$4:$T$4,0)","v":7}]
[402050,124,1,"外壁解体時、誤って型枠を落下させる","支保工","飛来・落下",{"$f":"INDEX(【元データ】評価シート!$B$63:$T$114,J55,K55)","v":2},{"$f":"INDEX(【元データ】評価シート!$B$5:$T$56,L55,M55)","v":2},null,{"$f":"MATCH(E55,【元データ】評価シート!$A$63:$A$114,0)","v":35},{"$f":"MATCH(F55,【元データ】評価シート!$B$62:$T$62,0)","v":4},{"$f":"MATCH(E55,【元データ】評価シート!$A$5:$A$56,0)","v":35},{"$f":"MATCH(F55,【元データ】評価シート!$B$4:$T$4,0)","v":4}]
[402050,125,1,"パイプサポートを緩めた時、根太材が落下して負傷する","支保工","飛来・落下",{"$f":"INDEX(【元データ】評価シート!$B$63:$T$114,J56,K56)","v":2},{"$f":"INDEX(【元データ】評価シート!$B$5:$T$56,L56,M56)","v":2},null,{"$f":"MATCH(E56,【元データ】評価シート!$A$63:$A$114,0)","v":35},{"$f":"MATCH(F56,【元データ】評価シート!$B$62:$T$62,0)","v":4},{"$f":"MATCH(E56,【元データ】評価シート!$A$5:$A$56,0)","v":35},{"$f":"MATCH(F56,【元データ】評価シート!$B$4:$T$4,0)","v":4}]
[402060,126,1,"型枠解体時、目にゴミが入る","支保工","飛来・落下",{"$f":"INDEX(【元データ】評価シート!$B$63:$T$114,J57,K57)","v":2},{"$f":"INDEX(【元データ】評価シート!$B$5:$T$56,L57,M57)","v":2},null,{"$f":"MATCH(E57,【元データ】評価シート!$A$63:$A$114,0)","v":35},{"$f":"MATCH(F57,【元データ】評価シート!$B$62:$T$62,0)","v":4},{"$f":"MATCH(E57,【元データ】評価シート!$A$5:$A$56,0)","v":35},{"$f":"MATCH(F57,【元データ】評価シート!$B$4:$T$4,0)","v":4}]
[401010,135,1,"材料移動時、既存物、隣接建物に接触する","人力運搬機","転倒",{"$f":"INDEX(【元データ】評価シート!$B$63:$T$114,J58,K58)","v":3},{"$f":"INDEX(【元データ】評価シート!$B$5:$T$56,L58,M58)","v":3},null,{"$f":"MATCH(E58,【元データ】評価シート!$A$63:$A$114,0)","v":29},{"$f":"MATCH(F58,【元データ】評価シート!$B$62:$T$62,0)","v":2},{"$f":"MATCH(E58,【元データ】評価シート!$A$5:$A$56,0)","v":29},{"$f":"MATCH(F58,【元データ】評価シート!$B$4:$T$4,0)","v":2}]
[105020,137,1,"溶接治具運搬時、足場に手をぶつけて負傷する","人力運搬機","激突",{"$f":"INDEX(【元データ】評価シート!$B$63:$T$114,J59,K59)","v":2},{"$f":"INDEX(【元データ】評価シート!$B$5:$T$56,L59,M59)","v":2},null,{"$f":"MATCH(E59,【元データ】評価シート!$A$63:$A$114,0)","v":29},{"$f":"MATCH(F59,【元データ】評価シート!$B$62:$T$62,0)","v":3},{"$f":"MATCH(E59,【元データ】評価シート!$A$5:$A$56,0)","v":29},{"$f":"MATCH(F59,【元データ】評価シート!$B$4:$T$4,0)","v":3}]
[403050,138,1,"材料運搬時、躓いて転倒する","人力運搬機","激突",{"$f":"INDEX(【元データ】評価シート!$B$63:$T$114,J60,K60)","v":2},{"$f":"INDEX(【元データ】評価シート!$B$5:$T$56,L60,M60)","v":2},null,{"$f":"MATCH(E60,【元データ】評価シート!$A$63:$A$114,0)","v":29},{"$f":"MATCH(F60,【元データ】評価シート!$B$62:$T$62,0)","v":3},{"$f":"MATCH(E60,【元データ】評価シート!$A$5:$A$56,0)","v":29},{"$f":"MATCH(F60,【元データ】評価シート!$B$4:$T$4,0)","v":3}]
[103010,139,1,"重量物を持って腰を痛める","人力運搬機","転倒",{"$f":"INDEX(【元データ】評価シート!$B$63:$T$114,J61,K61)","v":3},{"$f":"INDEX(【元データ】評価シート!$B$5:$T$56,L61,M61)","v":3},null,{"$f":"MATCH(E61,【元データ】評価シート!$A$63:$A$114,0)","v":29},{"$f":"MATCH(F61,【元データ】評価シート!$B$62:$T$62,0)","v":2},{"$f":"MATCH(E61,【元データ】評価シート!$A$5:$A$56,0)","v":29},{"$f":"MATCH(F61,【元データ】評価シート!$B$4:$T$4,0)","v":2}]
[105020,140,1,"資材運搬時、台車に手を挟まれて負傷する","人力運搬機","動作の反動・無理な動作",{"$f":"INDEX(【元データ】評価シート!$B$63:$T$114,J62,K62)","v":1},{"$f":"INDEX(【元データ】評価シート!$B$5:$T$56,L62,M62)","v":2},null,{"$f":"MATCH(E62,【元データ】評価シート!$A$63:$A$114,0)","v":29},{"$f":"MATCH(F62,【元データ】評価シート!$B$62:$T$62,0)","v":19},{"$f":"MATCH(E62,【元データ】評価シート!$A$5:$A$56,0)","v":29},{"$f":"MATCH(F62,【元データ】評価シート!$B$4:$T$4,0)","v":19}]
[110010,141,1,"ハンドリフトを車上から下ろす時に手を挟む","人力運搬機","はさまれ・巻き込まれ",{"$f":"INDEX(【元データ】評価シート!$B$63:$T$114,J63,K63)","v":4},{"$f":"INDEX(【元データ】評価シート!$B$5:$T$56,L63,M63)","v":3},null,{"$f":"MATCH(E63,【元データ】評価シート!$A$63:$A$114,0)","v":29},{"$f":"MATCH(F63,【元データ】評価シート!$B$62:$T$62,0)","v":7},{"$f":"MATCH(E63,【元データ】評価シート!$A$5:$A$56,0)","v":29},{"$f":"MATCH(F63,【元データ】評価シート!$B$4:$T$4,0)","v":7}]
[605010,162,1,"通路足場から身を寄り出した際、墜落する","ゴンドラ","墜落・転落",{"$f":"INDEX(【元データ】評価シート!$B$63:$T$114,J64,K64)","v":1},{"$f":"INDEX(【元データ】評価シート!$B$5:$T$56,L64,M64)","v":2},null,{"$f":"MATCH(E64,【元データ】評価シート!$A$63:$A$114,0)","v":16},{"$f":"MATCH(F64,【元データ】評価シート!$B$62:$T$62,0)","v":1},{"$f":"MATCH(E64,【元データ】評価シート!$A$5:$A$56,0)","v":16},{"$f":"MATCH(F64,【元データ】評価シート!$B$4:$T$4,0)","v":1}]
[101010,165,1,"材料運搬時、段差に躓いて転倒する","通路","転倒",{"$f":"INDEX(【元データ】評価シート!$B$63:$T$114,J65,K65)","v":4},{"$f":"INDEX(【元データ】評価シート!$B$5:$T$56,L65,M65)","v":4},null,{"$f":"MATCH(E65,【元データ】評価シート!$A$63:$A$114,0)","v":40},{"$f":"MATCH(F65,【元データ】評価シート!$B$62:$T$62,0)","v":2},{"$f":"MATCH(E65,【元データ】評価シート!$A$5:$A$56,0)","v":40},{"$f":"MATCH(F65,【元データ】評価シート!$B$4:$T$4,0)","v":2}]
[104010,167,1,"足場上で躓いて転倒する","通路","転倒",{"$f":"INDEX(【元データ】評価シート!$B$63:$T$114,J66,K66)","v":4},{"$f":"INDEX(【元データ】評価シート!$B$5:$T$56,L66,M66)","v":4},null,{"$f":"MATCH(E66,【元データ】評価シート!$A$63:$A$114,0)","v":40},{"$f":"MATCH(F66,【元データ】評価シート!$B$62:$T$62,0)","v":2},{"$f":"MATCH(E66,【元データ】評価シート!$A$5:$A$56,0)","v":40},{"$f":"MATCH(F66,【元データ】評価シート!$B$4:$T$4,0)","v":2}]
[401010,168,1,"スラブ上で躓いて転倒する","通路","転倒",{"$f":"INDEX(【元データ】評価シート!$B$63:$T$114,J67,K67)","v":4},{"$f":"INDEX(【元データ】評価シート!$B$5:$T$56,L67,M67)","v":4},null,{"$f":"MATCH(E67,【元データ】評価シート!$A$63:$A$114,0)","v":40},{"$f":"MATCH(F67,【元データ】評価シート!$B$62:$T$62,0)","v":2},{"$f":"MATCH(E67,【元データ】評価シート!$A$5:$A$56,0)","v":40},{"$f":"MATCH(F67,【元データ】評価シート!$B$4:$T$4,0)","v":2}]
[403050,171,1,"カッターナイフで手を切る","通路","転倒",{"$f":"INDEX(【元データ】評価シート!$B$63:$T$114,J68,K68)","v":4},{"$f":"INDEX(【元データ】評価シート!$B$5:$T$56,L68,M68)","v":4},null,{"$f":"MATCH(E68,【元データ】評価シート!$A$63:$A$114,0)","v":40},{"$f":"MATCH(F68,【元データ】評価シート!$B$62:$T$62,0)","v":2},{"$f":"MATCH(E68,【元データ】評価シート!$A$5:$A$56,0)","v":40},{"$f":"MATCH(F68,【元データ】評価シート!$B$4:$T$4,0)","v":2}]
[105010,173,1,"誤ってハンマーで指を叩く","手工具","切れ・こすれ",{"$f":"INDEX(【元データ】評価シート!$B$63:$T$114,J69,K69)","v":3},{"$f":"INDEX(【元データ】評価シート!$B$5:$T$56,L69,M69)","v":3},null,{"$f":"MATCH(E69,【元データ】評価シート!$A$63:$A$114,0)","v":31},{"$f":"MATCH(F69,【元データ】評価シート!$B$62:$T$62,0)","v":8},{"$f":"MATCH(E69,【元データ】評価シート!$A$5:$A$56,0)","v":31},{"$f":"MATCH(F69,【元データ】評価シート!$B$4:$T$4,0)","v":8}]
[402020,180,1,"釘打ち機が暴発し手を負傷する","手工具","はさまれ・巻き込まれ",{"$f":"INDEX(【元データ】評価シート!$B$63:$T$114,J70,K70)","v":3},{"$f":"INDEX(【元データ】評価シート!$B$5:$T$56,L70,M70)","v":2},null,{"$f":"MATCH(E70,【元データ】評価シート!$A$63:$A$114,0)","v":31},{"$f":"MATCH(F70,【元データ】評価シート!$B$62:$T$62,0)","v":7},{"$f":"MATCH(E70,【元データ】評価シート!$A$5:$A$56,0)","v":31},{"$f":"MATCH(F70,【元データ】評価シート!$B$4:$T$4,0)","v":7}]
[402020,181,1,"バール使用時誤って手にあたる","手工具","はさまれ・巻き込まれ",{"$f":"INDEX(【元データ】評価シート!$B$63:$T$114,J71,K71)","v":3},{"$f":"INDEX(【元データ】評価シート!$B$5:$T$56,L71,M71)","v":2},null,{"$f":"MATCH(E71,【元データ】評価シート!$A$63:$A$114,0)","v":31},{"$f":"MATCH(F71,【元データ】評価シート!$B$62:$T$62,0)","v":7},{"$f":"MATCH(E71,【元データ】評価シート!$A$5:$A$56,0)","v":31},{"$f":"MATCH(F71,【元データ】評価シート!$B$4:$T$4,0)","v":7}]
[301030,185,1,"ベビーサンダー使用時、目に鉄粉が入る","手工具","飛来・落下",{"$f":"INDEX(【元データ】評価シート!$B$63:$T$114,J72,K72)","v":3},{"$f":"INDEX(【元データ】評価シート!$B$5:$T$56,L72,M72)","v":2},null,{"$f":"MATCH(E72,【元データ】評価シート!$A$63:$A$114,0)","v":31},{"$f":"MATCH(F72,【元データ】評価シート!$B$62:$T$62,0)","v":4},{"$f":"MATCH(E72,【元データ】評価シート!$A$5:$A$56,0)","v":31},{"$f":"MATCH(F72,【元データ】評価シート!$B$4:$T$4,0)","v":4}]
[302010,186,1,"カッターナイフで手を切る","手工具","有害物等との接触",{"$f":"INDEX(【元データ】評価シート!$B$63:$T$114,J73,K73)","v":1},{"$f":"INDEX(【元データ】評価シート!$B$5:$T$56,L73,M73)","v":1},null,{"$f":"MATCH(E73,【元データ】評価シート!$A$63:$A$114,0)","v":31},{"$f":"MATCH(F73,【元データ】評価シート!$B$62:$T$62,0)","v":12},{"$f":"MATCH(E73,【元データ】評価シート!$A$5:$A$56,0)","v":31},{"$f":"MATCH(F73,【元データ】評価シート!$B$4:$T$4,0)","v":12}]
[105010,194,1,"雨天時、丸のこを使用して感電する","電力設備","飛来・落下",{"$f":"INDEX(【元データ】評価シート!$B$63:$T$114,J74,K74)","v":1},{"$f":"INDEX(【元データ】評価シート!$B$5:$T$56,L74,M74)","v":1},null,{"$f":"MATCH(E74,【元データ】評価シート!$A$63:$A$114,0)","v":27},{"$f":"MATCH(F74,【元データ】評価シート!$B$62:$T$62,0)","v":4},{"$f":"MATCH(E74,【元データ】評価シート!$A$5:$A$56,0)","v":27},{"$f":"MATCH(F74,【元データ】評価シート!$B$4:$T$4,0)","v":4}]
[301010,195,1,"ベビーサンダー使用時、誤って手を切る","動力伝導機構","感電",{"$f":"INDEX(【元データ】評価シート!$B$63:$T$114,J75,K75)","v":1},{"$f":"INDEX(【元データ】評価シート!$B$5:$T$56,L75,M75)","v":1},null,{"$f":"MATCH(E75,【元データ】評価シート!$A$63:$A$114,0)","v":2},{"$f":"MATCH(F75,【元データ】評価シート!$B$62:$T$62,0)","v":13},{"$f":"MATCH(E75,【元データ】評価シート!$A$5:$A$56,0)","v":2},{"$f":"MATCH(F75,【元データ】評価シート!$B$4:$T$4,0)","v":13}]
[109010,205,1,"積込み運搬中の資材の荷崩れで負傷する","トラック","交通事故（その他）",{"$f":"INDEX(【元データ】評価シート!$B$63:$T$114,J76,K76)","v":3},{"$f":"INDEX(【元データ】評価シート!$B$5:$T$56,L76,M76)","v":1},null,{"$f":"MATCH(E76,【元データ】評価シート!$A$63:$A$114,0)","v":18},{"$f":"MATCH(F76,【元データ】評価シート!$B$62:$T$62,0)","v":18},{"$f":"MATCH(E76,【元データ】評価シート!$A$5:$A$56,0)","v":18},{"$f":"MATCH(F76,【元データ】評価シート!$B$4:$T$4,0)","v":18}]
[110010,206,1,"荷卸し時、トレーラー上から転落する","トラック","激突され",{"$f":"INDEX(【元データ】評価シート!$B$63:$T$114,J77,K77)","v":4},{"$f":"INDEX(【元データ】評価シート!$B$5:$T$56,L77,M77)","v":3},null,{"$f":"MATCH(E77,【元データ】評価シート!$A$63:$A$114,0)","v":18},{"$f":"MATCH(F77,【元データ】評価シート!$B$62:$T$62,0)","v":6},{"$f":"MATCH(E77,【元データ】評価シート!$A$5:$A$56,0)","v":18},{"$f":"MATCH(F77,【元データ】評価シート!$B$4:$T$4,0)","v":6}]
[108010,207,1,"ピット内清掃時、ピット内で酸欠になる","トラック","墜落・転落",{"$f":"INDEX(【元データ】評価シート!$B$63:$T$114,J78,K78)","v":5},{"$f":"INDEX(【元データ】評価シート!$B$5:$T$56,L78,M78)","v":5},null,{"$f":"MATCH(E78,【元データ】評価シート!$A$63:$A$114,0)","v":18},{"$f":"MATCH(F78,【元データ】評価シート!$B$62:$T$62,0)","v":1},{"$f":"MATCH(E78,【元データ】評価シート!$A$5:$A$56,0)","v":18},{"$f":"MATCH(F78,【元データ】評価シート!$B$4:$T$4,0)","v":1}]
[502020,209,1,"安全ブロックを使用せず梯子やタラップから転落する","はしご等","墜落・転落",{"$f":"INDEX(【元データ】評価シート!$B$63:$T$114,J79,K79)","v":5},{"$f":"INDEX(【元データ】評価シート!$B$5:$T$56,L79,M79)","v":5},null,{"$f":"MATCH(E79,【元データ】評価シート!$A$63:$A$114,0)","v":32},{"$f":"MATCH(F79,【元データ】評価シート!$B$62:$T$62,0)","v":1},{"$f":"MATCH(E79,【元データ】評価シート!$A$5:$A$56,0)","v":32},{"$f":"MATCH(F79,【元データ】評価シート!$B$4:$T$4,0)","v":1}]
[101010,210,1,"ピット内昇降時、足を滑らせ墜落する","はしご等","墜落・転落",{"$f":"INDEX(【元データ】評価シート!$B$63:$T$114,J80,K80)","v":5},{"$f":"INDEX(【元データ】評価シート!$B$5:$T$56,L80,M80)","v":5},null,{"$f":"MATCH(E80,【元データ】評価シート!$A$63:$A$114,0)","v":32},{"$f":"MATCH(F80,【元データ】評価シート!$B$62:$T$62,0)","v":1},{"$f":"MATCH(E80,【元データ】評価シート!$A$5:$A$56,0)","v":32},{"$f":"MATCH(F80,【元データ】評価シート!$B$4:$T$4,0)","v":1}]
[110010,212,1,"サンダーや丸のこ等使用時、手がぶれたり、刃がはねて負傷する","丸のこ盤","切れ・こすれ",{"$f":"INDEX(【元データ】評価シート!$B$63:$T$114,J81,K81)","v":3},{"$f":"INDEX(【元データ】評価シート!$B$5:$T$56,L81,M81)","v":2},null,{"$f":"MATCH(E81,【元データ】評価シート!$A$63:$A$114,0)","v":3},{"$f":"MATCH(F81,【元データ】評価シート!$B$62:$T$62,0)","v":8},{"$f":"MATCH(E81,【元データ】評価シート!$A$5:$A$56,0)","v":3},{"$f":"MATCH(F81,【元データ】評価シート!$B$4:$T$4,0)","v":8}]
[101010,213,1,"不安定な状態で丸のこで指を切る","丸のこ盤","切れ・こすれ",{"$f":"INDEX(【元データ】評価シート!$B$63:$T$114,J82,K82)","v":3},{"$f":"INDEX(【元データ】評価シート!$B$5:$T$56,L82,M82)","v":2},null,{"$f":"MATCH(E82,【元データ】評価シート!$A$63:$A$114,0)","v":3},{"$f":"MATCH(F82,【元データ】評価シート!$B$62:$T$62,0)","v":8},{"$f":"MATCH(E82,【元データ】評価シート!$A$5:$A$56,0)","v":3},{"$f":"MATCH(F82,【元データ】評価シート!$B$4:$T$4,0)","v":8}]
[402010,214,1,"充電式丸のこ使用時（やむなく使用時）刃がはねて負傷する","丸のこ盤","切れ・こすれ",{"$f":"INDEX(【元データ】評価シート!$B$63:$T$114,J83,K83)","v":3},{"$f":"INDEX(【元データ】評価シート!$B$5:$T$56,L83,M83)","v":2},null,{"$f":"MATCH(E83,【元データ】評価シート!$A$63:$A$114,0)","v":3},{"$f":"MATCH(F83,【元データ】評価シート!$B$62:$T$62,0)","v":8},{"$f":"MATCH(E83,【元データ】評価シート!$A$5:$A$56,0)","v":3},{"$f":"MATCH(F83,【元データ】評価シート!$B$4:$T$4,0)","v":8}]
[402020,215,1,"丸のこ使用時わき見をして負傷する","丸のこ盤","はさまれ・巻き込まれ",{"$f":"INDEX(【元データ】評価シート!$B$63:$T$114,J84,K84)","v":3},{"$f":"INDEX(【元データ】評価シート!$B$5:$T$56,L84,M84)","v":2},null,{"$f":"MATCH(E84,【元データ】評価シート!$A$63:$A$114,0)","v":3},{"$f":"MATCH(F84,【元データ】評価シート!$B$62:$T$62,0)","v":7},{"$f":"MATCH(E84,【元データ】評価シート!$A$5:$A$56,0)","v":3},{"$f":"MATCH(F84,【元データ】評価シート!$B$4:$T$4,0)","v":7}]
[402020,216,1,"チップソー使用時、目に鉄粉が入る","木材、竹材","有害物等との接触",{"$f":"INDEX(【元データ】評価シート!$B$63:$T$114,J85,K85)","v":1},{"$f":"INDEX(【元データ】評価シート!$B$5:$T$56,L85,M85)","v":1},null,{"$f":"MATCH(E85,【元データ】評価シート!$A$63:$A$114,0)","v":46},{"$f":"MATCH(F85,【元データ】評価シート!$B$62:$T$62,0)","v":12},{"$f":"MATCH(E85,【元データ】評価シート!$A$5:$A$56,0)","v":46},{"$f":"MATCH(F85,【元データ】評価シート!$B$4:$T$4,0)","v":12}]
[null,246,1,"ガソリン容器が破損し、引火する","引火性の物","火災",{"$f":"INDEX(【元データ】評価シート!$B$63:$T$114,J86,K86)","v":3},{"$f":"INDEX(【元データ】評価シート!$B$5:$T$56,L86,M86)","v":2},null,{"$f":"MATCH(E86,【元データ】評価シート!$A$63:$A$114,0)","v":42},{"$f":"MATCH(F86,【元データ】評価シート!$B$62:$T$62,0)","v":16},{"$f":"MATCH(E86,【元データ】評価シート!$A$5:$A$56,0)","v":42},{"$f":"MATCH(F86,【元データ】評価シート!$B$4:$T$4,0)","v":16}]
[null,247,1,"軽油が漏洩し、引火する","引火性の物","火災",{"$f":"INDEX(【元データ】評価シート!$B$63:$T$114,J87,K87)","v":3},{"$f":"INDEX(【元データ】評価シート!$B$5:$T$56,L87,M87)","v":2},null,{"$f":"MATCH(E87,【元データ】評価シート!$A$63:$A$114,0)","v":42},{"$f":"MATCH(F87,【元データ】評価シート!$B$62:$T$62,0)","v":16},{"$f":"MATCH(E87,【元データ】評価シート!$A$5:$A$56,0)","v":42},{"$f":"MATCH(F87,【元データ】評価シート!$B$4:$T$4,0)","v":16}]

{"sheet":"鉄筋工","index":4,"n_rows":70,"n_cols":13,"rows_kept":70,"cut":false,"hidden":false,"merged":[[0,1,0,2]]}
[null,"工種区分"]
["工種コード",null,"鉄筋工","危険ポイント","起因物","事故型","可能性","重大性"]
[206010,2,1,"溶接時、火花が飛散する","アーク溶接装置","火災",{"$f":"INDEX(【元データ】評価シート!$B$63:$T$114,J3,K3)","v":2},{"$f":"INDEX(【元データ】評価シート!$B$5:$T$56,L3,M3)","v":2},null,{"$f":"MATCH(E3,【元データ】評価シート!$A$63:$A$114,0)","v":25},{"$f":"MATCH(F3,【元データ】評価シート!$B$62:$T$62,0)","v":16},{"$f":"MATCH(E3,【元データ】評価シート!$A$5:$A$56,0)","v":25},{"$f":"MATCH(F3,【元データ】評価シート!$B$4:$T$4,0)","v":16}]
[109010,5,1,"溶接部で火傷する","アーク溶接装置","高温低温物との接触",{"$f":"INDEX(【元データ】評価シート!$B$63:$T$114,J4,K4)","v":3},{"$f":"INDEX(【元データ】評価シート!$B$5:$T$56,L4,M4)","v":2},null,{"$f":"MATCH(E4,【元データ】評価シート!$A$63:$A$114,0)","v":25},{"$f":"MATCH(F4,【元データ】評価シート!$B$62:$T$62,0)","v":11},{"$f":"MATCH(E4,【元データ】評価シート!$A$5:$A$56,0)","v":25},{"$f":"MATCH(F4,【元データ】評価シート!$B$4:$T$4,0)","v":11}]
[101010,7,1,"立馬で材料荷渡しや作業時に転落する","足場","墜落・転落",{"$f":"INDEX(【元データ】評価シート!$B$63:$T$114,J5,K5)","v":5},{"$f":"INDEX(【元データ】評価シート!$B$5:$T$56,L5,M5)","v":5},null,{"$f":"MATCH(E5,【元データ】評価シート!$A$63:$A$114,0)","v":34},{"$f":"MATCH(F5,【元データ】評価シート!$B$62:$T$62,0)","v":1},{"$f":"MATCH(E5,【元データ】評価シート!$A$5:$A$56,0)","v":34},{"$f":"MATCH(F5,【元データ】評価シート!$B$4:$T$4,0)","v":1}]
[101010,8,1,"立馬の脚が段差・床スリーブにはまり、または縮んで転落・転倒する","足場","墜落・転落",{"$f":"INDEX(【元データ】評価シート!$B$63:$T$114,J6,K6)","v":5},{"$f":"INDEX(【元データ】評価シート!$B$5:$T$56,L6,M6)","v":5},null,{"$f":"MATCH(E6,【元データ】評価シート!$A$63:$A$114,0)","v":34},{"$f":"MATCH(F6,【元データ】評価シート!$B$62:$T$62,0)","v":1},{"$f":"MATCH(E6,【元データ】評価シート!$A$5:$A$56,0)","v":34},{"$f":"MATCH(F6,【元データ】評価シート!$B$4:$T$4,0)","v":1}]
[101010,9,1,"立馬から降りる時に踏み外して転落する","足場","踏み抜き",{"$f":"INDEX(【元データ】評価シート!$B$63:$T$114,J7,K7)","v":1},{"$f":"INDEX(【元データ】評価シート!$B$5:$T$56,L7,M7)","v":1},null,{"$f":"MATCH(E7,【元データ】評価シート!$A$63:$A$114,0)","v":34},{"$f":"MATCH(F7,【元データ】評価シート!$B$62:$T$62,0)","v":9},{"$f":"MATCH(E7,【元データ】評価シート!$A$5:$A$56,0)","v":34},{"$f":"MATCH(F7,【元データ】評価シート!$B$4:$T$4,0)","v":9}]
[706010,10,1,"梯子作業中バランスを崩して転落する","はしご等","墜落・転落",{"$f":"INDEX(【元データ】評価シート!$B$63:$T$114,J8,K8)","v":5},{"$f":"INDEX(【元データ】評価シート!$B$5:$T$56,L8,M8)","v":5},null,{"$f":"MATCH(E8,【元データ】評価シート!$A$63:$A$114,0)","v":32},{"$f":"MATCH(F8,【元データ】評価シート!$B$62:$T$62,0)","v":1},{"$f":"MATCH(E8,【元データ】評価シート!$A$5:$A$56,0)","v":32},{"$f":"MATCH(F8,【元データ】評価シート!$B$4:$T$4,0)","v":1}]
[105010,11,1,"足場使用時、足場から墜落する","足場","墜落・転落",{"$f":"INDEX(【元データ】評価シート!$B$63:$T$114,J9,K9)","v":5},{"$f":"INDEX(【元データ】評価シート!$B$5:$T$56,L9,M9)","v":5},null,{"$f":"MATCH(E9,【元データ】評価シート!$A$63:$A$114,0)","v":34},{"$f":"MATCH(F9,【元データ】評価シート!$B$62:$T$62,0)","v":1},{"$f":"MATCH(E9,【元データ】評価シート!$A$5:$A$56,0)","v":34},{"$f":"MATCH(F9,【元データ】評価シート!$B$4:$T$4,0)","v":1}]
[105010,12,1,"足場の隙間から墜落する","足場","墜落・転落",{"$f":"INDEX(【元データ】評価シート!$B$63:$T$114,J10,K10)","v":5},{"$f":"INDEX(【元データ】評価シート!$B$5:$T$56,L10,M10)","v":5},null,{"$f":"MATCH(E10,【元データ】評価シート!$A$63:$A$114,0)","v":34},{"$f":"MATCH(F10,【元データ】評価シート!$B$62:$T$62,0)","v":1},{"$f":"MATCH(E10,【元データ】評価シート!$A$5:$A$56,0)","v":34},{"$f":"MATCH(F10,【元データ】評価シート!$B$4:$T$4,0)","v":1}]
[203010,14,1,"足場板を固定する際、足場板の天ビンにより墜落する","足場","踏み抜き",{"$f":"INDEX(【元データ】評価シート!$B$63:$T$114,J11,K11)","v":1},{"$f":"INDEX(【元データ】評価シート!$B$5:$T$56,L11,M11)","v":1},null,{"$f":"MATCH(E11,【元データ】評価シート!$A$63:$A$114,0)","v":34},{"$f":"MATCH(F11,【元データ】評価シート!$B$62:$T$62,0)","v":9},{"$f":"MATCH(E11,【元データ】評価シート!$A$5:$A$56,0)","v":34},{"$f":"MATCH(F11,【元データ】評価シート!$B$4:$T$4,0)","v":9}]
[402020,15,1,"立馬上で作業中突風にあおられ材料と共に転落する","足場","墜落・転落",{"$f":"INDEX(【元データ】評価シート!$B$63:$T$114,J12,K12)","v":5},{"$f":"INDEX(【元データ】評価シート!$B$5:$T$56,L12,M12)","v":5},null,{"$f":"MATCH(E12,【元データ】評価シート!$A$63:$A$114,0)","v":34},{"$f":"MATCH(F12,【元データ】評価シート!$B$62:$T$62,0)","v":1},{"$f":"MATCH(E12,【元データ】評価シート!$A$5:$A$56,0)","v":34},{"$f":"MATCH(F12,【元データ】評価シート!$B$4:$T$4,0)","v":1}]
[402030,17,1,"足場の中桟に足を掛け作業中、中桟が外れて転落する","足場","墜落・転落",{"$f":"INDEX(【元データ】評価シート!$B$63:$T$114,J13,K13)","v":5},{"$f":"INDEX(【元データ】評価シート!$B$5:$T$56,L13,M13)","v":5},null,{"$f":"MATCH(E13,【元データ】評価シート!$A$63:$A$114,0)","v":34},{"$f":"MATCH(F13,【元データ】評価シート!$B$62:$T$62,0)","v":1},{"$f":"MATCH(E13,【元データ】評価シート!$A$5:$A$56,0)","v":34},{"$f":"MATCH(F13,【元データ】評価シート!$B$4:$T$4,0)","v":1}]
[105010,21,1,"足場上で躓いて転倒する","足場","転倒",{"$f":"INDEX(【元データ】評価シート!$B$63:$T$114,J14,K14)","v":1},{"$f":"INDEX(【元データ】評価シート!$B$5:$T$56,L14,M14)","v":2},null,{"$f":"MATCH(E14,【元データ】評価シート!$A$63:$A$114,0)","v":34},{"$f":"MATCH(F14,【元データ】評価シート!$B$62:$T$62,0)","v":2},{"$f":"MATCH(E14,【元データ】評価シート!$A$5:$A$56,0)","v":34},{"$f":"MATCH(F14,【元データ】評価シート!$B$4:$T$4,0)","v":2}]
[402020,23,1,"布板昇降ハッチの蓋が閉まり手を詰める","足場","はさまれ・巻き込まれ",{"$f":"INDEX(【元データ】評価シート!$B$63:$T$114,J15,K15)","v":2},{"$f":"INDEX(【元データ】評価シート!$B$5:$T$56,L15,M15)","v":2},null,{"$f":"MATCH(E15,【元データ】評価シート!$A$63:$A$114,0)","v":34},{"$f":"MATCH(F15,【元データ】評価シート!$B$62:$T$62,0)","v":7},{"$f":"MATCH(E15,【元データ】評価シート!$A$5:$A$56,0)","v":34},{"$f":"MATCH(F15,【元データ】評価シート!$B$4:$T$4,0)","v":7}]
[105010,24,1,"足場使用時、足場から材料等を落下させる","足場","飛来・落下",{"$f":"INDEX(【元データ】評価シート!$B$63:$T$114,J16,K16)","v":2},{"$f":"INDEX(【元データ】評価シート!$B$5:$T$56,L16,M16)","v":2},null,{"$f":"MATCH(E16,【元データ】評価シート!$A$63:$A$114,0)","v":34},{"$f":"MATCH(F16,【元データ】評価シート!$B$62:$T$62,0)","v":4},{"$f":"MATCH(E16,【元データ】評価シート!$A$5:$A$56,0)","v":34},{"$f":"MATCH(F16,【元データ】評価シート!$B$4:$T$4,0)","v":4}]
[404020,35,1,"吊荷が強風であおられる","異常環境等","飛来・落下",{"$f":"INDEX(【元データ】評価シート!$B$63:$T$114,J17,K17)","v":1},{"$f":"INDEX(【元データ】評価シート!$B$5:$T$56,L17,M17)","v":1},null,{"$f":"MATCH(E17,【元データ】評価シート!$A$63:$A$114,0)","v":51},{"$f":"MATCH(F17,【元データ】評価シート!$B$62:$T$62,0)","v":4},{"$f":"MATCH(E17,【元データ】評価シート!$A$5:$A$56,0)","v":51},{"$f":"MATCH(F17,【元データ】評価シート!$B$4:$T$4,0)","v":4}]
[108010,36,1,"クレーン使用時、資材を既存物にぶつける","移動式クレーン","激突",{"$f":"INDEX(【元データ】評価シート!$B$63:$T$114,J18,K18)","v":1},{"$f":"INDEX(【元データ】評価シート!$B$5:$T$56,L18,M18)","v":2},null,{"$f":"MATCH(E18,【元データ】評価シート!$A$63:$A$114,0)","v":13},{"$f":"MATCH(F18,【元データ】評価シート!$B$62:$T$62,0)","v":3},{"$f":"MATCH(E18,【元データ】評価シート!$A$5:$A$56,0)","v":13},{"$f":"MATCH(F18,【元データ】評価シート!$B$4:$T$4,0)","v":3}]
[110010,37,1,"ユニック作業中誤作動にて吊荷が振れて負傷する","移動式クレーン","激突され",{"$f":"INDEX(【元データ】評価シート!$B$63:$T$114,J19,K19)","v":3},{"$f":"INDEX(【元データ】評価シート!$B$5:$T$56,L19,M19)","v":3},null,{"$f":"MATCH(E19,【元データ】評価シート!$A$63:$A$114,0)","v":13},{"$f":"MATCH(F19,【元データ】評価シート!$B$62:$T$62,0)","v":6},{"$f":"MATCH(E19,【元データ】評価シート!$A$5:$A$56,0)","v":13},{"$f":"MATCH(F19,【元データ】評価シート!$B$4:$T$4,0)","v":6}]
[108010,38,1,"ブーム組立時、高所から転落する","移動式クレーン","墜落・転落",{"$f":"INDEX(【元データ】評価シート!$B$63:$T$114,J20,K20)","v":4},{"$f":"INDEX(【元データ】評価シート!$B$5:$T$56,L20,M20)","v":4},null,{"$f":"MATCH(E20,【元データ】評価シート!$A$63:$A$114,0)","v":13},{"$f":"MATCH(F20,【元データ】評価シート!$B$62:$T$62,0)","v":1},{"$f":"MATCH(E20,【元データ】評価シート!$A$5:$A$56,0)","v":13},{"$f":"MATCH(F20,【元データ】評価シート!$B$4:$T$4,0)","v":1}]
[401020,39,1,"ブームをたたむ時、荷台から転落する","移動式クレーン","墜落・転落",{"$f":"INDEX(【元データ】評価シート!$B$63:$T$114,J21,K21)","v":4},{"$f":"INDEX(【元データ】評価シート!$B$5:$T$56,L21,M21)","v":4},null,{"$f":"MATCH(E21,【元データ】評価シート!$A$63:$A$114,0)","v":13},{"$f":"MATCH(F21,【元データ】評価シート!$B$62:$T$62,0)","v":1},{"$f":"MATCH(E21,【元データ】評価シート!$A$5:$A$56,0)","v":13},{"$f":"MATCH(F21,【元データ】評価シート!$B$4:$T$4,0)","v":1}]
[108010,41,1,"揚重機組立時、手･足を挟まれる","移動式クレーン","はさまれ・巻き込まれ",{"$f":"INDEX(【元データ】評価シート!$B$63:$T$114,J22,K22)","v":3},{"$f":"INDEX(【元データ】評価シート!$B$5:$T$56,L22,M22)","v":3},null,{"$f":"MATCH(E22,【元データ】評価シート!$A$63:$A$114,0)","v":13},{"$f":"MATCH(F22,【元データ】評価シート!$B$62:$T$62,0)","v":7},{"$f":"MATCH(E22,【元データ】評価シート!$A$5:$A$56,0)","v":13},{"$f":"MATCH(F22,【元データ】評価シート!$B$4:$T$4,0)","v":7}]
[401020,42,1,"ブームをたたむ時、手を挟む","移動式クレーン","はさまれ・巻き込まれ",{"$f":"INDEX(【元データ】評価シート!$B$63:$T$114,J23,K23)","v":3},{"$f":"INDEX(【元データ】評価シート!$B$5:$T$56,L23,M23)","v":3},null,{"$f":"MATCH(E23,【元データ】評価シート!$A$63:$A$114,0)","v":13},{"$f":"MATCH(F23,【元データ】評価シート!$B$62:$T$62,0)","v":7},{"$f":"MATCH(E23,【元データ】評価シート!$A$5:$A$56,0)","v":13},{"$f":"MATCH(F23,【元データ】評価シート!$B$4:$T$4,0)","v":7}]
[102010,43,1,"吊荷時、搬入車輛（ユニック車)が転倒する","移動式クレーン","崩壊・倒壊",{"$f":"INDEX(【元データ】評価シート!$B$63:$T$114,J24,K24)","v":3},{"$f":"INDEX(【元データ】評価シート!$B$5:$T$56,L24,M24)","v":2},null,{"$f":"MATCH(E24,【元データ】評価シート!$A$63:$A$114,0)","v":13},{"$f":"MATCH(F24,【元データ】評価シート!$B$62:$T$62,0)","v":5},{"$f":"MATCH(E24,【元データ】評価シート!$A$5:$A$56,0)","v":13},{"$f":"MATCH(F24,【元データ】評価シート!$B$4:$T$4,0)","v":5}]
[108010,44,1,"揚重機が転倒する","移動式クレーン","崩壊・倒壊",{"$f":"INDEX(【元データ】評価シート!$B$63:$T$114,J25,K25)","v":3},{"$f":"INDEX(【元データ】評価シート!$B$5:$T$56,L25,M25)","v":2},null,{"$f":"MATCH(E25,【元データ】評価シート!$A$63:$A$114,0)","v":13},{"$f":"MATCH(F25,【元データ】評価シート!$B$62:$T$62,0)","v":5},{"$f":"MATCH(E25,【元データ】評価シート!$A$5:$A$56,0)","v":13},{"$f":"MATCH(F25,【元データ】評価シート!$B$4:$T$4,0)","v":5}]
[110010,45,1,"資材荷吊り時アウトリガー下地盤が沈下しユニック車が転倒する","移動式クレーン","崩壊・倒壊",{"$f":"INDEX(【元データ】評価シート!$B$63:$T$114,J26,K26)","v":3},{"$f":"INDEX(【元データ】評価シート!$B$5:$T$56,L26,M26)","v":2},null,{"$f":"MATCH(E26,【元データ】評価シート!$A$63:$A$114,0)","v":13},{"$f":"MATCH(F26,【元データ】評価シート!$B$62:$T$62,0)","v":5},{"$f":"MATCH(E26,【元データ】評価シート!$A$5:$A$56,0)","v":13},{"$f":"MATCH(F26,【元データ】評価シート!$B$4:$T$4,0)","v":5}]
[110010,46,1,"資材荷吊り時過過重になりユニック車が転倒する","移動式クレーン","崩壊・倒壊",{"$f":"INDEX(【元データ】評価シート!$B$63:$T$114,J27,K27)","v":3},{"$f":"INDEX(【元データ】評価シート!$B$5:$T$56,L27,M27)","v":2},null,{"$f":"MATCH(E27,【元データ】評価シート!$A$63:$A$114,0)","v":13},{"$f":"MATCH(F27,【元データ】評価シート!$B$62:$T$62,0)","v":5},{"$f":"MATCH(E27,【元データ】評価シート!$A$5:$A$56,0)","v":13},{"$f":"MATCH(F27,【元データ】評価シート!$B$4:$T$4,0)","v":5}]
[401010,52,1,"昇降設備を使用せずに墜落する","開口部","墜落・転落",{"$f":"INDEX(【元データ】評価シート!$B$63:$T$114,J28,K28)","v":5},{"$f":"INDEX(【元データ】評価シート!$B$5:$T$56,L28,M28)","v":4},null,{"$f":"MATCH(E28,【元データ】評価シート!$A$63:$A$114,0)","v":37},{"$f":"MATCH(F28,【元データ】評価シート!$B$62:$T$62,0)","v":1},{"$f":"MATCH(E28,【元データ】評価シート!$A$5:$A$56,0)","v":37},{"$f":"MATCH(F28,【元データ】評価シート!$B$4:$T$4,0)","v":1}]
[401010,53,1,"物を取ろうと足場に足を掛け滑って転落する","開口部","墜落・転落",{"$f":"INDEX(【元データ】評価シート!$B$63:$T$114,J29,K29)","v":5},{"$f":"INDEX(【元データ】評価シート!$B$5:$T$56,L29,M29)","v":4},null,{"$f":"MATCH(E29,【元データ】評価シート!$A$63:$A$114,0)","v":37},{"$f":"MATCH(F29,【元データ】評価シート!$B$62:$T$62,0)","v":1},{"$f":"MATCH(E29,【元データ】評価シート!$A$5:$A$56,0)","v":37},{"$f":"MATCH(F29,【元データ】評価シート!$B$4:$T$4,0)","v":1}]
[401010,54,1,"足場の隙間から墜落する","開口部","墜落・転落",{"$f":"INDEX(【元データ】評価シート!$B$63:$T$114,J30,K30)","v":5},{"$f":"INDEX(【元データ】評価シート!$B$5:$T$56,L30,M30)","v":4},null,{"$f":"MATCH(E30,【元データ】評価シート!$A$63:$A$114,0)","v":37},{"$f":"MATCH(F30,【元データ】評価シート!$B$62:$T$62,0)","v":1},{"$f":"MATCH(E30,【元データ】評価シート!$A$5:$A$56,0)","v":37},{"$f":"MATCH(F30,【元データ】評価シート!$B$4:$T$4,0)","v":1}]
[401010,55,1,"梁天端から転落する","開口部","墜落・転落",{"$f":"INDEX(【元データ】評価シート!$B$63:$T$114,J31,K31)","v":5},{"$f":"INDEX(【元データ】評価シート!$B$5:$T$56,L31,M31)","v":4},null,{"$f":"MATCH(E31,【元データ】評価シート!$A$63:$A$114,0)","v":37},{"$f":"MATCH(F31,【元データ】評価シート!$B$62:$T$62,0)","v":1},{"$f":"MATCH(E31,【元データ】評価シート!$A$5:$A$56,0)","v":37},{"$f":"MATCH(F31,【元データ】評価シート!$B$4:$T$4,0)","v":1}]
[402020,57,1,"荷上げで開口部から墜落する","開口部","墜落・転落",{"$f":"INDEX(【元データ】評価シート!$B$63:$T$114,J32,K32)","v":5},{"$f":"INDEX(【元データ】評価シート!$B$5:$T$56,L32,M32)","v":4},null,{"$f":"MATCH(E32,【元データ】評価シート!$A$63:$A$114,0)","v":37},{"$f":"MATCH(F32,【元データ】評価シート!$B$62:$T$62,0)","v":1},{"$f":"MATCH(E32,【元データ】評価シート!$A$5:$A$56,0)","v":37},{"$f":"MATCH(F32,【元データ】評価シート!$B$4:$T$4,0)","v":1}]
[203030,63,1,"梁上移動時、工具等が落下する","開口部","飛来・落下",{"$f":"INDEX(【元データ】評価シート!$B$63:$T$114,J33,K33)","v":1},{"$f":"INDEX(【元データ】評価シート!$B$5:$T$56,L33,M33)","v":1},null,{"$f":"MATCH(E33,【元データ】評価シート!$A$63:$A$114,0)","v":37},{"$f":"MATCH(F33,【元データ】評価シート!$B$62:$T$62,0)","v":4},{"$f":"MATCH(E33,【元データ】評価シート!$A$5:$A$56,0)","v":37},{"$f":"MATCH(F33,【元データ】評価シート!$B$4:$T$4,0)","v":4}]
[105010,67,1,"作業場所移動時、外部足場の階段で足が滑り転倒する","階段、桟橋","転倒",{"$f":"INDEX(【元データ】評価シート!$B$63:$T$114,J34,K34)","v":3},{"$f":"INDEX(【元データ】評価シート!$B$5:$T$56,L34,M34)","v":3},null,{"$f":"MATCH(E34,【元データ】評価シート!$A$63:$A$114,0)","v":36},{"$f":"MATCH(F34,【元データ】評価シート!$B$62:$T$62,0)","v":2},{"$f":"MATCH(E34,【元データ】評価シート!$A$5:$A$56,0)","v":36},{"$f":"MATCH(F34,【元データ】評価シート!$B$4:$T$4,0)","v":2}]
[402020,68,1,"手摺壁に足をかける際、足が滑り転倒する","階段、桟橋","転倒",{"$f":"INDEX(【元データ】評価シート!$B$63:$T$114,J35,K35)","v":3},{"$f":"INDEX(【元データ】評価シート!$B$5:$T$56,L35,M35)","v":3},null,{"$f":"MATCH(E35,【元データ】評価シート!$A$63:$A$114,0)","v":36},{"$f":"MATCH(F35,【元データ】評価シート!$B$62:$T$62,0)","v":2},{"$f":"MATCH(E35,【元データ】評価シート!$A$5:$A$56,0)","v":36},{"$f":"MATCH(F35,【元データ】評価シート!$B$4:$T$4,0)","v":2}]
[402050,69,1,"地中梁を乗り越える時に手足を負傷する","階段、桟橋","転倒",{"$f":"INDEX(【元データ】評価シート!$B$63:$T$114,J36,K36)","v":3},{"$f":"INDEX(【元データ】評価シート!$B$5:$T$56,L36,M36)","v":3},null,{"$f":"MATCH(E36,【元データ】評価シート!$A$63:$A$114,0)","v":36},{"$f":"MATCH(F36,【元データ】評価シート!$B$62:$T$62,0)","v":2},{"$f":"MATCH(E36,【元データ】評価シート!$A$5:$A$56,0)","v":36},{"$f":"MATCH(F36,【元データ】評価シート!$B$4:$T$4,0)","v":2}]
[402050,81,1,"小払し中、型枠材の釘が手に刺さる","金属材料","切れ・こすれ",{"$f":"INDEX(【元データ】評価シート!$B$63:$T$114,J37,K37)","v":2},{"$f":"INDEX(【元データ】評価シート!$B$5:$T$56,L37,M37)","v":2},null,{"$f":"MATCH(E37,【元データ】評価シート!$A$63:$A$114,0)","v":45},{"$f":"MATCH(F37,【元データ】評価シート!$B$62:$T$62,0)","v":8},{"$f":"MATCH(E37,【元データ】評価シート!$A$5:$A$56,0)","v":45},{"$f":"MATCH(F37,【元データ】評価シート!$B$4:$T$4,0)","v":8}]
[101010,85,1,"長尺物を振り回す際、作業員にぶつける","金属材料","激突",{"$f":"INDEX(【元データ】評価シート!$B$63:$T$114,J38,K38)","v":2},{"$f":"INDEX(【元データ】評価シート!$B$5:$T$56,L38,M38)","v":2},null,{"$f":"MATCH(E38,【元データ】評価シート!$A$63:$A$114,0)","v":45},{"$f":"MATCH(F38,【元データ】評価シート!$B$62:$T$62,0)","v":3},{"$f":"MATCH(E38,【元データ】評価シート!$A$5:$A$56,0)","v":45},{"$f":"MATCH(F38,【元データ】評価シート!$B$4:$T$4,0)","v":3}]
[202010,86,1,"資材にあたって負傷する","金属材料","激突",{"$f":"INDEX(【元データ】評価シート!$B$63:$T$114,J39,K39)","v":2},{"$f":"INDEX(【元データ】評価シート!$B$5:$T$56,L39,M39)","v":2},null,{"$f":"MATCH(E39,【元データ】評価シート!$A$63:$A$114,0)","v":45},{"$f":"MATCH(F39,【元データ】評価シート!$B$62:$T$62,0)","v":3},{"$f":"MATCH(E39,【元データ】評価シート!$A$5:$A$56,0)","v":45},{"$f":"MATCH(F39,【元データ】評価シート!$B$4:$T$4,0)","v":3}]
[202010,90,1,"単管パイプとクランプで指を挟む","金属材料","はさまれ・巻き込まれ",{"$f":"INDEX(【元データ】評価シート!$B$63:$T$114,J40,K40)","v":4},{"$f":"INDEX(【元データ】評価シート!$B$5:$T$56,L40,M40)","v":3},null,{"$f":"MATCH(E40,【元データ】評価シート!$A$63:$A$114,0)","v":45},{"$f":"MATCH(F40,【元データ】評価シート!$B$62:$T$62,0)","v":7},{"$f":"MATCH(E40,【元データ】評価シート!$A$5:$A$56,0)","v":45},{"$f":"MATCH(F40,【元データ】評価シート!$B$4:$T$4,0)","v":7}]
[403020,92,1,"上部に束ねていたフープ筋が自重でずれて手を挟む","金属材料","はさまれ・巻き込まれ",{"$f":"INDEX(【元データ】評価シート!$B$63:$T$114,J41,K41)","v":4},{"$f":"INDEX(【元データ】評価シート!$B$5:$T$56,L41,M41)","v":3},null,{"$f":"MATCH(E41,【元データ】評価シート!$A$63:$A$114,0)","v":45},{"$f":"MATCH(F41,【元データ】評価シート!$B$62:$T$62,0)","v":7},{"$f":"MATCH(E41,【元データ】評価シート!$A$5:$A$56,0)","v":45},{"$f":"MATCH(F41,【元データ】評価シート!$B$4:$T$4,0)","v":7}]
[403060,93,1,"鉄筋とカプラーとの間に指を挟む","金属材料","はさまれ・巻き込まれ",{"$f":"INDEX(【元データ】評価シート!$B$63:$T$114,J42,K42)","v":4},{"$f":"INDEX(【元データ】評価シート!$B$5:$T$56,L42,M42)","v":3},null,{"$f":"MATCH(E42,【元データ】評価シート!$A$63:$A$114,0)","v":45},{"$f":"MATCH(F42,【元データ】評価シート!$B$62:$T$62,0)","v":7},{"$f":"MATCH(E42,【元データ】評価シート!$A$5:$A$56,0)","v":45},{"$f":"MATCH(F42,【元データ】評価シート!$B$4:$T$4,0)","v":7}]
[202010,95,1,"資材受渡し時、手が滑り、落下する","金属材料","飛来・落下",{"$f":"INDEX(【元データ】評価シート!$B$63:$T$114,J43,K43)","v":5},{"$f":"INDEX(【元データ】評価シート!$B$5:$T$56,L43,M43)","v":3},null,{"$f":"MATCH(E43,【元データ】評価シート!$A$63:$A$114,0)","v":45},{"$f":"MATCH(F43,【元データ】評価シート!$B$62:$T$62,0)","v":4},{"$f":"MATCH(E43,【元データ】評価シート!$A$5:$A$56,0)","v":45},{"$f":"MATCH(F43,【元データ】評価シート!$B$4:$T$4,0)","v":4}]
[101010,105,1,"揚重作業時クレーンが転倒する","クレーン","転倒",{"$f":"INDEX(【元データ】評価シート!$B$63:$T$114,J44,K44)","v":1},{"$f":"INDEX(【元データ】評価シート!$B$5:$T$56,L44,M44)","v":2},null,{"$f":"MATCH(E44,【元データ】評価シート!$A$63:$A$114,0)","v":12},{"$f":"MATCH(F44,【元データ】評価シート!$B$62:$T$62,0)","v":2},{"$f":"MATCH(E44,【元データ】評価シート!$A$5:$A$56,0)","v":12},{"$f":"MATCH(F44,【元データ】評価シート!$B$4:$T$4,0)","v":2}]
[204010,114,1,"スラブ上での作業中、スラブ筋に躓いて転倒する","作業床","墜落・転落",{"$f":"INDEX(【元データ】評価シート!$B$63:$T$114,J45,K45)","v":5},{"$f":"INDEX(【元データ】評価シート!$B$5:$T$56,L45,M45)","v":4},null,{"$f":"MATCH(E45,【元データ】評価シート!$A$63:$A$114,0)","v":39},{"$f":"MATCH(F45,【元データ】評価シート!$B$62:$T$62,0)","v":1},{"$f":"MATCH(E45,【元データ】評価シート!$A$5:$A$56,0)","v":39},{"$f":"MATCH(F45,【元データ】評価シート!$B$4:$T$4,0)","v":1}]
[401010,116,1,"スラブ（ﾃﾞｯｷ）上梁筋をまたごうとして転倒する","作業床","転倒",{"$f":"INDEX(【元データ】評価シート!$B$63:$T$114,J46,K46)","v":3},{"$f":"INDEX(【元データ】評価シート!$B$5:$T$56,L46,M46)","v":3},null,{"$f":"MATCH(E46,【元データ】評価シート!$A$63:$A$114,0)","v":39},{"$f":"MATCH(F46,【元データ】評価シート!$B$62:$T$62,0)","v":2},{"$f":"MATCH(E46,【元データ】評価シート!$A$5:$A$56,0)","v":39},{"$f":"MATCH(F46,【元データ】評価シート!$B$4:$T$4,0)","v":2}]
[403030,117,1,"地組架台が倒れて、鉄筋と接触する","作業床","転倒",{"$f":"INDEX(【元データ】評価シート!$B$63:$T$114,J47,K47)","v":3},{"$f":"INDEX(【元データ】評価シート!$B$5:$T$56,L47,M47)","v":3},null,{"$f":"MATCH(E47,【元データ】評価シート!$A$63:$A$114,0)","v":39},{"$f":"MATCH(F47,【元データ】評価シート!$B$62:$T$62,0)","v":2},{"$f":"MATCH(E47,【元データ】評価シート!$A$5:$A$56,0)","v":39},{"$f":"MATCH(F47,【元データ】評価シート!$B$4:$T$4,0)","v":2}]
[401010,135,1,"材料移動時、既存物、隣接建物に接触する","人力運搬機","転倒",{"$f":"INDEX(【元データ】評価シート!$B$63:$T$114,J48,K48)","v":3},{"$f":"INDEX(【元データ】評価シート!$B$5:$T$56,L48,M48)","v":3},null,{"$f":"MATCH(E48,【元データ】評価シート!$A$63:$A$114,0)","v":29},{"$f":"MATCH(F48,【元データ】評価シート!$B$62:$T$62,0)","v":2},{"$f":"MATCH(E48,【元データ】評価シート!$A$5:$A$56,0)","v":29},{"$f":"MATCH(F48,【元データ】評価シート!$B$4:$T$4,0)","v":2}]
[105020,137,1,"溶接治具運搬時、足場に手をぶつけて負傷する","人力運搬機","激突",{"$f":"INDEX(【元データ】評価シート!$B$63:$T$114,J49,K49)","v":2},{"$f":"INDEX(【元データ】評価シート!$B$5:$T$56,L49,M49)","v":2},null,{"$f":"MATCH(E49,【元データ】評価シート!$A$63:$A$114,0)","v":29},{"$f":"MATCH(F49,【元データ】評価シート!$B$62:$T$62,0)","v":3},{"$f":"MATCH(E49,【元データ】評価シート!$A$5:$A$56,0)","v":29},{"$f":"MATCH(F49,【元データ】評価シート!$B$4:$T$4,0)","v":3}]
[403050,138,1,"材料運搬時、躓いて転倒する","人力運搬機","激突",{"$f":"INDEX(【元データ】評価シート!$B$63:$T$114,J50,K50)","v":2},{"$f":"INDEX(【元データ】評価シート!$B$5:$T$56,L50,M50)","v":2},null,{"$f":"MATCH(E50,【元データ】評価シート!$A$63:$A$114,0)","v":29},{"$f":"MATCH(F50,【元データ】評価シート!$B$62:$T$62,0)","v":3},{"$f":"MATCH(E50,【元データ】評価シート!$A$5:$A$56,0)","v":29},{"$f":"MATCH(F50,【元データ】評価シート!$B$4:$T$4,0)","v":3}]
[103010,139,1,"重量物を持って腰を痛める","人力運搬機","転倒",{"$f":"INDEX(【元データ】評価シート!$B$63:$T$114,J51,K51)","v":3},{"$f":"INDEX(【元データ】評価シート!$B$5:$T$56,L51,M51)","v":3},null,{"$f":"MATCH(E51,【元データ】評価シート!$A$63:$A$114,0)","v":29},{"$f":"MATCH(F51,【元データ】評価シート!$B$62:$T$62,0)","v":2},{"$f":"MATCH(E51,【元データ】評価シート!$A$5:$A$56,0)","v":29},{"$f":"MATCH(F51,【元データ】評価シート!$B$4:$T$4,0)","v":2}]
[105020,140,1,"資材運搬時、台車に手を挟まれて負傷する","人力運搬機","動作の反動・無理な動作",{"$f":"INDEX(【元データ】評価シート!$B$63:$T$114,J52,K52)","v":1},{"$f":"INDEX(【元データ】評価シート!$B$5:$T$56,L52,M52)","v":2},null,{"$f":"MATCH(E52,【元データ】評価シート!$A$63:$A$114,0)","v":29},{"$f":"MATCH(F52,【元データ】評価シート!$B$62:$T$62,0)","v":19},{"$f":"MATCH(E52,【元データ】評価シート!$A$5:$A$56,0)","v":29},{"$f":"MATCH(F52,【元データ】評価シート!$B$4:$T$4,0)","v":19}]
[605010,162,1,"通路足場から身を寄り出した際、墜落する","ゴンドラ","墜落・転落",{"$f":"INDEX(【元データ】評価シート!$B$63:$T$114,J53,K53)","v":1},{"$f":"INDEX(【元データ】評価シート!$B$5:$T$56,L53,M53)","v":2},null,{"$f":"MATCH(E53,【元データ】評価シート!$A$63:$A$114,0)","v":16},{"$f":"MATCH(F53,【元データ】評価シート!$B$62:$T$62,0)","v":1},{"$f":"MATCH(E53,【元データ】評価シート!$A$5:$A$56,0)","v":16},{"$f":"MATCH(F53,【元データ】評価シート!$B$4:$T$4,0)","v":1}]
[402010,163,1,"地中梁圧接中、移動時に転落する","通路","墜落・転落",{"$f":"INDEX(【元データ】評価シート!$B$63:$T$114,J54,K54)","v":4},{"$f":"INDEX(【元データ】評価シート!$B$5:$T$56,L54,M54)","v":4},null,{"$f":"MATCH(E54,【元データ】評価シート!$A$63:$A$114,0)","v":40},{"$f":"MATCH(F54,【元データ】評価シート!$B$62:$T$62,0)","v":1},{"$f":"MATCH(E54,【元データ】評価シート!$A$5:$A$56,0)","v":40},{"$f":"MATCH(F54,【元データ】評価シート!$B$4:$T$4,0)","v":1}]
[101010,165,1,"材料運搬時、段差に躓いて転倒する","通路","転倒",{"$f":"INDEX(【元データ】評価シート!$B$63:$T$114,J55,K55)","v":4},{"$f":"INDEX(【元データ】評価シート!$B$5:$T$56,L55,M55)","v":4},null,{"$f":"MATCH(E55,【元データ】評価シート!$A$63:$A$114,0)","v":40},{"$f":"MATCH(F55,【元データ】評価シート!$B$62:$T$62,0)","v":2},{"$f":"MATCH(E55,【元データ】評価シート!$A$5:$A$56,0)","v":40},{"$f":"MATCH(F55,【元データ】評価シート!$B$4:$T$4,0)","v":2}]
[104010,167,1,"足場上で躓いて転倒する","通路","転倒",{"$f":"INDEX(【元データ】評価シート!$B$63:$T$114,J56,K56)","v":4},{"$f":"INDEX(【元データ】評価シート!$B$5:$T$56,L56,M56)","v":4},null,{"$f":"MATCH(E56,【元データ】評価シート!$A$63:$A$114,0)","v":40},{"$f":"MATCH(F56,【元データ】評価シート!$B$62:$T$62,0)","v":2},{"$f":"MATCH(E56,【元データ】評価シート!$A$5:$A$56,0)","v":40},{"$f":"MATCH(F56,【元データ】評価シート!$B$4:$T$4,0)","v":2}]
[401010,168,1,"スラブ上で躓いて転倒する","通路","転倒",{"$f":"INDEX(【元データ】評価シート!$B$63:$T$114,J57,K57)","v":4},{"$f":"INDEX(【元データ】評価シート!$B$5:$T$56,L57,M57)","v":4},null,{"$f":"MATCH(E57,【元データ】評価シート!$A$63:$A$114,0)","v":40},{"$f":"MATCH(F57,【元データ】評価シート!$B$62:$T$62,0)","v":2},{"$f":"MATCH(E57,【元データ】評価シート!$A$5:$A$56,0)","v":40},{"$f":"MATCH(F57,【元データ】評価シート!$B$4:$T$4,0)","v":2}]
[401010,169,1,"鉄筋を担いでいる際、資材に躓いて転倒する","通路","転倒",{"$f":"INDEX(【元データ】評価シート!$B$63:$T$114,J58,K58)","v":4},{"$f":"INDEX(【元データ】評価シート!$B$5:$T$56,L58,M58)","v":4},null,{"$f":"MATCH(E58,【元データ】評価シート!$A$63:$A$114,0)","v":40},{"$f":"MATCH(F58,【元データ】評価シート!$B$62:$T$62,0)","v":2},{"$f":"MATCH(E58,【元データ】評価シート!$A$5:$A$56,0)","v":40},{"$f":"MATCH(F58,【元データ】評価シート!$B$4:$T$4,0)","v":2}]
[403030,170,1,"壁の差筋をまたぎ転倒する","通路","転倒",{"$f":"INDEX(【元データ】評価シート!$B$63:$T$114,J59,K59)","v":4},{"$f":"INDEX(【元データ】評価シート!$B$5:$T$56,L59,M59)","v":4},null,{"$f":"MATCH(E59,【元データ】評価シート!$A$63:$A$114,0)","v":40},{"$f":"MATCH(F59,【元データ】評価シート!$B$62:$T$62,0)","v":2},{"$f":"MATCH(E59,【元データ】評価シート!$A$5:$A$56,0)","v":40},{"$f":"MATCH(F59,【元データ】評価シート!$B$4:$T$4,0)","v":2}]
[402050,182,1,"電動結束機使用時、手や指を詰める","手工具","はさまれ・巻き込まれ",{"$f":"INDEX(【元データ】評価シート!$B$63:$T$114,J60,K60)","v":3},{"$f":"INDEX(【元データ】評価シート!$B$5:$T$56,L60,M60)","v":2},null,{"$f":"MATCH(E60,【元データ】評価シート!$A$63:$A$114,0)","v":31},{"$f":"MATCH(F60,【元データ】評価シート!$B$62:$T$62,0)","v":7},{"$f":"MATCH(E60,【元データ】評価シート!$A$5:$A$56,0)","v":31},{"$f":"MATCH(F60,【元データ】評価シート!$B$4:$T$4,0)","v":7}]
[301030,185,1,"ベビーサンダー使用時、目に鉄粉が入る","手工具","飛来・落下",{"$f":"INDEX(【元データ】評価シート!$B$63:$T$114,J61,K61)","v":3},{"$f":"INDEX(【元データ】評価シート!$B$5:$T$56,L61,M61)","v":2},null,{"$f":"MATCH(E61,【元データ】評価シート!$A$63:$A$114,0)","v":31},{"$f":"MATCH(F61,【元データ】評価シート!$B$62:$T$62,0)","v":4},{"$f":"MATCH(E61,【元データ】評価シート!$A$5:$A$56,0)","v":31},{"$f":"MATCH(F61,【元データ】評価シート!$B$4:$T$4,0)","v":4}]
[302010,186,1,"カッターナイフで手を切る","手工具","有害物等との接触",{"$f":"INDEX(【元データ】評価シート!$B$63:$T$114,J62,K62)","v":1},{"$f":"INDEX(【元データ】評価シート!$B$5:$T$56,L62,M62)","v":1},null,{"$f":"MATCH(E62,【元データ】評価シート!$A$63:$A$114,0)","v":31},{"$f":"MATCH(F62,【元データ】評価シート!$B$62:$T$62,0)","v":12},{"$f":"MATCH(E62,【元データ】評価シート!$A$5:$A$56,0)","v":31},{"$f":"MATCH(F62,【元データ】評価シート!$B$4:$T$4,0)","v":12}]
[301010,195,1,"ベビーサンダー使用時、誤って手を切る","動力伝導機構","感電",{"$f":"INDEX(【元データ】評価シート!$B$63:$T$114,J63,K63)","v":1},{"$f":"INDEX(【元データ】評価シート!$B$5:$T$56,L63,M63)","v":1},null,{"$f":"MATCH(E63,【元データ】評価シート!$A$63:$A$114,0)","v":2},{"$f":"MATCH(F63,【元データ】評価シート!$B$62:$T$62,0)","v":13},{"$f":"MATCH(E63,【元データ】評価シート!$A$5:$A$56,0)","v":2},{"$f":"MATCH(F63,【元データ】評価シート!$B$4:$T$4,0)","v":13}]
[102010,198,1,"高速カッターで手を切る","動力伝導機構","切れ・こすれ",{"$f":"INDEX(【元データ】評価シート!$B$63:$T$114,J64,K64)","v":1},{"$f":"INDEX(【元データ】評価シート!$B$5:$T$56,L64,M64)","v":1},null,{"$f":"MATCH(E64,【元データ】評価シート!$A$63:$A$114,0)","v":2},{"$f":"MATCH(F64,【元データ】評価シート!$B$62:$T$62,0)","v":8},{"$f":"MATCH(E64,【元データ】評価シート!$A$5:$A$56,0)","v":2},{"$f":"MATCH(F64,【元データ】評価シート!$B$4:$T$4,0)","v":8}]
[404080,201,1,"高速ｶｯﾀｰの歯が、抜けてしまい損傷する","動力伝導機構","はさまれ・巻き込まれ",{"$f":"INDEX(【元データ】評価シート!$B$63:$T$114,J65,K65)","v":3},{"$f":"INDEX(【元データ】評価シート!$B$5:$T$56,L65,M65)","v":3},null,{"$f":"MATCH(E65,【元データ】評価シート!$A$63:$A$114,0)","v":2},{"$f":"MATCH(F65,【元データ】評価シート!$B$62:$T$62,0)","v":7},{"$f":"MATCH(E65,【元データ】評価シート!$A$5:$A$56,0)","v":2},{"$f":"MATCH(F65,【元データ】評価シート!$B$4:$T$4,0)","v":7}]
[109010,205,1,"積込み運搬中の資材の荷崩れで負傷する","トラック","交通事故（その他）",{"$f":"INDEX(【元データ】評価シート!$B$63:$T$114,J66,K66)","v":3},{"$f":"INDEX(【元データ】評価シート!$B$5:$T$56,L66,M66)","v":1},null,{"$f":"MATCH(E66,【元データ】評価シート!$A$63:$A$114,0)","v":18},{"$f":"MATCH(F66,【元データ】評価シート!$B$62:$T$62,0)","v":18},{"$f":"MATCH(E66,【元データ】評価シート!$A$5:$A$56,0)","v":18},{"$f":"MATCH(F66,【元データ】評価シート!$B$4:$T$4,0)","v":18}]
[110010,206,1,"荷卸し時、トレーラー上から転落する","トラック","激突され",{"$f":"INDEX(【元データ】評価シート!$B$63:$T$114,J67,K67)","v":4},{"$f":"INDEX(【元データ】評価シート!$B$5:$T$56,L67,M67)","v":3},null,{"$f":"MATCH(E67,【元データ】評価シート!$A$63:$A$114,0)","v":18},{"$f":"MATCH(F67,【元データ】評価シート!$B$62:$T$62,0)","v":6},{"$f":"MATCH(E67,【元データ】評価シート!$A$5:$A$56,0)","v":18},{"$f":"MATCH(F67,【元データ】評価シート!$B$4:$T$4,0)","v":6}]
[502020,209,1,"安全ブロックを使用せず梯子やタラップから転落する","はしご等","墜落・転落",{"$f":"INDEX(【元データ】評価シート!$B$63:$T$114,J68,K68)","v":5},{"$f":"INDEX(【元データ】評価シート!$B$5:$T$56,L68,M68)","v":5},null,{"$f":"MATCH(E68,【元データ】評価シート!$A$63:$A$114,0)","v":32},{"$f":"MATCH(F68,【元データ】評価シート!$B$62:$T$62,0)","v":1},{"$f":"MATCH(E68,【元データ】評価シート!$A$5:$A$56,0)","v":32},{"$f":"MATCH(F68,【元データ】評価シート!$B$4:$T$4,0)","v":1}]
[null,246,1,"ガソリン容器が破損し、引火する","引火性の物","火災",{"$f":"INDEX(【元データ】評価シート!$B$63:$T$114,J69,K69)","v":3},{"$f":"INDEX(【元データ】評価シート!$B$5:$T$56,L69,M69)","v":2},null,{"$f":"MATCH(E69,【元データ】評価シート!$A$63:$A$114,0)","v":42},{"$f":"MATCH(F69,【元データ】評価シート!$B$62:$T$62,0)","v":16},{"$f":"MATCH(E69,【元データ】評価シート!$A$5:$A$56,0)","v":42},{"$f":"MATCH(F69,【元データ】評価シート!$B$4:$T$4,0)","v":16}]
[null,247,1,"軽油が漏洩し、引火する","引火性の物","火災",{"$f":"INDEX(【元データ】評価シート!$B$63:$T$114,J70,K70)","v":3},{"$f":"INDEX(【元データ】評価シート!$B$5:$T$56,L70,M70)","v":2},null,{"$f":"MATCH(E70,【元データ】評価シート!$A$63:$A$114,0)","v":42},{"$f":"MATCH(F70,【元データ】評価シート!$B$62:$T$62,0)","v":16},{"$f":"MATCH(E70,【元データ】評価シート!$A$5:$A$56,0)","v":42},{"$f":"MATCH(F70,【元データ】評価シート!$B$4:$T$4,0)","v":16}]

{"sheet":"左官","index":5,"n_rows":42,"n_cols":13,"rows_kept":42,"cut":false,"hidden":false,"merged":[[0,1,0,2]]}
[null,"工種区分"]
["工種コード",null,"左官","危険ポイント","起因物","事故型","可能性","重大性"]
[101010,7,1,"立馬で材料荷渡しや作業時に転落する","足場","墜落・転落",{"$f":"INDEX(【元データ】評価シート!$B$63:$T$114,J3,K3)","v":5},{"$f":"INDEX(【元データ】評価シート!$B$5:$T$56,L3,M3)","v":5},null,{"$f":"MATCH(E3,【元データ】評価シート!$A$63:$A$114,0)","v":34},{"$f":"MATCH(F3,【元データ】評価シート!$B$62:$T$62,0)","v":1},{"$f":"MATCH(E3,【元データ】評価シート!$A$5:$A$56,0)","v":34},{"$f":"MATCH(F3,【元データ】評価シート!$B$4:$T$4,0)","v":1}]
[101010,8,1,"立馬の脚が段差・床スリーブにはまり、または縮んで転落・転倒する","足場","墜落・転落",{"$f":"INDEX(【元データ】評価シート!$B$63:$T$114,J4,K4)","v":5},{"$f":"INDEX(【元データ】評価シート!$B$5:$T$56,L4,M4)","v":5},null,{"$f":"MATCH(E4,【元データ】評価シート!$A$63:$A$114,0)","v":34},{"$f":"MATCH(F4,【元データ】評価シート!$B$62:$T$62,0)","v":1},{"$f":"MATCH(E4,【元データ】評価シート!$A$5:$A$56,0)","v":34},{"$f":"MATCH(F4,【元データ】評価シート!$B$4:$T$4,0)","v":1}]
[101010,9,1,"立馬から降りる時に踏み外して転落する","足場","踏み抜き",{"$f":"INDEX(【元データ】評価シート!$B$63:$T$114,J5,K5)","v":1},{"$f":"INDEX(【元データ】評価シート!$B$5:$T$56,L5,M5)","v":1},null,{"$f":"MATCH(E5,【元データ】評価シート!$A$63:$A$114,0)","v":34},{"$f":"MATCH(F5,【元データ】評価シート!$B$62:$T$62,0)","v":9},{"$f":"MATCH(E5,【元データ】評価シート!$A$5:$A$56,0)","v":34},{"$f":"MATCH(F5,【元データ】評価シート!$B$4:$T$4,0)","v":9}]
[706010,10,1,"梯子作業中バランスを崩して転落する","はしご等","墜落・転落",{"$f":"INDEX(【元データ】評価シート!$B$63:$T$114,J6,K6)","v":5},{"$f":"INDEX(【元データ】評価シート!$B$5:$T$56,L6,M6)","v":5},null,{"$f":"MATCH(E6,【元データ】評価シート!$A$63:$A$114,0)","v":32},{"$f":"MATCH(F6,【元データ】評価シート!$B$62:$T$62,0)","v":1},{"$f":"MATCH(E6,【元データ】評価シート!$A$5:$A$56,0)","v":32},{"$f":"MATCH(F6,【元データ】評価シート!$B$4:$T$4,0)","v":1}]
[105010,11,1,"足場使用時、足場から墜落する","足場","墜落・転落",{"$f":"INDEX(【元データ】評価シート!$B$63:$T$114,J7,K7)","v":5},{"$f":"INDEX(【元データ】評価シート!$B$5:$T$56,L7,M7)","v":5},null,{"$f":"MATCH(E7,【元データ】評価シート!$A$63:$A$114,0)","v":34},{"$f":"MATCH(F7,【元データ】評価シート!$B$62:$T$62,0)","v":1},{"$f":"MATCH(E7,【元データ】評価シート!$A$5:$A$56,0)","v":34},{"$f":"MATCH(F7,【元データ】評価シート!$B$4:$T$4,0)","v":1}]
[105010,12,1,"足場の隙間から墜落する","足場","墜落・転落",{"$f":"INDEX(【元データ】評価シート!$B$63:$T$114,J8,K8)","v":5},{"$f":"INDEX(【元データ】評価シート!$B$5:$T$56,L8,M8)","v":5},null,{"$f":"MATCH(E8,【元データ】評価シート!$A$63:$A$114,0)","v":34},{"$f":"MATCH(F8,【元データ】評価シート!$B$62:$T$62,0)","v":1},{"$f":"MATCH(E8,【元データ】評価シート!$A$5:$A$56,0)","v":34},{"$f":"MATCH(F8,【元データ】評価シート!$B$4:$T$4,0)","v":1}]
[203010,14,1,"足場板を固定する際、足場板の天ビンにより墜落する","足場","踏み抜き",{"$f":"INDEX(【元データ】評価シート!$B$63:$T$114,J9,K9)","v":1},{"$f":"INDEX(【元データ】評価シート!$B$5:$T$56,L9,M9)","v":1},null,{"$f":"MATCH(E9,【元データ】評価シート!$A$63:$A$114,0)","v":34},{"$f":"MATCH(F9,【元データ】評価シート!$B$62:$T$62,0)","v":9},{"$f":"MATCH(E9,【元データ】評価シート!$A$5:$A$56,0)","v":34},{"$f":"MATCH(F9,【元データ】評価シート!$B$4:$T$4,0)","v":9}]
[402020,15,1,"立馬上で作業中突風にあおられ材料と共に転落する","足場","墜落・転落",{"$f":"INDEX(【元データ】評価シート!$B$63:$T$114,J10,K10)","v":5},{"$f":"INDEX(【元データ】評価シート!$B$5:$T$56,L10,M10)","v":5},null,{"$f":"MATCH(E10,【元データ】評価シート!$A$63:$A$114,0)","v":34},{"$f":"MATCH(F10,【元データ】評価シート!$B$62:$T$62,0)","v":1},{"$f":"MATCH(E10,【元データ】評価シート!$A$5:$A$56,0)","v":34},{"$f":"MATCH(F10,【元データ】評価シート!$B$4:$T$4,0)","v":1}]
[402030,17,1,"足場の中桟に足を掛け作業中、中桟が外れて転落する","足場","墜落・転落",{"$f":"INDEX(【元データ】評価シート!$B$63:$T$114,J11,K11)","v":5},{"$f":"INDEX(【元データ】評価シート!$B$5:$T$56,L11,M11)","v":5},null,{"$f":"MATCH(E11,【元データ】評価シート!$A$63:$A$114,0)","v":34},{"$f":"MATCH(F11,【元データ】評価シート!$B$62:$T$62,0)","v":1},{"$f":"MATCH(E11,【元データ】評価シート!$A$5:$A$56,0)","v":34},{"$f":"MATCH(F11,【元データ】評価シート!$B$4:$T$4,0)","v":1}]
[105010,21,1,"足場上で躓いて転倒する","足場","転倒",{"$f":"INDEX(【元データ】評価シート!$B$63:$T$114,J12,K12)","v":1},{"$f":"INDEX(【元データ】評価シート!$B$5:$T$56,L12,M12)","v":2},null,{"$f":"MATCH(E12,【元データ】評価シート!$A$63:$A$114,0)","v":34},{"$f":"MATCH(F12,【元データ】評価シート!$B$62:$T$62,0)","v":2},{"$f":"MATCH(E12,【元データ】評価シート!$A$5:$A$56,0)","v":34},{"$f":"MATCH(F12,【元データ】評価シート!$B$4:$T$4,0)","v":2}]
[402020,23,1,"布板昇降ハッチの蓋が閉まり手を詰める","足場","はさまれ・巻き込まれ",{"$f":"INDEX(【元データ】評価シート!$B$63:$T$114,J13,K13)","v":2},{"$f":"INDEX(【元データ】評価シート!$B$5:$T$56,L13,M13)","v":2},null,{"$f":"MATCH(E13,【元データ】評価シート!$A$63:$A$114,0)","v":34},{"$f":"MATCH(F13,【元データ】評価シート!$B$62:$T$62,0)","v":7},{"$f":"MATCH(E13,【元データ】評価シート!$A$5:$A$56,0)","v":34},{"$f":"MATCH(F13,【元データ】評価シート!$B$4:$T$4,0)","v":7}]
[105010,24,1,"足場使用時、足場から材料等を落下させる","足場","飛来・落下",{"$f":"INDEX(【元データ】評価シート!$B$63:$T$114,J14,K14)","v":2},{"$f":"INDEX(【元データ】評価シート!$B$5:$T$56,L14,M14)","v":2},null,{"$f":"MATCH(E14,【元データ】評価シート!$A$63:$A$114,0)","v":34},{"$f":"MATCH(F14,【元データ】評価シート!$B$62:$T$62,0)","v":4},{"$f":"MATCH(E14,【元データ】評価シート!$A$5:$A$56,0)","v":34},{"$f":"MATCH(F14,【元データ】評価シート!$B$4:$T$4,0)","v":4}]
[302010,32,1,"ホース先端よりセメントミルクが飛び出し顔にかかる","石、砂、砂利","有害物等との接触",{"$f":"INDEX(【元データ】評価シート!$B$63:$T$114,J15,K15)","v":1},{"$f":"INDEX(【元データ】評価シート!$B$5:$T$56,L15,M15)","v":1},null,{"$f":"MATCH(E15,【元データ】評価シート!$A$63:$A$114,0)","v":47},{"$f":"MATCH(F15,【元データ】評価シート!$B$62:$T$62,0)","v":12},{"$f":"MATCH(E15,【元データ】評価シート!$A$5:$A$56,0)","v":47},{"$f":"MATCH(F15,【元データ】評価シート!$B$4:$T$4,0)","v":12}]
[401020,33,1,"手足にコンクリートが触れてただれる","石、砂、砂利","有害物等との接触",{"$f":"INDEX(【元データ】評価シート!$B$63:$T$114,J16,K16)","v":1},{"$f":"INDEX(【元データ】評価シート!$B$5:$T$56,L16,M16)","v":1},null,{"$f":"MATCH(E16,【元データ】評価シート!$A$63:$A$114,0)","v":47},{"$f":"MATCH(F16,【元データ】評価シート!$B$62:$T$62,0)","v":12},{"$f":"MATCH(E16,【元データ】評価シート!$A$5:$A$56,0)","v":47},{"$f":"MATCH(F16,【元データ】評価シート!$B$4:$T$4,0)","v":12}]
[403060,34,1,"グラウト材注入する際、グラウト材が目に入る","石、砂、砂利","有害物等との接触",{"$f":"INDEX(【元データ】評価シート!$B$63:$T$114,J17,K17)","v":1},{"$f":"INDEX(【元データ】評価シート!$B$5:$T$56,L17,M17)","v":1},null,{"$f":"MATCH(E17,【元データ】評価シート!$A$63:$A$114,0)","v":47},{"$f":"MATCH(F17,【元データ】評価シート!$B$62:$T$62,0)","v":12},{"$f":"MATCH(E17,【元データ】評価シート!$A$5:$A$56,0)","v":47},{"$f":"MATCH(F17,【元データ】評価シート!$B$4:$T$4,0)","v":12}]
[401010,52,1,"昇降設備を使用せずに墜落する","開口部","墜落・転落",{"$f":"INDEX(【元データ】評価シート!$B$63:$T$114,J18,K18)","v":5},{"$f":"INDEX(【元データ】評価シート!$B$5:$T$56,L18,M18)","v":4},null,{"$f":"MATCH(E18,【元データ】評価シート!$A$63:$A$114,0)","v":37},{"$f":"MATCH(F18,【元データ】評価シート!$B$62:$T$62,0)","v":1},{"$f":"MATCH(E18,【元データ】評価シート!$A$5:$A$56,0)","v":37},{"$f":"MATCH(F18,【元データ】評価シート!$B$4:$T$4,0)","v":1}]
[401010,53,1,"物を取ろうと足場に足を掛け滑って転落する","開口部","墜落・転落",{"$f":"INDEX(【元データ】評価シート!$B$63:$T$114,J19,K19)","v":5},{"$f":"INDEX(【元データ】評価シート!$B$5:$T$56,L19,M19)","v":4},null,{"$f":"MATCH(E19,【元データ】評価シート!$A$63:$A$114,0)","v":37},{"$f":"MATCH(F19,【元データ】評価シート!$B$62:$T$62,0)","v":1},{"$f":"MATCH(E19,【元データ】評価シート!$A$5:$A$56,0)","v":37},{"$f":"MATCH(F19,【元データ】評価シート!$B$4:$T$4,0)","v":1}]
[401010,54,1,"足場の隙間から墜落する","開口部","墜落・転落",{"$f":"INDEX(【元データ】評価シート!$B$63:$T$114,J20,K20)","v":5},{"$f":"INDEX(【元データ】評価シート!$B$5:$T$56,L20,M20)","v":4},null,{"$f":"MATCH(E20,【元データ】評価シート!$A$63:$A$114,0)","v":37},{"$f":"MATCH(F20,【元データ】評価シート!$B$62:$T$62,0)","v":1},{"$f":"MATCH(E20,【元データ】評価シート!$A$5:$A$56,0)","v":37},{"$f":"MATCH(F20,【元データ】評価シート!$B$4:$T$4,0)","v":1}]
[105010,67,1,"作業場所移動時、外部足場の階段で足が滑り転倒する","階段、桟橋","転倒",{"$f":"INDEX(【元データ】評価シート!$B$63:$T$114,J21,K21)","v":3},{"$f":"INDEX(【元データ】評価シート!$B$5:$T$56,L21,M21)","v":3},null,{"$f":"MATCH(E21,【元データ】評価シート!$A$63:$A$114,0)","v":36},{"$f":"MATCH(F21,【元データ】評価シート!$B$62:$T$62,0)","v":2},{"$f":"MATCH(E21,【元データ】評価シート!$A$5:$A$56,0)","v":36},{"$f":"MATCH(F21,【元データ】評価シート!$B$4:$T$4,0)","v":2}]
[402020,68,1,"手摺壁に足をかける際、足が滑り転倒する","階段、桟橋","転倒",{"$f":"INDEX(【元データ】評価シート!$B$63:$T$114,J22,K22)","v":3},{"$f":"INDEX(【元データ】評価シート!$B$5:$T$56,L22,M22)","v":3},null,{"$f":"MATCH(E22,【元データ】評価シート!$A$63:$A$114,0)","v":36},{"$f":"MATCH(F22,【元データ】評価シート!$B$62:$T$62,0)","v":2},{"$f":"MATCH(E22,【元データ】評価シート!$A$5:$A$56,0)","v":36},{"$f":"MATCH(F22,【元データ】評価シート!$B$4:$T$4,0)","v":2}]
[202010,86,1,"資材にあたって負傷する","金属材料","激突",{"$f":"INDEX(【元データ】評価シート!$B$63:$T$114,J23,K23)","v":2},{"$f":"INDEX(【元データ】評価シート!$B$5:$T$56,L23,M23)","v":2},null,{"$f":"MATCH(E23,【元データ】評価シート!$A$63:$A$114,0)","v":45},{"$f":"MATCH(F23,【元データ】評価シート!$B$62:$T$62,0)","v":3},{"$f":"MATCH(E23,【元データ】評価シート!$A$5:$A$56,0)","v":45},{"$f":"MATCH(F23,【元データ】評価シート!$B$4:$T$4,0)","v":3}]
[202010,90,1,"単管パイプとクランプで指を挟む","金属材料","はさまれ・巻き込まれ",{"$f":"INDEX(【元データ】評価シート!$B$63:$T$114,J24,K24)","v":4},{"$f":"INDEX(【元データ】評価シート!$B$5:$T$56,L24,M24)","v":3},null,{"$f":"MATCH(E24,【元データ】評価シート!$A$63:$A$114,0)","v":45},{"$f":"MATCH(F24,【元データ】評価シート!$B$62:$T$62,0)","v":7},{"$f":"MATCH(E24,【元データ】評価シート!$A$5:$A$56,0)","v":45},{"$f":"MATCH(F24,【元データ】評価シート!$B$4:$T$4,0)","v":7}]
[202010,95,1,"資材受渡し時、手が滑り、落下する","金属材料","飛来・落下",{"$f":"INDEX(【元データ】評価シート!$B$63:$T$114,J25,K25)","v":5},{"$f":"INDEX(【元データ】評価シート!$B$5:$T$56,L25,M25)","v":3},null,{"$f":"MATCH(E25,【元データ】評価シート!$A$63:$A$114,0)","v":45},{"$f":"MATCH(F25,【元データ】評価シート!$B$62:$T$62,0)","v":4},{"$f":"MATCH(E25,【元データ】評価シート!$A$5:$A$56,0)","v":45},{"$f":"MATCH(F25,【元データ】評価シート!$B$4:$T$4,0)","v":4}]
[401010,135,1,"材料移動時、既存物、隣接建物に接触する","人力運搬機","転倒",{"$f":"INDEX(【元データ】評価シート!$B$63:$T$114,J26,K26)","v":3},{"$f":"INDEX(【元データ】評価シート!$B$5:$T$56,L26,M26)","v":3},null,{"$f":"MATCH(E26,【元データ】評価シート!$A$63:$A$114,0)","v":29},{"$f":"MATCH(F26,【元データ】評価シート!$B$62:$T$62,0)","v":2},{"$f":"MATCH(E26,【元データ】評価シート!$A$5:$A$56,0)","v":29},{"$f":"MATCH(F26,【元データ】評価シート!$B$4:$T$4,0)","v":2}]
[403050,138,1,"材料運搬時、躓いて転倒する","人力運搬機","激突",{"$f":"INDEX(【元データ】評価シート!$B$63:$T$114,J27,K27)","v":2},{"$f":"INDEX(【元データ】評価シート!$B$5:$T$56,L27,M27)","v":2},null,{"$f":"MATCH(E27,【元データ】評価シート!$A$63:$A$114,0)","v":29},{"$f":"MATCH(F27,【元データ】評価シート!$B$62:$T$62,0)","v":3},{"$f":"MATCH(E27,【元データ】評価シート!$A$5:$A$56,0)","v":29},{"$f":"MATCH(F27,【元データ】評価シート!$B$4:$T$4,0)","v":3}]
[103010,139,1,"重量物を持って腰を痛める","人力運搬機","転倒",{"$f":"INDEX(【元データ】評価シート!$B$63:$T$114,J28,K28)","v":3},{"$f":"INDEX(【元データ】評価シート!$B$5:$T$56,L28,M28)","v":3},null,{"$f":"MATCH(E28,【元データ】評価シート!$A$63:$A$114,0)","v":29},{"$f":"MATCH(F28,【元データ】評価シート!$B$62:$T$62,0)","v":2},{"$f":"MATCH(E28,【元データ】評価シート!$A$5:$A$56,0)","v":29},{"$f":"MATCH(F28,【元データ】評価シート!$B$4:$T$4,0)","v":2}]
[105020,140,1,"資材運搬時、台車に手を挟まれて負傷する","人力運搬機","動作の反動・無理な動作",{"$f":"INDEX(【元データ】評価シート!$B$63:$T$114,J29,K29)","v":1},{"$f":"INDEX(【元データ】評価シート!$B$5:$T$56,L29,M29)","v":2},null,{"$f":"MATCH(E29,【元データ】評価シート!$A$63:$A$114,0)","v":29},{"$f":"MATCH(F29,【元データ】評価シート!$B$62:$T$62,0)","v":19},{"$f":"MATCH(E29,【元データ】評価シート!$A$5:$A$56,0)","v":29},{"$f":"MATCH(F29,【元データ】評価シート!$B$4:$T$4,0)","v":19}]
[301010,144,1,"ハンドミキサー使用時、手や服が巻き込まれる","人力機械","はさまれ・巻き込まれ",{"$f":"INDEX(【元データ】評価シート!$B$63:$T$114,J30,K30)","v":2},{"$f":"INDEX(【元データ】評価シート!$B$5:$T$56,L30,M30)","v":2},null,{"$f":"MATCH(E30,【元データ】評価シート!$A$63:$A$114,0)","v":30},{"$f":"MATCH(F30,【元データ】評価シート!$B$62:$T$62,0)","v":7},{"$f":"MATCH(E30,【元データ】評価シート!$A$5:$A$56,0)","v":30},{"$f":"MATCH(F30,【元データ】評価シート!$B$4:$T$4,0)","v":7}]
[202010,160,1,"後ろ向きに掃き掃除中コーナー部の足場の隙間から墜落する","玉掛用具","崩壊・倒壊",{"$f":"INDEX(【元データ】評価シート!$B$63:$T$114,J31,K31)","v":3},{"$f":"INDEX(【元データ】評価シート!$B$5:$T$56,L31,M31)","v":3},null,{"$f":"MATCH(E31,【元データ】評価シート!$A$63:$A$114,0)","v":33},{"$f":"MATCH(F31,【元データ】評価シート!$B$62:$T$62,0)","v":5},{"$f":"MATCH(E31,【元データ】評価シート!$A$5:$A$56,0)","v":33},{"$f":"MATCH(F31,【元データ】評価シート!$B$4:$T$4,0)","v":5}]
[605010,162,1,"通路足場から身を寄り出した際、墜落する","ゴンドラ","墜落・転落",{"$f":"INDEX(【元データ】評価シート!$B$63:$T$114,J32,K32)","v":1},{"$f":"INDEX(【元データ】評価シート!$B$5:$T$56,L32,M32)","v":2},null,{"$f":"MATCH(E32,【元データ】評価シート!$A$63:$A$114,0)","v":16},{"$f":"MATCH(F32,【元データ】評価シート!$B$62:$T$62,0)","v":1},{"$f":"MATCH(E32,【元データ】評価シート!$A$5:$A$56,0)","v":16},{"$f":"MATCH(F32,【元データ】評価シート!$B$4:$T$4,0)","v":1}]
[101010,165,1,"材料運搬時、段差に躓いて転倒する","通路","転倒",{"$f":"INDEX(【元データ】評価シート!$B$63:$T$114,J33,K33)","v":4},{"$f":"INDEX(【元データ】評価シート!$B$5:$T$56,L33,M33)","v":4},null,{"$f":"MATCH(E33,【元データ】評価シート!$A$63:$A$114,0)","v":40},{"$f":"MATCH(F33,【元データ】評価シート!$B$62:$T$62,0)","v":2},{"$f":"MATCH(E33,【元データ】評価シート!$A$5:$A$56,0)","v":40},{"$f":"MATCH(F33,【元データ】評価シート!$B$4:$T$4,0)","v":2}]
[104010,167,1,"足場上で躓いて転倒する","通路","転倒",{"$f":"INDEX(【元データ】評価シート!$B$63:$T$114,J34,K34)","v":4},{"$f":"INDEX(【元データ】評価シート!$B$5:$T$56,L34,M34)","v":4},null,{"$f":"MATCH(E34,【元データ】評価シート!$A$63:$A$114,0)","v":40},{"$f":"MATCH(F34,【元データ】評価シート!$B$62:$T$62,0)","v":2},{"$f":"MATCH(E34,【元データ】評価シート!$A$5:$A$56,0)","v":40},{"$f":"MATCH(F34,【元データ】評価シート!$B$4:$T$4,0)","v":2}]
[401010,168,1,"スラブ上で躓いて転倒する","通路","転倒",{"$f":"INDEX(【元データ】評価シート!$B$63:$T$114,J35,K35)","v":4},{"$f":"INDEX(【元データ】評価シート!$B$5:$T$56,L35,M35)","v":4},null,{"$f":"MATCH(E35,【元データ】評価シート!$A$63:$A$114,0)","v":40},{"$f":"MATCH(F35,【元データ】評価シート!$B$62:$T$62,0)","v":2},{"$f":"MATCH(E35,【元データ】評価シート!$A$5:$A$56,0)","v":40},{"$f":"MATCH(F35,【元データ】評価シート!$B$4:$T$4,0)","v":2}]
[109010,205,1,"積込み運搬中の資材の荷崩れで負傷する","トラック","交通事故（その他）",{"$f":"INDEX(【元データ】評価シート!$B$63:$T$114,J36,K36)","v":3},{"$f":"INDEX(【元データ】評価シート!$B$5:$T$56,L36,M36)","v":1},null,{"$f":"MATCH(E36,【元データ】評価シート!$A$63:$A$114,0)","v":18},{"$f":"MATCH(F36,【元データ】評価シート!$B$62:$T$62,0)","v":18},{"$f":"MATCH(E36,【元データ】評価シート!$A$5:$A$56,0)","v":18},{"$f":"MATCH(F36,【元データ】評価シート!$B$4:$T$4,0)","v":18}]
[110010,206,1,"荷卸し時、トレーラー上から転落する","トラック","激突され",{"$f":"INDEX(【元データ】評価シート!$B$63:$T$114,J37,K37)","v":4},{"$f":"INDEX(【元データ】評価シート!$B$5:$T$56,L37,M37)","v":3},null,{"$f":"MATCH(E37,【元データ】評価シート!$A$63:$A$114,0)","v":18},{"$f":"MATCH(F37,【元データ】評価シート!$B$62:$T$62,0)","v":6},{"$f":"MATCH(E37,【元データ】評価シート!$A$5:$A$56,0)","v":18},{"$f":"MATCH(F37,【元データ】評価シート!$B$4:$T$4,0)","v":6}]
[502020,209,1,"安全ブロックを使用せず梯子やタラップから転落する","はしご等","墜落・転落",{"$f":"INDEX(【元データ】評価シート!$B$63:$T$114,J38,K38)","v":5},{"$f":"INDEX(【元データ】評価シート!$B$5:$T$56,L38,M38)","v":5},null,{"$f":"MATCH(E38,【元データ】評価シート!$A$63:$A$114,0)","v":32},{"$f":"MATCH(F38,【元データ】評価シート!$B$62:$T$62,0)","v":1},{"$f":"MATCH(E38,【元データ】評価シート!$A$5:$A$56,0)","v":32},{"$f":"MATCH(F38,【元データ】評価シート!$B$4:$T$4,0)","v":1}]
[null,233,1,"エレベーター開口部から墜落する","エレベータ、リフト","墜落・転落",{"$f":"INDEX(【元データ】評価シート!$B$63:$T$114,J39,K39)","v":3},{"$f":"INDEX(【元データ】評価シート!$B$5:$T$56,L39,M39)","v":3},null,{"$f":"MATCH(E39,【元データ】評価シート!$A$63:$A$114,0)","v":14},{"$f":"MATCH(F39,【元データ】評価シート!$B$62:$T$62,0)","v":1},{"$f":"MATCH(E39,【元データ】評価シート!$A$5:$A$56,0)","v":14},{"$f":"MATCH(F39,【元データ】評価シート!$B$4:$T$4,0)","v":1}]
[null,235,1,"ベビーホイストで資材吊り上げ時、玉掛が外れて落下する","揚貨装置","飛来・落下",{"$f":"INDEX(【元データ】評価シート!$B$63:$T$114,J40,K40)","v":1},{"$f":"INDEX(【元データ】評価シート!$B$5:$T$56,L40,M40)","v":1},null,{"$f":"MATCH(E40,【元データ】評価シート!$A$63:$A$114,0)","v":15},{"$f":"MATCH(F40,【元データ】評価シート!$B$62:$T$62,0)","v":4},{"$f":"MATCH(E40,【元データ】評価シート!$A$5:$A$56,0)","v":15},{"$f":"MATCH(F40,【元データ】評価シート!$B$4:$T$4,0)","v":4}]
[null,246,1,"ガソリン容器が破損し、引火する","引火性の物","火災",{"$f":"INDEX(【元データ】評価シート!$B$63:$T$114,J41,K41)","v":3},{"$f":"INDEX(【元データ】評価シート!$B$5:$T$56,L41,M41)","v":2},null,{"$f":"MATCH(E41,【元データ】評価シート!$A$63:$A$114,0)","v":42},{"$f":"MATCH(F41,【元データ】評価シート!$B$62:$T$62,0)","v":16},{"$f":"MATCH(E41,【元データ】評価シート!$A$5:$A$56,0)","v":42},{"$f":"MATCH(F41,【元データ】評価シート!$B$4:$T$4,0)","v":16}]
[null,247,1,"軽油が漏洩し、引火する","引火性の物","火災",{"$f":"INDEX(【元データ】評価シート!$B$63:$T$114,J42,K42)","v":3},{"$f":"INDEX(【元データ】評価シート!$B$5:$T$56,L42,M42)","v":2},null,{"$f":"MATCH(E42,【元データ】評価シート!$A$63:$A$114,0)","v":42},{"$f":"MATCH(F42,【元データ】評価シート!$B$62:$T$62,0)","v":16},{"$f":"MATCH(E42,【元データ】評価シート!$A$5:$A$56,0)","v":42},{"$f":"MATCH(F42,【元データ】評価シート!$B$4:$T$4,0)","v":16}]

{"sheet":"内装仕上","index":6,"n_rows":50,"n_cols":13,"rows_kept":50,"cut":false,"hidden":false,"merged":[[0,1,0,2]]}
[null,"工種区分"]
["工種コード",null,"内装仕上","危険ポイント","起因物","事故型","可能性","重大性"]
[101010,7,1,"立馬で材料荷渡しや作業時に転落する","足場","墜落・転落",{"$f":"INDEX(【元データ】評価シート!$B$63:$T$114,J3,K3)","v":5},{"$f":"INDEX(【元データ】評価シート!$B$5:$T$56,L3,M3)","v":5},null,{"$f":"MATCH(E3,【元データ】評価シート!$A$63:$A$114,0)","v":34},{"$f":"MATCH(F3,【元データ】評価シート!$B$62:$T$62,0)","v":1},{"$f":"MATCH(E3,【元データ】評価シート!$A$5:$A$56,0)","v":34},{"$f":"MATCH(F3,【元データ】評価シート!$B$4:$T$4,0)","v":1}]
[101010,8,1,"立馬の脚が段差・床スリーブにはまり、または縮んで転落・転倒する","足場","墜落・転落",{"$f":"INDEX(【元データ】評価シート!$B$63:$T$114,J4,K4)","v":5},{"$f":"INDEX(【元データ】評価シート!$B$5:$T$56,L4,M4)","v":5},null,{"$f":"MATCH(E4,【元データ】評価シート!$A$63:$A$114,0)","v":34},{"$f":"MATCH(F4,【元データ】評価シート!$B$62:$T$62,0)","v":1},{"$f":"MATCH(E4,【元データ】評価シート!$A$5:$A$56,0)","v":34},{"$f":"MATCH(F4,【元データ】評価シート!$B$4:$T$4,0)","v":1}]
[101010,9,1,"立馬から降りる時に踏み外して転落する","足場","踏み抜き",{"$f":"INDEX(【元データ】評価シート!$B$63:$T$114,J5,K5)","v":1},{"$f":"INDEX(【元データ】評価シート!$B$5:$T$56,L5,M5)","v":1},null,{"$f":"MATCH(E5,【元データ】評価シート!$A$63:$A$114,0)","v":34},{"$f":"MATCH(F5,【元データ】評価シート!$B$62:$T$62,0)","v":9},{"$f":"MATCH(E5,【元データ】評価シート!$A$5:$A$56,0)","v":34},{"$f":"MATCH(F5,【元データ】評価シート!$B$4:$T$4,0)","v":9}]
[706010,10,1,"梯子作業中バランスを崩して転落する","はしご等","墜落・転落",{"$f":"INDEX(【元データ】評価シート!$B$63:$T$114,J6,K6)","v":5},{"$f":"INDEX(【元データ】評価シート!$B$5:$T$56,L6,M6)","v":5},null,{"$f":"MATCH(E6,【元データ】評価シート!$A$63:$A$114,0)","v":32},{"$f":"MATCH(F6,【元データ】評価シート!$B$62:$T$62,0)","v":1},{"$f":"MATCH(E6,【元データ】評価シート!$A$5:$A$56,0)","v":32},{"$f":"MATCH(F6,【元データ】評価シート!$B$4:$T$4,0)","v":1}]
[105010,11,1,"足場使用時、足場から墜落する","足場","墜落・転落",{"$f":"INDEX(【元データ】評価シート!$B$63:$T$114,J7,K7)","v":5},{"$f":"INDEX(【元データ】評価シート!$B$5:$T$56,L7,M7)","v":5},null,{"$f":"MATCH(E7,【元データ】評価シート!$A$63:$A$114,0)","v":34},{"$f":"MATCH(F7,【元データ】評価シート!$B$62:$T$62,0)","v":1},{"$f":"MATCH(E7,【元データ】評価シート!$A$5:$A$56,0)","v":34},{"$f":"MATCH(F7,【元データ】評価シート!$B$4:$T$4,0)","v":1}]
[105010,12,1,"足場の隙間から墜落する","足場","墜落・転落",{"$f":"INDEX(【元データ】評価シート!$B$63:$T$114,J8,K8)","v":5},{"$f":"INDEX(【元データ】評価シート!$B$5:$T$56,L8,M8)","v":5},null,{"$f":"MATCH(E8,【元データ】評価シート!$A$63:$A$114,0)","v":34},{"$f":"MATCH(F8,【元データ】評価シート!$B$62:$T$62,0)","v":1},{"$f":"MATCH(E8,【元データ】評価シート!$A$5:$A$56,0)","v":34},{"$f":"MATCH(F8,【元データ】評価シート!$B$4:$T$4,0)","v":1}]
[203010,14,1,"足場板を固定する際、足場板の天ビンにより墜落する","足場","踏み抜き",{"$f":"INDEX(【元データ】評価シート!$B$63:$T$114,J9,K9)","v":1},{"$f":"INDEX(【元データ】評価シート!$B$5:$T$56,L9,M9)","v":1},null,{"$f":"MATCH(E9,【元データ】評価シート!$A$63:$A$114,0)","v":34},{"$f":"MATCH(F9,【元データ】評価シート!$B$62:$T$62,0)","v":9},{"$f":"MATCH(E9,【元データ】評価シート!$A$5:$A$56,0)","v":34},{"$f":"MATCH(F9,【元データ】評価シート!$B$4:$T$4,0)","v":9}]
[402020,15,1,"立馬上で作業中突風にあおられ材料と共に転落する","足場","墜落・転落",{"$f":"INDEX(【元データ】評価シート!$B$63:$T$114,J10,K10)","v":5},{"$f":"INDEX(【元データ】評価シート!$B$5:$T$56,L10,M10)","v":5},null,{"$f":"MATCH(E10,【元データ】評価シート!$A$63:$A$114,0)","v":34},{"$f":"MATCH(F10,【元データ】評価シート!$B$62:$T$62,0)","v":1},{"$f":"MATCH(E10,【元データ】評価シート!$A$5:$A$56,0)","v":34},{"$f":"MATCH(F10,【元データ】評価シート!$B$4:$T$4,0)","v":1}]
[402030,17,1,"足場の中桟に足を掛け作業中、中桟が外れて転落する","足場","墜落・転落",{"$f":"INDEX(【元データ】評価シート!$B$63:$T$114,J11,K11)","v":5},{"$f":"INDEX(【元データ】評価シート!$B$5:$T$56,L11,M11)","v":5},null,{"$f":"MATCH(E11,【元データ】評価シート!$A$63:$A$114,0)","v":34},{"$f":"MATCH(F11,【元データ】評価シート!$B$62:$T$62,0)","v":1},{"$f":"MATCH(E11,【元データ】評価シート!$A$5:$A$56,0)","v":34},{"$f":"MATCH(F11,【元データ】評価シート!$B$4:$T$4,0)","v":1}]
[404030,18,1,"錆止め塗装中、足場から転落する","足場","墜落・転落",{"$f":"INDEX(【元データ】評価シート!$B$63:$T$114,J12,K12)","v":5},{"$f":"INDEX(【元データ】評価シート!$B$5:$T$56,L12,M12)","v":5},null,{"$f":"MATCH(E12,【元データ】評価シート!$A$63:$A$114,0)","v":34},{"$f":"MATCH(F12,【元データ】評価シート!$B$62:$T$62,0)","v":1},{"$f":"MATCH(E12,【元データ】評価シート!$A$5:$A$56,0)","v":34},{"$f":"MATCH(F12,【元データ】評価シート!$B$4:$T$4,0)","v":1}]
[404080,19,1,"ローリング足場の手摺が外れて転落する","足場","墜落・転落",{"$f":"INDEX(【元データ】評価シート!$B$63:$T$114,J13,K13)","v":5},{"$f":"INDEX(【元データ】評価シート!$B$5:$T$56,L13,M13)","v":5},null,{"$f":"MATCH(E13,【元データ】評価シート!$A$63:$A$114,0)","v":34},{"$f":"MATCH(F13,【元データ】評価シート!$B$62:$T$62,0)","v":1},{"$f":"MATCH(E13,【元データ】評価シート!$A$5:$A$56,0)","v":34},{"$f":"MATCH(F13,【元データ】評価シート!$B$4:$T$4,0)","v":1}]
[404080,20,1,"ﾛｰﾘﾝｸﾞﾀﾜｰ使用時、身を寄り出して墜落する","足場","墜落・転落",{"$f":"INDEX(【元データ】評価シート!$B$63:$T$114,J14,K14)","v":5},{"$f":"INDEX(【元データ】評価シート!$B$5:$T$56,L14,M14)","v":5},null,{"$f":"MATCH(E14,【元データ】評価シート!$A$63:$A$114,0)","v":34},{"$f":"MATCH(F14,【元データ】評価シート!$B$62:$T$62,0)","v":1},{"$f":"MATCH(E14,【元データ】評価シート!$A$5:$A$56,0)","v":34},{"$f":"MATCH(F14,【元データ】評価シート!$B$4:$T$4,0)","v":1}]
[105010,21,1,"足場上で躓いて転倒する","足場","転倒",{"$f":"INDEX(【元データ】評価シート!$B$63:$T$114,J15,K15)","v":1},{"$f":"INDEX(【元データ】評価シート!$B$5:$T$56,L15,M15)","v":2},null,{"$f":"MATCH(E15,【元データ】評価シート!$A$63:$A$114,0)","v":34},{"$f":"MATCH(F15,【元データ】評価シート!$B$62:$T$62,0)","v":2},{"$f":"MATCH(E15,【元データ】評価シート!$A$5:$A$56,0)","v":34},{"$f":"MATCH(F15,【元データ】評価シート!$B$4:$T$4,0)","v":2}]
[202020,22,1,"ローリング足場が倒れて負傷する","足場","崩壊・倒壊",{"$f":"INDEX(【元データ】評価シート!$B$63:$T$114,J16,K16)","v":3},{"$f":"INDEX(【元データ】評価シート!$B$5:$T$56,L16,M16)","v":2},null,{"$f":"MATCH(E16,【元データ】評価シート!$A$63:$A$114,0)","v":34},{"$f":"MATCH(F16,【元データ】評価シート!$B$62:$T$62,0)","v":5},{"$f":"MATCH(E16,【元データ】評価シート!$A$5:$A$56,0)","v":34},{"$f":"MATCH(F16,【元データ】評価シート!$B$4:$T$4,0)","v":5}]
[402020,23,1,"布板昇降ハッチの蓋が閉まり手を詰める","足場","はさまれ・巻き込まれ",{"$f":"INDEX(【元データ】評価シート!$B$63:$T$114,J17,K17)","v":2},{"$f":"INDEX(【元データ】評価シート!$B$5:$T$56,L17,M17)","v":2},null,{"$f":"MATCH(E17,【元データ】評価シート!$A$63:$A$114,0)","v":34},{"$f":"MATCH(F17,【元データ】評価シート!$B$62:$T$62,0)","v":7},{"$f":"MATCH(E17,【元データ】評価シート!$A$5:$A$56,0)","v":34},{"$f":"MATCH(F17,【元データ】評価シート!$B$4:$T$4,0)","v":7}]
[105010,24,1,"足場使用時、足場から材料等を落下させる","足場","飛来・落下",{"$f":"INDEX(【元データ】評価シート!$B$63:$T$114,J18,K18)","v":2},{"$f":"INDEX(【元データ】評価シート!$B$5:$T$56,L18,M18)","v":2},null,{"$f":"MATCH(E18,【元データ】評価シート!$A$63:$A$114,0)","v":34},{"$f":"MATCH(F18,【元データ】評価シート!$B$62:$T$62,0)","v":4},{"$f":"MATCH(E18,【元データ】評価シート!$A$5:$A$56,0)","v":34},{"$f":"MATCH(F18,【元データ】評価シート!$B$4:$T$4,0)","v":4}]
[205010,30,1,"足場清掃時、足場からガラ等を落下させる","石、砂、砂利","飛来・落下",{"$f":"INDEX(【元データ】評価シート!$B$63:$T$114,J19,K19)","v":3},{"$f":"INDEX(【元データ】評価シート!$B$5:$T$56,L19,M19)","v":2},null,{"$f":"MATCH(E19,【元データ】評価シート!$A$63:$A$114,0)","v":47},{"$f":"MATCH(F19,【元データ】評価シート!$B$62:$T$62,0)","v":4},{"$f":"MATCH(E19,【元データ】評価シート!$A$5:$A$56,0)","v":47},{"$f":"MATCH(F19,【元データ】評価シート!$B$4:$T$4,0)","v":4}]
[401010,52,1,"昇降設備を使用せずに墜落する","開口部","墜落・転落",{"$f":"INDEX(【元データ】評価シート!$B$63:$T$114,J20,K20)","v":5},{"$f":"INDEX(【元データ】評価シート!$B$5:$T$56,L20,M20)","v":4},null,{"$f":"MATCH(E20,【元データ】評価シート!$A$63:$A$114,0)","v":37},{"$f":"MATCH(F20,【元データ】評価シート!$B$62:$T$62,0)","v":1},{"$f":"MATCH(E20,【元データ】評価シート!$A$5:$A$56,0)","v":37},{"$f":"MATCH(F20,【元データ】評価シート!$B$4:$T$4,0)","v":1}]
[401010,53,1,"物を取ろうと足場に足を掛け滑って転落する","開口部","墜落・転落",{"$f":"INDEX(【元データ】評価シート!$B$63:$T$114,J21,K21)","v":5},{"$f":"INDEX(【元データ】評価シート!$B$5:$T$56,L21,M21)","v":4},null,{"$f":"MATCH(E21,【元データ】評価シート!$A$63:$A$114,0)","v":37},{"$f":"MATCH(F21,【元データ】評価シート!$B$62:$T$62,0)","v":1},{"$f":"MATCH(E21,【元データ】評価シート!$A$5:$A$56,0)","v":37},{"$f":"MATCH(F21,【元データ】評価シート!$B$4:$T$4,0)","v":1}]
[401010,54,1,"足場の隙間から墜落する","開口部","墜落・転落",{"$f":"INDEX(【元データ】評価シート!$B$63:$T$114,J22,K22)","v":5},{"$f":"INDEX(【元データ】評価シート!$B$5:$T$56,L22,M22)","v":4},null,{"$f":"MATCH(E22,【元データ】評価シート!$A$63:$A$114,0)","v":37},{"$f":"MATCH(F22,【元データ】評価シート!$B$62:$T$62,0)","v":1},{"$f":"MATCH(E22,【元データ】評価シート!$A$5:$A$56,0)","v":37},{"$f":"MATCH(F22,【元データ】評価シート!$B$4:$T$4,0)","v":1}]
[105010,67,1,"作業場所移動時、外部足場の階段で足が滑り転倒する","階段、桟橋","転倒",{"$f":"INDEX(【元データ】評価シート!$B$63:$T$114,J23,K23)","v":3},{"$f":"INDEX(【元データ】評価シート!$B$5:$T$56,L23,M23)","v":3},null,{"$f":"MATCH(E23,【元データ】評価シート!$A$63:$A$114,0)","v":36},{"$f":"MATCH(F23,【元データ】評価シート!$B$62:$T$62,0)","v":2},{"$f":"MATCH(E23,【元データ】評価シート!$A$5:$A$56,0)","v":36},{"$f":"MATCH(F23,【元データ】評価シート!$B$4:$T$4,0)","v":2}]
[402020,68,1,"手摺壁に足をかける際、足が滑り転倒する","階段、桟橋","転倒",{"$f":"INDEX(【元データ】評価シート!$B$63:$T$114,J24,K24)","v":3},{"$f":"INDEX(【元データ】評価シート!$B$5:$T$56,L24,M24)","v":3},null,{"$f":"MATCH(E24,【元データ】評価シート!$A$63:$A$114,0)","v":36},{"$f":"MATCH(F24,【元データ】評価シート!$B$62:$T$62,0)","v":2},{"$f":"MATCH(E24,【元データ】評価シート!$A$5:$A$56,0)","v":36},{"$f":"MATCH(F24,【元データ】評価シート!$B$4:$T$4,0)","v":2}]
[202010,86,1,"資材にあたって負傷する","金属材料","激突",{"$f":"INDEX(【元データ】評価シート!$B$63:$T$114,J25,K25)","v":2},{"$f":"INDEX(【元データ】評価シート!$B$5:$T$56,L25,M25)","v":2},null,{"$f":"MATCH(E25,【元データ】評価シート!$A$63:$A$114,0)","v":45},{"$f":"MATCH(F25,【元データ】評価シート!$B$62:$T$62,0)","v":3},{"$f":"MATCH(E25,【元データ】評価シート!$A$5:$A$56,0)","v":45},{"$f":"MATCH(F25,【元データ】評価シート!$B$4:$T$4,0)","v":3}]
[202010,90,1,"単管パイプとクランプで指を挟む","金属材料","はさまれ・巻き込まれ",{"$f":"INDEX(【元データ】評価シート!$B$63:$T$114,J26,K26)","v":4},{"$f":"INDEX(【元データ】評価シート!$B$5:$T$56,L26,M26)","v":3},null,{"$f":"MATCH(E26,【元データ】評価シート!$A$63:$A$114,0)","v":45},{"$f":"MATCH(F26,【元データ】評価シート!$B$62:$T$62,0)","v":7},{"$f":"MATCH(E26,【元データ】評価シート!$A$5:$A$56,0)","v":45},{"$f":"MATCH(F26,【元データ】評価シート!$B$4:$T$4,0)","v":7}]
[202010,95,1,"資材受渡し時、手が滑り、落下する","金属材料","飛来・落下",{"$f":"INDEX(【元データ】評価シート!$B$63:$T$114,J27,K27)","v":5},{"$f":"INDEX(【元データ】評価シート!$B$5:$T$56,L27,M27)","v":3},null,{"$f":"MATCH(E27,【元データ】評価シート!$A$63:$A$114,0)","v":45},{"$f":"MATCH(F27,【元データ】評価シート!$B$62:$T$62,0)","v":4},{"$f":"MATCH(E27,【元データ】評価シート!$A$5:$A$56,0)","v":45},{"$f":"MATCH(F27,【元データ】評価シート!$B$4:$T$4,0)","v":4}]
[105010,109,1,"高所作業車使用時、転落する","高所作業車","墜落・転落",{"$f":"INDEX(【元データ】評価シート!$B$63:$T$114,J28,K28)","v":3},{"$f":"INDEX(【元データ】評価シート!$B$5:$T$56,L28,M28)","v":3},null,{"$f":"MATCH(E28,【元データ】評価シート!$A$63:$A$114,0)","v":10},{"$f":"MATCH(F28,【元データ】評価シート!$B$62:$T$62,0)","v":1},{"$f":"MATCH(E28,【元データ】評価シート!$A$5:$A$56,0)","v":10},{"$f":"MATCH(F28,【元データ】評価シート!$B$4:$T$4,0)","v":1}]
[204010,110,1,"高所作業車使用時、身を寄り出して墜落する","高所作業車","墜落・転落",{"$f":"INDEX(【元データ】評価シート!$B$63:$T$114,J29,K29)","v":3},{"$f":"INDEX(【元データ】評価シート!$B$5:$T$56,L29,M29)","v":3},null,{"$f":"MATCH(E29,【元データ】評価シート!$A$63:$A$114,0)","v":10},{"$f":"MATCH(F29,【元データ】評価シート!$B$62:$T$62,0)","v":1},{"$f":"MATCH(E29,【元データ】評価シート!$A$5:$A$56,0)","v":10},{"$f":"MATCH(F29,【元データ】評価シート!$B$4:$T$4,0)","v":1}]
[402030,111,1,"高所作業車移動時に開口部の養生蓋に引っ掛かって転倒する","高所作業車","転倒",{"$f":"INDEX(【元データ】評価シート!$B$63:$T$114,J30,K30)","v":1},{"$f":"INDEX(【元データ】評価シート!$B$5:$T$56,L30,M30)","v":2},null,{"$f":"MATCH(E30,【元データ】評価シート!$A$63:$A$114,0)","v":10},{"$f":"MATCH(F30,【元データ】評価シート!$B$62:$T$62,0)","v":2},{"$f":"MATCH(E30,【元データ】評価シート!$A$5:$A$56,0)","v":10},{"$f":"MATCH(F30,【元データ】評価シート!$B$4:$T$4,0)","v":2}]
[401010,135,1,"材料移動時、既存物、隣接建物に接触する","人力運搬機","転倒",{"$f":"INDEX(【元データ】評価シート!$B$63:$T$114,J31,K31)","v":3},{"$f":"INDEX(【元データ】評価シート!$B$5:$T$56,L31,M31)","v":3},null,{"$f":"MATCH(E31,【元データ】評価シート!$A$63:$A$114,0)","v":29},{"$f":"MATCH(F31,【元データ】評価シート!$B$62:$T$62,0)","v":2},{"$f":"MATCH(E31,【元データ】評価シート!$A$5:$A$56,0)","v":29},{"$f":"MATCH(F31,【元データ】評価シート!$B$4:$T$4,0)","v":2}]
[403050,138,1,"材料運搬時、躓いて転倒する","人力運搬機","激突",{"$f":"INDEX(【元データ】評価シート!$B$63:$T$114,J32,K32)","v":2},{"$f":"INDEX(【元データ】評価シート!$B$5:$T$56,L32,M32)","v":2},null,{"$f":"MATCH(E32,【元データ】評価シート!$A$63:$A$114,0)","v":29},{"$f":"MATCH(F32,【元データ】評価シート!$B$62:$T$62,0)","v":3},{"$f":"MATCH(E32,【元データ】評価シート!$A$5:$A$56,0)","v":29},{"$f":"MATCH(F32,【元データ】評価シート!$B$4:$T$4,0)","v":3}]
[103010,139,1,"重量物を持って腰を痛める","人力運搬機","転倒",{"$f":"INDEX(【元データ】評価シート!$B$63:$T$114,J33,K33)","v":3},{"$f":"INDEX(【元データ】評価シート!$B$5:$T$56,L33,M33)","v":3},null,{"$f":"MATCH(E33,【元データ】評価シート!$A$63:$A$114,0)","v":29},{"$f":"MATCH(F33,【元データ】評価シート!$B$62:$T$62,0)","v":2},{"$f":"MATCH(E33,【元データ】評価シート!$A$5:$A$56,0)","v":29},{"$f":"MATCH(F33,【元データ】評価シート!$B$4:$T$4,0)","v":2}]
[105020,140,1,"資材運搬時、台車に手を挟まれて負傷する","人力運搬機","動作の反動・無理な動作",{"$f":"INDEX(【元データ】評価シート!$B$63:$T$114,J34,K34)","v":1},{"$f":"INDEX(【元データ】評価シート!$B$5:$T$56,L34,M34)","v":2},null,{"$f":"MATCH(E34,【元データ】評価シート!$A$63:$A$114,0)","v":29},{"$f":"MATCH(F34,【元データ】評価シート!$B$62:$T$62,0)","v":19},{"$f":"MATCH(E34,【元データ】評価シート!$A$5:$A$56,0)","v":29},{"$f":"MATCH(F34,【元データ】評価シート!$B$4:$T$4,0)","v":19}]
[202010,160,1,"後ろ向きに掃き掃除中コーナー部の足場の隙間から墜落する","玉掛用具","崩壊・倒壊",{"$f":"INDEX(【元データ】評価シート!$B$63:$T$114,J35,K35)","v":3},{"$f":"INDEX(【元データ】評価シート!$B$5:$T$56,L35,M35)","v":3},null,{"$f":"MATCH(E35,【元データ】評価シート!$A$63:$A$114,0)","v":33},{"$f":"MATCH(F35,【元データ】評価シート!$B$62:$T$62,0)","v":5},{"$f":"MATCH(E35,【元データ】評価シート!$A$5:$A$56,0)","v":33},{"$f":"MATCH(F35,【元データ】評価シート!$B$4:$T$4,0)","v":5}]
[605010,162,1,"通路足場から身を寄り出した際、墜落する","ゴンドラ","墜落・転落",{"$f":"INDEX(【元データ】評価シート!$B$63:$T$114,J36,K36)","v":1},{"$f":"INDEX(【元データ】評価シート!$B$5:$T$56,L36,M36)","v":2},null,{"$f":"MATCH(E36,【元データ】評価シート!$A$63:$A$114,0)","v":16},{"$f":"MATCH(F36,【元データ】評価シート!$B$62:$T$62,0)","v":1},{"$f":"MATCH(E36,【元データ】評価シート!$A$5:$A$56,0)","v":16},{"$f":"MATCH(F36,【元データ】評価シート!$B$4:$T$4,0)","v":1}]
[101010,165,1,"材料運搬時、段差に躓いて転倒する","通路","転倒",{"$f":"INDEX(【元データ】評価シート!$B$63:$T$114,J37,K37)","v":4},{"$f":"INDEX(【元データ】評価シート!$B$5:$T$56,L37,M37)","v":4},null,{"$f":"MATCH(E37,【元データ】評価シート!$A$63:$A$114,0)","v":40},{"$f":"MATCH(F37,【元データ】評価シート!$B$62:$T$62,0)","v":2},{"$f":"MATCH(E37,【元データ】評価シート!$A$5:$A$56,0)","v":40},{"$f":"MATCH(F37,【元データ】評価シート!$B$4:$T$4,0)","v":2}]
[104010,167,1,"足場上で躓いて転倒する","通路","転倒",{"$f":"INDEX(【元データ】評価シート!$B$63:$T$114,J38,K38)","v":4},{"$f":"INDEX(【元データ】評価シート!$B$5:$T$56,L38,M38)","v":4},null,{"$f":"MATCH(E38,【元データ】評価シート!$A$63:$A$114,0)","v":40},{"$f":"MATCH(F38,【元データ】評価シート!$B$62:$T$62,0)","v":2},{"$f":"MATCH(E38,【元データ】評価シート!$A$5:$A$56,0)","v":40},{"$f":"MATCH(F38,【元データ】評価シート!$B$4:$T$4,0)","v":2}]
[401010,168,1,"スラブ上で躓いて転倒する","通路","転倒",{"$f":"INDEX(【元データ】評価シート!$B$63:$T$114,J39,K39)","v":4},{"$f":"INDEX(【元データ】評価シート!$B$5:$T$56,L39,M39)","v":4},null,{"$f":"MATCH(E39,【元データ】評価シート!$A$63:$A$114,0)","v":40},{"$f":"MATCH(F39,【元データ】評価シート!$B$62:$T$62,0)","v":2},{"$f":"MATCH(E39,【元データ】評価シート!$A$5:$A$56,0)","v":40},{"$f":"MATCH(F39,【元データ】評価シート!$B$4:$T$4,0)","v":2}]
[403050,171,1,"カッターナイフで手を切る","通路","転倒",{"$f":"INDEX(【元データ】評価シート!$B$63:$T$114,J40,K40)","v":4},{"$f":"INDEX(【元データ】評価シート!$B$5:$T$56,L40,M40)","v":4},null,{"$f":"MATCH(E40,【元データ】評価シート!$A$63:$A$114,0)","v":40},{"$f":"MATCH(F40,【元データ】評価シート!$B$62:$T$62,0)","v":2},{"$f":"MATCH(E40,【元データ】評価シート!$A$5:$A$56,0)","v":40},{"$f":"MATCH(F40,【元データ】評価シート!$B$4:$T$4,0)","v":2}]
[105020,199,1,"スクレイパー刃の取替時に手を切る","動力伝導機構","切れ・こすれ",{"$f":"INDEX(【元データ】評価シート!$B$63:$T$114,J41,K41)","v":1},{"$f":"INDEX(【元データ】評価シート!$B$5:$T$56,L41,M41)","v":1},null,{"$f":"MATCH(E41,【元データ】評価シート!$A$63:$A$114,0)","v":2},{"$f":"MATCH(F41,【元データ】評価シート!$B$62:$T$62,0)","v":8},{"$f":"MATCH(E41,【元データ】評価シート!$A$5:$A$56,0)","v":2},{"$f":"MATCH(F41,【元データ】評価シート!$B$4:$T$4,0)","v":8}]
[108010,207,1,"ピット内清掃時、ピット内で酸欠になる","トラック","墜落・転落",{"$f":"INDEX(【元データ】評価シート!$B$63:$T$114,J42,K42)","v":5},{"$f":"INDEX(【元データ】評価シート!$B$5:$T$56,L42,M42)","v":5},null,{"$f":"MATCH(E42,【元データ】評価シート!$A$63:$A$114,0)","v":18},{"$f":"MATCH(F42,【元データ】評価シート!$B$62:$T$62,0)","v":1},{"$f":"MATCH(E42,【元データ】評価シート!$A$5:$A$56,0)","v":18},{"$f":"MATCH(F42,【元データ】評価シート!$B$4:$T$4,0)","v":1}]
[205010,208,1,"有機溶剤で気分が悪くなる","有害物","有害物等との接触",{"$f":"INDEX(【元データ】評価シート!$B$63:$T$114,J43,K43)","v":4},{"$f":"INDEX(【元データ】評価シート!$B$5:$T$56,L43,M43)","v":2},null,{"$f":"MATCH(E43,【元データ】評価シート!$A$63:$A$114,0)","v":44},{"$f":"MATCH(F43,【元データ】評価シート!$B$62:$T$62,0)","v":12},{"$f":"MATCH(E43,【元データ】評価シート!$A$5:$A$56,0)","v":44},{"$f":"MATCH(F43,【元データ】評価シート!$B$4:$T$4,0)","v":12}]
[502020,209,1,"安全ブロックを使用せず梯子やタラップから転落する","はしご等","墜落・転落",{"$f":"INDEX(【元データ】評価シート!$B$63:$T$114,J44,K44)","v":5},{"$f":"INDEX(【元データ】評価シート!$B$5:$T$56,L44,M44)","v":5},null,{"$f":"MATCH(E44,【元データ】評価シート!$A$63:$A$114,0)","v":32},{"$f":"MATCH(F44,【元データ】評価シート!$B$62:$T$62,0)","v":1},{"$f":"MATCH(E44,【元データ】評価シート!$A$5:$A$56,0)","v":32},{"$f":"MATCH(F44,【元データ】評価シート!$B$4:$T$4,0)","v":1}]
[101010,210,1,"ピット内昇降時、足を滑らせ墜落する","はしご等","墜落・転落",{"$f":"INDEX(【元データ】評価シート!$B$63:$T$114,J45,K45)","v":5},{"$f":"INDEX(【元データ】評価シート!$B$5:$T$56,L45,M45)","v":5},null,{"$f":"MATCH(E45,【元データ】評価シート!$A$63:$A$114,0)","v":32},{"$f":"MATCH(F45,【元データ】評価シート!$B$62:$T$62,0)","v":1},{"$f":"MATCH(E45,【元データ】評価シート!$A$5:$A$56,0)","v":32},{"$f":"MATCH(F45,【元データ】評価シート!$B$4:$T$4,0)","v":1}]
[205010,211,1,"フォークリフト移動時、作業員と接触する","フォークリフト","激突",{"$f":"INDEX(【元データ】評価シート!$B$63:$T$114,J46,K46)","v":2},{"$f":"INDEX(【元データ】評価シート!$B$5:$T$56,L46,M46)","v":2},null,{"$f":"MATCH(E46,【元データ】評価シート!$A$63:$A$114,0)","v":19},{"$f":"MATCH(F46,【元データ】評価シート!$B$62:$T$62,0)","v":3},{"$f":"MATCH(E46,【元データ】評価シート!$A$5:$A$56,0)","v":19},{"$f":"MATCH(F46,【元データ】評価シート!$B$4:$T$4,0)","v":3}]
[null,233,1,"エレベーター開口部から墜落する","エレベータ、リフト","墜落・転落",{"$f":"INDEX(【元データ】評価シート!$B$63:$T$114,J47,K47)","v":3},{"$f":"INDEX(【元データ】評価シート!$B$5:$T$56,L47,M47)","v":3},null,{"$f":"MATCH(E47,【元データ】評価シート!$A$63:$A$114,0)","v":14},{"$f":"MATCH(F47,【元データ】評価シート!$B$62:$T$62,0)","v":1},{"$f":"MATCH(E47,【元データ】評価シート!$A$5:$A$56,0)","v":14},{"$f":"MATCH(F47,【元データ】評価シート!$B$4:$T$4,0)","v":1}]
[null,235,1,"ベビーホイストで資材吊り上げ時、玉掛が外れて落下する","揚貨装置","飛来・落下",{"$f":"INDEX(【元データ】評価シート!$B$63:$T$114,J48,K48)","v":1},{"$f":"INDEX(【元データ】評価シート!$B$5:$T$56,L48,M48)","v":1},null,{"$f":"MATCH(E48,【元データ】評価シート!$A$63:$A$114,0)","v":15},{"$f":"MATCH(F48,【元データ】評価シート!$B$62:$T$62,0)","v":4},{"$f":"MATCH(E48,【元データ】評価シート!$A$5:$A$56,0)","v":15},{"$f":"MATCH(F48,【元データ】評価シート!$B$4:$T$4,0)","v":4}]
[null,246,1,"ガソリン容器が破損し、引火する","引火性の物","火災",{"$f":"INDEX(【元データ】評価シート!$B$63:$T$114,J49,K49)","v":3},{"$f":"INDEX(【元データ】評価シート!$B$5:$T$56,L49,M49)","v":2},null,{"$f":"MATCH(E49,【元データ】評価シート!$A$63:$A$114,0)","v":42},{"$f":"MATCH(F49,【元データ】評価シート!$B$62:$T$62,0)","v":16},{"$f":"MATCH(E49,【元データ】評価シート!$A$5:$A$56,0)","v":42},{"$f":"MATCH(F49,【元データ】評価シート!$B$4:$T$4,0)","v":16}]
[null,247,1,"軽油が漏洩し、引火する","引火性の物","火災",{"$f":"INDEX(【元データ】評価シート!$B$63:$T$114,J50,K50)","v":3},{"$f":"INDEX(【元データ】評価シート!$B$5:$T$56,L50,M50)","v":2},null,{"$f":"MATCH(E50,【元データ】評価シート!$A$63:$A$114,0)","v":42},{"$f":"MATCH(F50,【元データ】評価シート!$B$62:$T$62,0)","v":16},{"$f":"MATCH(E50,【元データ】評価シート!$A$5:$A$56,0)","v":42},{"$f":"MATCH(F50,【元データ】評価シート!$B$4:$T$4,0)","v":16}]

{"sheet":"屋根・防水工","index":7,"n_rows":45,"n_cols":13,"rows_kept":45,"cut":false,"hidden":false,"merged":[[0,1,0,2]]}
[null,"工種区分"]
["工種コード",null,"屋根・\n防水工","危険ポイント","起因物","事故型","可能性","重大性"]
[706010,10,1,"梯子作業中バランスを崩して転落する","はしご等","墜落・転落",{"$f":"INDEX(【元データ】評価シート!$B$63:$T$114,J3,K3)","v":5},{"$f":"INDEX(【元データ】評価シート!$B$5:$T$56,L3,M3)","v":5},null,{"$f":"MATCH(E3,【元データ】評価シート!$A$63:$A$114,0)","v":32},{"$f":"MATCH(F3,【元データ】評価シート!$B$62:$T$62,0)","v":1},{"$f":"MATCH(E3,【元データ】評価シート!$A$5:$A$56,0)","v":32},{"$f":"MATCH(F3,【元データ】評価シート!$B$4:$T$4,0)","v":1}]
[105010,11,1,"足場使用時、足場から墜落する","足場","墜落・転落",{"$f":"INDEX(【元データ】評価シート!$B$63:$T$114,J4,K4)","v":5},{"$f":"INDEX(【元データ】評価シート!$B$5:$T$56,L4,M4)","v":5},null,{"$f":"MATCH(E4,【元データ】評価シート!$A$63:$A$114,0)","v":34},{"$f":"MATCH(F4,【元データ】評価シート!$B$62:$T$62,0)","v":1},{"$f":"MATCH(E4,【元データ】評価シート!$A$5:$A$56,0)","v":34},{"$f":"MATCH(F4,【元データ】評価シート!$B$4:$T$4,0)","v":1}]
[105010,12,1,"足場の隙間から墜落する","足場","墜落・転落",{"$f":"INDEX(【元データ】評価シート!$B$63:$T$114,J5,K5)","v":5},{"$f":"INDEX(【元データ】評価シート!$B$5:$T$56,L5,M5)","v":5},null,{"$f":"MATCH(E5,【元データ】評価シート!$A$63:$A$114,0)","v":34},{"$f":"MATCH(F5,【元データ】評価シート!$B$62:$T$62,0)","v":1},{"$f":"MATCH(E5,【元データ】評価シート!$A$5:$A$56,0)","v":34},{"$f":"MATCH(F5,【元データ】評価シート!$B$4:$T$4,0)","v":1}]
[203010,14,1,"足場板を固定する際、足場板の天ビンにより墜落する","足場","踏み抜き",{"$f":"INDEX(【元データ】評価シート!$B$63:$T$114,J6,K6)","v":1},{"$f":"INDEX(【元データ】評価シート!$B$5:$T$56,L6,M6)","v":1},null,{"$f":"MATCH(E6,【元データ】評価シート!$A$63:$A$114,0)","v":34},{"$f":"MATCH(F6,【元データ】評価シート!$B$62:$T$62,0)","v":9},{"$f":"MATCH(E6,【元データ】評価シート!$A$5:$A$56,0)","v":34},{"$f":"MATCH(F6,【元データ】評価シート!$B$4:$T$4,0)","v":9}]
[105010,21,1,"足場上で躓いて転倒する","足場","転倒",{"$f":"INDEX(【元データ】評価シート!$B$63:$T$114,J7,K7)","v":1},{"$f":"INDEX(【元データ】評価シート!$B$5:$T$56,L7,M7)","v":2},null,{"$f":"MATCH(E7,【元データ】評価シート!$A$63:$A$114,0)","v":34},{"$f":"MATCH(F7,【元データ】評価シート!$B$62:$T$62,0)","v":2},{"$f":"MATCH(E7,【元データ】評価シート!$A$5:$A$56,0)","v":34},{"$f":"MATCH(F7,【元データ】評価シート!$B$4:$T$4,0)","v":2}]
[105010,24,1,"足場使用時、足場から材料等を落下させる","足場","飛来・落下",{"$f":"INDEX(【元データ】評価シート!$B$63:$T$114,J8,K8)","v":2},{"$f":"INDEX(【元データ】評価シート!$B$5:$T$56,L8,M8)","v":2},null,{"$f":"MATCH(E8,【元データ】評価シート!$A$63:$A$114,0)","v":34},{"$f":"MATCH(F8,【元データ】評価シート!$B$62:$T$62,0)","v":4},{"$f":"MATCH(E8,【元データ】評価シート!$A$5:$A$56,0)","v":34},{"$f":"MATCH(F8,【元データ】評価シート!$B$4:$T$4,0)","v":4}]
[110010,37,1,"ユニック作業中誤作動にて吊荷が振れて負傷する","移動式クレーン","激突され",{"$f":"INDEX(【元データ】評価シート!$B$63:$T$114,J9,K9)","v":3},{"$f":"INDEX(【元データ】評価シート!$B$5:$T$56,L9,M9)","v":3},null,{"$f":"MATCH(E9,【元データ】評価シート!$A$63:$A$114,0)","v":13},{"$f":"MATCH(F9,【元データ】評価シート!$B$62:$T$62,0)","v":6},{"$f":"MATCH(E9,【元データ】評価シート!$A$5:$A$56,0)","v":13},{"$f":"MATCH(F9,【元データ】評価シート!$B$4:$T$4,0)","v":6}]
[108010,38,1,"ブーム組立時、高所から転落する","移動式クレーン","墜落・転落",{"$f":"INDEX(【元データ】評価シート!$B$63:$T$114,J10,K10)","v":4},{"$f":"INDEX(【元データ】評価シート!$B$5:$T$56,L10,M10)","v":4},null,{"$f":"MATCH(E10,【元データ】評価シート!$A$63:$A$114,0)","v":13},{"$f":"MATCH(F10,【元データ】評価シート!$B$62:$T$62,0)","v":1},{"$f":"MATCH(E10,【元データ】評価シート!$A$5:$A$56,0)","v":13},{"$f":"MATCH(F10,【元データ】評価シート!$B$4:$T$4,0)","v":1}]
[401020,39,1,"ブームをたたむ時、荷台から転落する","移動式クレーン","墜落・転落",{"$f":"INDEX(【元データ】評価シート!$B$63:$T$114,J11,K11)","v":4},{"$f":"INDEX(【元データ】評価シート!$B$5:$T$56,L11,M11)","v":4},null,{"$f":"MATCH(E11,【元データ】評価シート!$A$63:$A$114,0)","v":13},{"$f":"MATCH(F11,【元データ】評価シート!$B$62:$T$62,0)","v":1},{"$f":"MATCH(E11,【元データ】評価シート!$A$5:$A$56,0)","v":13},{"$f":"MATCH(F11,【元データ】評価シート!$B$4:$T$4,0)","v":1}]
[401010,52,1,"昇降設備を使用せずに墜落する","開口部","墜落・転落",{"$f":"INDEX(【元データ】評価シート!$B$63:$T$114,J12,K12)","v":5},{"$f":"INDEX(【元データ】評価シート!$B$5:$T$56,L12,M12)","v":4},null,{"$f":"MATCH(E12,【元データ】評価シート!$A$63:$A$114,0)","v":37},{"$f":"MATCH(F12,【元データ】評価シート!$B$62:$T$62,0)","v":1},{"$f":"MATCH(E12,【元データ】評価シート!$A$5:$A$56,0)","v":37},{"$f":"MATCH(F12,【元データ】評価シート!$B$4:$T$4,0)","v":1}]
[401010,53,1,"物を取ろうと足場に足を掛け滑って転落する","開口部","墜落・転落",{"$f":"INDEX(【元データ】評価シート!$B$63:$T$114,J13,K13)","v":5},{"$f":"INDEX(【元データ】評価シート!$B$5:$T$56,L13,M13)","v":4},null,{"$f":"MATCH(E13,【元データ】評価シート!$A$63:$A$114,0)","v":37},{"$f":"MATCH(F13,【元データ】評価シート!$B$62:$T$62,0)","v":1},{"$f":"MATCH(E13,【元データ】評価シート!$A$5:$A$56,0)","v":37},{"$f":"MATCH(F13,【元データ】評価シート!$B$4:$T$4,0)","v":1}]
[401010,54,1,"足場の隙間から墜落する","開口部","墜落・転落",{"$f":"INDEX(【元データ】評価シート!$B$63:$T$114,J14,K14)","v":5},{"$f":"INDEX(【元データ】評価シート!$B$5:$T$56,L14,M14)","v":4},null,{"$f":"MATCH(E14,【元データ】評価シート!$A$63:$A$114,0)","v":37},{"$f":"MATCH(F14,【元データ】評価シート!$B$62:$T$62,0)","v":1},{"$f":"MATCH(E14,【元データ】評価シート!$A$5:$A$56,0)","v":37},{"$f":"MATCH(F14,【元データ】評価シート!$B$4:$T$4,0)","v":1}]
[402020,57,1,"荷上げで開口部から墜落する","開口部","墜落・転落",{"$f":"INDEX(【元データ】評価シート!$B$63:$T$114,J15,K15)","v":5},{"$f":"INDEX(【元データ】評価シート!$B$5:$T$56,L15,M15)","v":4},null,{"$f":"MATCH(E15,【元データ】評価シート!$A$63:$A$114,0)","v":37},{"$f":"MATCH(F15,【元データ】評価シート!$B$62:$T$62,0)","v":1},{"$f":"MATCH(E15,【元データ】評価シート!$A$5:$A$56,0)","v":37},{"$f":"MATCH(F15,【元データ】評価シート!$B$4:$T$4,0)","v":1}]
[105010,67,1,"作業場所移動時、外部足場の階段で足が滑り転倒する","階段、桟橋","転倒",{"$f":"INDEX(【元データ】評価シート!$B$63:$T$114,J16,K16)","v":3},{"$f":"INDEX(【元データ】評価シート!$B$5:$T$56,L16,M16)","v":3},null,{"$f":"MATCH(E16,【元データ】評価シート!$A$63:$A$114,0)","v":36},{"$f":"MATCH(F16,【元データ】評価シート!$B$62:$T$62,0)","v":2},{"$f":"MATCH(E16,【元データ】評価シート!$A$5:$A$56,0)","v":36},{"$f":"MATCH(F16,【元データ】評価シート!$B$4:$T$4,0)","v":2}]
[202010,86,1,"資材にあたって負傷する","金属材料","激突",{"$f":"INDEX(【元データ】評価シート!$B$63:$T$114,J17,K17)","v":2},{"$f":"INDEX(【元データ】評価シート!$B$5:$T$56,L17,M17)","v":2},null,{"$f":"MATCH(E17,【元データ】評価シート!$A$63:$A$114,0)","v":45},{"$f":"MATCH(F17,【元データ】評価シート!$B$62:$T$62,0)","v":3},{"$f":"MATCH(E17,【元データ】評価シート!$A$5:$A$56,0)","v":45},{"$f":"MATCH(F17,【元データ】評価シート!$B$4:$T$4,0)","v":3}]
[202010,90,1,"単管パイプとクランプで指を挟む","金属材料","はさまれ・巻き込まれ",{"$f":"INDEX(【元データ】評価シート!$B$63:$T$114,J18,K18)","v":4},{"$f":"INDEX(【元データ】評価シート!$B$5:$T$56,L18,M18)","v":3},null,{"$f":"MATCH(E18,【元データ】評価シート!$A$63:$A$114,0)","v":45},{"$f":"MATCH(F18,【元データ】評価シート!$B$62:$T$62,0)","v":7},{"$f":"MATCH(E18,【元データ】評価シート!$A$5:$A$56,0)","v":45},{"$f":"MATCH(F18,【元データ】評価シート!$B$4:$T$4,0)","v":7}]
[404040,94,1,"ﾃﾞｯｷﾌﾟﾚｰﾄを仮置きする際、手を挟まれる","金属材料","はさまれ・巻き込まれ",{"$f":"INDEX(【元データ】評価シート!$B$63:$T$114,J19,K19)","v":4},{"$f":"INDEX(【元データ】評価シート!$B$5:$T$56,L19,M19)","v":3},null,{"$f":"MATCH(E19,【元データ】評価シート!$A$63:$A$114,0)","v":45},{"$f":"MATCH(F19,【元データ】評価シート!$B$62:$T$62,0)","v":7},{"$f":"MATCH(E19,【元データ】評価シート!$A$5:$A$56,0)","v":45},{"$f":"MATCH(F19,【元データ】評価シート!$B$4:$T$4,0)","v":7}]
[202010,95,1,"資材受渡し時、手が滑り、落下する","金属材料","飛来・落下",{"$f":"INDEX(【元データ】評価シート!$B$63:$T$114,J20,K20)","v":5},{"$f":"INDEX(【元データ】評価シート!$B$5:$T$56,L20,M20)","v":3},null,{"$f":"MATCH(E20,【元データ】評価シート!$A$63:$A$114,0)","v":45},{"$f":"MATCH(F20,【元データ】評価シート!$B$62:$T$62,0)","v":4},{"$f":"MATCH(E20,【元データ】評価シート!$A$5:$A$56,0)","v":45},{"$f":"MATCH(F20,【元データ】評価シート!$B$4:$T$4,0)","v":4}]
[105010,109,1,"高所作業車使用時、転落する","高所作業車","墜落・転落",{"$f":"INDEX(【元データ】評価シート!$B$63:$T$114,J21,K21)","v":3},{"$f":"INDEX(【元データ】評価シート!$B$5:$T$56,L21,M21)","v":3},null,{"$f":"MATCH(E21,【元データ】評価シート!$A$63:$A$114,0)","v":10},{"$f":"MATCH(F21,【元データ】評価シート!$B$62:$T$62,0)","v":1},{"$f":"MATCH(E21,【元データ】評価シート!$A$5:$A$56,0)","v":10},{"$f":"MATCH(F21,【元データ】評価シート!$B$4:$T$4,0)","v":1}]
[204010,110,1,"高所作業車使用時、身を寄り出して墜落する","高所作業車","墜落・転落",{"$f":"INDEX(【元データ】評価シート!$B$63:$T$114,J22,K22)","v":3},{"$f":"INDEX(【元データ】評価シート!$B$5:$T$56,L22,M22)","v":3},null,{"$f":"MATCH(E22,【元データ】評価シート!$A$63:$A$114,0)","v":10},{"$f":"MATCH(F22,【元データ】評価シート!$B$62:$T$62,0)","v":1},{"$f":"MATCH(E22,【元データ】評価シート!$A$5:$A$56,0)","v":10},{"$f":"MATCH(F22,【元データ】評価シート!$B$4:$T$4,0)","v":1}]
[402030,111,1,"高所作業車移動時に開口部の養生蓋に引っ掛かって転倒する","高所作業車","転倒",{"$f":"INDEX(【元データ】評価シート!$B$63:$T$114,J23,K23)","v":1},{"$f":"INDEX(【元データ】評価シート!$B$5:$T$56,L23,M23)","v":2},null,{"$f":"MATCH(E23,【元データ】評価シート!$A$63:$A$114,0)","v":10},{"$f":"MATCH(F23,【元データ】評価シート!$B$62:$T$62,0)","v":2},{"$f":"MATCH(E23,【元データ】評価シート!$A$5:$A$56,0)","v":10},{"$f":"MATCH(F23,【元データ】評価シート!$B$4:$T$4,0)","v":2}]
[401010,135,1,"材料移動時、既存物、隣接建物に接触する","人力運搬機","転倒",{"$f":"INDEX(【元データ】評価シート!$B$63:$T$114,J24,K24)","v":3},{"$f":"INDEX(【元データ】評価シート!$B$5:$T$56,L24,M24)","v":3},null,{"$f":"MATCH(E24,【元データ】評価シート!$A$63:$A$114,0)","v":29},{"$f":"MATCH(F24,【元データ】評価シート!$B$62:$T$62,0)","v":2},{"$f":"MATCH(E24,【元データ】評価シート!$A$5:$A$56,0)","v":29},{"$f":"MATCH(F24,【元データ】評価シート!$B$4:$T$4,0)","v":2}]
[105020,137,1,"溶接治具運搬時、足場に手をぶつけて負傷する","人力運搬機","激突",{"$f":"INDEX(【元データ】評価シート!$B$63:$T$114,J25,K25)","v":2},{"$f":"INDEX(【元データ】評価シート!$B$5:$T$56,L25,M25)","v":2},null,{"$f":"MATCH(E25,【元データ】評価シート!$A$63:$A$114,0)","v":29},{"$f":"MATCH(F25,【元データ】評価シート!$B$62:$T$62,0)","v":3},{"$f":"MATCH(E25,【元データ】評価シート!$A$5:$A$56,0)","v":29},{"$f":"MATCH(F25,【元データ】評価シート!$B$4:$T$4,0)","v":3}]
[403050,138,1,"材料運搬時、躓いて転倒する","人力運搬機","激突",{"$f":"INDEX(【元データ】評価シート!$B$63:$T$114,J26,K26)","v":2},{"$f":"INDEX(【元データ】評価シート!$B$5:$T$56,L26,M26)","v":2},null,{"$f":"MATCH(E26,【元データ】評価シート!$A$63:$A$114,0)","v":29},{"$f":"MATCH(F26,【元データ】評価シート!$B$62:$T$62,0)","v":3},{"$f":"MATCH(E26,【元データ】評価シート!$A$5:$A$56,0)","v":29},{"$f":"MATCH(F26,【元データ】評価シート!$B$4:$T$4,0)","v":3}]
[103010,139,1,"重量物を持って腰を痛める","人力運搬機","転倒",{"$f":"INDEX(【元データ】評価シート!$B$63:$T$114,J27,K27)","v":3},{"$f":"INDEX(【元データ】評価シート!$B$5:$T$56,L27,M27)","v":3},null,{"$f":"MATCH(E27,【元データ】評価シート!$A$63:$A$114,0)","v":29},{"$f":"MATCH(F27,【元データ】評価シート!$B$62:$T$62,0)","v":2},{"$f":"MATCH(E27,【元データ】評価シート!$A$5:$A$56,0)","v":29},{"$f":"MATCH(F27,【元データ】評価シート!$B$4:$T$4,0)","v":2}]
[105020,140,1,"資材運搬時、台車に手を挟まれて負傷する","人力運搬機","動作の反動・無理な動作",{"$f":"INDEX(【元データ】評価シート!$B$63:$T$114,J28,K28)","v":1},{"$f":"INDEX(【元データ】評価シート!$B$5:$T$56,L28,M28)","v":2},null,{"$f":"MATCH(E28,【元データ】評価シート!$A$63:$A$114,0)","v":29},{"$f":"MATCH(F28,【元データ】評価シート!$B$62:$T$62,0)","v":19},{"$f":"MATCH(E28,【元データ】評価シート!$A$5:$A$56,0)","v":29},{"$f":"MATCH(F28,【元データ】評価シート!$B$4:$T$4,0)","v":19}]
[301020,158,1,"ﾃﾞｯｷﾌﾟﾚｰﾄ取込み時、吊荷が外れ落下する","玉掛用具","飛来・落下",{"$f":"INDEX(【元データ】評価シート!$B$63:$T$114,J29,K29)","v":4},{"$f":"INDEX(【元データ】評価シート!$B$5:$T$56,L29,M29)","v":3},null,{"$f":"MATCH(E29,【元データ】評価シート!$A$63:$A$114,0)","v":33},{"$f":"MATCH(F29,【元データ】評価シート!$B$62:$T$62,0)","v":4},{"$f":"MATCH(E29,【元データ】評価シート!$A$5:$A$56,0)","v":33},{"$f":"MATCH(F29,【元データ】評価シート!$B$4:$T$4,0)","v":4}]
[605010,162,1,"通路足場から身を寄り出した際、墜落する","ゴンドラ","墜落・転落",{"$f":"INDEX(【元データ】評価シート!$B$63:$T$114,J30,K30)","v":1},{"$f":"INDEX(【元データ】評価シート!$B$5:$T$56,L30,M30)","v":2},null,{"$f":"MATCH(E30,【元データ】評価シート!$A$63:$A$114,0)","v":16},{"$f":"MATCH(F30,【元データ】評価シート!$B$62:$T$62,0)","v":1},{"$f":"MATCH(E30,【元データ】評価シート!$A$5:$A$56,0)","v":16},{"$f":"MATCH(F30,【元データ】評価シート!$B$4:$T$4,0)","v":1}]
[403050,164,1,"仮敷きのデッキプレートを歩行中転落する","通路","墜落・転落",{"$f":"INDEX(【元データ】評価シート!$B$63:$T$114,J31,K31)","v":4},{"$f":"INDEX(【元データ】評価シート!$B$5:$T$56,L31,M31)","v":4},null,{"$f":"MATCH(E31,【元データ】評価シート!$A$63:$A$114,0)","v":40},{"$f":"MATCH(F31,【元データ】評価シート!$B$62:$T$62,0)","v":1},{"$f":"MATCH(E31,【元データ】評価シート!$A$5:$A$56,0)","v":40},{"$f":"MATCH(F31,【元データ】評価シート!$B$4:$T$4,0)","v":1}]
[101010,165,1,"材料運搬時、段差に躓いて転倒する","通路","転倒",{"$f":"INDEX(【元データ】評価シート!$B$63:$T$114,J32,K32)","v":4},{"$f":"INDEX(【元データ】評価シート!$B$5:$T$56,L32,M32)","v":4},null,{"$f":"MATCH(E32,【元データ】評価シート!$A$63:$A$114,0)","v":40},{"$f":"MATCH(F32,【元データ】評価シート!$B$62:$T$62,0)","v":2},{"$f":"MATCH(E32,【元データ】評価シート!$A$5:$A$56,0)","v":40},{"$f":"MATCH(F32,【元データ】評価シート!$B$4:$T$4,0)","v":2}]
[104010,167,1,"足場上で躓いて転倒する","通路","転倒",{"$f":"INDEX(【元データ】評価シート!$B$63:$T$114,J33,K33)","v":4},{"$f":"INDEX(【元データ】評価シート!$B$5:$T$56,L33,M33)","v":4},null,{"$f":"MATCH(E33,【元データ】評価シート!$A$63:$A$114,0)","v":40},{"$f":"MATCH(F33,【元データ】評価シート!$B$62:$T$62,0)","v":2},{"$f":"MATCH(E33,【元データ】評価シート!$A$5:$A$56,0)","v":40},{"$f":"MATCH(F33,【元データ】評価シート!$B$4:$T$4,0)","v":2}]
[401010,168,1,"スラブ上で躓いて転倒する","通路","転倒",{"$f":"INDEX(【元データ】評価シート!$B$63:$T$114,J34,K34)","v":4},{"$f":"INDEX(【元データ】評価シート!$B$5:$T$56,L34,M34)","v":4},null,{"$f":"MATCH(E34,【元データ】評価シート!$A$63:$A$114,0)","v":40},{"$f":"MATCH(F34,【元データ】評価シート!$B$62:$T$62,0)","v":2},{"$f":"MATCH(E34,【元データ】評価シート!$A$5:$A$56,0)","v":40},{"$f":"MATCH(F34,【元データ】評価シート!$B$4:$T$4,0)","v":2}]
[403050,171,1,"カッターナイフで手を切る","通路","転倒",{"$f":"INDEX(【元データ】評価シート!$B$63:$T$114,J35,K35)","v":4},{"$f":"INDEX(【元データ】評価シート!$B$5:$T$56,L35,M35)","v":4},null,{"$f":"MATCH(E35,【元データ】評価シート!$A$63:$A$114,0)","v":40},{"$f":"MATCH(F35,【元データ】評価シート!$B$62:$T$62,0)","v":2},{"$f":"MATCH(E35,【元データ】評価シート!$A$5:$A$56,0)","v":40},{"$f":"MATCH(F35,【元データ】評価シート!$B$4:$T$4,0)","v":2}]
[105010,173,1,"誤ってハンマーで指を叩く","手工具","切れ・こすれ",{"$f":"INDEX(【元データ】評価シート!$B$63:$T$114,J36,K36)","v":3},{"$f":"INDEX(【元データ】評価シート!$B$5:$T$56,L36,M36)","v":3},null,{"$f":"MATCH(E36,【元データ】評価シート!$A$63:$A$114,0)","v":31},{"$f":"MATCH(F36,【元データ】評価シート!$B$62:$T$62,0)","v":8},{"$f":"MATCH(E36,【元データ】評価シート!$A$5:$A$56,0)","v":31},{"$f":"MATCH(F36,【元データ】評価シート!$B$4:$T$4,0)","v":8}]
[301030,185,1,"ベビーサンダー使用時、目に鉄粉が入る","手工具","飛来・落下",{"$f":"INDEX(【元データ】評価シート!$B$63:$T$114,J37,K37)","v":3},{"$f":"INDEX(【元データ】評価シート!$B$5:$T$56,L37,M37)","v":2},null,{"$f":"MATCH(E37,【元データ】評価シート!$A$63:$A$114,0)","v":31},{"$f":"MATCH(F37,【元データ】評価シート!$B$62:$T$62,0)","v":4},{"$f":"MATCH(E37,【元データ】評価シート!$A$5:$A$56,0)","v":31},{"$f":"MATCH(F37,【元データ】評価シート!$B$4:$T$4,0)","v":4}]
[302010,186,1,"カッターナイフで手を切る","手工具","有害物等との接触",{"$f":"INDEX(【元データ】評価シート!$B$63:$T$114,J38,K38)","v":1},{"$f":"INDEX(【元データ】評価シート!$B$5:$T$56,L38,M38)","v":1},null,{"$f":"MATCH(E38,【元データ】評価シート!$A$63:$A$114,0)","v":31},{"$f":"MATCH(F38,【元データ】評価シート!$B$62:$T$62,0)","v":12},{"$f":"MATCH(E38,【元データ】評価シート!$A$5:$A$56,0)","v":31},{"$f":"MATCH(F38,【元データ】評価シート!$B$4:$T$4,0)","v":12}]
[301010,195,1,"ベビーサンダー使用時、誤って手を切る","動力伝導機構","感電",{"$f":"INDEX(【元データ】評価シート!$B$63:$T$114,J39,K39)","v":1},{"$f":"INDEX(【元データ】評価シート!$B$5:$T$56,L39,M39)","v":1},null,{"$f":"MATCH(E39,【元データ】評価シート!$A$63:$A$114,0)","v":2},{"$f":"MATCH(F39,【元データ】評価シート!$B$62:$T$62,0)","v":13},{"$f":"MATCH(E39,【元データ】評価シート!$A$5:$A$56,0)","v":2},{"$f":"MATCH(F39,【元データ】評価シート!$B$4:$T$4,0)","v":13}]
[205010,208,1,"有機溶剤で気分が悪くなる","有害物","有害物等との接触",{"$f":"INDEX(【元データ】評価シート!$B$63:$T$114,J40,K40)","v":4},{"$f":"INDEX(【元データ】評価シート!$B$5:$T$56,L40,M40)","v":2},null,{"$f":"MATCH(E40,【元データ】評価シート!$A$63:$A$114,0)","v":44},{"$f":"MATCH(F40,【元データ】評価シート!$B$62:$T$62,0)","v":12},{"$f":"MATCH(E40,【元データ】評価シート!$A$5:$A$56,0)","v":44},{"$f":"MATCH(F40,【元データ】評価シート!$B$4:$T$4,0)","v":12}]
[502020,209,1,"安全ブロックを使用せず梯子やタラップから転落する","はしご等","墜落・転落",{"$f":"INDEX(【元データ】評価シート!$B$63:$T$114,J41,K41)","v":5},{"$f":"INDEX(【元データ】評価シート!$B$5:$T$56,L41,M41)","v":5},null,{"$f":"MATCH(E41,【元データ】評価シート!$A$63:$A$114,0)","v":32},{"$f":"MATCH(F41,【元データ】評価シート!$B$62:$T$62,0)","v":1},{"$f":"MATCH(E41,【元データ】評価シート!$A$5:$A$56,0)","v":32},{"$f":"MATCH(F41,【元データ】評価シート!$B$4:$T$4,0)","v":1}]
[403050,217,1,"屋根組立時、墜落する","屋根","墜落・転落",{"$f":"INDEX(【元データ】評価シート!$B$63:$T$114,J42,K42)","v":5},{"$f":"INDEX(【元データ】評価シート!$B$5:$T$56,L42,M42)","v":5},null,{"$f":"MATCH(E42,【元データ】評価シート!$A$63:$A$114,0)","v":38},{"$f":"MATCH(F42,【元データ】評価シート!$B$62:$T$62,0)","v":1},{"$f":"MATCH(E42,【元データ】評価シート!$A$5:$A$56,0)","v":38},{"$f":"MATCH(F42,【元データ】評価シート!$B$4:$T$4,0)","v":1}]
[null,235,1,"ベビーホイストで資材吊り上げ時、玉掛が外れて落下する","揚貨装置","飛来・落下",{"$f":"INDEX(【元データ】評価シート!$B$63:$T$114,J43,K43)","v":1},{"$f":"INDEX(【元データ】評価シート!$B$5:$T$56,L43,M43)","v":1},null,{"$f":"MATCH(E43,【元データ】評価シート!$A$63:$A$114,0)","v":15},{"$f":"MATCH(F43,【元データ】評価シート!$B$62:$T$62,0)","v":4},{"$f":"MATCH(E43,【元データ】評価シート!$A$5:$A$56,0)","v":15},{"$f":"MATCH(F43,【元データ】評価シート!$B$4:$T$4,0)","v":4}]
[null,246,1,"ガソリン容器が破損し、引火する","引火性の物","火災",{"$f":"INDEX(【元データ】評価シート!$B$63:$T$114,J44,K44)","v":3},{"$f":"INDEX(【元データ】評価シート!$B$5:$T$56,L44,M44)","v":2},null,{"$f":"MATCH(E44,【元データ】評価シート!$A$63:$A$114,0)","v":42},{"$f":"MATCH(F44,【元データ】評価シート!$B$62:$T$62,0)","v":16},{"$f":"MATCH(E44,【元データ】評価シート!$A$5:$A$56,0)","v":42},{"$f":"MATCH(F44,【元データ】評価シート!$B$4:$T$4,0)","v":16}]
[null,247,1,"軽油が漏洩し、引火する","引火性の物","火災",{"$f":"INDEX(【元データ】評価シート!$B$63:$T$114,J45,K45)","v":3},{"$f":"INDEX(【元データ】評価シート!$B$5:$T$56,L45,M45)","v":2},null,{"$f":"MATCH(E45,【元データ】評価シート!$A$63:$A$114,0)","v":42},{"$f":"MATCH(F45,【元データ】評価シート!$B$62:$T$62,0)","v":16},{"$f":"MATCH(E45,【元データ】評価シート!$A$5:$A$56,0)","v":42},{"$f":"MATCH(F45,【元データ】評価シート!$B$4:$T$4,0)","v":16}]

{"sheet":"電工","index":8,"n_rows":63,"n_cols":13,"rows_kept":63,"cut":false,"hidden":false,"merged":[[0,1,0,2]]}
[null,"工種区分"]
["工種コード",null,"電工","危険ポイント","起因物","事故型","可能性","重大性"]
[101010,7,1,"立馬で材料荷渡しや作業時に転落する","足場","墜落・転落",{"$f":"INDEX(【元データ】評価シート!$B$63:$T$114,J3,K3)","v":5},{"$f":"INDEX(【元データ】評価シート!$B$5:$T$56,L3,M3)","v":5},null,{"$f":"MATCH(E3,【元データ】評価シート!$A$63:$A$114,0)","v":34},{"$f":"MATCH(F3,【元データ】評価シート!$B$62:$T$62,0)","v":1},{"$f":"MATCH(E3,【元データ】評価シート!$A$5:$A$56,0)","v":34},{"$f":"MATCH(F3,【元データ】評価シート!$B$4:$T$4,0)","v":1}]
[101010,8,1,"立馬の脚が段差・床スリーブにはまり、または縮んで転落・転倒する","足場","墜落・転落",{"$f":"INDEX(【元データ】評価シート!$B$63:$T$114,J4,K4)","v":5},{"$f":"INDEX(【元データ】評価シート!$B$5:$T$56,L4,M4)","v":5},null,{"$f":"MATCH(E4,【元データ】評価シート!$A$63:$A$114,0)","v":34},{"$f":"MATCH(F4,【元データ】評価シート!$B$62:$T$62,0)","v":1},{"$f":"MATCH(E4,【元データ】評価シート!$A$5:$A$56,0)","v":34},{"$f":"MATCH(F4,【元データ】評価シート!$B$4:$T$4,0)","v":1}]
[101010,9,1,"立馬から降りる時に踏み外して転落する","足場","踏み抜き",{"$f":"INDEX(【元データ】評価シート!$B$63:$T$114,J5,K5)","v":1},{"$f":"INDEX(【元データ】評価シート!$B$5:$T$56,L5,M5)","v":1},null,{"$f":"MATCH(E5,【元データ】評価シート!$A$63:$A$114,0)","v":34},{"$f":"MATCH(F5,【元データ】評価シート!$B$62:$T$62,0)","v":9},{"$f":"MATCH(E5,【元データ】評価シート!$A$5:$A$56,0)","v":34},{"$f":"MATCH(F5,【元データ】評価シート!$B$4:$T$4,0)","v":9}]
[706010,10,1,"梯子作業中バランスを崩して転落する","はしご等","墜落・転落",{"$f":"INDEX(【元データ】評価シート!$B$63:$T$114,J6,K6)","v":5},{"$f":"INDEX(【元データ】評価シート!$B$5:$T$56,L6,M6)","v":5},null,{"$f":"MATCH(E6,【元データ】評価シート!$A$63:$A$114,0)","v":32},{"$f":"MATCH(F6,【元データ】評価シート!$B$62:$T$62,0)","v":1},{"$f":"MATCH(E6,【元データ】評価シート!$A$5:$A$56,0)","v":32},{"$f":"MATCH(F6,【元データ】評価シート!$B$4:$T$4,0)","v":1}]
[105010,11,1,"足場使用時、足場から墜落する","足場","墜落・転落",{"$f":"INDEX(【元データ】評価シート!$B$63:$T$114,J7,K7)","v":5},{"$f":"INDEX(【元データ】評価シート!$B$5:$T$56,L7,M7)","v":5},null,{"$f":"MATCH(E7,【元データ】評価シート!$A$63:$A$114,0)","v":34},{"$f":"MATCH(F7,【元データ】評価シート!$B$62:$T$62,0)","v":1},{"$f":"MATCH(E7,【元データ】評価シート!$A$5:$A$56,0)","v":34},{"$f":"MATCH(F7,【元データ】評価シート!$B$4:$T$4,0)","v":1}]
[105010,12,1,"足場の隙間から墜落する","足場","墜落・転落",{"$f":"INDEX(【元データ】評価シート!$B$63:$T$114,J8,K8)","v":5},{"$f":"INDEX(【元データ】評価シート!$B$5:$T$56,L8,M8)","v":5},null,{"$f":"MATCH(E8,【元データ】評価シート!$A$63:$A$114,0)","v":34},{"$f":"MATCH(F8,【元データ】評価シート!$B$62:$T$62,0)","v":1},{"$f":"MATCH(E8,【元データ】評価シート!$A$5:$A$56,0)","v":34},{"$f":"MATCH(F8,【元データ】評価シート!$B$4:$T$4,0)","v":1}]
[203010,14,1,"足場板を固定する際、足場板の天ビンにより墜落する","足場","踏み抜き",{"$f":"INDEX(【元データ】評価シート!$B$63:$T$114,J9,K9)","v":1},{"$f":"INDEX(【元データ】評価シート!$B$5:$T$56,L9,M9)","v":1},null,{"$f":"MATCH(E9,【元データ】評価シート!$A$63:$A$114,0)","v":34},{"$f":"MATCH(F9,【元データ】評価シート!$B$62:$T$62,0)","v":9},{"$f":"MATCH(E9,【元データ】評価シート!$A$5:$A$56,0)","v":34},{"$f":"MATCH(F9,【元データ】評価シート!$B$4:$T$4,0)","v":9}]
[402020,15,1,"立馬上で作業中突風にあおられ材料と共に転落する","足場","墜落・転落",{"$f":"INDEX(【元データ】評価シート!$B$63:$T$114,J10,K10)","v":5},{"$f":"INDEX(【元データ】評価シート!$B$5:$T$56,L10,M10)","v":5},null,{"$f":"MATCH(E10,【元データ】評価シート!$A$63:$A$114,0)","v":34},{"$f":"MATCH(F10,【元データ】評価シート!$B$62:$T$62,0)","v":1},{"$f":"MATCH(E10,【元データ】評価シート!$A$5:$A$56,0)","v":34},{"$f":"MATCH(F10,【元データ】評価シート!$B$4:$T$4,0)","v":1}]
[402030,17,1,"足場の中桟に足を掛け作業中、中桟が外れて転落する","足場","墜落・転落",{"$f":"INDEX(【元データ】評価シート!$B$63:$T$114,J11,K11)","v":5},{"$f":"INDEX(【元データ】評価シート!$B$5:$T$56,L11,M11)","v":5},null,{"$f":"MATCH(E11,【元データ】評価シート!$A$63:$A$114,0)","v":34},{"$f":"MATCH(F11,【元データ】評価シート!$B$62:$T$62,0)","v":1},{"$f":"MATCH(E11,【元データ】評価シート!$A$5:$A$56,0)","v":34},{"$f":"MATCH(F11,【元データ】評価シート!$B$4:$T$4,0)","v":1}]
[404080,19,1,"ローリング足場の手摺が外れて転落する","足場","墜落・転落",{"$f":"INDEX(【元データ】評価シート!$B$63:$T$114,J12,K12)","v":5},{"$f":"INDEX(【元データ】評価シート!$B$5:$T$56,L12,M12)","v":5},null,{"$f":"MATCH(E12,【元データ】評価シート!$A$63:$A$114,0)","v":34},{"$f":"MATCH(F12,【元データ】評価シート!$B$62:$T$62,0)","v":1},{"$f":"MATCH(E12,【元データ】評価シート!$A$5:$A$56,0)","v":34},{"$f":"MATCH(F12,【元データ】評価シート!$B$4:$T$4,0)","v":1}]
[404080,20,1,"ﾛｰﾘﾝｸﾞﾀﾜｰ使用時、身を寄り出して墜落する","足場","墜落・転落",{"$f":"INDEX(【元データ】評価シート!$B$63:$T$114,J13,K13)","v":5},{"$f":"INDEX(【元データ】評価シート!$B$5:$T$56,L13,M13)","v":5},null,{"$f":"MATCH(E13,【元データ】評価シート!$A$63:$A$114,0)","v":34},{"$f":"MATCH(F13,【元データ】評価シート!$B$62:$T$62,0)","v":1},{"$f":"MATCH(E13,【元データ】評価シート!$A$5:$A$56,0)","v":34},{"$f":"MATCH(F13,【元データ】評価シート!$B$4:$T$4,0)","v":1}]
[105010,21,1,"足場上で躓いて転倒する","足場","転倒",{"$f":"INDEX(【元データ】評価シート!$B$63:$T$114,J14,K14)","v":1},{"$f":"INDEX(【元データ】評価シート!$B$5:$T$56,L14,M14)","v":2},null,{"$f":"MATCH(E14,【元データ】評価シート!$A$63:$A$114,0)","v":34},{"$f":"MATCH(F14,【元データ】評価シート!$B$62:$T$62,0)","v":2},{"$f":"MATCH(E14,【元データ】評価シート!$A$5:$A$56,0)","v":34},{"$f":"MATCH(F14,【元データ】評価シート!$B$4:$T$4,0)","v":2}]
[202020,22,1,"ローリング足場が倒れて負傷する","足場","崩壊・倒壊",{"$f":"INDEX(【元データ】評価シート!$B$63:$T$114,J15,K15)","v":3},{"$f":"INDEX(【元データ】評価シート!$B$5:$T$56,L15,M15)","v":2},null,{"$f":"MATCH(E15,【元データ】評価シート!$A$63:$A$114,0)","v":34},{"$f":"MATCH(F15,【元データ】評価シート!$B$62:$T$62,0)","v":5},{"$f":"MATCH(E15,【元データ】評価シート!$A$5:$A$56,0)","v":34},{"$f":"MATCH(F15,【元データ】評価シート!$B$4:$T$4,0)","v":5}]
[402020,23,1,"布板昇降ハッチの蓋が閉まり手を詰める","足場","はさまれ・巻き込まれ",{"$f":"INDEX(【元データ】評価シート!$B$63:$T$114,J16,K16)","v":2},{"$f":"INDEX(【元データ】評価シート!$B$5:$T$56,L16,M16)","v":2},null,{"$f":"MATCH(E16,【元データ】評価シート!$A$63:$A$114,0)","v":34},{"$f":"MATCH(F16,【元データ】評価シート!$B$62:$T$62,0)","v":7},{"$f":"MATCH(E16,【元データ】評価シート!$A$5:$A$56,0)","v":34},{"$f":"MATCH(F16,【元データ】評価シート!$B$4:$T$4,0)","v":7}]
[105010,24,1,"足場使用時、足場から材料等を落下させる","足場","飛来・落下",{"$f":"INDEX(【元データ】評価シート!$B$63:$T$114,J17,K17)","v":2},{"$f":"INDEX(【元データ】評価シート!$B$5:$T$56,L17,M17)","v":2},null,{"$f":"MATCH(E17,【元データ】評価シート!$A$63:$A$114,0)","v":34},{"$f":"MATCH(F17,【元データ】評価シート!$B$62:$T$62,0)","v":4},{"$f":"MATCH(E17,【元データ】評価シート!$A$5:$A$56,0)","v":34},{"$f":"MATCH(F17,【元データ】評価シート!$B$4:$T$4,0)","v":4}]
[110010,37,1,"ユニック作業中誤作動にて吊荷が振れて負傷する","移動式クレーン","激突され",{"$f":"INDEX(【元データ】評価シート!$B$63:$T$114,J18,K18)","v":3},{"$f":"INDEX(【元データ】評価シート!$B$5:$T$56,L18,M18)","v":3},null,{"$f":"MATCH(E18,【元データ】評価シート!$A$63:$A$114,0)","v":13},{"$f":"MATCH(F18,【元データ】評価シート!$B$62:$T$62,0)","v":6},{"$f":"MATCH(E18,【元データ】評価シート!$A$5:$A$56,0)","v":13},{"$f":"MATCH(F18,【元データ】評価シート!$B$4:$T$4,0)","v":6}]
[108010,38,1,"ブーム組立時、高所から転落する","移動式クレーン","墜落・転落",{"$f":"INDEX(【元データ】評価シート!$B$63:$T$114,J19,K19)","v":4},{"$f":"INDEX(【元データ】評価シート!$B$5:$T$56,L19,M19)","v":4},null,{"$f":"MATCH(E19,【元データ】評価シート!$A$63:$A$114,0)","v":13},{"$f":"MATCH(F19,【元データ】評価シート!$B$62:$T$62,0)","v":1},{"$f":"MATCH(E19,【元データ】評価シート!$A$5:$A$56,0)","v":13},{"$f":"MATCH(F19,【元データ】評価シート!$B$4:$T$4,0)","v":1}]
[401020,39,1,"ブームをたたむ時、荷台から転落する","移動式クレーン","墜落・転落",{"$f":"INDEX(【元データ】評価シート!$B$63:$T$114,J20,K20)","v":4},{"$f":"INDEX(【元データ】評価シート!$B$5:$T$56,L20,M20)","v":4},null,{"$f":"MATCH(E20,【元データ】評価シート!$A$63:$A$114,0)","v":13},{"$f":"MATCH(F20,【元データ】評価シート!$B$62:$T$62,0)","v":1},{"$f":"MATCH(E20,【元データ】評価シート!$A$5:$A$56,0)","v":13},{"$f":"MATCH(F20,【元データ】評価シート!$B$4:$T$4,0)","v":1}]
[108010,41,1,"揚重機組立時、手･足を挟まれる","移動式クレーン","はさまれ・巻き込まれ",{"$f":"INDEX(【元データ】評価シート!$B$63:$T$114,J21,K21)","v":3},{"$f":"INDEX(【元データ】評価シート!$B$5:$T$56,L21,M21)","v":3},null,{"$f":"MATCH(E21,【元データ】評価シート!$A$63:$A$114,0)","v":13},{"$f":"MATCH(F21,【元データ】評価シート!$B$62:$T$62,0)","v":7},{"$f":"MATCH(E21,【元データ】評価シート!$A$5:$A$56,0)","v":13},{"$f":"MATCH(F21,【元データ】評価シート!$B$4:$T$4,0)","v":7}]
[401020,42,1,"ブームをたたむ時、手を挟む","移動式クレーン","はさまれ・巻き込まれ",{"$f":"INDEX(【元データ】評価シート!$B$63:$T$114,J22,K22)","v":3},{"$f":"INDEX(【元データ】評価シート!$B$5:$T$56,L22,M22)","v":3},null,{"$f":"MATCH(E22,【元データ】評価シート!$A$63:$A$114,0)","v":13},{"$f":"MATCH(F22,【元データ】評価シート!$B$62:$T$62,0)","v":7},{"$f":"MATCH(E22,【元データ】評価シート!$A$5:$A$56,0)","v":13},{"$f":"MATCH(F22,【元データ】評価シート!$B$4:$T$4,0)","v":7}]
[102010,43,1,"吊荷時、搬入車輛（ユニック車)が転倒する","移動式クレーン","崩壊・倒壊",{"$f":"INDEX(【元データ】評価シート!$B$63:$T$114,J23,K23)","v":3},{"$f":"INDEX(【元データ】評価シート!$B$5:$T$56,L23,M23)","v":2},null,{"$f":"MATCH(E23,【元データ】評価シート!$A$63:$A$114,0)","v":13},{"$f":"MATCH(F23,【元データ】評価シート!$B$62:$T$62,0)","v":5},{"$f":"MATCH(E23,【元データ】評価シート!$A$5:$A$56,0)","v":13},{"$f":"MATCH(F23,【元データ】評価シート!$B$4:$T$4,0)","v":5}]
[108010,44,1,"揚重機が転倒する","移動式クレーン","崩壊・倒壊",{"$f":"INDEX(【元データ】評価シート!$B$63:$T$114,J24,K24)","v":3},{"$f":"INDEX(【元データ】評価シート!$B$5:$T$56,L24,M24)","v":2},null,{"$f":"MATCH(E24,【元データ】評価シート!$A$63:$A$114,0)","v":13},{"$f":"MATCH(F24,【元データ】評価シート!$B$62:$T$62,0)","v":5},{"$f":"MATCH(E24,【元データ】評価シート!$A$5:$A$56,0)","v":13},{"$f":"MATCH(F24,【元データ】評価シート!$B$4:$T$4,0)","v":5}]
[110010,45,1,"資材荷吊り時アウトリガー下地盤が沈下しユニック車が転倒する","移動式クレーン","崩壊・倒壊",{"$f":"INDEX(【元データ】評価シート!$B$63:$T$114,J25,K25)","v":3},{"$f":"INDEX(【元データ】評価シート!$B$5:$T$56,L25,M25)","v":2},null,{"$f":"MATCH(E25,【元データ】評価シート!$A$63:$A$114,0)","v":13},{"$f":"MATCH(F25,【元データ】評価シート!$B$62:$T$62,0)","v":5},{"$f":"MATCH(E25,【元データ】評価シート!$A$5:$A$56,0)","v":13},{"$f":"MATCH(F25,【元データ】評価シート!$B$4:$T$4,0)","v":5}]
[110010,46,1,"資材荷吊り時過過重になりユニック車が転倒する","移動式クレーン","崩壊・倒壊",{"$f":"INDEX(【元データ】評価シート!$B$63:$T$114,J26,K26)","v":3},{"$f":"INDEX(【元データ】評価シート!$B$5:$T$56,L26,M26)","v":2},null,{"$f":"MATCH(E26,【元データ】評価シート!$A$63:$A$114,0)","v":13},{"$f":"MATCH(F26,【元データ】評価シート!$B$62:$T$62,0)","v":5},{"$f":"MATCH(E26,【元データ】評価シート!$A$5:$A$56,0)","v":13},{"$f":"MATCH(F26,【元データ】評価シート!$B$4:$T$4,0)","v":5}]
[401010,52,1,"昇降設備を使用せずに墜落する","開口部","墜落・転落",{"$f":"INDEX(【元データ】評価シート!$B$63:$T$114,J27,K27)","v":5},{"$f":"INDEX(【元データ】評価シート!$B$5:$T$56,L27,M27)","v":4},null,{"$f":"MATCH(E27,【元データ】評価シート!$A$63:$A$114,0)","v":37},{"$f":"MATCH(F27,【元データ】評価シート!$B$62:$T$62,0)","v":1},{"$f":"MATCH(E27,【元データ】評価シート!$A$5:$A$56,0)","v":37},{"$f":"MATCH(F27,【元データ】評価シート!$B$4:$T$4,0)","v":1}]
[401010,53,1,"物を取ろうと足場に足を掛け滑って転落する","開口部","墜落・転落",{"$f":"INDEX(【元データ】評価シート!$B$63:$T$114,J28,K28)","v":5},{"$f":"INDEX(【元データ】評価シート!$B$5:$T$56,L28,M28)","v":4},null,{"$f":"MATCH(E28,【元データ】評価シート!$A$63:$A$114,0)","v":37},{"$f":"MATCH(F28,【元データ】評価シート!$B$62:$T$62,0)","v":1},{"$f":"MATCH(E28,【元データ】評価シート!$A$5:$A$56,0)","v":37},{"$f":"MATCH(F28,【元データ】評価シート!$B$4:$T$4,0)","v":1}]
[401010,54,1,"足場の隙間から墜落する","開口部","墜落・転落",{"$f":"INDEX(【元データ】評価シート!$B$63:$T$114,J29,K29)","v":5},{"$f":"INDEX(【元データ】評価シート!$B$5:$T$56,L29,M29)","v":4},null,{"$f":"MATCH(E29,【元データ】評価シート!$A$63:$A$114,0)","v":37},{"$f":"MATCH(F29,【元データ】評価シート!$B$62:$T$62,0)","v":1},{"$f":"MATCH(E29,【元データ】評価シート!$A$5:$A$56,0)","v":37},{"$f":"MATCH(F29,【元データ】評価シート!$B$4:$T$4,0)","v":1}]
[105010,67,1,"作業場所移動時、外部足場の階段で足が滑り転倒する","階段、桟橋","転倒",{"$f":"INDEX(【元データ】評価シート!$B$63:$T$114,J30,K30)","v":3},{"$f":"INDEX(【元データ】評価シート!$B$5:$T$56,L30,M30)","v":3},null,{"$f":"MATCH(E30,【元データ】評価シート!$A$63:$A$114,0)","v":36},{"$f":"MATCH(F30,【元データ】評価シート!$B$62:$T$62,0)","v":2},{"$f":"MATCH(E30,【元データ】評価シート!$A$5:$A$56,0)","v":36},{"$f":"MATCH(F30,【元データ】評価シート!$B$4:$T$4,0)","v":2}]
[402020,68,1,"手摺壁に足をかける際、足が滑り転倒する","階段、桟橋","転倒",{"$f":"INDEX(【元データ】評価シート!$B$63:$T$114,J31,K31)","v":3},{"$f":"INDEX(【元データ】評価シート!$B$5:$T$56,L31,M31)","v":3},null,{"$f":"MATCH(E31,【元データ】評価シート!$A$63:$A$114,0)","v":36},{"$f":"MATCH(F31,【元データ】評価シート!$B$62:$T$62,0)","v":2},{"$f":"MATCH(E31,【元データ】評価シート!$A$5:$A$56,0)","v":36},{"$f":"MATCH(F31,【元データ】評価シート!$B$4:$T$4,0)","v":2}]
[202010,86,1,"資材にあたって負傷する","金属材料","激突",{"$f":"INDEX(【元データ】評価シート!$B$63:$T$114,J32,K32)","v":2},{"$f":"INDEX(【元データ】評価シート!$B$5:$T$56,L32,M32)","v":2},null,{"$f":"MATCH(E32,【元データ】評価シート!$A$63:$A$114,0)","v":45},{"$f":"MATCH(F32,【元データ】評価シート!$B$62:$T$62,0)","v":3},{"$f":"MATCH(E32,【元データ】評価シート!$A$5:$A$56,0)","v":45},{"$f":"MATCH(F32,【元データ】評価シート!$B$4:$T$4,0)","v":3}]
[202010,90,1,"単管パイプとクランプで指を挟む","金属材料","はさまれ・巻き込まれ",{"$f":"INDEX(【元データ】評価シート!$B$63:$T$114,J33,K33)","v":4},{"$f":"INDEX(【元データ】評価シート!$B$5:$T$56,L33,M33)","v":3},null,{"$f":"MATCH(E33,【元データ】評価シート!$A$63:$A$114,0)","v":45},{"$f":"MATCH(F33,【元データ】評価シート!$B$62:$T$62,0)","v":7},{"$f":"MATCH(E33,【元データ】評価シート!$A$5:$A$56,0)","v":45},{"$f":"MATCH(F33,【元データ】評価シート!$B$4:$T$4,0)","v":7}]
[202010,95,1,"資材受渡し時、手が滑り、落下する","金属材料","飛来・落下",{"$f":"INDEX(【元データ】評価シート!$B$63:$T$114,J34,K34)","v":5},{"$f":"INDEX(【元データ】評価シート!$B$5:$T$56,L34,M34)","v":3},null,{"$f":"MATCH(E34,【元データ】評価シート!$A$63:$A$114,0)","v":45},{"$f":"MATCH(F34,【元データ】評価シート!$B$62:$T$62,0)","v":4},{"$f":"MATCH(E34,【元データ】評価シート!$A$5:$A$56,0)","v":45},{"$f":"MATCH(F34,【元データ】評価シート!$B$4:$T$4,0)","v":4}]
[402010,99,1,"結束バンド切断時に鋼管が崩れて負傷する","金属材料","崩壊・倒壊",{"$f":"INDEX(【元データ】評価シート!$B$63:$T$114,J35,K35)","v":5},{"$f":"INDEX(【元データ】評価シート!$B$5:$T$56,L35,M35)","v":3},null,{"$f":"MATCH(E35,【元データ】評価シート!$A$63:$A$114,0)","v":45},{"$f":"MATCH(F35,【元データ】評価シート!$B$62:$T$62,0)","v":5},{"$f":"MATCH(E35,【元データ】評価シート!$A$5:$A$56,0)","v":45},{"$f":"MATCH(F35,【元データ】評価シート!$B$4:$T$4,0)","v":5}]
[105010,109,1,"高所作業車使用時、転落する","高所作業車","墜落・転落",{"$f":"INDEX(【元データ】評価シート!$B$63:$T$114,J36,K36)","v":3},{"$f":"INDEX(【元データ】評価シート!$B$5:$T$56,L36,M36)","v":3},null,{"$f":"MATCH(E36,【元データ】評価シート!$A$63:$A$114,0)","v":10},{"$f":"MATCH(F36,【元データ】評価シート!$B$62:$T$62,0)","v":1},{"$f":"MATCH(E36,【元データ】評価シート!$A$5:$A$56,0)","v":10},{"$f":"MATCH(F36,【元データ】評価シート!$B$4:$T$4,0)","v":1}]
[204010,110,1,"高所作業車使用時、身を寄り出して墜落する","高所作業車","墜落・転落",{"$f":"INDEX(【元データ】評価シート!$B$63:$T$114,J37,K37)","v":3},{"$f":"INDEX(【元データ】評価シート!$B$5:$T$56,L37,M37)","v":3},null,{"$f":"MATCH(E37,【元データ】評価シート!$A$63:$A$114,0)","v":10},{"$f":"MATCH(F37,【元データ】評価シート!$B$62:$T$62,0)","v":1},{"$f":"MATCH(E37,【元データ】評価シート!$A$5:$A$56,0)","v":10},{"$f":"MATCH(F37,【元データ】評価シート!$B$4:$T$4,0)","v":1}]
[402030,111,1,"高所作業車移動時に開口部の養生蓋に引っ掛かって転倒する","高所作業車","転倒",{"$f":"INDEX(【元データ】評価シート!$B$63:$T$114,J38,K38)","v":1},{"$f":"INDEX(【元データ】評価シート!$B$5:$T$56,L38,M38)","v":2},null,{"$f":"MATCH(E38,【元データ】評価シート!$A$63:$A$114,0)","v":10},{"$f":"MATCH(F38,【元データ】評価シート!$B$62:$T$62,0)","v":2},{"$f":"MATCH(E38,【元データ】評価シート!$A$5:$A$56,0)","v":10},{"$f":"MATCH(F38,【元データ】評価シート!$B$4:$T$4,0)","v":2}]
[401010,135,1,"材料移動時、既存物、隣接建物に接触する","人力運搬機","転倒",{"$f":"INDEX(【元データ】評価シート!$B$63:$T$114,J39,K39)","v":3},{"$f":"INDEX(【元データ】評価シート!$B$5:$T$56,L39,M39)","v":3},null,{"$f":"MATCH(E39,【元データ】評価シート!$A$63:$A$114,0)","v":29},{"$f":"MATCH(F39,【元データ】評価シート!$B$62:$T$62,0)","v":2},{"$f":"MATCH(E39,【元データ】評価シート!$A$5:$A$56,0)","v":29},{"$f":"MATCH(F39,【元データ】評価シート!$B$4:$T$4,0)","v":2}]
[403050,138,1,"材料運搬時、躓いて転倒する","人力運搬機","激突",{"$f":"INDEX(【元データ】評価シート!$B$63:$T$114,J40,K40)","v":2},{"$f":"INDEX(【元データ】評価シート!$B$5:$T$56,L40,M40)","v":2},null,{"$f":"MATCH(E40,【元データ】評価シート!$A$63:$A$114,0)","v":29},{"$f":"MATCH(F40,【元データ】評価シート!$B$62:$T$62,0)","v":3},{"$f":"MATCH(E40,【元データ】評価シート!$A$5:$A$56,0)","v":29},{"$f":"MATCH(F40,【元データ】評価シート!$B$4:$T$4,0)","v":3}]
[103010,139,1,"重量物を持って腰を痛める","人力運搬機","転倒",{"$f":"INDEX(【元データ】評価シート!$B$63:$T$114,J41,K41)","v":3},{"$f":"INDEX(【元データ】評価シート!$B$5:$T$56,L41,M41)","v":3},null,{"$f":"MATCH(E41,【元データ】評価シート!$A$63:$A$114,0)","v":29},{"$f":"MATCH(F41,【元データ】評価シート!$B$62:$T$62,0)","v":2},{"$f":"MATCH(E41,【元データ】評価シート!$A$5:$A$56,0)","v":29},{"$f":"MATCH(F41,【元データ】評価シート!$B$4:$T$4,0)","v":2}]
[105020,140,1,"資材運搬時、台車に手を挟まれて負傷する","人力運搬機","動作の反動・無理な動作",{"$f":"INDEX(【元データ】評価シート!$B$63:$T$114,J42,K42)","v":1},{"$f":"INDEX(【元データ】評価シート!$B$5:$T$56,L42,M42)","v":2},null,{"$f":"MATCH(E42,【元データ】評価シート!$A$63:$A$114,0)","v":29},{"$f":"MATCH(F42,【元データ】評価シート!$B$62:$T$62,0)","v":19},{"$f":"MATCH(E42,【元データ】評価シート!$A$5:$A$56,0)","v":29},{"$f":"MATCH(F42,【元データ】評価シート!$B$4:$T$4,0)","v":19}]
[205010,147,1,"配線接続時に、感電する","整地・運搬・積込み用機械","はさまれ・巻き込まれ",{"$f":"INDEX(【元データ】評価シート!$B$63:$T$114,J43,K43)","v":4},{"$f":"INDEX(【元データ】評価シート!$B$5:$T$56,L43,M43)","v":3},null,{"$f":"MATCH(E43,【元データ】評価シート!$A$63:$A$114,0)","v":5},{"$f":"MATCH(F43,【元データ】評価シート!$B$62:$T$62,0)","v":7},{"$f":"MATCH(E43,【元データ】評価シート!$A$5:$A$56,0)","v":5},{"$f":"MATCH(F43,【元データ】評価シート!$B$4:$T$4,0)","v":7}]
[105010,148,1,"配線結線時に充電部に接触して感電する","送配電線等","感電",{"$f":"INDEX(【元データ】評価シート!$B$63:$T$114,J44,K44)","v":4},{"$f":"INDEX(【元データ】評価シート!$B$5:$T$56,L44,M44)","v":2},null,{"$f":"MATCH(E44,【元データ】評価シート!$A$63:$A$114,0)","v":26},{"$f":"MATCH(F44,【元データ】評価シート!$B$62:$T$62,0)","v":13},{"$f":"MATCH(E44,【元データ】評価シート!$A$5:$A$56,0)","v":26},{"$f":"MATCH(F44,【元データ】評価シート!$B$4:$T$4,0)","v":13}]
[105010,149,1,"配線撤去時に誤って活線に接触して感電する","送配電線等","感電",{"$f":"INDEX(【元データ】評価シート!$B$63:$T$114,J45,K45)","v":4},{"$f":"INDEX(【元データ】評価シート!$B$5:$T$56,L45,M45)","v":2},null,{"$f":"MATCH(E45,【元データ】評価シート!$A$63:$A$114,0)","v":26},{"$f":"MATCH(F45,【元データ】評価シート!$B$62:$T$62,0)","v":13},{"$f":"MATCH(E45,【元データ】評価シート!$A$5:$A$56,0)","v":26},{"$f":"MATCH(F45,【元データ】評価シート!$B$4:$T$4,0)","v":13}]
[105010,150,1,"配線敷設時、鉄筋の結束線が指に刺さる","送配電線等","感電",{"$f":"INDEX(【元データ】評価シート!$B$63:$T$114,J46,K46)","v":4},{"$f":"INDEX(【元データ】評価シート!$B$5:$T$56,L46,M46)","v":2},null,{"$f":"MATCH(E46,【元データ】評価シート!$A$63:$A$114,0)","v":26},{"$f":"MATCH(F46,【元データ】評価シート!$B$62:$T$62,0)","v":13},{"$f":"MATCH(E46,【元データ】評価シート!$A$5:$A$56,0)","v":26},{"$f":"MATCH(F46,【元データ】評価シート!$B$4:$T$4,0)","v":13}]
[105010,151,1,"配線敷設時、鉄筋間に足を挟み転倒する","送配電線等","切れ・こすれ",{"$f":"INDEX(【元データ】評価シート!$B$63:$T$114,J47,K47)","v":1},{"$f":"INDEX(【元データ】評価シート!$B$5:$T$56,L47,M47)","v":1},null,{"$f":"MATCH(E47,【元データ】評価シート!$A$63:$A$114,0)","v":26},{"$f":"MATCH(F47,【元データ】評価シート!$B$62:$T$62,0)","v":8},{"$f":"MATCH(E47,【元データ】評価シート!$A$5:$A$56,0)","v":26},{"$f":"MATCH(F47,【元データ】評価シート!$B$4:$T$4,0)","v":8}]
[105010,152,1,"キャプタイヤーに躓き転倒する","送配電線等","転倒",{"$f":"INDEX(【元データ】評価シート!$B$63:$T$114,J48,K48)","v":2},{"$f":"INDEX(【元データ】評価シート!$B$5:$T$56,L48,M48)","v":2},null,{"$f":"MATCH(E48,【元データ】評価シート!$A$63:$A$114,0)","v":26},{"$f":"MATCH(F48,【元データ】評価シート!$B$62:$T$62,0)","v":2},{"$f":"MATCH(E48,【元データ】評価シート!$A$5:$A$56,0)","v":26},{"$f":"MATCH(F48,【元データ】評価シート!$B$4:$T$4,0)","v":2}]
[605010,162,1,"通路足場から身を寄り出した際、墜落する","ゴンドラ","墜落・転落",{"$f":"INDEX(【元データ】評価シート!$B$63:$T$114,J49,K49)","v":1},{"$f":"INDEX(【元データ】評価シート!$B$5:$T$56,L49,M49)","v":2},null,{"$f":"MATCH(E49,【元データ】評価シート!$A$63:$A$114,0)","v":16},{"$f":"MATCH(F49,【元データ】評価シート!$B$62:$T$62,0)","v":1},{"$f":"MATCH(E49,【元データ】評価シート!$A$5:$A$56,0)","v":16},{"$f":"MATCH(F49,【元データ】評価シート!$B$4:$T$4,0)","v":1}]
[101010,165,1,"材料運搬時、段差に躓いて転倒する","通路","転倒",{"$f":"INDEX(【元データ】評価シート!$B$63:$T$114,J50,K50)","v":4},{"$f":"INDEX(【元データ】評価シート!$B$5:$T$56,L50,M50)","v":4},null,{"$f":"MATCH(E50,【元データ】評価シート!$A$63:$A$114,0)","v":40},{"$f":"MATCH(F50,【元データ】評価シート!$B$62:$T$62,0)","v":2},{"$f":"MATCH(E50,【元データ】評価シート!$A$5:$A$56,0)","v":40},{"$f":"MATCH(F50,【元データ】評価シート!$B$4:$T$4,0)","v":2}]
[104010,167,1,"足場上で躓いて転倒する","通路","転倒",{"$f":"INDEX(【元データ】評価シート!$B$63:$T$114,J51,K51)","v":4},{"$f":"INDEX(【元データ】評価シート!$B$5:$T$56,L51,M51)","v":4},null,{"$f":"MATCH(E51,【元データ】評価シート!$A$63:$A$114,0)","v":40},{"$f":"MATCH(F51,【元データ】評価シート!$B$62:$T$62,0)","v":2},{"$f":"MATCH(E51,【元データ】評価シート!$A$5:$A$56,0)","v":40},{"$f":"MATCH(F51,【元データ】評価シート!$B$4:$T$4,0)","v":2}]
[401010,168,1,"スラブ上で躓いて転倒する","通路","転倒",{"$f":"INDEX(【元データ】評価シート!$B$63:$T$114,J52,K52)","v":4},{"$f":"INDEX(【元データ】評価シート!$B$5:$T$56,L52,M52)","v":4},null,{"$f":"MATCH(E52,【元データ】評価シート!$A$63:$A$114,0)","v":40},{"$f":"MATCH(F52,【元データ】評価シート!$B$62:$T$62,0)","v":2},{"$f":"MATCH(E52,【元データ】評価シート!$A$5:$A$56,0)","v":40},{"$f":"MATCH(F52,【元データ】評価シート!$B$4:$T$4,0)","v":2}]
[403050,171,1,"カッターナイフで手を切る","通路","転倒",{"$f":"INDEX(【元データ】評価シート!$B$63:$T$114,J53,K53)","v":4},{"$f":"INDEX(【元データ】評価シート!$B$5:$T$56,L53,M53)","v":4},null,{"$f":"MATCH(E53,【元データ】評価シート!$A$63:$A$114,0)","v":40},{"$f":"MATCH(F53,【元データ】評価シート!$B$62:$T$62,0)","v":2},{"$f":"MATCH(E53,【元データ】評価シート!$A$5:$A$56,0)","v":40},{"$f":"MATCH(F53,【元データ】評価シート!$B$4:$T$4,0)","v":2}]
[101010,172,1,"束ねてあるビニールテープ切断時に、カッターナイフで手を切る","手工具","切れ・こすれ",{"$f":"INDEX(【元データ】評価シート!$B$63:$T$114,J54,K54)","v":3},{"$f":"INDEX(【元データ】評価シート!$B$5:$T$56,L54,M54)","v":3},null,{"$f":"MATCH(E54,【元データ】評価シート!$A$63:$A$114,0)","v":31},{"$f":"MATCH(F54,【元データ】評価シート!$B$62:$T$62,0)","v":8},{"$f":"MATCH(E54,【元データ】評価シート!$A$5:$A$56,0)","v":31},{"$f":"MATCH(F54,【元データ】評価シート!$B$4:$T$4,0)","v":8}]
[null,187,1,"分電盤移設時、感電する","手工具","動作の反動・無理な動作",{"$f":"INDEX(【元データ】評価シート!$B$63:$T$114,J55,K55)","v":1},{"$f":"INDEX(【元データ】評価シート!$B$5:$T$56,L55,M55)","v":2},null,{"$f":"MATCH(E55,【元データ】評価シート!$A$63:$A$114,0)","v":31},{"$f":"MATCH(F55,【元データ】評価シート!$B$62:$T$62,0)","v":19},{"$f":"MATCH(E55,【元データ】評価シート!$A$5:$A$56,0)","v":31},{"$f":"MATCH(F55,【元データ】評価シート!$B$4:$T$4,0)","v":19}]
[105010,188,1,"電源切替時、感電する","電力設備","感電",{"$f":"INDEX(【元データ】評価シート!$B$63:$T$114,J56,K56)","v":4},{"$f":"INDEX(【元データ】評価シート!$B$5:$T$56,L56,M56)","v":2},null,{"$f":"MATCH(E56,【元データ】評価シート!$A$63:$A$114,0)","v":27},{"$f":"MATCH(F56,【元データ】評価シート!$B$62:$T$62,0)","v":13},{"$f":"MATCH(E56,【元データ】評価シート!$A$5:$A$56,0)","v":27},{"$f":"MATCH(F56,【元データ】評価シート!$B$4:$T$4,0)","v":13}]
[105010,189,1,"電源投入時に機械・電動工具を点検していた人が負傷する","電力設備","感電",{"$f":"INDEX(【元データ】評価シート!$B$63:$T$114,J57,K57)","v":4},{"$f":"INDEX(【元データ】評価シート!$B$5:$T$56,L57,M57)","v":2},null,{"$f":"MATCH(E57,【元データ】評価シート!$A$63:$A$114,0)","v":27},{"$f":"MATCH(F57,【元データ】評価シート!$B$62:$T$62,0)","v":13},{"$f":"MATCH(E57,【元データ】評価シート!$A$5:$A$56,0)","v":27},{"$f":"MATCH(F57,【元データ】評価シート!$B$4:$T$4,0)","v":13}]
[105010,190,1,"停電時の点検清掃時に残留電荷により感電する","電力設備","感電",{"$f":"INDEX(【元データ】評価シート!$B$63:$T$114,J58,K58)","v":4},{"$f":"INDEX(【元データ】評価シート!$B$5:$T$56,L58,M58)","v":2},null,{"$f":"MATCH(E58,【元データ】評価シート!$A$63:$A$114,0)","v":27},{"$f":"MATCH(F58,【元データ】評価シート!$B$62:$T$62,0)","v":13},{"$f":"MATCH(E58,【元データ】評価シート!$A$5:$A$56,0)","v":27},{"$f":"MATCH(F58,【元データ】評価シート!$B$4:$T$4,0)","v":13}]
[105010,191,1,"水銀灯取付時、手を詰める","電力設備","感電",{"$f":"INDEX(【元データ】評価シート!$B$63:$T$114,J59,K59)","v":4},{"$f":"INDEX(【元データ】評価シート!$B$5:$T$56,L59,M59)","v":2},null,{"$f":"MATCH(E59,【元データ】評価シート!$A$63:$A$114,0)","v":27},{"$f":"MATCH(F59,【元データ】評価シート!$B$62:$T$62,0)","v":13},{"$f":"MATCH(E59,【元データ】評価シート!$A$5:$A$56,0)","v":27},{"$f":"MATCH(F59,【元データ】評価シート!$B$4:$T$4,0)","v":13}]
[105010,192,1,"足場に水銀灯を設置する時に器具を落下させ下部の作業員に当たる","電力設備","はさまれ・巻き込まれ",{"$f":"INDEX(【元データ】評価シート!$B$63:$T$114,J60,K60)","v":1},{"$f":"INDEX(【元データ】評価シート!$B$5:$T$56,L60,M60)","v":2},null,{"$f":"MATCH(E60,【元データ】評価シート!$A$63:$A$114,0)","v":27},{"$f":"MATCH(F60,【元データ】評価シート!$B$62:$T$62,0)","v":7},{"$f":"MATCH(E60,【元データ】評価シート!$A$5:$A$56,0)","v":27},{"$f":"MATCH(F60,【元データ】評価シート!$B$4:$T$4,0)","v":7}]
[105010,193,1,"分電盤取付時に落下させ足を詰める","電力設備","飛来・落下",{"$f":"INDEX(【元データ】評価シート!$B$63:$T$114,J61,K61)","v":1},{"$f":"INDEX(【元データ】評価シート!$B$5:$T$56,L61,M61)","v":1},null,{"$f":"MATCH(E61,【元データ】評価シート!$A$63:$A$114,0)","v":27},{"$f":"MATCH(F61,【元データ】評価シート!$B$62:$T$62,0)","v":4},{"$f":"MATCH(E61,【元データ】評価シート!$A$5:$A$56,0)","v":27},{"$f":"MATCH(F61,【元データ】評価シート!$B$4:$T$4,0)","v":4}]
[502020,209,1,"安全ブロックを使用せず梯子やタラップから転落する","はしご等","墜落・転落",{"$f":"INDEX(【元データ】評価シート!$B$63:$T$114,J62,K62)","v":5},{"$f":"INDEX(【元データ】評価シート!$B$5:$T$56,L62,M62)","v":5},null,{"$f":"MATCH(E62,【元データ】評価シート!$A$63:$A$114,0)","v":32},{"$f":"MATCH(F62,【元データ】評価シート!$B$62:$T$62,0)","v":1},{"$f":"MATCH(E62,【元データ】評価シート!$A$5:$A$56,0)","v":32},{"$f":"MATCH(F62,【元データ】評価シート!$B$4:$T$4,0)","v":1}]
[205010,211,1,"フォークリフト移動時、作業員と接触する","フォークリフト","激突",{"$f":"INDEX(【元データ】評価シート!$B$63:$T$114,J63,K63)","v":2},{"$f":"INDEX(【元データ】評価シート!$B$5:$T$56,L63,M63)","v":2},null,{"$f":"MATCH(E63,【元データ】評価シート!$A$63:$A$114,0)","v":19},{"$f":"MATCH(F63,【元データ】評価シート!$B$62:$T$62,0)","v":3},{"$f":"MATCH(E63,【元データ】評価シート!$A$5:$A$56,0)","v":19},{"$f":"MATCH(F63,【元データ】評価シート!$B$4:$T$4,0)","v":3}]

{"sheet":"重機土工・舗装工","index":9,"n_rows":74,"n_cols":13,"rows_kept":74,"cut":false,"hidden":false,"merged":[[0,1,0,2]]}
[null,"工種区分"]
["工種コード",null,"重機土工\n・舗装工","危険ポイント","起因物","事故型","可能性","重大性"]
[206010,2,1,"溶接時、火花が飛散する","アーク溶接装置","火災",{"$f":"INDEX(【元データ】評価シート!$B$63:$T$114,J3,K3)","v":2},{"$f":"INDEX(【元データ】評価シート!$B$5:$T$56,L3,M3)","v":2},null,{"$f":"MATCH(E3,【元データ】評価シート!$A$63:$A$114,0)","v":25},{"$f":"MATCH(F3,【元データ】評価シート!$B$62:$T$62,0)","v":16},{"$f":"MATCH(E3,【元データ】評価シート!$A$5:$A$56,0)","v":25},{"$f":"MATCH(F3,【元データ】評価シート!$B$4:$T$4,0)","v":16}]
[302010,3,1,"杭ジョイント溶接時、火傷する","アーク溶接装置","高温低温物との接触",{"$f":"INDEX(【元データ】評価シート!$B$63:$T$114,J4,K4)","v":3},{"$f":"INDEX(【元データ】評価シート!$B$5:$T$56,L4,M4)","v":2},null,{"$f":"MATCH(E4,【元データ】評価シート!$A$63:$A$114,0)","v":25},{"$f":"MATCH(F4,【元データ】評価シート!$B$62:$T$62,0)","v":11},{"$f":"MATCH(E4,【元データ】評価シート!$A$5:$A$56,0)","v":25},{"$f":"MATCH(F4,【元データ】評価シート!$B$4:$T$4,0)","v":11}]
[109010,5,1,"溶接部で火傷する","アーク溶接装置","高温低温物との接触",{"$f":"INDEX(【元データ】評価シート!$B$63:$T$114,J5,K5)","v":3},{"$f":"INDEX(【元データ】評価シート!$B$5:$T$56,L5,M5)","v":2},null,{"$f":"MATCH(E5,【元データ】評価シート!$A$63:$A$114,0)","v":25},{"$f":"MATCH(F5,【元データ】評価シート!$B$62:$T$62,0)","v":11},{"$f":"MATCH(E5,【元データ】評価シート!$A$5:$A$56,0)","v":25},{"$f":"MATCH(F5,【元データ】評価シート!$B$4:$T$4,0)","v":11}]
[101010,7,1,"立馬で材料荷渡しや作業時に転落する","足場","墜落・転落",{"$f":"INDEX(【元データ】評価シート!$B$63:$T$114,J6,K6)","v":5},{"$f":"INDEX(【元データ】評価シート!$B$5:$T$56,L6,M6)","v":5},null,{"$f":"MATCH(E6,【元データ】評価シート!$A$63:$A$114,0)","v":34},{"$f":"MATCH(F6,【元データ】評価シート!$B$62:$T$62,0)","v":1},{"$f":"MATCH(E6,【元データ】評価シート!$A$5:$A$56,0)","v":34},{"$f":"MATCH(F6,【元データ】評価シート!$B$4:$T$4,0)","v":1}]
[101010,8,1,"立馬の脚が段差・床スリーブにはまり、または縮んで転落・転倒する","足場","墜落・転落",{"$f":"INDEX(【元データ】評価シート!$B$63:$T$114,J7,K7)","v":5},{"$f":"INDEX(【元データ】評価シート!$B$5:$T$56,L7,M7)","v":5},null,{"$f":"MATCH(E7,【元データ】評価シート!$A$63:$A$114,0)","v":34},{"$f":"MATCH(F7,【元データ】評価シート!$B$62:$T$62,0)","v":1},{"$f":"MATCH(E7,【元データ】評価シート!$A$5:$A$56,0)","v":34},{"$f":"MATCH(F7,【元データ】評価シート!$B$4:$T$4,0)","v":1}]
[101010,9,1,"立馬から降りる時に踏み外して転落する","足場","踏み抜き",{"$f":"INDEX(【元データ】評価シート!$B$63:$T$114,J8,K8)","v":1},{"$f":"INDEX(【元データ】評価シート!$B$5:$T$56,L8,M8)","v":1},null,{"$f":"MATCH(E8,【元データ】評価シート!$A$63:$A$114,0)","v":34},{"$f":"MATCH(F8,【元データ】評価シート!$B$62:$T$62,0)","v":9},{"$f":"MATCH(E8,【元データ】評価シート!$A$5:$A$56,0)","v":34},{"$f":"MATCH(F8,【元データ】評価シート!$B$4:$T$4,0)","v":9}]
[706010,10,1,"梯子作業中バランスを崩して転落する","はしご等","墜落・転落",{"$f":"INDEX(【元データ】評価シート!$B$63:$T$114,J9,K9)","v":5},{"$f":"INDEX(【元データ】評価シート!$B$5:$T$56,L9,M9)","v":5},null,{"$f":"MATCH(E9,【元データ】評価シート!$A$63:$A$114,0)","v":32},{"$f":"MATCH(F9,【元データ】評価シート!$B$62:$T$62,0)","v":1},{"$f":"MATCH(E9,【元データ】評価シート!$A$5:$A$56,0)","v":32},{"$f":"MATCH(F9,【元データ】評価シート!$B$4:$T$4,0)","v":1}]
[105010,11,1,"足場使用時、足場から墜落する","足場","墜落・転落",{"$f":"INDEX(【元データ】評価シート!$B$63:$T$114,J10,K10)","v":5},{"$f":"INDEX(【元データ】評価シート!$B$5:$T$56,L10,M10)","v":5},null,{"$f":"MATCH(E10,【元データ】評価シート!$A$63:$A$114,0)","v":34},{"$f":"MATCH(F10,【元データ】評価シート!$B$62:$T$62,0)","v":1},{"$f":"MATCH(E10,【元データ】評価シート!$A$5:$A$56,0)","v":34},{"$f":"MATCH(F10,【元データ】評価シート!$B$4:$T$4,0)","v":1}]
[105010,12,1,"足場の隙間から墜落する","足場","墜落・転落",{"$f":"INDEX(【元データ】評価シート!$B$63:$T$114,J11,K11)","v":5},{"$f":"INDEX(【元データ】評価シート!$B$5:$T$56,L11,M11)","v":5},null,{"$f":"MATCH(E11,【元データ】評価シート!$A$63:$A$114,0)","v":34},{"$f":"MATCH(F11,【元データ】評価シート!$B$62:$T$62,0)","v":1},{"$f":"MATCH(E11,【元データ】評価シート!$A$5:$A$56,0)","v":34},{"$f":"MATCH(F11,【元データ】評価シート!$B$4:$T$4,0)","v":1}]
[203010,14,1,"足場板を固定する際、足場板の天ビンにより墜落する","足場","踏み抜き",{"$f":"INDEX(【元データ】評価シート!$B$63:$T$114,J12,K12)","v":1},{"$f":"INDEX(【元データ】評価シート!$B$5:$T$56,L12,M12)","v":1},null,{"$f":"MATCH(E12,【元データ】評価シート!$A$63:$A$114,0)","v":34},{"$f":"MATCH(F12,【元データ】評価シート!$B$62:$T$62,0)","v":9},{"$f":"MATCH(E12,【元データ】評価シート!$A$5:$A$56,0)","v":34},{"$f":"MATCH(F12,【元データ】評価シート!$B$4:$T$4,0)","v":9}]
[402020,15,1,"立馬上で作業中突風にあおられ材料と共に転落する","足場","墜落・転落",{"$f":"INDEX(【元データ】評価シート!$B$63:$T$114,J13,K13)","v":5},{"$f":"INDEX(【元データ】評価シート!$B$5:$T$56,L13,M13)","v":5},null,{"$f":"MATCH(E13,【元データ】評価シート!$A$63:$A$114,0)","v":34},{"$f":"MATCH(F13,【元データ】評価シート!$B$62:$T$62,0)","v":1},{"$f":"MATCH(E13,【元データ】評価シート!$A$5:$A$56,0)","v":34},{"$f":"MATCH(F13,【元データ】評価シート!$B$4:$T$4,0)","v":1}]
[402030,17,1,"足場の中桟に足を掛け作業中、中桟が外れて転落する","足場","墜落・転落",{"$f":"INDEX(【元データ】評価シート!$B$63:$T$114,J14,K14)","v":5},{"$f":"INDEX(【元データ】評価シート!$B$5:$T$56,L14,M14)","v":5},null,{"$f":"MATCH(E14,【元データ】評価シート!$A$63:$A$114,0)","v":34},{"$f":"MATCH(F14,【元データ】評価シート!$B$62:$T$62,0)","v":1},{"$f":"MATCH(E14,【元データ】評価シート!$A$5:$A$56,0)","v":34},{"$f":"MATCH(F14,【元データ】評価シート!$B$4:$T$4,0)","v":1}]
[105010,21,1,"足場上で躓いて転倒する","足場","転倒",{"$f":"INDEX(【元データ】評価シート!$B$63:$T$114,J15,K15)","v":1},{"$f":"INDEX(【元データ】評価シート!$B$5:$T$56,L15,M15)","v":2},null,{"$f":"MATCH(E15,【元データ】評価シート!$A$63:$A$114,0)","v":34},{"$f":"MATCH(F15,【元データ】評価シート!$B$62:$T$62,0)","v":2},{"$f":"MATCH(E15,【元データ】評価シート!$A$5:$A$56,0)","v":34},{"$f":"MATCH(F15,【元データ】評価シート!$B$4:$T$4,0)","v":2}]
[402020,23,1,"布板昇降ハッチの蓋が閉まり手を詰める","足場","はさまれ・巻き込まれ",{"$f":"INDEX(【元データ】評価シート!$B$63:$T$114,J16,K16)","v":2},{"$f":"INDEX(【元データ】評価シート!$B$5:$T$56,L16,M16)","v":2},null,{"$f":"MATCH(E16,【元データ】評価シート!$A$63:$A$114,0)","v":34},{"$f":"MATCH(F16,【元データ】評価シート!$B$62:$T$62,0)","v":7},{"$f":"MATCH(E16,【元データ】評価シート!$A$5:$A$56,0)","v":34},{"$f":"MATCH(F16,【元データ】評価シート!$B$4:$T$4,0)","v":7}]
[105010,24,1,"足場使用時、足場から材料等を落下させる","足場","飛来・落下",{"$f":"INDEX(【元データ】評価シート!$B$63:$T$114,J17,K17)","v":2},{"$f":"INDEX(【元データ】評価シート!$B$5:$T$56,L17,M17)","v":2},null,{"$f":"MATCH(E17,【元データ】評価シート!$A$63:$A$114,0)","v":34},{"$f":"MATCH(F17,【元データ】評価シート!$B$62:$T$62,0)","v":4},{"$f":"MATCH(E17,【元データ】評価シート!$A$5:$A$56,0)","v":34},{"$f":"MATCH(F17,【元データ】評価シート!$B$4:$T$4,0)","v":4}]
[404020,35,1,"吊荷が強風であおられる","異常環境等","飛来・落下",{"$f":"INDEX(【元データ】評価シート!$B$63:$T$114,J18,K18)","v":1},{"$f":"INDEX(【元データ】評価シート!$B$5:$T$56,L18,M18)","v":1},null,{"$f":"MATCH(E18,【元データ】評価シート!$A$63:$A$114,0)","v":51},{"$f":"MATCH(F18,【元データ】評価シート!$B$62:$T$62,0)","v":4},{"$f":"MATCH(E18,【元データ】評価シート!$A$5:$A$56,0)","v":51},{"$f":"MATCH(F18,【元データ】評価シート!$B$4:$T$4,0)","v":4}]
[108010,36,1,"クレーン使用時、資材を既存物にぶつける","移動式クレーン","激突",{"$f":"INDEX(【元データ】評価シート!$B$63:$T$114,J19,K19)","v":1},{"$f":"INDEX(【元データ】評価シート!$B$5:$T$56,L19,M19)","v":2},null,{"$f":"MATCH(E19,【元データ】評価シート!$A$63:$A$114,0)","v":13},{"$f":"MATCH(F19,【元データ】評価シート!$B$62:$T$62,0)","v":3},{"$f":"MATCH(E19,【元データ】評価シート!$A$5:$A$56,0)","v":13},{"$f":"MATCH(F19,【元データ】評価シート!$B$4:$T$4,0)","v":3}]
[110010,37,1,"ユニック作業中誤作動にて吊荷が振れて負傷する","移動式クレーン","激突され",{"$f":"INDEX(【元データ】評価シート!$B$63:$T$114,J20,K20)","v":3},{"$f":"INDEX(【元データ】評価シート!$B$5:$T$56,L20,M20)","v":3},null,{"$f":"MATCH(E20,【元データ】評価シート!$A$63:$A$114,0)","v":13},{"$f":"MATCH(F20,【元データ】評価シート!$B$62:$T$62,0)","v":6},{"$f":"MATCH(E20,【元データ】評価シート!$A$5:$A$56,0)","v":13},{"$f":"MATCH(F20,【元データ】評価シート!$B$4:$T$4,0)","v":6}]
[108010,38,1,"ブーム組立時、高所から転落する","移動式クレーン","墜落・転落",{"$f":"INDEX(【元データ】評価シート!$B$63:$T$114,J21,K21)","v":4},{"$f":"INDEX(【元データ】評価シート!$B$5:$T$56,L21,M21)","v":4},null,{"$f":"MATCH(E21,【元データ】評価シート!$A$63:$A$114,0)","v":13},{"$f":"MATCH(F21,【元データ】評価シート!$B$62:$T$62,0)","v":1},{"$f":"MATCH(E21,【元データ】評価シート!$A$5:$A$56,0)","v":13},{"$f":"MATCH(F21,【元データ】評価シート!$B$4:$T$4,0)","v":1}]
[401020,39,1,"ブームをたたむ時、荷台から転落する","移動式クレーン","墜落・転落",{"$f":"INDEX(【元データ】評価シート!$B$63:$T$114,J22,K22)","v":4},{"$f":"INDEX(【元データ】評価シート!$B$5:$T$56,L22,M22)","v":4},null,{"$f":"MATCH(E22,【元データ】評価シート!$A$63:$A$114,0)","v":13},{"$f":"MATCH(F22,【元データ】評価シート!$B$62:$T$62,0)","v":1},{"$f":"MATCH(E22,【元データ】評価シート!$A$5:$A$56,0)","v":13},{"$f":"MATCH(F22,【元データ】評価シート!$B$4:$T$4,0)","v":1}]
[108010,41,1,"揚重機組立時、手･足を挟まれる","移動式クレーン","はさまれ・巻き込まれ",{"$f":"INDEX(【元データ】評価シート!$B$63:$T$114,J23,K23)","v":3},{"$f":"INDEX(【元データ】評価シート!$B$5:$T$56,L23,M23)","v":3},null,{"$f":"MATCH(E23,【元データ】評価シート!$A$63:$A$114,0)","v":13},{"$f":"MATCH(F23,【元データ】評価シート!$B$62:$T$62,0)","v":7},{"$f":"MATCH(E23,【元データ】評価シート!$A$5:$A$56,0)","v":13},{"$f":"MATCH(F23,【元データ】評価シート!$B$4:$T$4,0)","v":7}]
[401020,42,1,"ブームをたたむ時、手を挟む","移動式クレーン","はさまれ・巻き込まれ",{"$f":"INDEX(【元データ】評価シート!$B$63:$T$114,J24,K24)","v":3},{"$f":"INDEX(【元データ】評価シート!$B$5:$T$56,L24,M24)","v":3},null,{"$f":"MATCH(E24,【元データ】評価シート!$A$63:$A$114,0)","v":13},{"$f":"MATCH(F24,【元データ】評価シート!$B$62:$T$62,0)","v":7},{"$f":"MATCH(E24,【元データ】評価シート!$A$5:$A$56,0)","v":13},{"$f":"MATCH(F24,【元データ】評価シート!$B$4:$T$4,0)","v":7}]
[102010,43,1,"吊荷時、搬入車輛（ユニック車)が転倒する","移動式クレーン","崩壊・倒壊",{"$f":"INDEX(【元データ】評価シート!$B$63:$T$114,J25,K25)","v":3},{"$f":"INDEX(【元データ】評価シート!$B$5:$T$56,L25,M25)","v":2},null,{"$f":"MATCH(E25,【元データ】評価シート!$A$63:$A$114,0)","v":13},{"$f":"MATCH(F25,【元データ】評価シート!$B$62:$T$62,0)","v":5},{"$f":"MATCH(E25,【元データ】評価シート!$A$5:$A$56,0)","v":13},{"$f":"MATCH(F25,【元データ】評価シート!$B$4:$T$4,0)","v":5}]
[108010,44,1,"揚重機が転倒する","移動式クレーン","崩壊・倒壊",{"$f":"INDEX(【元データ】評価シート!$B$63:$T$114,J26,K26)","v":3},{"$f":"INDEX(【元データ】評価シート!$B$5:$T$56,L26,M26)","v":2},null,{"$f":"MATCH(E26,【元データ】評価シート!$A$63:$A$114,0)","v":13},{"$f":"MATCH(F26,【元データ】評価シート!$B$62:$T$62,0)","v":5},{"$f":"MATCH(E26,【元データ】評価シート!$A$5:$A$56,0)","v":13},{"$f":"MATCH(F26,【元データ】評価シート!$B$4:$T$4,0)","v":5}]
[110010,45,1,"資材荷吊り時アウトリガー下地盤が沈下しユニック車が転倒する","移動式クレーン","崩壊・倒壊",{"$f":"INDEX(【元データ】評価シート!$B$63:$T$114,J27,K27)","v":3},{"$f":"INDEX(【元データ】評価シート!$B$5:$T$56,L27,M27)","v":2},null,{"$f":"MATCH(E27,【元データ】評価シート!$A$63:$A$114,0)","v":13},{"$f":"MATCH(F27,【元データ】評価シート!$B$62:$T$62,0)","v":5},{"$f":"MATCH(E27,【元データ】評価シート!$A$5:$A$56,0)","v":13},{"$f":"MATCH(F27,【元データ】評価シート!$B$4:$T$4,0)","v":5}]
[110010,46,1,"資材荷吊り時過過重になりユニック車が転倒する","移動式クレーン","崩壊・倒壊",{"$f":"INDEX(【元データ】評価シート!$B$63:$T$114,J28,K28)","v":3},{"$f":"INDEX(【元データ】評価シート!$B$5:$T$56,L28,M28)","v":2},null,{"$f":"MATCH(E28,【元データ】評価シート!$A$63:$A$114,0)","v":13},{"$f":"MATCH(F28,【元データ】評価シート!$B$62:$T$62,0)","v":5},{"$f":"MATCH(E28,【元データ】評価シート!$A$5:$A$56,0)","v":13},{"$f":"MATCH(F28,【元データ】評価シート!$B$4:$T$4,0)","v":5}]
[206010,50,1,"構台架設時、梁から墜落する","開口部","墜落・転落",{"$f":"INDEX(【元データ】評価シート!$B$63:$T$114,J29,K29)","v":5},{"$f":"INDEX(【元データ】評価シート!$B$5:$T$56,L29,M29)","v":4},null,{"$f":"MATCH(E29,【元データ】評価シート!$A$63:$A$114,0)","v":37},{"$f":"MATCH(F29,【元データ】評価シート!$B$62:$T$62,0)","v":1},{"$f":"MATCH(E29,【元データ】評価シート!$A$5:$A$56,0)","v":37},{"$f":"MATCH(F29,【元データ】評価シート!$B$4:$T$4,0)","v":1}]
[301030,51,1,"切梁架設時、梁から墜落する","開口部","墜落・転落",{"$f":"INDEX(【元データ】評価シート!$B$63:$T$114,J30,K30)","v":5},{"$f":"INDEX(【元データ】評価シート!$B$5:$T$56,L30,M30)","v":4},null,{"$f":"MATCH(E30,【元データ】評価シート!$A$63:$A$114,0)","v":37},{"$f":"MATCH(F30,【元データ】評価シート!$B$62:$T$62,0)","v":1},{"$f":"MATCH(E30,【元データ】評価シート!$A$5:$A$56,0)","v":37},{"$f":"MATCH(F30,【元データ】評価シート!$B$4:$T$4,0)","v":1}]
[401010,52,1,"昇降設備を使用せずに墜落する","開口部","墜落・転落",{"$f":"INDEX(【元データ】評価シート!$B$63:$T$114,J31,K31)","v":5},{"$f":"INDEX(【元データ】評価シート!$B$5:$T$56,L31,M31)","v":4},null,{"$f":"MATCH(E31,【元データ】評価シート!$A$63:$A$114,0)","v":37},{"$f":"MATCH(F31,【元データ】評価シート!$B$62:$T$62,0)","v":1},{"$f":"MATCH(E31,【元データ】評価シート!$A$5:$A$56,0)","v":37},{"$f":"MATCH(F31,【元データ】評価シート!$B$4:$T$4,0)","v":1}]
[401010,53,1,"物を取ろうと足場に足を掛け滑って転落する","開口部","墜落・転落",{"$f":"INDEX(【元データ】評価シート!$B$63:$T$114,J32,K32)","v":5},{"$f":"INDEX(【元データ】評価シート!$B$5:$T$56,L32,M32)","v":4},null,{"$f":"MATCH(E32,【元データ】評価シート!$A$63:$A$114,0)","v":37},{"$f":"MATCH(F32,【元データ】評価シート!$B$62:$T$62,0)","v":1},{"$f":"MATCH(E32,【元データ】評価シート!$A$5:$A$56,0)","v":37},{"$f":"MATCH(F32,【元データ】評価シート!$B$4:$T$4,0)","v":1}]
[401010,54,1,"足場の隙間から墜落する","開口部","墜落・転落",{"$f":"INDEX(【元データ】評価シート!$B$63:$T$114,J33,K33)","v":5},{"$f":"INDEX(【元データ】評価シート!$B$5:$T$56,L33,M33)","v":4},null,{"$f":"MATCH(E33,【元データ】評価シート!$A$63:$A$114,0)","v":37},{"$f":"MATCH(F33,【元データ】評価シート!$B$62:$T$62,0)","v":1},{"$f":"MATCH(E33,【元データ】評価シート!$A$5:$A$56,0)","v":37},{"$f":"MATCH(F33,【元データ】評価シート!$B$4:$T$4,0)","v":1}]
[402010,56,1,"地山・開口部から転落する","開口部","墜落・転落",{"$f":"INDEX(【元データ】評価シート!$B$63:$T$114,J34,K34)","v":5},{"$f":"INDEX(【元データ】評価シート!$B$5:$T$56,L34,M34)","v":4},null,{"$f":"MATCH(E34,【元データ】評価シート!$A$63:$A$114,0)","v":37},{"$f":"MATCH(F34,【元データ】評価シート!$B$62:$T$62,0)","v":1},{"$f":"MATCH(E34,【元データ】評価シート!$A$5:$A$56,0)","v":37},{"$f":"MATCH(F34,【元データ】評価シート!$B$4:$T$4,0)","v":1}]
[401010,62,1,"釜場に足をとられて転倒する","開口部","転倒",{"$f":"INDEX(【元データ】評価シート!$B$63:$T$114,J35,K35)","v":1},{"$f":"INDEX(【元データ】評価シート!$B$5:$T$56,L35,M35)","v":2},null,{"$f":"MATCH(E35,【元データ】評価シート!$A$63:$A$114,0)","v":37},{"$f":"MATCH(F35,【元データ】評価シート!$B$62:$T$62,0)","v":2},{"$f":"MATCH(E35,【元データ】評価シート!$A$5:$A$56,0)","v":37},{"$f":"MATCH(F35,【元データ】評価シート!$B$4:$T$4,0)","v":2}]
[202010,86,1,"資材にあたって負傷する","金属材料","激突",{"$f":"INDEX(【元データ】評価シート!$B$63:$T$114,J36,K36)","v":2},{"$f":"INDEX(【元データ】評価シート!$B$5:$T$56,L36,M36)","v":2},null,{"$f":"MATCH(E36,【元データ】評価シート!$A$63:$A$114,0)","v":45},{"$f":"MATCH(F36,【元データ】評価シート!$B$62:$T$62,0)","v":3},{"$f":"MATCH(E36,【元データ】評価シート!$A$5:$A$56,0)","v":45},{"$f":"MATCH(F36,【元データ】評価シート!$B$4:$T$4,0)","v":3}]
[301010,88,1,"敷鉄板敷き込み時、足を滑らせて転倒する","金属材料","転倒",{"$f":"INDEX(【元データ】評価シート!$B$63:$T$114,J37,K37)","v":2},{"$f":"INDEX(【元データ】評価シート!$B$5:$T$56,L37,M37)","v":2},null,{"$f":"MATCH(E37,【元データ】評価シート!$A$63:$A$114,0)","v":45},{"$f":"MATCH(F37,【元データ】評価シート!$B$62:$T$62,0)","v":2},{"$f":"MATCH(E37,【元データ】評価シート!$A$5:$A$56,0)","v":45},{"$f":"MATCH(F37,【元データ】評価シート!$B$4:$T$4,0)","v":2}]
[202010,90,1,"単管パイプとクランプで指を挟む","金属材料","はさまれ・巻き込まれ",{"$f":"INDEX(【元データ】評価シート!$B$63:$T$114,J38,K38)","v":4},{"$f":"INDEX(【元データ】評価シート!$B$5:$T$56,L38,M38)","v":3},null,{"$f":"MATCH(E38,【元データ】評価シート!$A$63:$A$114,0)","v":45},{"$f":"MATCH(F38,【元データ】評価シート!$B$62:$T$62,0)","v":7},{"$f":"MATCH(E38,【元データ】評価シート!$A$5:$A$56,0)","v":45},{"$f":"MATCH(F38,【元データ】評価シート!$B$4:$T$4,0)","v":7}]
[202010,95,1,"資材受渡し時、手が滑り、落下する","金属材料","飛来・落下",{"$f":"INDEX(【元データ】評価シート!$B$63:$T$114,J39,K39)","v":5},{"$f":"INDEX(【元データ】評価シート!$B$5:$T$56,L39,M39)","v":3},null,{"$f":"MATCH(E39,【元データ】評価シート!$A$63:$A$114,0)","v":45},{"$f":"MATCH(F39,【元データ】評価シート!$B$62:$T$62,0)","v":4},{"$f":"MATCH(E39,【元データ】評価シート!$A$5:$A$56,0)","v":45},{"$f":"MATCH(F39,【元データ】評価シート!$B$4:$T$4,0)","v":4}]
[301010,101,1,"重機使用時に誤って旋回レバーに触れ、作業員と接触する","掘削用機械","激突",{"$f":"INDEX(【元データ】評価シート!$B$63:$T$114,J40,K40)","v":1},{"$f":"INDEX(【元データ】評価シート!$B$5:$T$56,L40,M40)","v":2},null,{"$f":"MATCH(E40,【元データ】評価シート!$A$63:$A$114,0)","v":6},{"$f":"MATCH(F40,【元データ】評価シート!$B$62:$T$62,0)","v":3},{"$f":"MATCH(E40,【元データ】評価シート!$A$5:$A$56,0)","v":6},{"$f":"MATCH(F40,【元データ】評価シート!$B$4:$T$4,0)","v":3}]
[101010,102,1,"重機と作業員が接触する","掘削用機械","激突され",{"$f":"INDEX(【元データ】評価シート!$B$63:$T$114,J41,K41)","v":4},{"$f":"INDEX(【元データ】評価シート!$B$5:$T$56,L41,M41)","v":3},null,{"$f":"MATCH(E41,【元データ】評価シート!$A$63:$A$114,0)","v":6},{"$f":"MATCH(F41,【元データ】評価シート!$B$62:$T$62,0)","v":6},{"$f":"MATCH(E41,【元データ】評価シート!$A$5:$A$56,0)","v":6},{"$f":"MATCH(F41,【元データ】評価シート!$B$4:$T$4,0)","v":6}]
[301020,103,1,"重機移動時に敷鉄板で足を挟む","掘削用機械","はさまれ・巻き込まれ",{"$f":"INDEX(【元データ】評価シート!$B$63:$T$114,J42,K42)","v":4},{"$f":"INDEX(【元データ】評価シート!$B$5:$T$56,L42,M42)","v":3},null,{"$f":"MATCH(E42,【元データ】評価シート!$A$63:$A$114,0)","v":6},{"$f":"MATCH(F42,【元データ】評価シート!$B$62:$T$62,0)","v":7},{"$f":"MATCH(E42,【元データ】評価シート!$A$5:$A$56,0)","v":6},{"$f":"MATCH(F42,【元データ】評価シート!$B$4:$T$4,0)","v":7}]
[301020,104,1,"山留め架設時、吊荷が振れて手を挟む","クレーン","激突され",{"$f":"INDEX(【元データ】評価シート!$B$63:$T$114,J43,K43)","v":3},{"$f":"INDEX(【元データ】評価シート!$B$5:$T$56,L43,M43)","v":3},null,{"$f":"MATCH(E43,【元データ】評価シート!$A$63:$A$114,0)","v":12},{"$f":"MATCH(F43,【元データ】評価シート!$B$62:$T$62,0)","v":6},{"$f":"MATCH(E43,【元データ】評価シート!$A$5:$A$56,0)","v":12},{"$f":"MATCH(F43,【元データ】評価シート!$B$4:$T$4,0)","v":6}]
[101010,105,1,"揚重作業時クレーンが転倒する","クレーン","転倒",{"$f":"INDEX(【元データ】評価シート!$B$63:$T$114,J44,K44)","v":1},{"$f":"INDEX(【元データ】評価シート!$B$5:$T$56,L44,M44)","v":2},null,{"$f":"MATCH(E44,【元データ】評価シート!$A$63:$A$114,0)","v":12},{"$f":"MATCH(F44,【元データ】評価シート!$B$62:$T$62,0)","v":2},{"$f":"MATCH(E44,【元データ】評価シート!$A$5:$A$56,0)","v":12},{"$f":"MATCH(F44,【元データ】評価シート!$B$4:$T$4,0)","v":2}]
[103010,108,1,"アスファルト使用時、火傷する","高温・低温環境","高温低温物との接触",{"$f":"INDEX(【元データ】評価シート!$B$63:$T$114,J45,K45)","v":5},{"$f":"INDEX(【元データ】評価シート!$B$5:$T$56,L45,M45)","v":3},null,{"$f":"MATCH(E45,【元データ】評価シート!$A$63:$A$114,0)","v":52},{"$f":"MATCH(F45,【元データ】評価シート!$B$62:$T$62,0)","v":11},{"$f":"MATCH(E45,【元データ】評価シート!$A$5:$A$56,0)","v":52},{"$f":"MATCH(F45,【元データ】評価シート!$B$4:$T$4,0)","v":11}]
[402060,127,1,"舗装時、第三者と作業員が接触する","支保工","有害物等との接触",{"$f":"INDEX(【元データ】評価シート!$B$63:$T$114,J46,K46)","v":1},{"$f":"INDEX(【元データ】評価シート!$B$5:$T$56,L46,M46)","v":1},null,{"$f":"MATCH(E46,【元データ】評価シート!$A$63:$A$114,0)","v":35},{"$f":"MATCH(F46,【元データ】評価シート!$B$62:$T$62,0)","v":12},{"$f":"MATCH(E46,【元データ】評価シート!$A$5:$A$56,0)","v":35},{"$f":"MATCH(F46,【元データ】評価シート!$B$4:$T$4,0)","v":12}]
[302010,129,1,"法面(土砂)が崩壊する","地山、岩石","転倒",{"$f":"INDEX(【元データ】評価シート!$B$63:$T$114,J47,K47)","v":3},{"$f":"INDEX(【元データ】評価シート!$B$5:$T$56,L47,M47)","v":2},null,{"$f":"MATCH(E47,【元データ】評価シート!$A$63:$A$114,0)","v":48},{"$f":"MATCH(F47,【元データ】評価シート!$B$62:$T$62,0)","v":2},{"$f":"MATCH(E47,【元データ】評価シート!$A$5:$A$56,0)","v":48},{"$f":"MATCH(F47,【元データ】評価シート!$B$4:$T$4,0)","v":2}]
[301010,131,1,"残土が近隣家屋に流れる","地山、岩石","崩壊・倒壊",{"$f":"INDEX(【元データ】評価シート!$B$63:$T$114,J48,K48)","v":5},{"$f":"INDEX(【元データ】評価シート!$B$5:$T$56,L48,M48)","v":5},null,{"$f":"MATCH(E48,【元データ】評価シート!$A$63:$A$114,0)","v":48},{"$f":"MATCH(F48,【元データ】評価シート!$B$62:$T$62,0)","v":5},{"$f":"MATCH(E48,【元データ】評価シート!$A$5:$A$56,0)","v":48},{"$f":"MATCH(F48,【元データ】評価シート!$B$4:$T$4,0)","v":5}]
[401010,135,1,"材料移動時、既存物、隣接建物に接触する","人力運搬機","転倒",{"$f":"INDEX(【元データ】評価シート!$B$63:$T$114,J49,K49)","v":3},{"$f":"INDEX(【元データ】評価シート!$B$5:$T$56,L49,M49)","v":3},null,{"$f":"MATCH(E49,【元データ】評価シート!$A$63:$A$114,0)","v":29},{"$f":"MATCH(F49,【元データ】評価シート!$B$62:$T$62,0)","v":2},{"$f":"MATCH(E49,【元データ】評価シート!$A$5:$A$56,0)","v":29},{"$f":"MATCH(F49,【元データ】評価シート!$B$4:$T$4,0)","v":2}]
[105020,137,1,"溶接治具運搬時、足場に手をぶつけて負傷する","人力運搬機","激突",{"$f":"INDEX(【元データ】評価シート!$B$63:$T$114,J50,K50)","v":2},{"$f":"INDEX(【元データ】評価シート!$B$5:$T$56,L50,M50)","v":2},null,{"$f":"MATCH(E50,【元データ】評価シート!$A$63:$A$114,0)","v":29},{"$f":"MATCH(F50,【元データ】評価シート!$B$62:$T$62,0)","v":3},{"$f":"MATCH(E50,【元データ】評価シート!$A$5:$A$56,0)","v":29},{"$f":"MATCH(F50,【元データ】評価シート!$B$4:$T$4,0)","v":3}]
[403050,138,1,"材料運搬時、躓いて転倒する","人力運搬機","激突",{"$f":"INDEX(【元データ】評価シート!$B$63:$T$114,J51,K51)","v":2},{"$f":"INDEX(【元データ】評価シート!$B$5:$T$56,L51,M51)","v":2},null,{"$f":"MATCH(E51,【元データ】評価シート!$A$63:$A$114,0)","v":29},{"$f":"MATCH(F51,【元データ】評価シート!$B$62:$T$62,0)","v":3},{"$f":"MATCH(E51,【元データ】評価シート!$A$5:$A$56,0)","v":29},{"$f":"MATCH(F51,【元データ】評価シート!$B$4:$T$4,0)","v":3}]
[103010,139,1,"重量物を持って腰を痛める","人力運搬機","転倒",{"$f":"INDEX(【元データ】評価シート!$B$63:$T$114,J52,K52)","v":3},{"$f":"INDEX(【元データ】評価シート!$B$5:$T$56,L52,M52)","v":3},null,{"$f":"MATCH(E52,【元データ】評価シート!$A$63:$A$114,0)","v":29},{"$f":"MATCH(F52,【元データ】評価シート!$B$62:$T$62,0)","v":2},{"$f":"MATCH(E52,【元データ】評価シート!$A$5:$A$56,0)","v":29},{"$f":"MATCH(F52,【元データ】評価シート!$B$4:$T$4,0)","v":2}]
[105020,140,1,"資材運搬時、台車に手を挟まれて負傷する","人力運搬機","動作の反動・無理な動作",{"$f":"INDEX(【元データ】評価シート!$B$63:$T$114,J53,K53)","v":1},{"$f":"INDEX(【元データ】評価シート!$B$5:$T$56,L53,M53)","v":2},null,{"$f":"MATCH(E53,【元データ】評価シート!$A$63:$A$114,0)","v":29},{"$f":"MATCH(F53,【元データ】評価シート!$B$62:$T$62,0)","v":19},{"$f":"MATCH(E53,【元データ】評価シート!$A$5:$A$56,0)","v":29},{"$f":"MATCH(F53,【元データ】評価シート!$B$4:$T$4,0)","v":19}]
[502020,145,1,"ダンプ後退時、バックホーと接触する","人力機械","はさまれ・巻き込まれ",{"$f":"INDEX(【元データ】評価シート!$B$63:$T$114,J54,K54)","v":2},{"$f":"INDEX(【元データ】評価シート!$B$5:$T$56,L54,M54)","v":2},null,{"$f":"MATCH(E54,【元データ】評価シート!$A$63:$A$114,0)","v":30},{"$f":"MATCH(F54,【元データ】評価シート!$B$62:$T$62,0)","v":7},{"$f":"MATCH(E54,【元データ】評価シート!$A$5:$A$56,0)","v":30},{"$f":"MATCH(F54,【元データ】評価シート!$B$4:$T$4,0)","v":7}]
[103010,146,1,"後進ダンプにひかれて負傷する","整地・運搬・積込み用機械","激突",{"$f":"INDEX(【元データ】評価シート!$B$63:$T$114,J55,K55)","v":1},{"$f":"INDEX(【元データ】評価シート!$B$5:$T$56,L55,M55)","v":2},null,{"$f":"MATCH(E55,【元データ】評価シート!$A$63:$A$114,0)","v":5},{"$f":"MATCH(F55,【元データ】評価シート!$B$62:$T$62,0)","v":3},{"$f":"MATCH(E55,【元データ】評価シート!$A$5:$A$56,0)","v":5},{"$f":"MATCH(F55,【元データ】評価シート!$B$4:$T$4,0)","v":3}]
[302010,153,1,"敷鉄板荷吊り時に玉掛けワイヤーが外れ、敷鉄板で手足を挟む","送配電線等","転倒",{"$f":"INDEX(【元データ】評価シート!$B$63:$T$114,J56,K56)","v":2},{"$f":"INDEX(【元データ】評価シート!$B$5:$T$56,L56,M56)","v":2},null,{"$f":"MATCH(E56,【元データ】評価シート!$A$63:$A$114,0)","v":26},{"$f":"MATCH(F56,【元データ】評価シート!$B$62:$T$62,0)","v":2},{"$f":"MATCH(E56,【元データ】評価シート!$A$5:$A$56,0)","v":26},{"$f":"MATCH(F56,【元データ】評価シート!$B$4:$T$4,0)","v":2}]
[110010,154,1,"荷吊り中、吊りフックから外れ敷鉄板で手を挟む","玉掛用具","はさまれ・巻き込まれ",{"$f":"INDEX(【元データ】評価シート!$B$63:$T$114,J57,K57)","v":3},{"$f":"INDEX(【元データ】評価シート!$B$5:$T$56,L57,M57)","v":2},null,{"$f":"MATCH(E57,【元データ】評価シート!$A$63:$A$114,0)","v":33},{"$f":"MATCH(F57,【元データ】評価シート!$B$62:$T$62,0)","v":7},{"$f":"MATCH(E57,【元データ】評価シート!$A$5:$A$56,0)","v":33},{"$f":"MATCH(F57,【元データ】評価シート!$B$4:$T$4,0)","v":7}]
[302010,155,1,"建方時、玉掛けワイヤーが切れて落下する","玉掛用具","はさまれ・巻き込まれ",{"$f":"INDEX(【元データ】評価シート!$B$63:$T$114,J58,K58)","v":3},{"$f":"INDEX(【元データ】評価シート!$B$5:$T$56,L58,M58)","v":2},null,{"$f":"MATCH(E58,【元データ】評価シート!$A$63:$A$114,0)","v":33},{"$f":"MATCH(F58,【元データ】評価シート!$B$62:$T$62,0)","v":7},{"$f":"MATCH(E58,【元データ】評価シート!$A$5:$A$56,0)","v":33},{"$f":"MATCH(F58,【元データ】評価シート!$B$4:$T$4,0)","v":7}]
[102010,156,1,"資材運搬時、鋼板が滑り落ち足を負傷する","玉掛用具","飛来・落下",{"$f":"INDEX(【元データ】評価シート!$B$63:$T$114,J59,K59)","v":4},{"$f":"INDEX(【元データ】評価シート!$B$5:$T$56,L59,M59)","v":3},null,{"$f":"MATCH(E59,【元データ】評価シート!$A$63:$A$114,0)","v":33},{"$f":"MATCH(F59,【元データ】評価シート!$B$62:$T$62,0)","v":4},{"$f":"MATCH(E59,【元データ】評価シート!$A$5:$A$56,0)","v":33},{"$f":"MATCH(F59,【元データ】評価シート!$B$4:$T$4,0)","v":4}]
[101010,165,1,"材料運搬時、段差に躓いて転倒する","通路","転倒",{"$f":"INDEX(【元データ】評価シート!$B$63:$T$114,J60,K60)","v":4},{"$f":"INDEX(【元データ】評価シート!$B$5:$T$56,L60,M60)","v":4},null,{"$f":"MATCH(E60,【元データ】評価シート!$A$63:$A$114,0)","v":40},{"$f":"MATCH(F60,【元データ】評価シート!$B$62:$T$62,0)","v":2},{"$f":"MATCH(E60,【元データ】評価シート!$A$5:$A$56,0)","v":40},{"$f":"MATCH(F60,【元データ】評価シート!$B$4:$T$4,0)","v":2}]
[104010,167,1,"足場上で躓いて転倒する","通路","転倒",{"$f":"INDEX(【元データ】評価シート!$B$63:$T$114,J61,K61)","v":4},{"$f":"INDEX(【元データ】評価シート!$B$5:$T$56,L61,M61)","v":4},null,{"$f":"MATCH(E61,【元データ】評価シート!$A$63:$A$114,0)","v":40},{"$f":"MATCH(F61,【元データ】評価シート!$B$62:$T$62,0)","v":2},{"$f":"MATCH(E61,【元データ】評価シート!$A$5:$A$56,0)","v":40},{"$f":"MATCH(F61,【元データ】評価シート!$B$4:$T$4,0)","v":2}]
[401010,168,1,"スラブ上で躓いて転倒する","通路","転倒",{"$f":"INDEX(【元データ】評価シート!$B$63:$T$114,J62,K62)","v":4},{"$f":"INDEX(【元データ】評価シート!$B$5:$T$56,L62,M62)","v":4},null,{"$f":"MATCH(E62,【元データ】評価シート!$A$63:$A$114,0)","v":40},{"$f":"MATCH(F62,【元データ】評価シート!$B$62:$T$62,0)","v":2},{"$f":"MATCH(E62,【元データ】評価シート!$A$5:$A$56,0)","v":40},{"$f":"MATCH(F62,【元データ】評価シート!$B$4:$T$4,0)","v":2}]
[109010,179,1,"振り上げたハンマーが目にあたる","手工具","動作の反動・無理な動作",{"$f":"INDEX(【元データ】評価シート!$B$63:$T$114,J63,K63)","v":1},{"$f":"INDEX(【元データ】評価シート!$B$5:$T$56,L63,M63)","v":2},null,{"$f":"MATCH(E63,【元データ】評価シート!$A$63:$A$114,0)","v":31},{"$f":"MATCH(F63,【元データ】評価シート!$B$62:$T$62,0)","v":19},{"$f":"MATCH(E63,【元データ】評価シート!$A$5:$A$56,0)","v":31},{"$f":"MATCH(F63,【元データ】評価シート!$B$4:$T$4,0)","v":19}]
[404030,184,1,"切梁架設時、手が滑り工具類が落下する","手工具","はさまれ・巻き込まれ",{"$f":"INDEX(【元データ】評価シート!$B$63:$T$114,J64,K64)","v":3},{"$f":"INDEX(【元データ】評価シート!$B$5:$T$56,L64,M64)","v":2},null,{"$f":"MATCH(E64,【元データ】評価シート!$A$63:$A$114,0)","v":31},{"$f":"MATCH(F64,【元データ】評価シート!$B$62:$T$62,0)","v":7},{"$f":"MATCH(E64,【元データ】評価シート!$A$5:$A$56,0)","v":31},{"$f":"MATCH(F64,【元データ】評価シート!$B$4:$T$4,0)","v":7}]
[101010,197,1,"インパクトドライバー使用時、指を負傷する","動力伝導機構","切れ・こすれ",{"$f":"INDEX(【元データ】評価シート!$B$63:$T$114,J65,K65)","v":1},{"$f":"INDEX(【元データ】評価シート!$B$5:$T$56,L65,M65)","v":1},null,{"$f":"MATCH(E65,【元データ】評価シート!$A$63:$A$114,0)","v":2},{"$f":"MATCH(F65,【元データ】評価シート!$B$62:$T$62,0)","v":8},{"$f":"MATCH(E65,【元データ】評価シート!$A$5:$A$56,0)","v":2},{"$f":"MATCH(F65,【元データ】評価シート!$B$4:$T$4,0)","v":8}]
[102010,198,1,"高速カッターで手を切る","動力伝導機構","切れ・こすれ",{"$f":"INDEX(【元データ】評価シート!$B$63:$T$114,J66,K66)","v":1},{"$f":"INDEX(【元データ】評価シート!$B$5:$T$56,L66,M66)","v":1},null,{"$f":"MATCH(E66,【元データ】評価シート!$A$63:$A$114,0)","v":2},{"$f":"MATCH(F66,【元データ】評価シート!$B$62:$T$62,0)","v":8},{"$f":"MATCH(E66,【元データ】評価シート!$A$5:$A$56,0)","v":2},{"$f":"MATCH(F66,【元データ】評価シート!$B$4:$T$4,0)","v":8}]
[404080,201,1,"高速ｶｯﾀｰの歯が、抜けてしまい損傷する","動力伝導機構","はさまれ・巻き込まれ",{"$f":"INDEX(【元データ】評価シート!$B$63:$T$114,J67,K67)","v":3},{"$f":"INDEX(【元データ】評価シート!$B$5:$T$56,L67,M67)","v":3},null,{"$f":"MATCH(E67,【元データ】評価シート!$A$63:$A$114,0)","v":2},{"$f":"MATCH(F67,【元データ】評価シート!$B$62:$T$62,0)","v":7},{"$f":"MATCH(E67,【元データ】評価シート!$A$5:$A$56,0)","v":2},{"$f":"MATCH(F67,【元データ】評価シート!$B$4:$T$4,0)","v":7}]
[109010,205,1,"積込み運搬中の資材の荷崩れで負傷する","トラック","交通事故（その他）",{"$f":"INDEX(【元データ】評価シート!$B$63:$T$114,J68,K68)","v":3},{"$f":"INDEX(【元データ】評価シート!$B$5:$T$56,L68,M68)","v":1},null,{"$f":"MATCH(E68,【元データ】評価シート!$A$63:$A$114,0)","v":18},{"$f":"MATCH(F68,【元データ】評価シート!$B$62:$T$62,0)","v":18},{"$f":"MATCH(E68,【元データ】評価シート!$A$5:$A$56,0)","v":18},{"$f":"MATCH(F68,【元データ】評価シート!$B$4:$T$4,0)","v":18}]
[110010,206,1,"荷卸し時、トレーラー上から転落する","トラック","激突され",{"$f":"INDEX(【元データ】評価シート!$B$63:$T$114,J69,K69)","v":4},{"$f":"INDEX(【元データ】評価シート!$B$5:$T$56,L69,M69)","v":3},null,{"$f":"MATCH(E69,【元データ】評価シート!$A$63:$A$114,0)","v":18},{"$f":"MATCH(F69,【元データ】評価シート!$B$62:$T$62,0)","v":6},{"$f":"MATCH(E69,【元データ】評価シート!$A$5:$A$56,0)","v":18},{"$f":"MATCH(F69,【元データ】評価シート!$B$4:$T$4,0)","v":6}]
[502020,209,1,"安全ブロックを使用せず梯子やタラップから転落する","はしご等","墜落・転落",{"$f":"INDEX(【元データ】評価シート!$B$63:$T$114,J70,K70)","v":5},{"$f":"INDEX(【元データ】評価シート!$B$5:$T$56,L70,M70)","v":5},null,{"$f":"MATCH(E70,【元データ】評価シート!$A$63:$A$114,0)","v":32},{"$f":"MATCH(F70,【元データ】評価シート!$B$62:$T$62,0)","v":1},{"$f":"MATCH(E70,【元データ】評価シート!$A$5:$A$56,0)","v":32},{"$f":"MATCH(F70,【元データ】評価シート!$B$4:$T$4,0)","v":1}]
[null,242,1,"不整地運搬車で斜面走行時、バランスを崩して転倒する","不整地運搬車","崩壊・倒壊",{"$f":"INDEX(【元データ】評価シート!$B$63:$T$114,J71,K71)","v":1},{"$f":"INDEX(【元データ】評価シート!$B$5:$T$56,L71,M71)","v":1},null,{"$f":"MATCH(E71,【元データ】評価シート!$A$63:$A$114,0)","v":22},{"$f":"MATCH(F71,【元データ】評価シート!$B$62:$T$62,0)","v":5},{"$f":"MATCH(E71,【元データ】評価シート!$A$5:$A$56,0)","v":22},{"$f":"MATCH(F71,【元データ】評価シート!$B$4:$T$4,0)","v":5}]
[null,243,1,"不整地運搬車走行時、土砂が崩壊し転倒する","不整地運搬車","崩壊・倒壊",{"$f":"INDEX(【元データ】評価シート!$B$63:$T$114,J72,K72)","v":1},{"$f":"INDEX(【元データ】評価シート!$B$5:$T$56,L72,M72)","v":1},null,{"$f":"MATCH(E72,【元データ】評価シート!$A$63:$A$114,0)","v":22},{"$f":"MATCH(F72,【元データ】評価シート!$B$62:$T$62,0)","v":5},{"$f":"MATCH(E72,【元データ】評価シート!$A$5:$A$56,0)","v":22},{"$f":"MATCH(F72,【元データ】評価シート!$B$4:$T$4,0)","v":5}]
[null,246,1,"ガソリン容器が破損し、引火する","引火性の物","火災",{"$f":"INDEX(【元データ】評価シート!$B$63:$T$114,J73,K73)","v":3},{"$f":"INDEX(【元データ】評価シート!$B$5:$T$56,L73,M73)","v":2},null,{"$f":"MATCH(E73,【元データ】評価シート!$A$63:$A$114,0)","v":42},{"$f":"MATCH(F73,【元データ】評価シート!$B$62:$T$62,0)","v":16},{"$f":"MATCH(E73,【元データ】評価シート!$A$5:$A$56,0)","v":42},{"$f":"MATCH(F73,【元データ】評価シート!$B$4:$T$4,0)","v":16}]
[null,247,1,"軽油が漏洩し、引火する","引火性の物","火災",{"$f":"INDEX(【元データ】評価シート!$B$63:$T$114,J74,K74)","v":3},{"$f":"INDEX(【元データ】評価シート!$B$5:$T$56,L74,M74)","v":2},null,{"$f":"MATCH(E74,【元データ】評価シート!$A$63:$A$114,0)","v":42},{"$f":"MATCH(F74,【元データ】評価シート!$B$62:$T$62,0)","v":16},{"$f":"MATCH(E74,【元データ】評価シート!$A$5:$A$56,0)","v":42},{"$f":"MATCH(F74,【元データ】評価シート!$B$4:$T$4,0)","v":16}]

{"sheet":"解体工","index":10,"n_rows":49,"n_cols":13,"rows_kept":49,"cut":false,"hidden":false,"merged":[[0,1,0,2]]}
[null,"工種区分"]
["工種コード",null,"解体工","危険ポイント","起因物","事故型","可能性","重大性"]
[706010,10,1,"梯子作業中バランスを崩して転落する","はしご等","墜落・転落",{"$f":"INDEX(【元データ】評価シート!$B$63:$T$114,J3,K3)","v":5},{"$f":"INDEX(【元データ】評価シート!$B$5:$T$56,L3,M3)","v":5},null,{"$f":"MATCH(E3,【元データ】評価シート!$A$63:$A$114,0)","v":32},{"$f":"MATCH(F3,【元データ】評価シート!$B$62:$T$62,0)","v":1},{"$f":"MATCH(E3,【元データ】評価シート!$A$5:$A$56,0)","v":32},{"$f":"MATCH(F3,【元データ】評価シート!$B$4:$T$4,0)","v":1}]
[105010,11,1,"足場使用時、足場から墜落する","足場","墜落・転落",{"$f":"INDEX(【元データ】評価シート!$B$63:$T$114,J4,K4)","v":5},{"$f":"INDEX(【元データ】評価シート!$B$5:$T$56,L4,M4)","v":5},null,{"$f":"MATCH(E4,【元データ】評価シート!$A$63:$A$114,0)","v":34},{"$f":"MATCH(F4,【元データ】評価シート!$B$62:$T$62,0)","v":1},{"$f":"MATCH(E4,【元データ】評価シート!$A$5:$A$56,0)","v":34},{"$f":"MATCH(F4,【元データ】評価シート!$B$4:$T$4,0)","v":1}]
[105010,12,1,"足場の隙間から墜落する","足場","墜落・転落",{"$f":"INDEX(【元データ】評価シート!$B$63:$T$114,J5,K5)","v":5},{"$f":"INDEX(【元データ】評価シート!$B$5:$T$56,L5,M5)","v":5},null,{"$f":"MATCH(E5,【元データ】評価シート!$A$63:$A$114,0)","v":34},{"$f":"MATCH(F5,【元データ】評価シート!$B$62:$T$62,0)","v":1},{"$f":"MATCH(E5,【元データ】評価シート!$A$5:$A$56,0)","v":34},{"$f":"MATCH(F5,【元データ】評価シート!$B$4:$T$4,0)","v":1}]
[203010,14,1,"足場板を固定する際、足場板の天ビンにより墜落する","足場","踏み抜き",{"$f":"INDEX(【元データ】評価シート!$B$63:$T$114,J6,K6)","v":1},{"$f":"INDEX(【元データ】評価シート!$B$5:$T$56,L6,M6)","v":1},null,{"$f":"MATCH(E6,【元データ】評価シート!$A$63:$A$114,0)","v":34},{"$f":"MATCH(F6,【元データ】評価シート!$B$62:$T$62,0)","v":9},{"$f":"MATCH(E6,【元データ】評価シート!$A$5:$A$56,0)","v":34},{"$f":"MATCH(F6,【元データ】評価シート!$B$4:$T$4,0)","v":9}]
[402030,17,1,"足場の中桟に足を掛け作業中、中桟が外れて転落する","足場","墜落・転落",{"$f":"INDEX(【元データ】評価シート!$B$63:$T$114,J7,K7)","v":5},{"$f":"INDEX(【元データ】評価シート!$B$5:$T$56,L7,M7)","v":5},null,{"$f":"MATCH(E7,【元データ】評価シート!$A$63:$A$114,0)","v":34},{"$f":"MATCH(F7,【元データ】評価シート!$B$62:$T$62,0)","v":1},{"$f":"MATCH(E7,【元データ】評価シート!$A$5:$A$56,0)","v":34},{"$f":"MATCH(F7,【元データ】評価シート!$B$4:$T$4,0)","v":1}]
[105010,21,1,"足場上で躓いて転倒する","足場","転倒",{"$f":"INDEX(【元データ】評価シート!$B$63:$T$114,J8,K8)","v":1},{"$f":"INDEX(【元データ】評価シート!$B$5:$T$56,L8,M8)","v":2},null,{"$f":"MATCH(E8,【元データ】評価シート!$A$63:$A$114,0)","v":34},{"$f":"MATCH(F8,【元データ】評価シート!$B$62:$T$62,0)","v":2},{"$f":"MATCH(E8,【元データ】評価シート!$A$5:$A$56,0)","v":34},{"$f":"MATCH(F8,【元データ】評価シート!$B$4:$T$4,0)","v":2}]
[402020,23,1,"布板昇降ハッチの蓋が閉まり手を詰める","足場","はさまれ・巻き込まれ",{"$f":"INDEX(【元データ】評価シート!$B$63:$T$114,J9,K9)","v":2},{"$f":"INDEX(【元データ】評価シート!$B$5:$T$56,L9,M9)","v":2},null,{"$f":"MATCH(E9,【元データ】評価シート!$A$63:$A$114,0)","v":34},{"$f":"MATCH(F9,【元データ】評価シート!$B$62:$T$62,0)","v":7},{"$f":"MATCH(E9,【元データ】評価シート!$A$5:$A$56,0)","v":34},{"$f":"MATCH(F9,【元データ】評価シート!$B$4:$T$4,0)","v":7}]
[105010,24,1,"足場使用時、足場から材料等を落下させる","足場","飛来・落下",{"$f":"INDEX(【元データ】評価シート!$B$63:$T$114,J10,K10)","v":2},{"$f":"INDEX(【元データ】評価シート!$B$5:$T$56,L10,M10)","v":2},null,{"$f":"MATCH(E10,【元データ】評価シート!$A$63:$A$114,0)","v":34},{"$f":"MATCH(F10,【元データ】評価シート!$B$62:$T$62,0)","v":4},{"$f":"MATCH(E10,【元データ】評価シート!$A$5:$A$56,0)","v":34},{"$f":"MATCH(F10,【元データ】評価シート!$B$4:$T$4,0)","v":4}]
[404020,35,1,"吊荷が強風であおられる","異常環境等","飛来・落下",{"$f":"INDEX(【元データ】評価シート!$B$63:$T$114,J11,K11)","v":1},{"$f":"INDEX(【元データ】評価シート!$B$5:$T$56,L11,M11)","v":1},null,{"$f":"MATCH(E11,【元データ】評価シート!$A$63:$A$114,0)","v":51},{"$f":"MATCH(F11,【元データ】評価シート!$B$62:$T$62,0)","v":4},{"$f":"MATCH(E11,【元データ】評価シート!$A$5:$A$56,0)","v":51},{"$f":"MATCH(F11,【元データ】評価シート!$B$4:$T$4,0)","v":4}]
[108010,36,1,"クレーン使用時、資材を既存物にぶつける","移動式クレーン","激突",{"$f":"INDEX(【元データ】評価シート!$B$63:$T$114,J12,K12)","v":1},{"$f":"INDEX(【元データ】評価シート!$B$5:$T$56,L12,M12)","v":2},null,{"$f":"MATCH(E12,【元データ】評価シート!$A$63:$A$114,0)","v":13},{"$f":"MATCH(F12,【元データ】評価シート!$B$62:$T$62,0)","v":3},{"$f":"MATCH(E12,【元データ】評価シート!$A$5:$A$56,0)","v":13},{"$f":"MATCH(F12,【元データ】評価シート!$B$4:$T$4,0)","v":3}]
[110010,37,1,"ユニック作業中誤作動にて吊荷が振れて負傷する","移動式クレーン","激突され",{"$f":"INDEX(【元データ】評価シート!$B$63:$T$114,J13,K13)","v":3},{"$f":"INDEX(【元データ】評価シート!$B$5:$T$56,L13,M13)","v":3},null,{"$f":"MATCH(E13,【元データ】評価シート!$A$63:$A$114,0)","v":13},{"$f":"MATCH(F13,【元データ】評価シート!$B$62:$T$62,0)","v":6},{"$f":"MATCH(E13,【元データ】評価シート!$A$5:$A$56,0)","v":13},{"$f":"MATCH(F13,【元データ】評価シート!$B$4:$T$4,0)","v":6}]
[108010,38,1,"ブーム組立時、高所から転落する","移動式クレーン","墜落・転落",{"$f":"INDEX(【元データ】評価シート!$B$63:$T$114,J14,K14)","v":4},{"$f":"INDEX(【元データ】評価シート!$B$5:$T$56,L14,M14)","v":4},null,{"$f":"MATCH(E14,【元データ】評価シート!$A$63:$A$114,0)","v":13},{"$f":"MATCH(F14,【元データ】評価シート!$B$62:$T$62,0)","v":1},{"$f":"MATCH(E14,【元データ】評価シート!$A$5:$A$56,0)","v":13},{"$f":"MATCH(F14,【元データ】評価シート!$B$4:$T$4,0)","v":1}]
[401020,39,1,"ブームをたたむ時、荷台から転落する","移動式クレーン","墜落・転落",{"$f":"INDEX(【元データ】評価シート!$B$63:$T$114,J15,K15)","v":4},{"$f":"INDEX(【元データ】評価シート!$B$5:$T$56,L15,M15)","v":4},null,{"$f":"MATCH(E15,【元データ】評価シート!$A$63:$A$114,0)","v":13},{"$f":"MATCH(F15,【元データ】評価シート!$B$62:$T$62,0)","v":1},{"$f":"MATCH(E15,【元データ】評価シート!$A$5:$A$56,0)","v":13},{"$f":"MATCH(F15,【元データ】評価シート!$B$4:$T$4,0)","v":1}]
[108010,41,1,"揚重機組立時、手･足を挟まれる","移動式クレーン","はさまれ・巻き込まれ",{"$f":"INDEX(【元データ】評価シート!$B$63:$T$114,J16,K16)","v":3},{"$f":"INDEX(【元データ】評価シート!$B$5:$T$56,L16,M16)","v":3},null,{"$f":"MATCH(E16,【元データ】評価シート!$A$63:$A$114,0)","v":13},{"$f":"MATCH(F16,【元データ】評価シート!$B$62:$T$62,0)","v":7},{"$f":"MATCH(E16,【元データ】評価シート!$A$5:$A$56,0)","v":13},{"$f":"MATCH(F16,【元データ】評価シート!$B$4:$T$4,0)","v":7}]
[401020,42,1,"ブームをたたむ時、手を挟む","移動式クレーン","はさまれ・巻き込まれ",{"$f":"INDEX(【元データ】評価シート!$B$63:$T$114,J17,K17)","v":3},{"$f":"INDEX(【元データ】評価シート!$B$5:$T$56,L17,M17)","v":3},null,{"$f":"MATCH(E17,【元データ】評価シート!$A$63:$A$114,0)","v":13},{"$f":"MATCH(F17,【元データ】評価シート!$B$62:$T$62,0)","v":7},{"$f":"MATCH(E17,【元データ】評価シート!$A$5:$A$56,0)","v":13},{"$f":"MATCH(F17,【元データ】評価シート!$B$4:$T$4,0)","v":7}]
[102010,43,1,"吊荷時、搬入車輛（ユニック車)が転倒する","移動式クレーン","崩壊・倒壊",{"$f":"INDEX(【元データ】評価シート!$B$63:$T$114,J18,K18)","v":3},{"$f":"INDEX(【元データ】評価シート!$B$5:$T$56,L18,M18)","v":2},null,{"$f":"MATCH(E18,【元データ】評価シート!$A$63:$A$114,0)","v":13},{"$f":"MATCH(F18,【元データ】評価シート!$B$62:$T$62,0)","v":5},{"$f":"MATCH(E18,【元データ】評価シート!$A$5:$A$56,0)","v":13},{"$f":"MATCH(F18,【元データ】評価シート!$B$4:$T$4,0)","v":5}]
[108010,44,1,"揚重機が転倒する","移動式クレーン","崩壊・倒壊",{"$f":"INDEX(【元データ】評価シート!$B$63:$T$114,J19,K19)","v":3},{"$f":"INDEX(【元データ】評価シート!$B$5:$T$56,L19,M19)","v":2},null,{"$f":"MATCH(E19,【元データ】評価シート!$A$63:$A$114,0)","v":13},{"$f":"MATCH(F19,【元データ】評価シート!$B$62:$T$62,0)","v":5},{"$f":"MATCH(E19,【元データ】評価シート!$A$5:$A$56,0)","v":13},{"$f":"MATCH(F19,【元データ】評価シート!$B$4:$T$4,0)","v":5}]
[110010,45,1,"資材荷吊り時アウトリガー下地盤が沈下しユニック車が転倒する","移動式クレーン","崩壊・倒壊",{"$f":"INDEX(【元データ】評価シート!$B$63:$T$114,J20,K20)","v":3},{"$f":"INDEX(【元データ】評価シート!$B$5:$T$56,L20,M20)","v":2},null,{"$f":"MATCH(E20,【元データ】評価シート!$A$63:$A$114,0)","v":13},{"$f":"MATCH(F20,【元データ】評価シート!$B$62:$T$62,0)","v":5},{"$f":"MATCH(E20,【元データ】評価シート!$A$5:$A$56,0)","v":13},{"$f":"MATCH(F20,【元データ】評価シート!$B$4:$T$4,0)","v":5}]
[110010,46,1,"資材荷吊り時過過重になりユニック車が転倒する","移動式クレーン","崩壊・倒壊",{"$f":"INDEX(【元データ】評価シート!$B$63:$T$114,J21,K21)","v":3},{"$f":"INDEX(【元データ】評価シート!$B$5:$T$56,L21,M21)","v":2},null,{"$f":"MATCH(E21,【元データ】評価シート!$A$63:$A$114,0)","v":13},{"$f":"MATCH(F21,【元データ】評価シート!$B$62:$T$62,0)","v":5},{"$f":"MATCH(E21,【元データ】評価シート!$A$5:$A$56,0)","v":13},{"$f":"MATCH(F21,【元データ】評価シート!$B$4:$T$4,0)","v":5}]
[401010,52,1,"昇降設備を使用せずに墜落する","開口部","墜落・転落",{"$f":"INDEX(【元データ】評価シート!$B$63:$T$114,J22,K22)","v":5},{"$f":"INDEX(【元データ】評価シート!$B$5:$T$56,L22,M22)","v":4},null,{"$f":"MATCH(E22,【元データ】評価シート!$A$63:$A$114,0)","v":37},{"$f":"MATCH(F22,【元データ】評価シート!$B$62:$T$62,0)","v":1},{"$f":"MATCH(E22,【元データ】評価シート!$A$5:$A$56,0)","v":37},{"$f":"MATCH(F22,【元データ】評価シート!$B$4:$T$4,0)","v":1}]
[401010,53,1,"物を取ろうと足場に足を掛け滑って転落する","開口部","墜落・転落",{"$f":"INDEX(【元データ】評価シート!$B$63:$T$114,J23,K23)","v":5},{"$f":"INDEX(【元データ】評価シート!$B$5:$T$56,L23,M23)","v":4},null,{"$f":"MATCH(E23,【元データ】評価シート!$A$63:$A$114,0)","v":37},{"$f":"MATCH(F23,【元データ】評価シート!$B$62:$T$62,0)","v":1},{"$f":"MATCH(E23,【元データ】評価シート!$A$5:$A$56,0)","v":37},{"$f":"MATCH(F23,【元データ】評価シート!$B$4:$T$4,0)","v":1}]
[401010,54,1,"足場の隙間から墜落する","開口部","墜落・転落",{"$f":"INDEX(【元データ】評価シート!$B$63:$T$114,J24,K24)","v":5},{"$f":"INDEX(【元データ】評価シート!$B$5:$T$56,L24,M24)","v":4},null,{"$f":"MATCH(E24,【元データ】評価シート!$A$63:$A$114,0)","v":37},{"$f":"MATCH(F24,【元データ】評価シート!$B$62:$T$62,0)","v":1},{"$f":"MATCH(E24,【元データ】評価シート!$A$5:$A$56,0)","v":37},{"$f":"MATCH(F24,【元データ】評価シート!$B$4:$T$4,0)","v":1}]
[402020,57,1,"荷上げで開口部から墜落する","開口部","墜落・転落",{"$f":"INDEX(【元データ】評価シート!$B$63:$T$114,J25,K25)","v":5},{"$f":"INDEX(【元データ】評価シート!$B$5:$T$56,L25,M25)","v":4},null,{"$f":"MATCH(E25,【元データ】評価シート!$A$63:$A$114,0)","v":37},{"$f":"MATCH(F25,【元データ】評価シート!$B$62:$T$62,0)","v":1},{"$f":"MATCH(E25,【元データ】評価シート!$A$5:$A$56,0)","v":37},{"$f":"MATCH(F25,【元データ】評価シート!$B$4:$T$4,0)","v":1}]
[105010,67,1,"作業場所移動時、外部足場の階段で足が滑り転倒する","階段、桟橋","転倒",{"$f":"INDEX(【元データ】評価シート!$B$63:$T$114,J26,K26)","v":3},{"$f":"INDEX(【元データ】評価シート!$B$5:$T$56,L26,M26)","v":3},null,{"$f":"MATCH(E26,【元データ】評価シート!$A$63:$A$114,0)","v":36},{"$f":"MATCH(F26,【元データ】評価シート!$B$62:$T$62,0)","v":2},{"$f":"MATCH(E26,【元データ】評価シート!$A$5:$A$56,0)","v":36},{"$f":"MATCH(F26,【元データ】評価シート!$B$4:$T$4,0)","v":2}]
[402020,68,1,"手摺壁に足をかける際、足が滑り転倒する","階段、桟橋","転倒",{"$f":"INDEX(【元データ】評価シート!$B$63:$T$114,J27,K27)","v":3},{"$f":"INDEX(【元データ】評価シート!$B$5:$T$56,L27,M27)","v":3},null,{"$f":"MATCH(E27,【元データ】評価シート!$A$63:$A$114,0)","v":36},{"$f":"MATCH(F27,【元データ】評価シート!$B$62:$T$62,0)","v":2},{"$f":"MATCH(E27,【元データ】評価シート!$A$5:$A$56,0)","v":36},{"$f":"MATCH(F27,【元データ】評価シート!$B$4:$T$4,0)","v":2}]
[202010,86,1,"資材にあたって負傷する","金属材料","激突",{"$f":"INDEX(【元データ】評価シート!$B$63:$T$114,J28,K28)","v":2},{"$f":"INDEX(【元データ】評価シート!$B$5:$T$56,L28,M28)","v":2},null,{"$f":"MATCH(E28,【元データ】評価シート!$A$63:$A$114,0)","v":45},{"$f":"MATCH(F28,【元データ】評価シート!$B$62:$T$62,0)","v":3},{"$f":"MATCH(E28,【元データ】評価シート!$A$5:$A$56,0)","v":45},{"$f":"MATCH(F28,【元データ】評価シート!$B$4:$T$4,0)","v":3}]
[202010,90,1,"単管パイプとクランプで指を挟む","金属材料","はさまれ・巻き込まれ",{"$f":"INDEX(【元データ】評価シート!$B$63:$T$114,J29,K29)","v":4},{"$f":"INDEX(【元データ】評価シート!$B$5:$T$56,L29,M29)","v":3},null,{"$f":"MATCH(E29,【元データ】評価シート!$A$63:$A$114,0)","v":45},{"$f":"MATCH(F29,【元データ】評価シート!$B$62:$T$62,0)","v":7},{"$f":"MATCH(E29,【元データ】評価シート!$A$5:$A$56,0)","v":45},{"$f":"MATCH(F29,【元データ】評価シート!$B$4:$T$4,0)","v":7}]
[202010,95,1,"資材受渡し時、手が滑り、落下する","金属材料","飛来・落下",{"$f":"INDEX(【元データ】評価シート!$B$63:$T$114,J30,K30)","v":5},{"$f":"INDEX(【元データ】評価シート!$B$5:$T$56,L30,M30)","v":3},null,{"$f":"MATCH(E30,【元データ】評価シート!$A$63:$A$114,0)","v":45},{"$f":"MATCH(F30,【元データ】評価シート!$B$62:$T$62,0)","v":4},{"$f":"MATCH(E30,【元データ】評価シート!$A$5:$A$56,0)","v":45},{"$f":"MATCH(F30,【元データ】評価シート!$B$4:$T$4,0)","v":4}]
[203030,96,1,"つりチェーンの外れにより、部材が落下する","金属材料","飛来・落下",{"$f":"INDEX(【元データ】評価シート!$B$63:$T$114,J31,K31)","v":5},{"$f":"INDEX(【元データ】評価シート!$B$5:$T$56,L31,M31)","v":3},null,{"$f":"MATCH(E31,【元データ】評価シート!$A$63:$A$114,0)","v":45},{"$f":"MATCH(F31,【元データ】評価シート!$B$62:$T$62,0)","v":4},{"$f":"MATCH(E31,【元データ】評価シート!$A$5:$A$56,0)","v":45},{"$f":"MATCH(F31,【元データ】評価シート!$B$4:$T$4,0)","v":4}]
[101010,105,1,"揚重作業時クレーンが転倒する","クレーン","転倒",{"$f":"INDEX(【元データ】評価シート!$B$63:$T$114,J32,K32)","v":1},{"$f":"INDEX(【元データ】評価シート!$B$5:$T$56,L32,M32)","v":2},null,{"$f":"MATCH(E32,【元データ】評価シート!$A$63:$A$114,0)","v":12},{"$f":"MATCH(F32,【元データ】評価シート!$B$62:$T$62,0)","v":2},{"$f":"MATCH(E32,【元データ】評価シート!$A$5:$A$56,0)","v":12},{"$f":"MATCH(F32,【元データ】評価シート!$B$4:$T$4,0)","v":2}]
[401010,135,1,"材料移動時、既存物、隣接建物に接触する","人力運搬機","転倒",{"$f":"INDEX(【元データ】評価シート!$B$63:$T$114,J33,K33)","v":3},{"$f":"INDEX(【元データ】評価シート!$B$5:$T$56,L33,M33)","v":3},null,{"$f":"MATCH(E33,【元データ】評価シート!$A$63:$A$114,0)","v":29},{"$f":"MATCH(F33,【元データ】評価シート!$B$62:$T$62,0)","v":2},{"$f":"MATCH(E33,【元データ】評価シート!$A$5:$A$56,0)","v":29},{"$f":"MATCH(F33,【元データ】評価シート!$B$4:$T$4,0)","v":2}]
[403050,138,1,"材料運搬時、躓いて転倒する","人力運搬機","激突",{"$f":"INDEX(【元データ】評価シート!$B$63:$T$114,J34,K34)","v":2},{"$f":"INDEX(【元データ】評価シート!$B$5:$T$56,L34,M34)","v":2},null,{"$f":"MATCH(E34,【元データ】評価シート!$A$63:$A$114,0)","v":29},{"$f":"MATCH(F34,【元データ】評価シート!$B$62:$T$62,0)","v":3},{"$f":"MATCH(E34,【元データ】評価シート!$A$5:$A$56,0)","v":29},{"$f":"MATCH(F34,【元データ】評価シート!$B$4:$T$4,0)","v":3}]
[103010,139,1,"重量物を持って腰を痛める","人力運搬機","転倒",{"$f":"INDEX(【元データ】評価シート!$B$63:$T$114,J35,K35)","v":3},{"$f":"INDEX(【元データ】評価シート!$B$5:$T$56,L35,M35)","v":3},null,{"$f":"MATCH(E35,【元データ】評価シート!$A$63:$A$114,0)","v":29},{"$f":"MATCH(F35,【元データ】評価シート!$B$62:$T$62,0)","v":2},{"$f":"MATCH(E35,【元データ】評価シート!$A$5:$A$56,0)","v":29},{"$f":"MATCH(F35,【元データ】評価シート!$B$4:$T$4,0)","v":2}]
[105020,140,1,"資材運搬時、台車に手を挟まれて負傷する","人力運搬機","動作の反動・無理な動作",{"$f":"INDEX(【元データ】評価シート!$B$63:$T$114,J36,K36)","v":1},{"$f":"INDEX(【元データ】評価シート!$B$5:$T$56,L36,M36)","v":2},null,{"$f":"MATCH(E36,【元データ】評価シート!$A$63:$A$114,0)","v":29},{"$f":"MATCH(F36,【元データ】評価シート!$B$62:$T$62,0)","v":19},{"$f":"MATCH(E36,【元データ】評価シート!$A$5:$A$56,0)","v":29},{"$f":"MATCH(F36,【元データ】評価シート!$B$4:$T$4,0)","v":19}]
[101010,165,1,"材料運搬時、段差に躓いて転倒する","通路","転倒",{"$f":"INDEX(【元データ】評価シート!$B$63:$T$114,J37,K37)","v":4},{"$f":"INDEX(【元データ】評価シート!$B$5:$T$56,L37,M37)","v":4},null,{"$f":"MATCH(E37,【元データ】評価シート!$A$63:$A$114,0)","v":40},{"$f":"MATCH(F37,【元データ】評価シート!$B$62:$T$62,0)","v":2},{"$f":"MATCH(E37,【元データ】評価シート!$A$5:$A$56,0)","v":40},{"$f":"MATCH(F37,【元データ】評価シート!$B$4:$T$4,0)","v":2}]
[104010,167,1,"足場上で躓いて転倒する","通路","転倒",{"$f":"INDEX(【元データ】評価シート!$B$63:$T$114,J38,K38)","v":4},{"$f":"INDEX(【元データ】評価シート!$B$5:$T$56,L38,M38)","v":4},null,{"$f":"MATCH(E38,【元データ】評価シート!$A$63:$A$114,0)","v":40},{"$f":"MATCH(F38,【元データ】評価シート!$B$62:$T$62,0)","v":2},{"$f":"MATCH(E38,【元データ】評価シート!$A$5:$A$56,0)","v":40},{"$f":"MATCH(F38,【元データ】評価シート!$B$4:$T$4,0)","v":2}]
[401010,168,1,"スラブ上で躓いて転倒する","通路","転倒",{"$f":"INDEX(【元データ】評価シート!$B$63:$T$114,J39,K39)","v":4},{"$f":"INDEX(【元データ】評価シート!$B$5:$T$56,L39,M39)","v":4},null,{"$f":"MATCH(E39,【元データ】評価シート!$A$63:$A$114,0)","v":40},{"$f":"MATCH(F39,【元データ】評価シート!$B$62:$T$62,0)","v":2},{"$f":"MATCH(E39,【元データ】評価シート!$A$5:$A$56,0)","v":40},{"$f":"MATCH(F39,【元データ】評価シート!$B$4:$T$4,0)","v":2}]
[109010,179,1,"振り上げたハンマーが目にあたる","手工具","動作の反動・無理な動作",{"$f":"INDEX(【元データ】評価シート!$B$63:$T$114,J40,K40)","v":1},{"$f":"INDEX(【元データ】評価シート!$B$5:$T$56,L40,M40)","v":2},null,{"$f":"MATCH(E40,【元データ】評価シート!$A$63:$A$114,0)","v":31},{"$f":"MATCH(F40,【元データ】評価シート!$B$62:$T$62,0)","v":19},{"$f":"MATCH(E40,【元データ】評価シート!$A$5:$A$56,0)","v":31},{"$f":"MATCH(F40,【元データ】評価シート!$B$4:$T$4,0)","v":19}]
[109010,205,1,"積込み運搬中の資材の荷崩れで負傷する","トラック","交通事故（その他）",{"$f":"INDEX(【元データ】評価シート!$B$63:$T$114,J41,K41)","v":3},{"$f":"INDEX(【元データ】評価シート!$B$5:$T$56,L41,M41)","v":1},null,{"$f":"MATCH(E41,【元データ】評価シート!$A$63:$A$114,0)","v":18},{"$f":"MATCH(F41,【元データ】評価シート!$B$62:$T$62,0)","v":18},{"$f":"MATCH(E41,【元データ】評価シート!$A$5:$A$56,0)","v":18},{"$f":"MATCH(F41,【元データ】評価シート!$B$4:$T$4,0)","v":18}]
[110010,206,1,"荷卸し時、トレーラー上から転落する","トラック","激突され",{"$f":"INDEX(【元データ】評価シート!$B$63:$T$114,J42,K42)","v":4},{"$f":"INDEX(【元データ】評価シート!$B$5:$T$56,L42,M42)","v":3},null,{"$f":"MATCH(E42,【元データ】評価シート!$A$63:$A$114,0)","v":18},{"$f":"MATCH(F42,【元データ】評価シート!$B$62:$T$62,0)","v":6},{"$f":"MATCH(E42,【元データ】評価シート!$A$5:$A$56,0)","v":18},{"$f":"MATCH(F42,【元データ】評価シート!$B$4:$T$4,0)","v":6}]
[502020,209,1,"安全ブロックを使用せず梯子やタラップから転落する","はしご等","墜落・転落",{"$f":"INDEX(【元データ】評価シート!$B$63:$T$114,J43,K43)","v":5},{"$f":"INDEX(【元データ】評価シート!$B$5:$T$56,L43,M43)","v":5},null,{"$f":"MATCH(E43,【元データ】評価シート!$A$63:$A$114,0)","v":32},{"$f":"MATCH(F43,【元データ】評価シート!$B$62:$T$62,0)","v":1},{"$f":"MATCH(E43,【元データ】評価シート!$A$5:$A$56,0)","v":32},{"$f":"MATCH(F43,【元データ】評価シート!$B$4:$T$4,0)","v":1}]
[null,226,1,"コンクリート破砕機で解体時、ガラが飛散し下敷きになる","解体用機械","激突され",{"$f":"INDEX(【元データ】評価シート!$B$63:$T$114,J44,K44)","v":3},{"$f":"INDEX(【元データ】評価シート!$B$5:$T$56,L44,M44)","v":2},null,{"$f":"MATCH(E44,【元データ】評価シート!$A$63:$A$114,0)","v":9},{"$f":"MATCH(F44,【元データ】評価シート!$B$62:$T$62,0)","v":6},{"$f":"MATCH(E44,【元データ】評価シート!$A$5:$A$56,0)","v":9},{"$f":"MATCH(F44,【元データ】評価シート!$B$4:$T$4,0)","v":6}]
[null,227,1,"コンクリート破砕機が旋回し、後方にいた作業員が挟まれる","解体用機械","はさまれ・巻き込まれ",{"$f":"INDEX(【元データ】評価シート!$B$63:$T$114,J45,K45)","v":3},{"$f":"INDEX(【元データ】評価シート!$B$5:$T$56,L45,M45)","v":3},null,{"$f":"MATCH(E45,【元データ】評価シート!$A$63:$A$114,0)","v":9},{"$f":"MATCH(F45,【元データ】評価シート!$B$62:$T$62,0)","v":7},{"$f":"MATCH(E45,【元データ】評価シート!$A$5:$A$56,0)","v":9},{"$f":"MATCH(F45,【元データ】評価シート!$B$4:$T$4,0)","v":7}]
[null,228,1,"圧砕機で鉄筋切断し、切断片が飛散し、作業員に当たる","解体用機械","激突され",{"$f":"INDEX(【元データ】評価シート!$B$63:$T$114,J46,K46)","v":3},{"$f":"INDEX(【元データ】評価シート!$B$5:$T$56,L46,M46)","v":2},null,{"$f":"MATCH(E46,【元データ】評価シート!$A$63:$A$114,0)","v":9},{"$f":"MATCH(F46,【元データ】評価シート!$B$62:$T$62,0)","v":6},{"$f":"MATCH(E46,【元データ】評価シート!$A$5:$A$56,0)","v":9},{"$f":"MATCH(F46,【元データ】評価シート!$B$4:$T$4,0)","v":6}]
[null,229,1,"コンクリート破砕機から降りる際、足を踏み外す","解体用機械","踏み抜き",{"$f":"INDEX(【元データ】評価シート!$B$63:$T$114,J47,K47)","v":1},{"$f":"INDEX(【元データ】評価シート!$B$5:$T$56,L47,M47)","v":1},null,{"$f":"MATCH(E47,【元データ】評価シート!$A$63:$A$114,0)","v":9},{"$f":"MATCH(F47,【元データ】評価シート!$B$62:$T$62,0)","v":9},{"$f":"MATCH(E47,【元データ】評価シート!$A$5:$A$56,0)","v":9},{"$f":"MATCH(F47,【元データ】評価シート!$B$4:$T$4,0)","v":9}]
[null,246,1,"ガソリン容器が破損し、引火する","引火性の物","火災",{"$f":"INDEX(【元データ】評価シート!$B$63:$T$114,J48,K48)","v":3},{"$f":"INDEX(【元データ】評価シート!$B$5:$T$56,L48,M48)","v":2},null,{"$f":"MATCH(E48,【元データ】評価シート!$A$63:$A$114,0)","v":42},{"$f":"MATCH(F48,【元データ】評価シート!$B$62:$T$62,0)","v":16},{"$f":"MATCH(E48,【元データ】評価シート!$A$5:$A$56,0)","v":42},{"$f":"MATCH(F48,【元データ】評価シート!$B$4:$T$4,0)","v":16}]
[null,247,1,"軽油が漏洩し、引火する","引火性の物","火災",{"$f":"INDEX(【元データ】評価シート!$B$63:$T$114,J49,K49)","v":3},{"$f":"INDEX(【元データ】評価シート!$B$5:$T$56,L49,M49)","v":2},null,{"$f":"MATCH(E49,【元データ】評価シート!$A$63:$A$114,0)","v":42},{"$f":"MATCH(F49,【元データ】評価シート!$B$62:$T$62,0)","v":16},{"$f":"MATCH(E49,【元データ】評価シート!$A$5:$A$56,0)","v":42},{"$f":"MATCH(F49,【元データ】評価シート!$B$4:$T$4,0)","v":16}]

{"sheet":"林・造園工","index":11,"n_rows":35,"n_cols":13,"rows_kept":35,"cut":false,"hidden":false,"merged":[[0,1,0,2]]}
[null,"工種区分"]
["工種コード",null,"林・造園工","危険ポイント","起因物","事故型","可能性","重大性"]
[706010,10,1,"梯子作業中バランスを崩して転落する","はしご等","墜落・転落",{"$f":"INDEX(【元データ】評価シート!$B$63:$T$114,J3,K3)","v":5},{"$f":"INDEX(【元データ】評価シート!$B$5:$T$56,L3,M3)","v":5},null,{"$f":"MATCH(E3,【元データ】評価シート!$A$63:$A$114,0)","v":32},{"$f":"MATCH(F3,【元データ】評価シート!$B$62:$T$62,0)","v":1},{"$f":"MATCH(E3,【元データ】評価シート!$A$5:$A$56,0)","v":32},{"$f":"MATCH(F3,【元データ】評価シート!$B$4:$T$4,0)","v":1}]
[105010,11,1,"足場使用時、足場から墜落する","足場","墜落・転落",{"$f":"INDEX(【元データ】評価シート!$B$63:$T$114,J4,K4)","v":5},{"$f":"INDEX(【元データ】評価シート!$B$5:$T$56,L4,M4)","v":5},null,{"$f":"MATCH(E4,【元データ】評価シート!$A$63:$A$114,0)","v":34},{"$f":"MATCH(F4,【元データ】評価シート!$B$62:$T$62,0)","v":1},{"$f":"MATCH(E4,【元データ】評価シート!$A$5:$A$56,0)","v":34},{"$f":"MATCH(F4,【元データ】評価シート!$B$4:$T$4,0)","v":1}]
[105010,12,1,"足場の隙間から墜落する","足場","墜落・転落",{"$f":"INDEX(【元データ】評価シート!$B$63:$T$114,J5,K5)","v":5},{"$f":"INDEX(【元データ】評価シート!$B$5:$T$56,L5,M5)","v":5},null,{"$f":"MATCH(E5,【元データ】評価シート!$A$63:$A$114,0)","v":34},{"$f":"MATCH(F5,【元データ】評価シート!$B$62:$T$62,0)","v":1},{"$f":"MATCH(E5,【元データ】評価シート!$A$5:$A$56,0)","v":34},{"$f":"MATCH(F5,【元データ】評価シート!$B$4:$T$4,0)","v":1}]
[203010,14,1,"足場板を固定する際、足場板の天ビンにより墜落する","足場","踏み抜き",{"$f":"INDEX(【元データ】評価シート!$B$63:$T$114,J6,K6)","v":1},{"$f":"INDEX(【元データ】評価シート!$B$5:$T$56,L6,M6)","v":1},null,{"$f":"MATCH(E6,【元データ】評価シート!$A$63:$A$114,0)","v":34},{"$f":"MATCH(F6,【元データ】評価シート!$B$62:$T$62,0)","v":9},{"$f":"MATCH(E6,【元データ】評価シート!$A$5:$A$56,0)","v":34},{"$f":"MATCH(F6,【元データ】評価シート!$B$4:$T$4,0)","v":9}]
[402030,17,1,"足場の中桟に足を掛け作業中、中桟が外れて転落する","足場","墜落・転落",{"$f":"INDEX(【元データ】評価シート!$B$63:$T$114,J7,K7)","v":5},{"$f":"INDEX(【元データ】評価シート!$B$5:$T$56,L7,M7)","v":5},null,{"$f":"MATCH(E7,【元データ】評価シート!$A$63:$A$114,0)","v":34},{"$f":"MATCH(F7,【元データ】評価シート!$B$62:$T$62,0)","v":1},{"$f":"MATCH(E7,【元データ】評価シート!$A$5:$A$56,0)","v":34},{"$f":"MATCH(F7,【元データ】評価シート!$B$4:$T$4,0)","v":1}]
[105010,21,1,"足場上で躓いて転倒する","足場","転倒",{"$f":"INDEX(【元データ】評価シート!$B$63:$T$114,J8,K8)","v":1},{"$f":"INDEX(【元データ】評価シート!$B$5:$T$56,L8,M8)","v":2},null,{"$f":"MATCH(E8,【元データ】評価シート!$A$63:$A$114,0)","v":34},{"$f":"MATCH(F8,【元データ】評価シート!$B$62:$T$62,0)","v":2},{"$f":"MATCH(E8,【元データ】評価シート!$A$5:$A$56,0)","v":34},{"$f":"MATCH(F8,【元データ】評価シート!$B$4:$T$4,0)","v":2}]
[402020,23,1,"布板昇降ハッチの蓋が閉まり手を詰める","足場","はさまれ・巻き込まれ",{"$f":"INDEX(【元データ】評価シート!$B$63:$T$114,J9,K9)","v":2},{"$f":"INDEX(【元データ】評価シート!$B$5:$T$56,L9,M9)","v":2},null,{"$f":"MATCH(E9,【元データ】評価シート!$A$63:$A$114,0)","v":34},{"$f":"MATCH(F9,【元データ】評価シート!$B$62:$T$62,0)","v":7},{"$f":"MATCH(E9,【元データ】評価シート!$A$5:$A$56,0)","v":34},{"$f":"MATCH(F9,【元データ】評価シート!$B$4:$T$4,0)","v":7}]
[105010,24,1,"足場使用時、足場から材料等を落下させる","足場","飛来・落下",{"$f":"INDEX(【元データ】評価シート!$B$63:$T$114,J10,K10)","v":2},{"$f":"INDEX(【元データ】評価シート!$B$5:$T$56,L10,M10)","v":2},null,{"$f":"MATCH(E10,【元データ】評価シート!$A$63:$A$114,0)","v":34},{"$f":"MATCH(F10,【元データ】評価シート!$B$62:$T$62,0)","v":4},{"$f":"MATCH(E10,【元データ】評価シート!$A$5:$A$56,0)","v":34},{"$f":"MATCH(F10,【元データ】評価シート!$B$4:$T$4,0)","v":4}]
[110010,37,1,"ユニック作業中誤作動にて吊荷が振れて負傷する","移動式クレーン","激突され",{"$f":"INDEX(【元データ】評価シート!$B$63:$T$114,J11,K11)","v":3},{"$f":"INDEX(【元データ】評価シート!$B$5:$T$56,L11,M11)","v":3},null,{"$f":"MATCH(E11,【元データ】評価シート!$A$63:$A$114,0)","v":13},{"$f":"MATCH(F11,【元データ】評価シート!$B$62:$T$62,0)","v":6},{"$f":"MATCH(E11,【元データ】評価シート!$A$5:$A$56,0)","v":13},{"$f":"MATCH(F11,【元データ】評価シート!$B$4:$T$4,0)","v":6}]
[108010,38,1,"ブーム組立時、高所から転落する","移動式クレーン","墜落・転落",{"$f":"INDEX(【元データ】評価シート!$B$63:$T$114,J12,K12)","v":4},{"$f":"INDEX(【元データ】評価シート!$B$5:$T$56,L12,M12)","v":4},null,{"$f":"MATCH(E12,【元データ】評価シート!$A$63:$A$114,0)","v":13},{"$f":"MATCH(F12,【元データ】評価シート!$B$62:$T$62,0)","v":1},{"$f":"MATCH(E12,【元データ】評価シート!$A$5:$A$56,0)","v":13},{"$f":"MATCH(F12,【元データ】評価シート!$B$4:$T$4,0)","v":1}]
[401020,39,1,"ブームをたたむ時、荷台から転落する","移動式クレーン","墜落・転落",{"$f":"INDEX(【元データ】評価シート!$B$63:$T$114,J13,K13)","v":4},{"$f":"INDEX(【元データ】評価シート!$B$5:$T$56,L13,M13)","v":4},null,{"$f":"MATCH(E13,【元データ】評価シート!$A$63:$A$114,0)","v":13},{"$f":"MATCH(F13,【元データ】評価シート!$B$62:$T$62,0)","v":1},{"$f":"MATCH(E13,【元データ】評価シート!$A$5:$A$56,0)","v":13},{"$f":"MATCH(F13,【元データ】評価シート!$B$4:$T$4,0)","v":1}]
[108010,41,1,"揚重機組立時、手･足を挟まれる","移動式クレーン","はさまれ・巻き込まれ",{"$f":"INDEX(【元データ】評価シート!$B$63:$T$114,J14,K14)","v":3},{"$f":"INDEX(【元データ】評価シート!$B$5:$T$56,L14,M14)","v":3},null,{"$f":"MATCH(E14,【元データ】評価シート!$A$63:$A$114,0)","v":13},{"$f":"MATCH(F14,【元データ】評価シート!$B$62:$T$62,0)","v":7},{"$f":"MATCH(E14,【元データ】評価シート!$A$5:$A$56,0)","v":13},{"$f":"MATCH(F14,【元データ】評価シート!$B$4:$T$4,0)","v":7}]
[401020,42,1,"ブームをたたむ時、手を挟む","移動式クレーン","はさまれ・巻き込まれ",{"$f":"INDEX(【元データ】評価シート!$B$63:$T$114,J15,K15)","v":3},{"$f":"INDEX(【元データ】評価シート!$B$5:$T$56,L15,M15)","v":3},null,{"$f":"MATCH(E15,【元データ】評価シート!$A$63:$A$114,0)","v":13},{"$f":"MATCH(F15,【元データ】評価シート!$B$62:$T$62,0)","v":7},{"$f":"MATCH(E15,【元データ】評価シート!$A$5:$A$56,0)","v":13},{"$f":"MATCH(F15,【元データ】評価シート!$B$4:$T$4,0)","v":7}]
[102010,43,1,"吊荷時、搬入車輛（ユニック車)が転倒する","移動式クレーン","崩壊・倒壊",{"$f":"INDEX(【元データ】評価シート!$B$63:$T$114,J16,K16)","v":3},{"$f":"INDEX(【元データ】評価シート!$B$5:$T$56,L16,M16)","v":2},null,{"$f":"MATCH(E16,【元データ】評価シート!$A$63:$A$114,0)","v":13},{"$f":"MATCH(F16,【元データ】評価シート!$B$62:$T$62,0)","v":5},{"$f":"MATCH(E16,【元データ】評価シート!$A$5:$A$56,0)","v":13},{"$f":"MATCH(F16,【元データ】評価シート!$B$4:$T$4,0)","v":5}]
[108010,44,1,"揚重機が転倒する","移動式クレーン","崩壊・倒壊",{"$f":"INDEX(【元データ】評価シート!$B$63:$T$114,J17,K17)","v":3},{"$f":"INDEX(【元データ】評価シート!$B$5:$T$56,L17,M17)","v":2},null,{"$f":"MATCH(E17,【元データ】評価シート!$A$63:$A$114,0)","v":13},{"$f":"MATCH(F17,【元データ】評価シート!$B$62:$T$62,0)","v":5},{"$f":"MATCH(E17,【元データ】評価シート!$A$5:$A$56,0)","v":13},{"$f":"MATCH(F17,【元データ】評価シート!$B$4:$T$4,0)","v":5}]
[110010,45,1,"資材荷吊り時アウトリガー下地盤が沈下しユニック車が転倒する","移動式クレーン","崩壊・倒壊",{"$f":"INDEX(【元データ】評価シート!$B$63:$T$114,J18,K18)","v":3},{"$f":"INDEX(【元データ】評価シート!$B$5:$T$56,L18,M18)","v":2},null,{"$f":"MATCH(E18,【元データ】評価シート!$A$63:$A$114,0)","v":13},{"$f":"MATCH(F18,【元データ】評価シート!$B$62:$T$62,0)","v":5},{"$f":"MATCH(E18,【元データ】評価シート!$A$5:$A$56,0)","v":13},{"$f":"MATCH(F18,【元データ】評価シート!$B$4:$T$4,0)","v":5}]
[110010,46,1,"資材荷吊り時過過重になりユニック車が転倒する","移動式クレーン","崩壊・倒壊",{"$f":"INDEX(【元データ】評価シート!$B$63:$T$114,J19,K19)","v":3},{"$f":"INDEX(【元データ】評価シート!$B$5:$T$56,L19,M19)","v":2},null,{"$f":"MATCH(E19,【元データ】評価シート!$A$63:$A$114,0)","v":13},{"$f":"MATCH(F19,【元データ】評価シート!$B$62:$T$62,0)","v":5},{"$f":"MATCH(E19,【元データ】評価シート!$A$5:$A$56,0)","v":13},{"$f":"MATCH(F19,【元データ】評価シート!$B$4:$T$4,0)","v":5}]
[401010,52,1,"昇降設備を使用せずに墜落する","開口部","墜落・転落",{"$f":"INDEX(【元データ】評価シート!$B$63:$T$114,J20,K20)","v":5},{"$f":"INDEX(【元データ】評価シート!$B$5:$T$56,L20,M20)","v":4},null,{"$f":"MATCH(E20,【元データ】評価シート!$A$63:$A$114,0)","v":37},{"$f":"MATCH(F20,【元データ】評価シート!$B$62:$T$62,0)","v":1},{"$f":"MATCH(E20,【元データ】評価シート!$A$5:$A$56,0)","v":37},{"$f":"MATCH(F20,【元データ】評価シート!$B$4:$T$4,0)","v":1}]
[401010,53,1,"物を取ろうと足場に足を掛け滑って転落する","開口部","墜落・転落",{"$f":"INDEX(【元データ】評価シート!$B$63:$T$114,J21,K21)","v":5},{"$f":"INDEX(【元データ】評価シート!$B$5:$T$56,L21,M21)","v":4},null,{"$f":"MATCH(E21,【元データ】評価シート!$A$63:$A$114,0)","v":37},{"$f":"MATCH(F21,【元データ】評価シート!$B$62:$T$62,0)","v":1},{"$f":"MATCH(E21,【元データ】評価シート!$A$5:$A$56,0)","v":37},{"$f":"MATCH(F21,【元データ】評価シート!$B$4:$T$4,0)","v":1}]
[401010,54,1,"足場の隙間から墜落する","開口部","墜落・転落",{"$f":"INDEX(【元データ】評価シート!$B$63:$T$114,J22,K22)","v":5},{"$f":"INDEX(【元データ】評価シート!$B$5:$T$56,L22,M22)","v":4},null,{"$f":"MATCH(E22,【元データ】評価シート!$A$63:$A$114,0)","v":37},{"$f":"MATCH(F22,【元データ】評価シート!$B$62:$T$62,0)","v":1},{"$f":"MATCH(E22,【元データ】評価シート!$A$5:$A$56,0)","v":37},{"$f":"MATCH(F22,【元データ】評価シート!$B$4:$T$4,0)","v":1}]
[202010,86,1,"資材にあたって負傷する","金属材料","激突",{"$f":"INDEX(【元データ】評価シート!$B$63:$T$114,J23,K23)","v":2},{"$f":"INDEX(【元データ】評価シート!$B$5:$T$56,L23,M23)","v":2},null,{"$f":"MATCH(E23,【元データ】評価シート!$A$63:$A$114,0)","v":45},{"$f":"MATCH(F23,【元データ】評価シート!$B$62:$T$62,0)","v":3},{"$f":"MATCH(E23,【元データ】評価シート!$A$5:$A$56,0)","v":45},{"$f":"MATCH(F23,【元データ】評価シート!$B$4:$T$4,0)","v":3}]
[101010,105,1,"揚重作業時クレーンが転倒する","クレーン","転倒",{"$f":"INDEX(【元データ】評価シート!$B$63:$T$114,J24,K24)","v":1},{"$f":"INDEX(【元データ】評価シート!$B$5:$T$56,L24,M24)","v":2},null,{"$f":"MATCH(E24,【元データ】評価シート!$A$63:$A$114,0)","v":12},{"$f":"MATCH(F24,【元データ】評価シート!$B$62:$T$62,0)","v":2},{"$f":"MATCH(E24,【元データ】評価シート!$A$5:$A$56,0)","v":12},{"$f":"MATCH(F24,【元データ】評価シート!$B$4:$T$4,0)","v":2}]
[302010,175,1,"手鋸で手や指を切る","手工具","切れ・こすれ",{"$f":"INDEX(【元データ】評価シート!$B$63:$T$114,J25,K25)","v":3},{"$f":"INDEX(【元データ】評価シート!$B$5:$T$56,L25,M25)","v":3},null,{"$f":"MATCH(E25,【元データ】評価シート!$A$63:$A$114,0)","v":31},{"$f":"MATCH(F25,【元データ】評価シート!$B$62:$T$62,0)","v":8},{"$f":"MATCH(E25,【元データ】評価シート!$A$5:$A$56,0)","v":31},{"$f":"MATCH(F25,【元データ】評価シート!$B$4:$T$4,0)","v":8}]
[101010,196,1,"草刈り機で手や足を切る","動力伝導機構","切れ・こすれ",{"$f":"INDEX(【元データ】評価シート!$B$63:$T$114,J26,K26)","v":1},{"$f":"INDEX(【元データ】評価シート!$B$5:$T$56,L26,M26)","v":1},null,{"$f":"MATCH(E26,【元データ】評価シート!$A$63:$A$114,0)","v":2},{"$f":"MATCH(F26,【元データ】評価シート!$B$62:$T$62,0)","v":8},{"$f":"MATCH(E26,【元データ】評価シート!$A$5:$A$56,0)","v":2},{"$f":"MATCH(F26,【元データ】評価シート!$B$4:$T$4,0)","v":8}]
[null,220,1,"チェーンソーで伐木時、伐木した木が倒れかかり、挟まれる","チェーンソー","はさまれ・巻き込まれ",{"$f":"INDEX(【元データ】評価シート!$B$63:$T$114,J27,K27)","v":1},{"$f":"INDEX(【元データ】評価シート!$B$5:$T$56,L27,M27)","v":2},null,{"$f":"MATCH(E27,【元データ】評価シート!$A$63:$A$114,0)","v":4},{"$f":"MATCH(F27,【元データ】評価シート!$B$62:$T$62,0)","v":7},{"$f":"MATCH(E27,【元データ】評価シート!$A$5:$A$56,0)","v":4},{"$f":"MATCH(F27,【元データ】評価シート!$B$4:$T$4,0)","v":7}]
[null,221,1,"チェーンソー使用時、切断した粉が目に入る","チェーンソー","有害物等との接触",{"$f":"INDEX(【元データ】評価シート!$B$63:$T$114,J28,K28)","v":1},{"$f":"INDEX(【元データ】評価シート!$B$5:$T$56,L28,M28)","v":1},null,{"$f":"MATCH(E28,【元データ】評価シート!$A$63:$A$114,0)","v":4},{"$f":"MATCH(F28,【元データ】評価シート!$B$62:$T$62,0)","v":12},{"$f":"MATCH(E28,【元データ】評価シート!$A$5:$A$56,0)","v":4},{"$f":"MATCH(F28,【元データ】評価シート!$B$4:$T$4,0)","v":12}]
[null,222,1,"チェーンソーで二分割時、切断した木がはねて身体に当たる","チェーンソー","動作の反動・無理な動作",{"$f":"INDEX(【元データ】評価シート!$B$63:$T$114,J29,K29)","v":1},{"$f":"INDEX(【元データ】評価シート!$B$5:$T$56,L29,M29)","v":1},null,{"$f":"MATCH(E29,【元データ】評価シート!$A$63:$A$114,0)","v":4},{"$f":"MATCH(F29,【元データ】評価シート!$B$62:$T$62,0)","v":19},{"$f":"MATCH(E29,【元データ】評価シート!$A$5:$A$56,0)","v":4},{"$f":"MATCH(F29,【元データ】評価シート!$B$4:$T$4,0)","v":19}]
[null,223,1,"チェーンソー使用時、刃が下肢に接触する","チェーンソー","動作の反動・無理な動作",{"$f":"INDEX(【元データ】評価シート!$B$63:$T$114,J30,K30)","v":1},{"$f":"INDEX(【元データ】評価シート!$B$5:$T$56,L30,M30)","v":1},null,{"$f":"MATCH(E30,【元データ】評価シート!$A$63:$A$114,0)","v":4},{"$f":"MATCH(F30,【元データ】評価シート!$B$62:$T$62,0)","v":19},{"$f":"MATCH(E30,【元データ】評価シート!$A$5:$A$56,0)","v":4},{"$f":"MATCH(F30,【元データ】評価シート!$B$4:$T$4,0)","v":19}]
[null,230,1,"伐倒機旋回時、周囲にいた作業員を巻き込む","伐木等機械","はさまれ・巻き込まれ",{"$f":"INDEX(【元データ】評価シート!$B$63:$T$114,J31,K31)","v":3},{"$f":"INDEX(【元データ】評価シート!$B$5:$T$56,L31,M31)","v":2},null,{"$f":"MATCH(E31,【元データ】評価シート!$A$63:$A$114,0)","v":11},{"$f":"MATCH(F31,【元データ】評価シート!$B$62:$T$62,0)","v":7},{"$f":"MATCH(E31,【元データ】評価シート!$A$5:$A$56,0)","v":11},{"$f":"MATCH(F31,【元データ】評価シート!$B$4:$T$4,0)","v":7}]
[null,231,1,"伐倒機で伐倒時、倒れる方向にいた作業員に接触する","伐木等機械","はさまれ・巻き込まれ",{"$f":"INDEX(【元データ】評価シート!$B$63:$T$114,J32,K32)","v":3},{"$f":"INDEX(【元データ】評価シート!$B$5:$T$56,L32,M32)","v":2},null,{"$f":"MATCH(E32,【元データ】評価シート!$A$63:$A$114,0)","v":11},{"$f":"MATCH(F32,【元データ】評価シート!$B$62:$T$62,0)","v":7},{"$f":"MATCH(E32,【元データ】評価シート!$A$5:$A$56,0)","v":11},{"$f":"MATCH(F32,【元データ】評価シート!$B$4:$T$4,0)","v":7}]
[null,232,1,"伐倒機が斜面で作業時、安定を崩して倒壊する","伐木等機械","崩壊・倒壊",{"$f":"INDEX(【元データ】評価シート!$B$63:$T$114,J33,K33)","v":2},{"$f":"INDEX(【元データ】評価シート!$B$5:$T$56,L33,M33)","v":1},null,{"$f":"MATCH(E33,【元データ】評価シート!$A$63:$A$114,0)","v":11},{"$f":"MATCH(F33,【元データ】評価シート!$B$62:$T$62,0)","v":5},{"$f":"MATCH(E33,【元データ】評価シート!$A$5:$A$56,0)","v":11},{"$f":"MATCH(F33,【元データ】評価シート!$B$4:$T$4,0)","v":5}]
[null,236,1,"索道で資材輸送時、資材の結束が外れる","機械集材装置、運材索道","飛来・落下",{"$f":"INDEX(【元データ】評価シート!$B$63:$T$114,J34,K34)","v":1},{"$f":"INDEX(【元データ】評価シート!$B$5:$T$56,L34,M34)","v":1},null,{"$f":"MATCH(E34,【元データ】評価シート!$A$63:$A$114,0)","v":17},{"$f":"MATCH(F34,【元データ】評価シート!$B$62:$T$62,0)","v":4},{"$f":"MATCH(E34,【元データ】評価シート!$A$5:$A$56,0)","v":17},{"$f":"MATCH(F34,【元データ】評価シート!$B$4:$T$4,0)","v":4}]
[null,248,1,"伐木時、かかり木が作業員に接触する","立木等","動作の反動・無理な動作",{"$f":"INDEX(【元データ】評価シート!$B$63:$T$114,J35,K35)","v":1},{"$f":"INDEX(【元データ】評価シート!$B$5:$T$56,L35,M35)","v":2},null,{"$f":"MATCH(E35,【元データ】評価シート!$A$63:$A$114,0)","v":49},{"$f":"MATCH(F35,【元データ】評価シート!$B$62:$T$62,0)","v":19},{"$f":"MATCH(E35,【元データ】評価シート!$A$5:$A$56,0)","v":49},{"$f":"MATCH(F35,【元データ】評価シート!$B$4:$T$4,0)","v":19}]

{"sheet":"トンネル","index":12,"n_rows":73,"n_cols":13,"rows_kept":73,"cut":false,"hidden":false,"merged":[[0,1,0,2]]}
[null,"工種区分"]
["工種コード",null,"トンネル","危険ポイント","起因物","事故型","可能性","重大性"]
[206010,2,1,"溶接時、火花が飛散する","アーク溶接装置","火災",{"$f":"INDEX(【元データ】評価シート!$B$63:$T$114,J3,K3)","v":2},{"$f":"INDEX(【元データ】評価シート!$B$5:$T$56,L3,M3)","v":2},null,{"$f":"MATCH(E3,【元データ】評価シート!$A$63:$A$114,0)","v":25},{"$f":"MATCH(F3,【元データ】評価シート!$B$62:$T$62,0)","v":16},{"$f":"MATCH(E3,【元データ】評価シート!$A$5:$A$56,0)","v":25},{"$f":"MATCH(F3,【元データ】評価シート!$B$4:$T$4,0)","v":16}]
[109010,5,1,"溶接部で火傷する","アーク溶接装置","高温低温物との接触",{"$f":"INDEX(【元データ】評価シート!$B$63:$T$114,J4,K4)","v":3},{"$f":"INDEX(【元データ】評価シート!$B$5:$T$56,L4,M4)","v":2},null,{"$f":"MATCH(E4,【元データ】評価シート!$A$63:$A$114,0)","v":25},{"$f":"MATCH(F4,【元データ】評価シート!$B$62:$T$62,0)","v":11},{"$f":"MATCH(E4,【元データ】評価シート!$A$5:$A$56,0)","v":25},{"$f":"MATCH(F4,【元データ】評価シート!$B$4:$T$4,0)","v":11}]
[202010,6,1,"足場解体時、既存物、隣接建物に接触する","足場","激突",{"$f":"INDEX(【元データ】評価シート!$B$63:$T$114,J5,K5)","v":1},{"$f":"INDEX(【元データ】評価シート!$B$5:$T$56,L5,M5)","v":2},null,{"$f":"MATCH(E5,【元データ】評価シート!$A$63:$A$114,0)","v":34},{"$f":"MATCH(F5,【元データ】評価シート!$B$62:$T$62,0)","v":3},{"$f":"MATCH(E5,【元データ】評価シート!$A$5:$A$56,0)","v":34},{"$f":"MATCH(F5,【元データ】評価シート!$B$4:$T$4,0)","v":3}]
[706010,10,1,"梯子作業中バランスを崩して転落する","はしご等","墜落・転落",{"$f":"INDEX(【元データ】評価シート!$B$63:$T$114,J6,K6)","v":5},{"$f":"INDEX(【元データ】評価シート!$B$5:$T$56,L6,M6)","v":5},null,{"$f":"MATCH(E6,【元データ】評価シート!$A$63:$A$114,0)","v":32},{"$f":"MATCH(F6,【元データ】評価シート!$B$62:$T$62,0)","v":1},{"$f":"MATCH(E6,【元データ】評価シート!$A$5:$A$56,0)","v":32},{"$f":"MATCH(F6,【元データ】評価シート!$B$4:$T$4,0)","v":1}]
[105010,11,1,"足場使用時、足場から墜落する","足場","墜落・転落",{"$f":"INDEX(【元データ】評価シート!$B$63:$T$114,J7,K7)","v":5},{"$f":"INDEX(【元データ】評価シート!$B$5:$T$56,L7,M7)","v":5},null,{"$f":"MATCH(E7,【元データ】評価シート!$A$63:$A$114,0)","v":34},{"$f":"MATCH(F7,【元データ】評価シート!$B$62:$T$62,0)","v":1},{"$f":"MATCH(E7,【元データ】評価シート!$A$5:$A$56,0)","v":34},{"$f":"MATCH(F7,【元データ】評価シート!$B$4:$T$4,0)","v":1}]
[105010,12,1,"足場の隙間から墜落する","足場","墜落・転落",{"$f":"INDEX(【元データ】評価シート!$B$63:$T$114,J8,K8)","v":5},{"$f":"INDEX(【元データ】評価シート!$B$5:$T$56,L8,M8)","v":5},null,{"$f":"MATCH(E8,【元データ】評価シート!$A$63:$A$114,0)","v":34},{"$f":"MATCH(F8,【元データ】評価シート!$B$62:$T$62,0)","v":1},{"$f":"MATCH(E8,【元データ】評価シート!$A$5:$A$56,0)","v":34},{"$f":"MATCH(F8,【元データ】評価シート!$B$4:$T$4,0)","v":1}]
[203010,14,1,"足場板を固定する際、足場板の天ビンにより墜落する","足場","踏み抜き",{"$f":"INDEX(【元データ】評価シート!$B$63:$T$114,J9,K9)","v":1},{"$f":"INDEX(【元データ】評価シート!$B$5:$T$56,L9,M9)","v":1},null,{"$f":"MATCH(E9,【元データ】評価シート!$A$63:$A$114,0)","v":34},{"$f":"MATCH(F9,【元データ】評価シート!$B$62:$T$62,0)","v":9},{"$f":"MATCH(E9,【元データ】評価シート!$A$5:$A$56,0)","v":34},{"$f":"MATCH(F9,【元データ】評価シート!$B$4:$T$4,0)","v":9}]
[402030,17,1,"足場の中桟に足を掛け作業中、中桟が外れて転落する","足場","墜落・転落",{"$f":"INDEX(【元データ】評価シート!$B$63:$T$114,J10,K10)","v":5},{"$f":"INDEX(【元データ】評価シート!$B$5:$T$56,L10,M10)","v":5},null,{"$f":"MATCH(E10,【元データ】評価シート!$A$63:$A$114,0)","v":34},{"$f":"MATCH(F10,【元データ】評価シート!$B$62:$T$62,0)","v":1},{"$f":"MATCH(E10,【元データ】評価シート!$A$5:$A$56,0)","v":34},{"$f":"MATCH(F10,【元データ】評価シート!$B$4:$T$4,0)","v":1}]
[105010,21,1,"足場上で躓いて転倒する","足場","転倒",{"$f":"INDEX(【元データ】評価シート!$B$63:$T$114,J11,K11)","v":1},{"$f":"INDEX(【元データ】評価シート!$B$5:$T$56,L11,M11)","v":2},null,{"$f":"MATCH(E11,【元データ】評価シート!$A$63:$A$114,0)","v":34},{"$f":"MATCH(F11,【元データ】評価シート!$B$62:$T$62,0)","v":2},{"$f":"MATCH(E11,【元データ】評価シート!$A$5:$A$56,0)","v":34},{"$f":"MATCH(F11,【元データ】評価シート!$B$4:$T$4,0)","v":2}]
[402020,23,1,"布板昇降ハッチの蓋が閉まり手を詰める","足場","はさまれ・巻き込まれ",{"$f":"INDEX(【元データ】評価シート!$B$63:$T$114,J12,K12)","v":2},{"$f":"INDEX(【元データ】評価シート!$B$5:$T$56,L12,M12)","v":2},null,{"$f":"MATCH(E12,【元データ】評価シート!$A$63:$A$114,0)","v":34},{"$f":"MATCH(F12,【元データ】評価シート!$B$62:$T$62,0)","v":7},{"$f":"MATCH(E12,【元データ】評価シート!$A$5:$A$56,0)","v":34},{"$f":"MATCH(F12,【元データ】評価シート!$B$4:$T$4,0)","v":7}]
[105010,24,1,"足場使用時、足場から材料等を落下させる","足場","飛来・落下",{"$f":"INDEX(【元データ】評価シート!$B$63:$T$114,J13,K13)","v":2},{"$f":"INDEX(【元データ】評価シート!$B$5:$T$56,L13,M13)","v":2},null,{"$f":"MATCH(E13,【元データ】評価シート!$A$63:$A$114,0)","v":34},{"$f":"MATCH(F13,【元データ】評価シート!$B$62:$T$62,0)","v":4},{"$f":"MATCH(E13,【元データ】評価シート!$A$5:$A$56,0)","v":34},{"$f":"MATCH(F13,【元データ】評価シート!$B$4:$T$4,0)","v":4}]
[205010,30,1,"足場清掃時、足場からガラ等を落下させる","石、砂、砂利","飛来・落下",{"$f":"INDEX(【元データ】評価シート!$B$63:$T$114,J14,K14)","v":3},{"$f":"INDEX(【元データ】評価シート!$B$5:$T$56,L14,M14)","v":2},null,{"$f":"MATCH(E14,【元データ】評価シート!$A$63:$A$114,0)","v":47},{"$f":"MATCH(F14,【元データ】評価シート!$B$62:$T$62,0)","v":4},{"$f":"MATCH(E14,【元データ】評価シート!$A$5:$A$56,0)","v":47},{"$f":"MATCH(F14,【元データ】評価シート!$B$4:$T$4,0)","v":4}]
[401010,31,1,"コンクリートを外部に飛散させる","石、砂、砂利","飛来・落下",{"$f":"INDEX(【元データ】評価シート!$B$63:$T$114,J15,K15)","v":3},{"$f":"INDEX(【元データ】評価シート!$B$5:$T$56,L15,M15)","v":2},null,{"$f":"MATCH(E15,【元データ】評価シート!$A$63:$A$114,0)","v":47},{"$f":"MATCH(F15,【元データ】評価シート!$B$62:$T$62,0)","v":4},{"$f":"MATCH(E15,【元データ】評価シート!$A$5:$A$56,0)","v":47},{"$f":"MATCH(F15,【元データ】評価シート!$B$4:$T$4,0)","v":4}]
[302010,32,1,"ホース先端よりセメントミルクが飛び出し顔にかかる","石、砂、砂利","有害物等との接触",{"$f":"INDEX(【元データ】評価シート!$B$63:$T$114,J16,K16)","v":1},{"$f":"INDEX(【元データ】評価シート!$B$5:$T$56,L16,M16)","v":1},null,{"$f":"MATCH(E16,【元データ】評価シート!$A$63:$A$114,0)","v":47},{"$f":"MATCH(F16,【元データ】評価シート!$B$62:$T$62,0)","v":12},{"$f":"MATCH(E16,【元データ】評価シート!$A$5:$A$56,0)","v":47},{"$f":"MATCH(F16,【元データ】評価シート!$B$4:$T$4,0)","v":12}]
[401020,33,1,"手足にコンクリートが触れてただれる","石、砂、砂利","有害物等との接触",{"$f":"INDEX(【元データ】評価シート!$B$63:$T$114,J17,K17)","v":1},{"$f":"INDEX(【元データ】評価シート!$B$5:$T$56,L17,M17)","v":1},null,{"$f":"MATCH(E17,【元データ】評価シート!$A$63:$A$114,0)","v":47},{"$f":"MATCH(F17,【元データ】評価シート!$B$62:$T$62,0)","v":12},{"$f":"MATCH(E17,【元データ】評価シート!$A$5:$A$56,0)","v":47},{"$f":"MATCH(F17,【元データ】評価シート!$B$4:$T$4,0)","v":12}]
[403060,34,1,"グラウト材注入する際、グラウト材が目に入る","石、砂、砂利","有害物等との接触",{"$f":"INDEX(【元データ】評価シート!$B$63:$T$114,J18,K18)","v":1},{"$f":"INDEX(【元データ】評価シート!$B$5:$T$56,L18,M18)","v":1},null,{"$f":"MATCH(E18,【元データ】評価シート!$A$63:$A$114,0)","v":47},{"$f":"MATCH(F18,【元データ】評価シート!$B$62:$T$62,0)","v":12},{"$f":"MATCH(E18,【元データ】評価シート!$A$5:$A$56,0)","v":47},{"$f":"MATCH(F18,【元データ】評価シート!$B$4:$T$4,0)","v":12}]
[404020,35,1,"吊荷が強風であおられる","異常環境等","飛来・落下",{"$f":"INDEX(【元データ】評価シート!$B$63:$T$114,J19,K19)","v":1},{"$f":"INDEX(【元データ】評価シート!$B$5:$T$56,L19,M19)","v":1},null,{"$f":"MATCH(E19,【元データ】評価シート!$A$63:$A$114,0)","v":51},{"$f":"MATCH(F19,【元データ】評価シート!$B$62:$T$62,0)","v":4},{"$f":"MATCH(E19,【元データ】評価シート!$A$5:$A$56,0)","v":51},{"$f":"MATCH(F19,【元データ】評価シート!$B$4:$T$4,0)","v":4}]
[108010,36,1,"クレーン使用時、資材を既存物にぶつける","移動式クレーン","激突",{"$f":"INDEX(【元データ】評価シート!$B$63:$T$114,J20,K20)","v":1},{"$f":"INDEX(【元データ】評価シート!$B$5:$T$56,L20,M20)","v":2},null,{"$f":"MATCH(E20,【元データ】評価シート!$A$63:$A$114,0)","v":13},{"$f":"MATCH(F20,【元データ】評価シート!$B$62:$T$62,0)","v":3},{"$f":"MATCH(E20,【元データ】評価シート!$A$5:$A$56,0)","v":13},{"$f":"MATCH(F20,【元データ】評価シート!$B$4:$T$4,0)","v":3}]
[110010,37,1,"ユニック作業中誤作動にて吊荷が振れて負傷する","移動式クレーン","激突され",{"$f":"INDEX(【元データ】評価シート!$B$63:$T$114,J21,K21)","v":3},{"$f":"INDEX(【元データ】評価シート!$B$5:$T$56,L21,M21)","v":3},null,{"$f":"MATCH(E21,【元データ】評価シート!$A$63:$A$114,0)","v":13},{"$f":"MATCH(F21,【元データ】評価シート!$B$62:$T$62,0)","v":6},{"$f":"MATCH(E21,【元データ】評価シート!$A$5:$A$56,0)","v":13},{"$f":"MATCH(F21,【元データ】評価シート!$B$4:$T$4,0)","v":6}]
[108010,38,1,"ブーム組立時、高所から転落する","移動式クレーン","墜落・転落",{"$f":"INDEX(【元データ】評価シート!$B$63:$T$114,J22,K22)","v":4},{"$f":"INDEX(【元データ】評価シート!$B$5:$T$56,L22,M22)","v":4},null,{"$f":"MATCH(E22,【元データ】評価シート!$A$63:$A$114,0)","v":13},{"$f":"MATCH(F22,【元データ】評価シート!$B$62:$T$62,0)","v":1},{"$f":"MATCH(E22,【元データ】評価シート!$A$5:$A$56,0)","v":13},{"$f":"MATCH(F22,【元データ】評価シート!$B$4:$T$4,0)","v":1}]
[401020,39,1,"ブームをたたむ時、荷台から転落する","移動式クレーン","墜落・転落",{"$f":"INDEX(【元データ】評価シート!$B$63:$T$114,J23,K23)","v":4},{"$f":"INDEX(【元データ】評価シート!$B$5:$T$56,L23,M23)","v":4},null,{"$f":"MATCH(E23,【元データ】評価シート!$A$63:$A$114,0)","v":13},{"$f":"MATCH(F23,【元データ】評価シート!$B$62:$T$62,0)","v":1},{"$f":"MATCH(E23,【元データ】評価シート!$A$5:$A$56,0)","v":13},{"$f":"MATCH(F23,【元データ】評価シート!$B$4:$T$4,0)","v":1}]
[401020,40,1,"コンクリート打設中、ホースが暴れて接触し転倒する","移動式クレーン","転倒",{"$f":"INDEX(【元データ】評価シート!$B$63:$T$114,J24,K24)","v":2},{"$f":"INDEX(【元データ】評価シート!$B$5:$T$56,L24,M24)","v":2},null,{"$f":"MATCH(E24,【元データ】評価シート!$A$63:$A$114,0)","v":13},{"$f":"MATCH(F24,【元データ】評価シート!$B$62:$T$62,0)","v":2},{"$f":"MATCH(E24,【元データ】評価シート!$A$5:$A$56,0)","v":13},{"$f":"MATCH(F24,【元データ】評価シート!$B$4:$T$4,0)","v":2}]
[108010,41,1,"揚重機組立時、手･足を挟まれる","移動式クレーン","はさまれ・巻き込まれ",{"$f":"INDEX(【元データ】評価シート!$B$63:$T$114,J25,K25)","v":3},{"$f":"INDEX(【元データ】評価シート!$B$5:$T$56,L25,M25)","v":3},null,{"$f":"MATCH(E25,【元データ】評価シート!$A$63:$A$114,0)","v":13},{"$f":"MATCH(F25,【元データ】評価シート!$B$62:$T$62,0)","v":7},{"$f":"MATCH(E25,【元データ】評価シート!$A$5:$A$56,0)","v":13},{"$f":"MATCH(F25,【元データ】評価シート!$B$4:$T$4,0)","v":7}]
[401020,42,1,"ブームをたたむ時、手を挟む","移動式クレーン","はさまれ・巻き込まれ",{"$f":"INDEX(【元データ】評価シート!$B$63:$T$114,J26,K26)","v":3},{"$f":"INDEX(【元データ】評価シート!$B$5:$T$56,L26,M26)","v":3},null,{"$f":"MATCH(E26,【元データ】評価シート!$A$63:$A$114,0)","v":13},{"$f":"MATCH(F26,【元データ】評価シート!$B$62:$T$62,0)","v":7},{"$f":"MATCH(E26,【元データ】評価シート!$A$5:$A$56,0)","v":13},{"$f":"MATCH(F26,【元データ】評価シート!$B$4:$T$4,0)","v":7}]
[102010,43,1,"吊荷時、搬入車輛（ユニック車)が転倒する","移動式クレーン","崩壊・倒壊",{"$f":"INDEX(【元データ】評価シート!$B$63:$T$114,J27,K27)","v":3},{"$f":"INDEX(【元データ】評価シート!$B$5:$T$56,L27,M27)","v":2},null,{"$f":"MATCH(E27,【元データ】評価シート!$A$63:$A$114,0)","v":13},{"$f":"MATCH(F27,【元データ】評価シート!$B$62:$T$62,0)","v":5},{"$f":"MATCH(E27,【元データ】評価シート!$A$5:$A$56,0)","v":13},{"$f":"MATCH(F27,【元データ】評価シート!$B$4:$T$4,0)","v":5}]
[108010,44,1,"揚重機が転倒する","移動式クレーン","崩壊・倒壊",{"$f":"INDEX(【元データ】評価シート!$B$63:$T$114,J28,K28)","v":3},{"$f":"INDEX(【元データ】評価シート!$B$5:$T$56,L28,M28)","v":2},null,{"$f":"MATCH(E28,【元データ】評価シート!$A$63:$A$114,0)","v":13},{"$f":"MATCH(F28,【元データ】評価シート!$B$62:$T$62,0)","v":5},{"$f":"MATCH(E28,【元データ】評価シート!$A$5:$A$56,0)","v":13},{"$f":"MATCH(F28,【元データ】評価シート!$B$4:$T$4,0)","v":5}]
[110010,45,1,"資材荷吊り時アウトリガー下地盤が沈下しユニック車が転倒する","移動式クレーン","崩壊・倒壊",{"$f":"INDEX(【元データ】評価シート!$B$63:$T$114,J29,K29)","v":3},{"$f":"INDEX(【元データ】評価シート!$B$5:$T$56,L29,M29)","v":2},null,{"$f":"MATCH(E29,【元データ】評価シート!$A$63:$A$114,0)","v":13},{"$f":"MATCH(F29,【元データ】評価シート!$B$62:$T$62,0)","v":5},{"$f":"MATCH(E29,【元データ】評価シート!$A$5:$A$56,0)","v":13},{"$f":"MATCH(F29,【元データ】評価シート!$B$4:$T$4,0)","v":5}]
[110010,46,1,"資材荷吊り時過過重になりユニック車が転倒する","移動式クレーン","崩壊・倒壊",{"$f":"INDEX(【元データ】評価シート!$B$63:$T$114,J30,K30)","v":3},{"$f":"INDEX(【元データ】評価シート!$B$5:$T$56,L30,M30)","v":2},null,{"$f":"MATCH(E30,【元データ】評価シート!$A$63:$A$114,0)","v":13},{"$f":"MATCH(F30,【元データ】評価シート!$B$62:$T$62,0)","v":5},{"$f":"MATCH(E30,【元データ】評価シート!$A$5:$A$56,0)","v":13},{"$f":"MATCH(F30,【元データ】評価シート!$B$4:$T$4,0)","v":5}]
[401020,47,1,"ポンプ車のブームを合図なく動かしバランスを崩して転倒する","移動式クレーン","崩壊・倒壊",{"$f":"INDEX(【元データ】評価シート!$B$63:$T$114,J31,K31)","v":3},{"$f":"INDEX(【元データ】評価シート!$B$5:$T$56,L31,M31)","v":2},null,{"$f":"MATCH(E31,【元データ】評価シート!$A$63:$A$114,0)","v":13},{"$f":"MATCH(F31,【元データ】評価シート!$B$62:$T$62,0)","v":5},{"$f":"MATCH(E31,【元データ】評価シート!$A$5:$A$56,0)","v":13},{"$f":"MATCH(F31,【元データ】評価シート!$B$4:$T$4,0)","v":5}]
[401020,48,1,"圧送車が転倒する","移動式クレーン","崩壊・倒壊",{"$f":"INDEX(【元データ】評価シート!$B$63:$T$114,J32,K32)","v":3},{"$f":"INDEX(【元データ】評価シート!$B$5:$T$56,L32,M32)","v":2},null,{"$f":"MATCH(E32,【元データ】評価シート!$A$63:$A$114,0)","v":13},{"$f":"MATCH(F32,【元データ】評価シート!$B$62:$T$62,0)","v":5},{"$f":"MATCH(E32,【元データ】評価シート!$A$5:$A$56,0)","v":13},{"$f":"MATCH(F32,【元データ】評価シート!$B$4:$T$4,0)","v":5}]
[401010,52,1,"昇降設備を使用せずに墜落する","開口部","墜落・転落",{"$f":"INDEX(【元データ】評価シート!$B$63:$T$114,J33,K33)","v":5},{"$f":"INDEX(【元データ】評価シート!$B$5:$T$56,L33,M33)","v":4},null,{"$f":"MATCH(E33,【元データ】評価シート!$A$63:$A$114,0)","v":37},{"$f":"MATCH(F33,【元データ】評価シート!$B$62:$T$62,0)","v":1},{"$f":"MATCH(E33,【元データ】評価シート!$A$5:$A$56,0)","v":37},{"$f":"MATCH(F33,【元データ】評価シート!$B$4:$T$4,0)","v":1}]
[401010,53,1,"物を取ろうと足場に足を掛け滑って転落する","開口部","墜落・転落",{"$f":"INDEX(【元データ】評価シート!$B$63:$T$114,J34,K34)","v":5},{"$f":"INDEX(【元データ】評価シート!$B$5:$T$56,L34,M34)","v":4},null,{"$f":"MATCH(E34,【元データ】評価シート!$A$63:$A$114,0)","v":37},{"$f":"MATCH(F34,【元データ】評価シート!$B$62:$T$62,0)","v":1},{"$f":"MATCH(E34,【元データ】評価シート!$A$5:$A$56,0)","v":37},{"$f":"MATCH(F34,【元データ】評価シート!$B$4:$T$4,0)","v":1}]
[401010,54,1,"足場の隙間から墜落する","開口部","墜落・転落",{"$f":"INDEX(【元データ】評価シート!$B$63:$T$114,J35,K35)","v":5},{"$f":"INDEX(【元データ】評価シート!$B$5:$T$56,L35,M35)","v":4},null,{"$f":"MATCH(E35,【元データ】評価シート!$A$63:$A$114,0)","v":37},{"$f":"MATCH(F35,【元データ】評価シート!$B$62:$T$62,0)","v":1},{"$f":"MATCH(E35,【元データ】評価シート!$A$5:$A$56,0)","v":37},{"$f":"MATCH(F35,【元データ】評価シート!$B$4:$T$4,0)","v":1}]
[402020,57,1,"荷上げで開口部から墜落する","開口部","墜落・転落",{"$f":"INDEX(【元データ】評価シート!$B$63:$T$114,J36,K36)","v":5},{"$f":"INDEX(【元データ】評価シート!$B$5:$T$56,L36,M36)","v":4},null,{"$f":"MATCH(E36,【元データ】評価シート!$A$63:$A$114,0)","v":37},{"$f":"MATCH(F36,【元データ】評価シート!$B$62:$T$62,0)","v":1},{"$f":"MATCH(E36,【元データ】評価シート!$A$5:$A$56,0)","v":37},{"$f":"MATCH(F36,【元データ】評価シート!$B$4:$T$4,0)","v":1}]
[202010,86,1,"資材にあたって負傷する","金属材料","激突",{"$f":"INDEX(【元データ】評価シート!$B$63:$T$114,J37,K37)","v":2},{"$f":"INDEX(【元データ】評価シート!$B$5:$T$56,L37,M37)","v":2},null,{"$f":"MATCH(E37,【元データ】評価シート!$A$63:$A$114,0)","v":45},{"$f":"MATCH(F37,【元データ】評価シート!$B$62:$T$62,0)","v":3},{"$f":"MATCH(E37,【元データ】評価シート!$A$5:$A$56,0)","v":45},{"$f":"MATCH(F37,【元データ】評価シート!$B$4:$T$4,0)","v":3}]
[202010,87,1,"単管パイプを受け取る際、バランスを崩して転倒する","金属材料","転倒",{"$f":"INDEX(【元データ】評価シート!$B$63:$T$114,J38,K38)","v":2},{"$f":"INDEX(【元データ】評価シート!$B$5:$T$56,L38,M38)","v":2},null,{"$f":"MATCH(E38,【元データ】評価シート!$A$63:$A$114,0)","v":45},{"$f":"MATCH(F38,【元データ】評価シート!$B$62:$T$62,0)","v":2},{"$f":"MATCH(E38,【元データ】評価シート!$A$5:$A$56,0)","v":45},{"$f":"MATCH(F38,【元データ】評価シート!$B$4:$T$4,0)","v":2}]
[301010,88,1,"敷鉄板敷き込み時、足を滑らせて転倒する","金属材料","転倒",{"$f":"INDEX(【元データ】評価シート!$B$63:$T$114,J39,K39)","v":2},{"$f":"INDEX(【元データ】評価シート!$B$5:$T$56,L39,M39)","v":2},null,{"$f":"MATCH(E39,【元データ】評価シート!$A$63:$A$114,0)","v":45},{"$f":"MATCH(F39,【元データ】評価シート!$B$62:$T$62,0)","v":2},{"$f":"MATCH(E39,【元データ】評価シート!$A$5:$A$56,0)","v":45},{"$f":"MATCH(F39,【元データ】評価シート!$B$4:$T$4,0)","v":2}]
[405010,89,1,"重量物を持って腰を痛める","金属材料","動作の反動・無理な動作",{"$f":"INDEX(【元データ】評価シート!$B$63:$T$114,J40,K40)","v":1},{"$f":"INDEX(【元データ】評価シート!$B$5:$T$56,L40,M40)","v":2},null,{"$f":"MATCH(E40,【元データ】評価シート!$A$63:$A$114,0)","v":45},{"$f":"MATCH(F40,【元データ】評価シート!$B$62:$T$62,0)","v":19},{"$f":"MATCH(E40,【元データ】評価シート!$A$5:$A$56,0)","v":45},{"$f":"MATCH(F40,【元データ】評価シート!$B$4:$T$4,0)","v":19}]
[202010,90,1,"単管パイプとクランプで指を挟む","金属材料","はさまれ・巻き込まれ",{"$f":"INDEX(【元データ】評価シート!$B$63:$T$114,J41,K41)","v":4},{"$f":"INDEX(【元データ】評価シート!$B$5:$T$56,L41,M41)","v":3},null,{"$f":"MATCH(E41,【元データ】評価シート!$A$63:$A$114,0)","v":45},{"$f":"MATCH(F41,【元データ】評価シート!$B$62:$T$62,0)","v":7},{"$f":"MATCH(E41,【元データ】評価シート!$A$5:$A$56,0)","v":45},{"$f":"MATCH(F41,【元データ】評価シート!$B$4:$T$4,0)","v":7}]
[202010,95,1,"資材受渡し時、手が滑り、落下する","金属材料","飛来・落下",{"$f":"INDEX(【元データ】評価シート!$B$63:$T$114,J42,K42)","v":5},{"$f":"INDEX(【元データ】評価シート!$B$5:$T$56,L42,M42)","v":3},null,{"$f":"MATCH(E42,【元データ】評価シート!$A$63:$A$114,0)","v":45},{"$f":"MATCH(F42,【元データ】評価シート!$B$62:$T$62,0)","v":4},{"$f":"MATCH(E42,【元データ】評価シート!$A$5:$A$56,0)","v":45},{"$f":"MATCH(F42,【元データ】評価シート!$B$4:$T$4,0)","v":4}]
[101010,105,1,"揚重作業時クレーンが転倒する","クレーン","転倒",{"$f":"INDEX(【元データ】評価シート!$B$63:$T$114,J43,K43)","v":1},{"$f":"INDEX(【元データ】評価シート!$B$5:$T$56,L43,M43)","v":2},null,{"$f":"MATCH(E43,【元データ】評価シート!$A$63:$A$114,0)","v":12},{"$f":"MATCH(F43,【元データ】評価シート!$B$62:$T$62,0)","v":2},{"$f":"MATCH(E43,【元データ】評価シート!$A$5:$A$56,0)","v":12},{"$f":"MATCH(F43,【元データ】評価シート!$B$4:$T$4,0)","v":2}]
[105010,109,1,"高所作業車使用時、転落する","高所作業車","墜落・転落",{"$f":"INDEX(【元データ】評価シート!$B$63:$T$114,J44,K44)","v":3},{"$f":"INDEX(【元データ】評価シート!$B$5:$T$56,L44,M44)","v":3},null,{"$f":"MATCH(E44,【元データ】評価シート!$A$63:$A$114,0)","v":10},{"$f":"MATCH(F44,【元データ】評価シート!$B$62:$T$62,0)","v":1},{"$f":"MATCH(E44,【元データ】評価シート!$A$5:$A$56,0)","v":10},{"$f":"MATCH(F44,【元データ】評価シート!$B$4:$T$4,0)","v":1}]
[204010,110,1,"高所作業車使用時、身を寄り出して墜落する","高所作業車","墜落・転落",{"$f":"INDEX(【元データ】評価シート!$B$63:$T$114,J45,K45)","v":3},{"$f":"INDEX(【元データ】評価シート!$B$5:$T$56,L45,M45)","v":3},null,{"$f":"MATCH(E45,【元データ】評価シート!$A$63:$A$114,0)","v":10},{"$f":"MATCH(F45,【元データ】評価シート!$B$62:$T$62,0)","v":1},{"$f":"MATCH(E45,【元データ】評価シート!$A$5:$A$56,0)","v":10},{"$f":"MATCH(F45,【元データ】評価シート!$B$4:$T$4,0)","v":1}]
[402030,111,1,"高所作業車移動時に開口部の養生蓋に引っ掛かって転倒する","高所作業車","転倒",{"$f":"INDEX(【元データ】評価シート!$B$63:$T$114,J46,K46)","v":1},{"$f":"INDEX(【元データ】評価シート!$B$5:$T$56,L46,M46)","v":2},null,{"$f":"MATCH(E46,【元データ】評価シート!$A$63:$A$114,0)","v":10},{"$f":"MATCH(F46,【元データ】評価シート!$B$62:$T$62,0)","v":2},{"$f":"MATCH(E46,【元データ】評価シート!$A$5:$A$56,0)","v":10},{"$f":"MATCH(F46,【元データ】評価シート!$B$4:$T$4,0)","v":2}]
[105010,115,1,"コンクリート打設中、スラブ筋に躓き転倒する","作業床","転倒",{"$f":"INDEX(【元データ】評価シート!$B$63:$T$114,J47,K47)","v":3},{"$f":"INDEX(【元データ】評価シート!$B$5:$T$56,L47,M47)","v":3},null,{"$f":"MATCH(E47,【元データ】評価シート!$A$63:$A$114,0)","v":39},{"$f":"MATCH(F47,【元データ】評価シート!$B$62:$T$62,0)","v":2},{"$f":"MATCH(E47,【元データ】評価シート!$A$5:$A$56,0)","v":39},{"$f":"MATCH(F47,【元データ】評価シート!$B$4:$T$4,0)","v":2}]
[301010,130,1,"地山が崩壊する","地山、岩石","崩壊・倒壊",{"$f":"INDEX(【元データ】評価シート!$B$63:$T$114,J48,K48)","v":5},{"$f":"INDEX(【元データ】評価シート!$B$5:$T$56,L48,M48)","v":5},null,{"$f":"MATCH(E48,【元データ】評価シート!$A$63:$A$114,0)","v":48},{"$f":"MATCH(F48,【元データ】評価シート!$B$62:$T$62,0)","v":5},{"$f":"MATCH(E48,【元データ】評価シート!$A$5:$A$56,0)","v":48},{"$f":"MATCH(F48,【元データ】評価シート!$B$4:$T$4,0)","v":5}]
[105020,137,1,"溶接治具運搬時、足場に手をぶつけて負傷する","人力運搬機","激突",{"$f":"INDEX(【元データ】評価シート!$B$63:$T$114,J49,K49)","v":2},{"$f":"INDEX(【元データ】評価シート!$B$5:$T$56,L49,M49)","v":2},null,{"$f":"MATCH(E49,【元データ】評価シート!$A$63:$A$114,0)","v":29},{"$f":"MATCH(F49,【元データ】評価シート!$B$62:$T$62,0)","v":3},{"$f":"MATCH(E49,【元データ】評価シート!$A$5:$A$56,0)","v":29},{"$f":"MATCH(F49,【元データ】評価シート!$B$4:$T$4,0)","v":3}]
[302010,153,1,"敷鉄板荷吊り時に玉掛けワイヤーが外れ、敷鉄板で手足を挟む","送配電線等","転倒",{"$f":"INDEX(【元データ】評価シート!$B$63:$T$114,J50,K50)","v":2},{"$f":"INDEX(【元データ】評価シート!$B$5:$T$56,L50,M50)","v":2},null,{"$f":"MATCH(E50,【元データ】評価シート!$A$63:$A$114,0)","v":26},{"$f":"MATCH(F50,【元データ】評価シート!$B$62:$T$62,0)","v":2},{"$f":"MATCH(E50,【元データ】評価シート!$A$5:$A$56,0)","v":26},{"$f":"MATCH(F50,【元データ】評価シート!$B$4:$T$4,0)","v":2}]
[110010,154,1,"荷吊り中、吊りフックから外れ敷鉄板で手を挟む","玉掛用具","はさまれ・巻き込まれ",{"$f":"INDEX(【元データ】評価シート!$B$63:$T$114,J51,K51)","v":3},{"$f":"INDEX(【元データ】評価シート!$B$5:$T$56,L51,M51)","v":2},null,{"$f":"MATCH(E51,【元データ】評価シート!$A$63:$A$114,0)","v":33},{"$f":"MATCH(F51,【元データ】評価シート!$B$62:$T$62,0)","v":7},{"$f":"MATCH(E51,【元データ】評価シート!$A$5:$A$56,0)","v":33},{"$f":"MATCH(F51,【元データ】評価シート!$B$4:$T$4,0)","v":7}]
[302010,155,1,"建方時、玉掛けワイヤーが切れて落下する","玉掛用具","はさまれ・巻き込まれ",{"$f":"INDEX(【元データ】評価シート!$B$63:$T$114,J52,K52)","v":3},{"$f":"INDEX(【元データ】評価シート!$B$5:$T$56,L52,M52)","v":2},null,{"$f":"MATCH(E52,【元データ】評価シート!$A$63:$A$114,0)","v":33},{"$f":"MATCH(F52,【元データ】評価シート!$B$62:$T$62,0)","v":7},{"$f":"MATCH(E52,【元データ】評価シート!$A$5:$A$56,0)","v":33},{"$f":"MATCH(F52,【元データ】評価シート!$B$4:$T$4,0)","v":7}]
[102010,156,1,"資材運搬時、鋼板が滑り落ち足を負傷する","玉掛用具","飛来・落下",{"$f":"INDEX(【元データ】評価シート!$B$63:$T$114,J53,K53)","v":4},{"$f":"INDEX(【元データ】評価シート!$B$5:$T$56,L53,M53)","v":3},null,{"$f":"MATCH(E53,【元データ】評価シート!$A$63:$A$114,0)","v":33},{"$f":"MATCH(F53,【元データ】評価シート!$B$62:$T$62,0)","v":4},{"$f":"MATCH(E53,【元データ】評価シート!$A$5:$A$56,0)","v":33},{"$f":"MATCH(F53,【元データ】評価シート!$B$4:$T$4,0)","v":4}]
[101010,165,1,"材料運搬時、段差に躓いて転倒する","通路","転倒",{"$f":"INDEX(【元データ】評価シート!$B$63:$T$114,J54,K54)","v":4},{"$f":"INDEX(【元データ】評価シート!$B$5:$T$56,L54,M54)","v":4},null,{"$f":"MATCH(E54,【元データ】評価シート!$A$63:$A$114,0)","v":40},{"$f":"MATCH(F54,【元データ】評価シート!$B$62:$T$62,0)","v":2},{"$f":"MATCH(E54,【元データ】評価シート!$A$5:$A$56,0)","v":40},{"$f":"MATCH(F54,【元データ】評価シート!$B$4:$T$4,0)","v":2}]
[104010,167,1,"足場上で躓いて転倒する","通路","転倒",{"$f":"INDEX(【元データ】評価シート!$B$63:$T$114,J55,K55)","v":4},{"$f":"INDEX(【元データ】評価シート!$B$5:$T$56,L55,M55)","v":4},null,{"$f":"MATCH(E55,【元データ】評価シート!$A$63:$A$114,0)","v":40},{"$f":"MATCH(F55,【元データ】評価シート!$B$62:$T$62,0)","v":2},{"$f":"MATCH(E55,【元データ】評価シート!$A$5:$A$56,0)","v":40},{"$f":"MATCH(F55,【元データ】評価シート!$B$4:$T$4,0)","v":2}]
[401010,168,1,"スラブ上で躓いて転倒する","通路","転倒",{"$f":"INDEX(【元データ】評価シート!$B$63:$T$114,J56,K56)","v":4},{"$f":"INDEX(【元データ】評価シート!$B$5:$T$56,L56,M56)","v":4},null,{"$f":"MATCH(E56,【元データ】評価シート!$A$63:$A$114,0)","v":40},{"$f":"MATCH(F56,【元データ】評価シート!$B$62:$T$62,0)","v":2},{"$f":"MATCH(E56,【元データ】評価シート!$A$5:$A$56,0)","v":40},{"$f":"MATCH(F56,【元データ】評価シート!$B$4:$T$4,0)","v":2}]
[109010,179,1,"振り上げたハンマーが目にあたる","手工具","動作の反動・無理な動作",{"$f":"INDEX(【元データ】評価シート!$B$63:$T$114,J57,K57)","v":1},{"$f":"INDEX(【元データ】評価シート!$B$5:$T$56,L57,M57)","v":2},null,{"$f":"MATCH(E57,【元データ】評価シート!$A$63:$A$114,0)","v":31},{"$f":"MATCH(F57,【元データ】評価シート!$B$62:$T$62,0)","v":19},{"$f":"MATCH(E57,【元データ】評価シート!$A$5:$A$56,0)","v":31},{"$f":"MATCH(F57,【元データ】評価シート!$B$4:$T$4,0)","v":19}]
[301030,185,1,"ベビーサンダー使用時、目に鉄粉が入る","手工具","飛来・落下",{"$f":"INDEX(【元データ】評価シート!$B$63:$T$114,J58,K58)","v":3},{"$f":"INDEX(【元データ】評価シート!$B$5:$T$56,L58,M58)","v":2},null,{"$f":"MATCH(E58,【元データ】評価シート!$A$63:$A$114,0)","v":31},{"$f":"MATCH(F58,【元データ】評価シート!$B$62:$T$62,0)","v":4},{"$f":"MATCH(E58,【元データ】評価シート!$A$5:$A$56,0)","v":31},{"$f":"MATCH(F58,【元データ】評価シート!$B$4:$T$4,0)","v":4}]
[302010,186,1,"カッターナイフで手を切る","手工具","有害物等との接触",{"$f":"INDEX(【元データ】評価シート!$B$63:$T$114,J59,K59)","v":1},{"$f":"INDEX(【元データ】評価シート!$B$5:$T$56,L59,M59)","v":1},null,{"$f":"MATCH(E59,【元データ】評価シート!$A$63:$A$114,0)","v":31},{"$f":"MATCH(F59,【元データ】評価シート!$B$62:$T$62,0)","v":12},{"$f":"MATCH(E59,【元データ】評価シート!$A$5:$A$56,0)","v":31},{"$f":"MATCH(F59,【元データ】評価シート!$B$4:$T$4,0)","v":12}]
[301010,195,1,"ベビーサンダー使用時、誤って手を切る","動力伝導機構","感電",{"$f":"INDEX(【元データ】評価シート!$B$63:$T$114,J60,K60)","v":1},{"$f":"INDEX(【元データ】評価シート!$B$5:$T$56,L60,M60)","v":1},null,{"$f":"MATCH(E60,【元データ】評価シート!$A$63:$A$114,0)","v":2},{"$f":"MATCH(F60,【元データ】評価シート!$B$62:$T$62,0)","v":13},{"$f":"MATCH(E60,【元データ】評価シート!$A$5:$A$56,0)","v":2},{"$f":"MATCH(F60,【元データ】評価シート!$B$4:$T$4,0)","v":13}]
[109010,205,1,"積込み運搬中の資材の荷崩れで負傷する","トラック","交通事故（その他）",{"$f":"INDEX(【元データ】評価シート!$B$63:$T$114,J61,K61)","v":3},{"$f":"INDEX(【元データ】評価シート!$B$5:$T$56,L61,M61)","v":1},null,{"$f":"MATCH(E61,【元データ】評価シート!$A$63:$A$114,0)","v":18},{"$f":"MATCH(F61,【元データ】評価シート!$B$62:$T$62,0)","v":18},{"$f":"MATCH(E61,【元データ】評価シート!$A$5:$A$56,0)","v":18},{"$f":"MATCH(F61,【元データ】評価シート!$B$4:$T$4,0)","v":18}]
[110010,206,1,"荷卸し時、トレーラー上から転落する","トラック","激突され",{"$f":"INDEX(【元データ】評価シート!$B$63:$T$114,J62,K62)","v":4},{"$f":"INDEX(【元データ】評価シート!$B$5:$T$56,L62,M62)","v":3},null,{"$f":"MATCH(E62,【元データ】評価シート!$A$63:$A$114,0)","v":18},{"$f":"MATCH(F62,【元データ】評価シート!$B$62:$T$62,0)","v":6},{"$f":"MATCH(E62,【元データ】評価シート!$A$5:$A$56,0)","v":18},{"$f":"MATCH(F62,【元データ】評価シート!$B$4:$T$4,0)","v":6}]
[502020,209,1,"安全ブロックを使用せず梯子やタラップから転落する","はしご等","墜落・転落",{"$f":"INDEX(【元データ】評価シート!$B$63:$T$114,J63,K63)","v":5},{"$f":"INDEX(【元データ】評価シート!$B$5:$T$56,L63,M63)","v":5},null,{"$f":"MATCH(E63,【元データ】評価シート!$A$63:$A$114,0)","v":32},{"$f":"MATCH(F63,【元データ】評価シート!$B$62:$T$62,0)","v":1},{"$f":"MATCH(E63,【元データ】評価シート!$A$5:$A$56,0)","v":32},{"$f":"MATCH(F63,【元データ】評価シート!$B$4:$T$4,0)","v":1}]
[null,224,1,"ウインチ巻取り時、介錯していた手が巻き込まれる","原動機","はさまれ・巻き込まれ",{"$f":"INDEX(【元データ】評価シート!$B$63:$T$114,J64,K64)","v":2},{"$f":"INDEX(【元データ】評価シート!$B$5:$T$56,L64,M64)","v":2},null,{"$f":"MATCH(E64,【元データ】評価シート!$A$63:$A$114,0)","v":1},{"$f":"MATCH(F64,【元データ】評価シート!$B$62:$T$62,0)","v":7},{"$f":"MATCH(E64,【元データ】評価シート!$A$5:$A$56,0)","v":1},{"$f":"MATCH(F64,【元データ】評価シート!$B$4:$T$4,0)","v":7}]
[null,225,1,"ウインチでけん引時、けん引ワイヤーが切断し、重量物と接触する","原動機","はさまれ・巻き込まれ",{"$f":"INDEX(【元データ】評価シート!$B$63:$T$114,J65,K65)","v":2},{"$f":"INDEX(【元データ】評価シート!$B$5:$T$56,L65,M65)","v":2},null,{"$f":"MATCH(E65,【元データ】評価シート!$A$63:$A$114,0)","v":1},{"$f":"MATCH(F65,【元データ】評価シート!$B$62:$T$62,0)","v":7},{"$f":"MATCH(E65,【元データ】評価シート!$A$5:$A$56,0)","v":1},{"$f":"MATCH(F65,【元データ】評価シート!$B$4:$T$4,0)","v":7}]
[null,237,1,"バッテリーカーでズリトロけん引時、脱線する","軌道装置","崩壊・倒壊",{"$f":"INDEX(【元データ】評価シート!$B$63:$T$114,J66,K66)","v":1},{"$f":"INDEX(【元データ】評価シート!$B$5:$T$56,L66,M66)","v":1},null,{"$f":"MATCH(E66,【元データ】評価シート!$A$63:$A$114,0)","v":20},{"$f":"MATCH(F66,【元データ】評価シート!$B$62:$T$62,0)","v":5},{"$f":"MATCH(E66,【元データ】評価シート!$A$5:$A$56,0)","v":20},{"$f":"MATCH(F66,【元データ】評価シート!$B$4:$T$4,0)","v":5}]
[null,238,1,"軌道装置後退時、周囲にいた作業員と接触する","軌道装置","はさまれ・巻き込まれ",{"$f":"INDEX(【元データ】評価シート!$B$63:$T$114,J67,K67)","v":2},{"$f":"INDEX(【元データ】評価シート!$B$5:$T$56,L67,M67)","v":2},null,{"$f":"MATCH(E67,【元データ】評価シート!$A$63:$A$114,0)","v":20},{"$f":"MATCH(F67,【元データ】評価シート!$B$62:$T$62,0)","v":7},{"$f":"MATCH(E67,【元データ】評価シート!$A$5:$A$56,0)","v":20},{"$f":"MATCH(F67,【元データ】評価シート!$B$4:$T$4,0)","v":7}]
[null,239,1,"軌道装置が曲線走行時、レール押え金物が外れ、脱線する","軌道装置","崩壊・倒壊",{"$f":"INDEX(【元データ】評価シート!$B$63:$T$114,J68,K68)","v":1},{"$f":"INDEX(【元データ】評価シート!$B$5:$T$56,L68,M68)","v":1},null,{"$f":"MATCH(E68,【元データ】評価シート!$A$63:$A$114,0)","v":20},{"$f":"MATCH(F68,【元データ】評価シート!$B$62:$T$62,0)","v":5},{"$f":"MATCH(E68,【元データ】評価シート!$A$5:$A$56,0)","v":20},{"$f":"MATCH(F68,【元データ】評価シート!$B$4:$T$4,0)","v":5}]
[null,240,1,"ベルトコンベアーの回転部に手を置き、巻き込まれる","コンベア","はさまれ・巻き込まれ",{"$f":"INDEX(【元データ】評価シート!$B$63:$T$114,J69,K69)","v":5},{"$f":"INDEX(【元データ】評価シート!$B$5:$T$56,L69,M69)","v":4},null,{"$f":"MATCH(E69,【元データ】評価シート!$A$63:$A$114,0)","v":21},{"$f":"MATCH(F69,【元データ】評価シート!$B$62:$T$62,0)","v":7},{"$f":"MATCH(E69,【元データ】評価シート!$A$5:$A$56,0)","v":21},{"$f":"MATCH(F69,【元データ】評価シート!$B$4:$T$4,0)","v":7}]
[null,241,1,"ベルトコンベアー修理作業時、間違って操作ボタンを押し、巻き込まれる","コンベア","はさまれ・巻き込まれ",{"$f":"INDEX(【元データ】評価シート!$B$63:$T$114,J70,K70)","v":5},{"$f":"INDEX(【元データ】評価シート!$B$5:$T$56,L70,M70)","v":4},null,{"$f":"MATCH(E70,【元データ】評価シート!$A$63:$A$114,0)","v":21},{"$f":"MATCH(F70,【元データ】評価シート!$B$62:$T$62,0)","v":7},{"$f":"MATCH(E70,【元データ】評価シート!$A$5:$A$56,0)","v":21},{"$f":"MATCH(F70,【元データ】評価シート!$B$4:$T$4,0)","v":7}]
[null,246,1,"ガソリン容器が破損し、引火する","引火性の物","火災",{"$f":"INDEX(【元データ】評価シート!$B$63:$T$114,J71,K71)","v":3},{"$f":"INDEX(【元データ】評価シート!$B$5:$T$56,L71,M71)","v":2},null,{"$f":"MATCH(E71,【元データ】評価シート!$A$63:$A$114,0)","v":42},{"$f":"MATCH(F71,【元データ】評価シート!$B$62:$T$62,0)","v":16},{"$f":"MATCH(E71,【元データ】評価シート!$A$5:$A$56,0)","v":42},{"$f":"MATCH(F71,【元データ】評価シート!$B$4:$T$4,0)","v":16}]
[null,247,1,"軽油が漏洩し、引火する","引火性の物","火災",{"$f":"INDEX(【元データ】評価シート!$B$63:$T$114,J72,K72)","v":3},{"$f":"INDEX(【元データ】評価シート!$B$5:$T$56,L72,M72)","v":2},null,{"$f":"MATCH(E72,【元データ】評価シート!$A$63:$A$114,0)","v":42},{"$f":"MATCH(F72,【元データ】評価シート!$B$62:$T$62,0)","v":16},{"$f":"MATCH(E72,【元データ】評価シート!$A$5:$A$56,0)","v":42},{"$f":"MATCH(F72,【元データ】評価シート!$B$4:$T$4,0)","v":16}]
[null,249,1,"切羽からの突発湧水によりおぼれる","水","おぼれ",{"$f":"INDEX(【元データ】評価シート!$B$63:$T$114,J73,K73)","v":5},{"$f":"INDEX(【元データ】評価シート!$B$5:$T$56,L73,M73)","v":3},null,{"$f":"MATCH(E73,【元データ】評価シート!$A$63:$A$114,0)","v":50},{"$f":"MATCH(F73,【元データ】評価シート!$B$62:$T$62,0)","v":10},{"$f":"MATCH(E73,【元データ】評価シート!$A$5:$A$56,0)","v":50},{"$f":"MATCH(F73,【元データ】評価シート!$B$4:$T$4,0)","v":10}]

{"sheet":"シールド・推進工","index":13,"n_rows":84,"n_cols":13,"rows_kept":84,"cut":false,"hidden":false,"merged":[[0,1,0,2]]}
[null,"工種区分"]
["工種コード",null,"シールド・推進工","危険ポイント","起因物","事故型","可能性","重大性"]
[206010,2,1,"溶接時、火花が飛散する","アーク溶接装置","火災",{"$f":"INDEX(【元データ】評価シート!$B$63:$T$114,J3,K3)","v":2},{"$f":"INDEX(【元データ】評価シート!$B$5:$T$56,L3,M3)","v":2},null,{"$f":"MATCH(E3,【元データ】評価シート!$A$63:$A$114,0)","v":25},{"$f":"MATCH(F3,【元データ】評価シート!$B$62:$T$62,0)","v":16},{"$f":"MATCH(E3,【元データ】評価シート!$A$5:$A$56,0)","v":25},{"$f":"MATCH(F3,【元データ】評価シート!$B$4:$T$4,0)","v":16}]
[109010,5,1,"溶接部で火傷する","アーク溶接装置","高温低温物との接触",{"$f":"INDEX(【元データ】評価シート!$B$63:$T$114,J4,K4)","v":3},{"$f":"INDEX(【元データ】評価シート!$B$5:$T$56,L4,M4)","v":2},null,{"$f":"MATCH(E4,【元データ】評価シート!$A$63:$A$114,0)","v":25},{"$f":"MATCH(F4,【元データ】評価シート!$B$62:$T$62,0)","v":11},{"$f":"MATCH(E4,【元データ】評価シート!$A$5:$A$56,0)","v":25},{"$f":"MATCH(F4,【元データ】評価シート!$B$4:$T$4,0)","v":11}]
[202010,6,1,"足場解体時、既存物、隣接建物に接触する","足場","激突",{"$f":"INDEX(【元データ】評価シート!$B$63:$T$114,J5,K5)","v":1},{"$f":"INDEX(【元データ】評価シート!$B$5:$T$56,L5,M5)","v":2},null,{"$f":"MATCH(E5,【元データ】評価シート!$A$63:$A$114,0)","v":34},{"$f":"MATCH(F5,【元データ】評価シート!$B$62:$T$62,0)","v":3},{"$f":"MATCH(E5,【元データ】評価シート!$A$5:$A$56,0)","v":34},{"$f":"MATCH(F5,【元データ】評価シート!$B$4:$T$4,0)","v":3}]
[706010,10,1,"梯子作業中バランスを崩して転落する","はしご等","墜落・転落",{"$f":"INDEX(【元データ】評価シート!$B$63:$T$114,J6,K6)","v":5},{"$f":"INDEX(【元データ】評価シート!$B$5:$T$56,L6,M6)","v":5},null,{"$f":"MATCH(E6,【元データ】評価シート!$A$63:$A$114,0)","v":32},{"$f":"MATCH(F6,【元データ】評価シート!$B$62:$T$62,0)","v":1},{"$f":"MATCH(E6,【元データ】評価シート!$A$5:$A$56,0)","v":32},{"$f":"MATCH(F6,【元データ】評価シート!$B$4:$T$4,0)","v":1}]
[105010,11,1,"足場使用時、足場から墜落する","足場","墜落・転落",{"$f":"INDEX(【元データ】評価シート!$B$63:$T$114,J7,K7)","v":5},{"$f":"INDEX(【元データ】評価シート!$B$5:$T$56,L7,M7)","v":5},null,{"$f":"MATCH(E7,【元データ】評価シート!$A$63:$A$114,0)","v":34},{"$f":"MATCH(F7,【元データ】評価シート!$B$62:$T$62,0)","v":1},{"$f":"MATCH(E7,【元データ】評価シート!$A$5:$A$56,0)","v":34},{"$f":"MATCH(F7,【元データ】評価シート!$B$4:$T$4,0)","v":1}]
[105010,12,1,"足場の隙間から墜落する","足場","墜落・転落",{"$f":"INDEX(【元データ】評価シート!$B$63:$T$114,J8,K8)","v":5},{"$f":"INDEX(【元データ】評価シート!$B$5:$T$56,L8,M8)","v":5},null,{"$f":"MATCH(E8,【元データ】評価シート!$A$63:$A$114,0)","v":34},{"$f":"MATCH(F8,【元データ】評価シート!$B$62:$T$62,0)","v":1},{"$f":"MATCH(E8,【元データ】評価シート!$A$5:$A$56,0)","v":34},{"$f":"MATCH(F8,【元データ】評価シート!$B$4:$T$4,0)","v":1}]
[203010,14,1,"足場板を固定する際、足場板の天ビンにより墜落する","足場","踏み抜き",{"$f":"INDEX(【元データ】評価シート!$B$63:$T$114,J9,K9)","v":1},{"$f":"INDEX(【元データ】評価シート!$B$5:$T$56,L9,M9)","v":1},null,{"$f":"MATCH(E9,【元データ】評価シート!$A$63:$A$114,0)","v":34},{"$f":"MATCH(F9,【元データ】評価シート!$B$62:$T$62,0)","v":9},{"$f":"MATCH(E9,【元データ】評価シート!$A$5:$A$56,0)","v":34},{"$f":"MATCH(F9,【元データ】評価シート!$B$4:$T$4,0)","v":9}]
[402030,17,1,"足場の中桟に足を掛け作業中、中桟が外れて転落する","足場","墜落・転落",{"$f":"INDEX(【元データ】評価シート!$B$63:$T$114,J10,K10)","v":5},{"$f":"INDEX(【元データ】評価シート!$B$5:$T$56,L10,M10)","v":5},null,{"$f":"MATCH(E10,【元データ】評価シート!$A$63:$A$114,0)","v":34},{"$f":"MATCH(F10,【元データ】評価シート!$B$62:$T$62,0)","v":1},{"$f":"MATCH(E10,【元データ】評価シート!$A$5:$A$56,0)","v":34},{"$f":"MATCH(F10,【元データ】評価シート!$B$4:$T$4,0)","v":1}]
[105010,21,1,"足場上で躓いて転倒する","足場","転倒",{"$f":"INDEX(【元データ】評価シート!$B$63:$T$114,J11,K11)","v":1},{"$f":"INDEX(【元データ】評価シート!$B$5:$T$56,L11,M11)","v":2},null,{"$f":"MATCH(E11,【元データ】評価シート!$A$63:$A$114,0)","v":34},{"$f":"MATCH(F11,【元データ】評価シート!$B$62:$T$62,0)","v":2},{"$f":"MATCH(E11,【元データ】評価シート!$A$5:$A$56,0)","v":34},{"$f":"MATCH(F11,【元データ】評価シート!$B$4:$T$4,0)","v":2}]
[402020,23,1,"布板昇降ハッチの蓋が閉まり手を詰める","足場","はさまれ・巻き込まれ",{"$f":"INDEX(【元データ】評価シート!$B$63:$T$114,J12,K12)","v":2},{"$f":"INDEX(【元データ】評価シート!$B$5:$T$56,L12,M12)","v":2},null,{"$f":"MATCH(E12,【元データ】評価シート!$A$63:$A$114,0)","v":34},{"$f":"MATCH(F12,【元データ】評価シート!$B$62:$T$62,0)","v":7},{"$f":"MATCH(E12,【元データ】評価シート!$A$5:$A$56,0)","v":34},{"$f":"MATCH(F12,【元データ】評価シート!$B$4:$T$4,0)","v":7}]
[105010,24,1,"足場使用時、足場から材料等を落下させる","足場","飛来・落下",{"$f":"INDEX(【元データ】評価シート!$B$63:$T$114,J13,K13)","v":2},{"$f":"INDEX(【元データ】評価シート!$B$5:$T$56,L13,M13)","v":2},null,{"$f":"MATCH(E13,【元データ】評価シート!$A$63:$A$114,0)","v":34},{"$f":"MATCH(F13,【元データ】評価シート!$B$62:$T$62,0)","v":4},{"$f":"MATCH(E13,【元データ】評価シート!$A$5:$A$56,0)","v":34},{"$f":"MATCH(F13,【元データ】評価シート!$B$4:$T$4,0)","v":4}]
[205010,30,1,"足場清掃時、足場からガラ等を落下させる","石、砂、砂利","飛来・落下",{"$f":"INDEX(【元データ】評価シート!$B$63:$T$114,J14,K14)","v":3},{"$f":"INDEX(【元データ】評価シート!$B$5:$T$56,L14,M14)","v":2},null,{"$f":"MATCH(E14,【元データ】評価シート!$A$63:$A$114,0)","v":47},{"$f":"MATCH(F14,【元データ】評価シート!$B$62:$T$62,0)","v":4},{"$f":"MATCH(E14,【元データ】評価シート!$A$5:$A$56,0)","v":47},{"$f":"MATCH(F14,【元データ】評価シート!$B$4:$T$4,0)","v":4}]
[401010,31,1,"コンクリートを外部に飛散させる","石、砂、砂利","飛来・落下",{"$f":"INDEX(【元データ】評価シート!$B$63:$T$114,J15,K15)","v":3},{"$f":"INDEX(【元データ】評価シート!$B$5:$T$56,L15,M15)","v":2},null,{"$f":"MATCH(E15,【元データ】評価シート!$A$63:$A$114,0)","v":47},{"$f":"MATCH(F15,【元データ】評価シート!$B$62:$T$62,0)","v":4},{"$f":"MATCH(E15,【元データ】評価シート!$A$5:$A$56,0)","v":47},{"$f":"MATCH(F15,【元データ】評価シート!$B$4:$T$4,0)","v":4}]
[302010,32,1,"ホース先端よりセメントミルクが飛び出し顔にかかる","石、砂、砂利","有害物等との接触",{"$f":"INDEX(【元データ】評価シート!$B$63:$T$114,J16,K16)","v":1},{"$f":"INDEX(【元データ】評価シート!$B$5:$T$56,L16,M16)","v":1},null,{"$f":"MATCH(E16,【元データ】評価シート!$A$63:$A$114,0)","v":47},{"$f":"MATCH(F16,【元データ】評価シート!$B$62:$T$62,0)","v":12},{"$f":"MATCH(E16,【元データ】評価シート!$A$5:$A$56,0)","v":47},{"$f":"MATCH(F16,【元データ】評価シート!$B$4:$T$4,0)","v":12}]
[401020,33,1,"手足にコンクリートが触れてただれる","石、砂、砂利","有害物等との接触",{"$f":"INDEX(【元データ】評価シート!$B$63:$T$114,J17,K17)","v":1},{"$f":"INDEX(【元データ】評価シート!$B$5:$T$56,L17,M17)","v":1},null,{"$f":"MATCH(E17,【元データ】評価シート!$A$63:$A$114,0)","v":47},{"$f":"MATCH(F17,【元データ】評価シート!$B$62:$T$62,0)","v":12},{"$f":"MATCH(E17,【元データ】評価シート!$A$5:$A$56,0)","v":47},{"$f":"MATCH(F17,【元データ】評価シート!$B$4:$T$4,0)","v":12}]
[403060,34,1,"グラウト材注入する際、グラウト材が目に入る","石、砂、砂利","有害物等との接触",{"$f":"INDEX(【元データ】評価シート!$B$63:$T$114,J18,K18)","v":1},{"$f":"INDEX(【元データ】評価シート!$B$5:$T$56,L18,M18)","v":1},null,{"$f":"MATCH(E18,【元データ】評価シート!$A$63:$A$114,0)","v":47},{"$f":"MATCH(F18,【元データ】評価シート!$B$62:$T$62,0)","v":12},{"$f":"MATCH(E18,【元データ】評価シート!$A$5:$A$56,0)","v":47},{"$f":"MATCH(F18,【元データ】評価シート!$B$4:$T$4,0)","v":12}]
[404020,35,1,"吊荷が強風であおられる","異常環境等","飛来・落下",{"$f":"INDEX(【元データ】評価シート!$B$63:$T$114,J19,K19)","v":1},{"$f":"INDEX(【元データ】評価シート!$B$5:$T$56,L19,M19)","v":1},null,{"$f":"MATCH(E19,【元データ】評価シート!$A$63:$A$114,0)","v":51},{"$f":"MATCH(F19,【元データ】評価シート!$B$62:$T$62,0)","v":4},{"$f":"MATCH(E19,【元データ】評価シート!$A$5:$A$56,0)","v":51},{"$f":"MATCH(F19,【元データ】評価シート!$B$4:$T$4,0)","v":4}]
[108010,36,1,"クレーン使用時、資材を既存物にぶつける","移動式クレーン","激突",{"$f":"INDEX(【元データ】評価シート!$B$63:$T$114,J20,K20)","v":1},{"$f":"INDEX(【元データ】評価シート!$B$5:$T$56,L20,M20)","v":2},null,{"$f":"MATCH(E20,【元データ】評価シート!$A$63:$A$114,0)","v":13},{"$f":"MATCH(F20,【元データ】評価シート!$B$62:$T$62,0)","v":3},{"$f":"MATCH(E20,【元データ】評価シート!$A$5:$A$56,0)","v":13},{"$f":"MATCH(F20,【元データ】評価シート!$B$4:$T$4,0)","v":3}]
[110010,37,1,"ユニック作業中誤作動にて吊荷が振れて負傷する","移動式クレーン","激突され",{"$f":"INDEX(【元データ】評価シート!$B$63:$T$114,J21,K21)","v":3},{"$f":"INDEX(【元データ】評価シート!$B$5:$T$56,L21,M21)","v":3},null,{"$f":"MATCH(E21,【元データ】評価シート!$A$63:$A$114,0)","v":13},{"$f":"MATCH(F21,【元データ】評価シート!$B$62:$T$62,0)","v":6},{"$f":"MATCH(E21,【元データ】評価シート!$A$5:$A$56,0)","v":13},{"$f":"MATCH(F21,【元データ】評価シート!$B$4:$T$4,0)","v":6}]
[108010,38,1,"ブーム組立時、高所から転落する","移動式クレーン","墜落・転落",{"$f":"INDEX(【元データ】評価シート!$B$63:$T$114,J22,K22)","v":4},{"$f":"INDEX(【元データ】評価シート!$B$5:$T$56,L22,M22)","v":4},null,{"$f":"MATCH(E22,【元データ】評価シート!$A$63:$A$114,0)","v":13},{"$f":"MATCH(F22,【元データ】評価シート!$B$62:$T$62,0)","v":1},{"$f":"MATCH(E22,【元データ】評価シート!$A$5:$A$56,0)","v":13},{"$f":"MATCH(F22,【元データ】評価シート!$B$4:$T$4,0)","v":1}]
[401020,39,1,"ブームをたたむ時、荷台から転落する","移動式クレーン","墜落・転落",{"$f":"INDEX(【元データ】評価シート!$B$63:$T$114,J23,K23)","v":4},{"$f":"INDEX(【元データ】評価シート!$B$5:$T$56,L23,M23)","v":4},null,{"$f":"MATCH(E23,【元データ】評価シート!$A$63:$A$114,0)","v":13},{"$f":"MATCH(F23,【元データ】評価シート!$B$62:$T$62,0)","v":1},{"$f":"MATCH(E23,【元データ】評価シート!$A$5:$A$56,0)","v":13},{"$f":"MATCH(F23,【元データ】評価シート!$B$4:$T$4,0)","v":1}]
[401020,40,1,"コンクリート打設中、ホースが暴れて接触し転倒する","移動式クレーン","転倒",{"$f":"INDEX(【元データ】評価シート!$B$63:$T$114,J24,K24)","v":2},{"$f":"INDEX(【元データ】評価シート!$B$5:$T$56,L24,M24)","v":2},null,{"$f":"MATCH(E24,【元データ】評価シート!$A$63:$A$114,0)","v":13},{"$f":"MATCH(F24,【元データ】評価シート!$B$62:$T$62,0)","v":2},{"$f":"MATCH(E24,【元データ】評価シート!$A$5:$A$56,0)","v":13},{"$f":"MATCH(F24,【元データ】評価シート!$B$4:$T$4,0)","v":2}]
[108010,41,1,"揚重機組立時、手･足を挟まれる","移動式クレーン","はさまれ・巻き込まれ",{"$f":"INDEX(【元データ】評価シート!$B$63:$T$114,J25,K25)","v":3},{"$f":"INDEX(【元データ】評価シート!$B$5:$T$56,L25,M25)","v":3},null,{"$f":"MATCH(E25,【元データ】評価シート!$A$63:$A$114,0)","v":13},{"$f":"MATCH(F25,【元データ】評価シート!$B$62:$T$62,0)","v":7},{"$f":"MATCH(E25,【元データ】評価シート!$A$5:$A$56,0)","v":13},{"$f":"MATCH(F25,【元データ】評価シート!$B$4:$T$4,0)","v":7}]
[401020,42,1,"ブームをたたむ時、手を挟む","移動式クレーン","はさまれ・巻き込まれ",{"$f":"INDEX(【元データ】評価シート!$B$63:$T$114,J26,K26)","v":3},{"$f":"INDEX(【元データ】評価シート!$B$5:$T$56,L26,M26)","v":3},null,{"$f":"MATCH(E26,【元データ】評価シート!$A$63:$A$114,0)","v":13},{"$f":"MATCH(F26,【元データ】評価シート!$B$62:$T$62,0)","v":7},{"$f":"MATCH(E26,【元データ】評価シート!$A$5:$A$56,0)","v":13},{"$f":"MATCH(F26,【元データ】評価シート!$B$4:$T$4,0)","v":7}]
[102010,43,1,"吊荷時、搬入車輛（ユニック車)が転倒する","移動式クレーン","崩壊・倒壊",{"$f":"INDEX(【元データ】評価シート!$B$63:$T$114,J27,K27)","v":3},{"$f":"INDEX(【元データ】評価シート!$B$5:$T$56,L27,M27)","v":2},null,{"$f":"MATCH(E27,【元データ】評価シート!$A$63:$A$114,0)","v":13},{"$f":"MATCH(F27,【元データ】評価シート!$B$62:$T$62,0)","v":5},{"$f":"MATCH(E27,【元データ】評価シート!$A$5:$A$56,0)","v":13},{"$f":"MATCH(F27,【元データ】評価シート!$B$4:$T$4,0)","v":5}]
[108010,44,1,"揚重機が転倒する","移動式クレーン","崩壊・倒壊",{"$f":"INDEX(【元データ】評価シート!$B$63:$T$114,J28,K28)","v":3},{"$f":"INDEX(【元データ】評価シート!$B$5:$T$56,L28,M28)","v":2},null,{"$f":"MATCH(E28,【元データ】評価シート!$A$63:$A$114,0)","v":13},{"$f":"MATCH(F28,【元データ】評価シート!$B$62:$T$62,0)","v":5},{"$f":"MATCH(E28,【元データ】評価シート!$A$5:$A$56,0)","v":13},{"$f":"MATCH(F28,【元データ】評価シート!$B$4:$T$4,0)","v":5}]
[110010,45,1,"資材荷吊り時アウトリガー下地盤が沈下しユニック車が転倒する","移動式クレーン","崩壊・倒壊",{"$f":"INDEX(【元データ】評価シート!$B$63:$T$114,J29,K29)","v":3},{"$f":"INDEX(【元データ】評価シート!$B$5:$T$56,L29,M29)","v":2},null,{"$f":"MATCH(E29,【元データ】評価シート!$A$63:$A$114,0)","v":13},{"$f":"MATCH(F29,【元データ】評価シート!$B$62:$T$62,0)","v":5},{"$f":"MATCH(E29,【元データ】評価シート!$A$5:$A$56,0)","v":13},{"$f":"MATCH(F29,【元データ】評価シート!$B$4:$T$4,0)","v":5}]
[110010,46,1,"資材荷吊り時過過重になりユニック車が転倒する","移動式クレーン","崩壊・倒壊",{"$f":"INDEX(【元データ】評価シート!$B$63:$T$114,J30,K30)","v":3},{"$f":"INDEX(【元データ】評価シート!$B$5:$T$56,L30,M30)","v":2},null,{"$f":"MATCH(E30,【元データ】評価シート!$A$63:$A$114,0)","v":13},{"$f":"MATCH(F30,【元データ】評価シート!$B$62:$T$62,0)","v":5},{"$f":"MATCH(E30,【元データ】評価シート!$A$5:$A$56,0)","v":13},{"$f":"MATCH(F30,【元データ】評価シート!$B$4:$T$4,0)","v":5}]
[401020,47,1,"ポンプ車のブームを合図なく動かしバランスを崩して転倒する","移動式クレーン","崩壊・倒壊",{"$f":"INDEX(【元データ】評価シート!$B$63:$T$114,J31,K31)","v":3},{"$f":"INDEX(【元データ】評価シート!$B$5:$T$56,L31,M31)","v":2},null,{"$f":"MATCH(E31,【元データ】評価シート!$A$63:$A$114,0)","v":13},{"$f":"MATCH(F31,【元データ】評価シート!$B$62:$T$62,0)","v":5},{"$f":"MATCH(E31,【元データ】評価シート!$A$5:$A$56,0)","v":13},{"$f":"MATCH(F31,【元データ】評価シート!$B$4:$T$4,0)","v":5}]
[401020,48,1,"圧送車が転倒する","移動式クレーン","崩壊・倒壊",{"$f":"INDEX(【元データ】評価シート!$B$63:$T$114,J32,K32)","v":3},{"$f":"INDEX(【元データ】評価シート!$B$5:$T$56,L32,M32)","v":2},null,{"$f":"MATCH(E32,【元データ】評価シート!$A$63:$A$114,0)","v":13},{"$f":"MATCH(F32,【元データ】評価シート!$B$62:$T$62,0)","v":5},{"$f":"MATCH(E32,【元データ】評価シート!$A$5:$A$56,0)","v":13},{"$f":"MATCH(F32,【元データ】評価シート!$B$4:$T$4,0)","v":5}]
[401010,52,1,"昇降設備を使用せずに墜落する","開口部","墜落・転落",{"$f":"INDEX(【元データ】評価シート!$B$63:$T$114,J33,K33)","v":5},{"$f":"INDEX(【元データ】評価シート!$B$5:$T$56,L33,M33)","v":4},null,{"$f":"MATCH(E33,【元データ】評価シート!$A$63:$A$114,0)","v":37},{"$f":"MATCH(F33,【元データ】評価シート!$B$62:$T$62,0)","v":1},{"$f":"MATCH(E33,【元データ】評価シート!$A$5:$A$56,0)","v":37},{"$f":"MATCH(F33,【元データ】評価シート!$B$4:$T$4,0)","v":1}]
[401010,53,1,"物を取ろうと足場に足を掛け滑って転落する","開口部","墜落・転落",{"$f":"INDEX(【元データ】評価シート!$B$63:$T$114,J34,K34)","v":5},{"$f":"INDEX(【元データ】評価シート!$B$5:$T$56,L34,M34)","v":4},null,{"$f":"MATCH(E34,【元データ】評価シート!$A$63:$A$114,0)","v":37},{"$f":"MATCH(F34,【元データ】評価シート!$B$62:$T$62,0)","v":1},{"$f":"MATCH(E34,【元データ】評価シート!$A$5:$A$56,0)","v":37},{"$f":"MATCH(F34,【元データ】評価シート!$B$4:$T$4,0)","v":1}]
[401010,54,1,"足場の隙間から墜落する","開口部","墜落・転落",{"$f":"INDEX(【元データ】評価シート!$B$63:$T$114,J35,K35)","v":5},{"$f":"INDEX(【元データ】評価シート!$B$5:$T$56,L35,M35)","v":4},null,{"$f":"MATCH(E35,【元データ】評価シート!$A$63:$A$114,0)","v":37},{"$f":"MATCH(F35,【元データ】評価シート!$B$62:$T$62,0)","v":1},{"$f":"MATCH(E35,【元データ】評価シート!$A$5:$A$56,0)","v":37},{"$f":"MATCH(F35,【元データ】評価シート!$B$4:$T$4,0)","v":1}]
[402020,57,1,"荷上げで開口部から墜落する","開口部","墜落・転落",{"$f":"INDEX(【元データ】評価シート!$B$63:$T$114,J36,K36)","v":5},{"$f":"INDEX(【元データ】評価シート!$B$5:$T$56,L36,M36)","v":4},null,{"$f":"MATCH(E36,【元データ】評価シート!$A$63:$A$114,0)","v":37},{"$f":"MATCH(F36,【元データ】評価シート!$B$62:$T$62,0)","v":1},{"$f":"MATCH(E36,【元データ】評価シート!$A$5:$A$56,0)","v":37},{"$f":"MATCH(F36,【元データ】評価シート!$B$4:$T$4,0)","v":1}]
[206010,70,1,"ガス切断時アセチレンガスが漏れ、火事になる","ガス溶接装置","火災",{"$f":"INDEX(【元データ】評価シート!$B$63:$T$114,J37,K37)","v":3},{"$f":"INDEX(【元データ】評価シート!$B$5:$T$56,L37,M37)","v":2},null,{"$f":"MATCH(E37,【元データ】評価シート!$A$63:$A$114,0)","v":24},{"$f":"MATCH(F37,【元データ】評価シート!$B$62:$T$62,0)","v":16},{"$f":"MATCH(E37,【元データ】評価シート!$A$5:$A$56,0)","v":24},{"$f":"MATCH(F37,【元データ】評価シート!$B$4:$T$4,0)","v":16}]
[402050,71,1,"ピット内で酸欠する","可燃性のガス","有害物等との接触",{"$f":"INDEX(【元データ】評価シート!$B$63:$T$114,J38,K38)","v":2},{"$f":"INDEX(【元データ】評価シート!$B$5:$T$56,L38,M38)","v":2},null,{"$f":"MATCH(E38,【元データ】評価シート!$A$63:$A$114,0)","v":43},{"$f":"MATCH(F38,【元データ】評価シート!$B$62:$T$62,0)","v":12},{"$f":"MATCH(E38,【元データ】評価シート!$A$5:$A$56,0)","v":43},{"$f":"MATCH(F38,【元データ】評価シート!$B$4:$T$4,0)","v":12}]
[302010,72,1,"ロッド組立時、高所から転落する","基礎工事用機械","墜落・転落",{"$f":"INDEX(【元データ】評価シート!$B$63:$T$114,J39,K39)","v":2},{"$f":"INDEX(【元データ】評価シート!$B$5:$T$56,L39,M39)","v":2},null,{"$f":"MATCH(E39,【元データ】評価シート!$A$63:$A$114,0)","v":7},{"$f":"MATCH(F39,【元データ】評価シート!$B$62:$T$62,0)","v":1},{"$f":"MATCH(E39,【元データ】評価シート!$A$5:$A$56,0)","v":7},{"$f":"MATCH(F39,【元データ】評価シート!$B$4:$T$4,0)","v":1}]
[101010,85,1,"長尺物を振り回す際、作業員にぶつける","金属材料","激突",{"$f":"INDEX(【元データ】評価シート!$B$63:$T$114,J40,K40)","v":2},{"$f":"INDEX(【元データ】評価シート!$B$5:$T$56,L40,M40)","v":2},null,{"$f":"MATCH(E40,【元データ】評価シート!$A$63:$A$114,0)","v":45},{"$f":"MATCH(F40,【元データ】評価シート!$B$62:$T$62,0)","v":3},{"$f":"MATCH(E40,【元データ】評価シート!$A$5:$A$56,0)","v":45},{"$f":"MATCH(F40,【元データ】評価シート!$B$4:$T$4,0)","v":3}]
[202010,86,1,"資材にあたって負傷する","金属材料","激突",{"$f":"INDEX(【元データ】評価シート!$B$63:$T$114,J41,K41)","v":2},{"$f":"INDEX(【元データ】評価シート!$B$5:$T$56,L41,M41)","v":2},null,{"$f":"MATCH(E41,【元データ】評価シート!$A$63:$A$114,0)","v":45},{"$f":"MATCH(F41,【元データ】評価シート!$B$62:$T$62,0)","v":3},{"$f":"MATCH(E41,【元データ】評価シート!$A$5:$A$56,0)","v":45},{"$f":"MATCH(F41,【元データ】評価シート!$B$4:$T$4,0)","v":3}]
[202010,87,1,"単管パイプを受け取る際、バランスを崩して転倒する","金属材料","転倒",{"$f":"INDEX(【元データ】評価シート!$B$63:$T$114,J42,K42)","v":2},{"$f":"INDEX(【元データ】評価シート!$B$5:$T$56,L42,M42)","v":2},null,{"$f":"MATCH(E42,【元データ】評価シート!$A$63:$A$114,0)","v":45},{"$f":"MATCH(F42,【元データ】評価シート!$B$62:$T$62,0)","v":2},{"$f":"MATCH(E42,【元データ】評価シート!$A$5:$A$56,0)","v":45},{"$f":"MATCH(F42,【元データ】評価シート!$B$4:$T$4,0)","v":2}]
[301010,88,1,"敷鉄板敷き込み時、足を滑らせて転倒する","金属材料","転倒",{"$f":"INDEX(【元データ】評価シート!$B$63:$T$114,J43,K43)","v":2},{"$f":"INDEX(【元データ】評価シート!$B$5:$T$56,L43,M43)","v":2},null,{"$f":"MATCH(E43,【元データ】評価シート!$A$63:$A$114,0)","v":45},{"$f":"MATCH(F43,【元データ】評価シート!$B$62:$T$62,0)","v":2},{"$f":"MATCH(E43,【元データ】評価シート!$A$5:$A$56,0)","v":45},{"$f":"MATCH(F43,【元データ】評価シート!$B$4:$T$4,0)","v":2}]
[405010,89,1,"重量物を持って腰を痛める","金属材料","動作の反動・無理な動作",{"$f":"INDEX(【元データ】評価シート!$B$63:$T$114,J44,K44)","v":1},{"$f":"INDEX(【元データ】評価シート!$B$5:$T$56,L44,M44)","v":2},null,{"$f":"MATCH(E44,【元データ】評価シート!$A$63:$A$114,0)","v":45},{"$f":"MATCH(F44,【元データ】評価シート!$B$62:$T$62,0)","v":19},{"$f":"MATCH(E44,【元データ】評価シート!$A$5:$A$56,0)","v":45},{"$f":"MATCH(F44,【元データ】評価シート!$B$4:$T$4,0)","v":19}]
[202010,90,1,"単管パイプとクランプで指を挟む","金属材料","はさまれ・巻き込まれ",{"$f":"INDEX(【元データ】評価シート!$B$63:$T$114,J45,K45)","v":4},{"$f":"INDEX(【元データ】評価シート!$B$5:$T$56,L45,M45)","v":3},null,{"$f":"MATCH(E45,【元データ】評価シート!$A$63:$A$114,0)","v":45},{"$f":"MATCH(F45,【元データ】評価シート!$B$62:$T$62,0)","v":7},{"$f":"MATCH(E45,【元データ】評価シート!$A$5:$A$56,0)","v":45},{"$f":"MATCH(F45,【元データ】評価シート!$B$4:$T$4,0)","v":7}]
[202010,95,1,"資材受渡し時、手が滑り、落下する","金属材料","飛来・落下",{"$f":"INDEX(【元データ】評価シート!$B$63:$T$114,J46,K46)","v":5},{"$f":"INDEX(【元データ】評価シート!$B$5:$T$56,L46,M46)","v":3},null,{"$f":"MATCH(E46,【元データ】評価シート!$A$63:$A$114,0)","v":45},{"$f":"MATCH(F46,【元データ】評価シート!$B$62:$T$62,0)","v":4},{"$f":"MATCH(E46,【元データ】評価シート!$A$5:$A$56,0)","v":45},{"$f":"MATCH(F46,【元データ】評価シート!$B$4:$T$4,0)","v":4}]
[101010,105,1,"揚重作業時クレーンが転倒する","クレーン","転倒",{"$f":"INDEX(【元データ】評価シート!$B$63:$T$114,J47,K47)","v":1},{"$f":"INDEX(【元データ】評価シート!$B$5:$T$56,L47,M47)","v":2},null,{"$f":"MATCH(E47,【元データ】評価シート!$A$63:$A$114,0)","v":12},{"$f":"MATCH(F47,【元データ】評価シート!$B$62:$T$62,0)","v":2},{"$f":"MATCH(E47,【元データ】評価シート!$A$5:$A$56,0)","v":12},{"$f":"MATCH(F47,【元データ】評価シート!$B$4:$T$4,0)","v":2}]
[201010,113,1,"梁天端から転落する","作業床","墜落・転落",{"$f":"INDEX(【元データ】評価シート!$B$63:$T$114,J48,K48)","v":5},{"$f":"INDEX(【元データ】評価シート!$B$5:$T$56,L48,M48)","v":4},null,{"$f":"MATCH(E48,【元データ】評価シート!$A$63:$A$114,0)","v":39},{"$f":"MATCH(F48,【元データ】評価シート!$B$62:$T$62,0)","v":1},{"$f":"MATCH(E48,【元データ】評価シート!$A$5:$A$56,0)","v":39},{"$f":"MATCH(F48,【元データ】評価シート!$B$4:$T$4,0)","v":1}]
[401010,135,1,"材料移動時、既存物、隣接建物に接触する","人力運搬機","転倒",{"$f":"INDEX(【元データ】評価シート!$B$63:$T$114,J49,K49)","v":3},{"$f":"INDEX(【元データ】評価シート!$B$5:$T$56,L49,M49)","v":3},null,{"$f":"MATCH(E49,【元データ】評価シート!$A$63:$A$114,0)","v":29},{"$f":"MATCH(F49,【元データ】評価シート!$B$62:$T$62,0)","v":2},{"$f":"MATCH(E49,【元データ】評価シート!$A$5:$A$56,0)","v":29},{"$f":"MATCH(F49,【元データ】評価シート!$B$4:$T$4,0)","v":2}]
[101010,136,1,"配管運搬時に、周囲の人に材料を当ててしまう","人力運搬機","激突",{"$f":"INDEX(【元データ】評価シート!$B$63:$T$114,J50,K50)","v":2},{"$f":"INDEX(【元データ】評価シート!$B$5:$T$56,L50,M50)","v":2},null,{"$f":"MATCH(E50,【元データ】評価シート!$A$63:$A$114,0)","v":29},{"$f":"MATCH(F50,【元データ】評価シート!$B$62:$T$62,0)","v":3},{"$f":"MATCH(E50,【元データ】評価シート!$A$5:$A$56,0)","v":29},{"$f":"MATCH(F50,【元データ】評価シート!$B$4:$T$4,0)","v":3}]
[105020,137,1,"溶接治具運搬時、足場に手をぶつけて負傷する","人力運搬機","激突",{"$f":"INDEX(【元データ】評価シート!$B$63:$T$114,J51,K51)","v":2},{"$f":"INDEX(【元データ】評価シート!$B$5:$T$56,L51,M51)","v":2},null,{"$f":"MATCH(E51,【元データ】評価シート!$A$63:$A$114,0)","v":29},{"$f":"MATCH(F51,【元データ】評価シート!$B$62:$T$62,0)","v":3},{"$f":"MATCH(E51,【元データ】評価シート!$A$5:$A$56,0)","v":29},{"$f":"MATCH(F51,【元データ】評価シート!$B$4:$T$4,0)","v":3}]
[403050,138,1,"材料運搬時、躓いて転倒する","人力運搬機","激突",{"$f":"INDEX(【元データ】評価シート!$B$63:$T$114,J52,K52)","v":2},{"$f":"INDEX(【元データ】評価シート!$B$5:$T$56,L52,M52)","v":2},null,{"$f":"MATCH(E52,【元データ】評価シート!$A$63:$A$114,0)","v":29},{"$f":"MATCH(F52,【元データ】評価シート!$B$62:$T$62,0)","v":3},{"$f":"MATCH(E52,【元データ】評価シート!$A$5:$A$56,0)","v":29},{"$f":"MATCH(F52,【元データ】評価シート!$B$4:$T$4,0)","v":3}]
[103010,139,1,"重量物を持って腰を痛める","人力運搬機","転倒",{"$f":"INDEX(【元データ】評価シート!$B$63:$T$114,J53,K53)","v":3},{"$f":"INDEX(【元データ】評価シート!$B$5:$T$56,L53,M53)","v":3},null,{"$f":"MATCH(E53,【元データ】評価シート!$A$63:$A$114,0)","v":29},{"$f":"MATCH(F53,【元データ】評価シート!$B$62:$T$62,0)","v":2},{"$f":"MATCH(E53,【元データ】評価シート!$A$5:$A$56,0)","v":29},{"$f":"MATCH(F53,【元データ】評価シート!$B$4:$T$4,0)","v":2}]
[105020,140,1,"資材運搬時、台車に手を挟まれて負傷する","人力運搬機","動作の反動・無理な動作",{"$f":"INDEX(【元データ】評価シート!$B$63:$T$114,J54,K54)","v":1},{"$f":"INDEX(【元データ】評価シート!$B$5:$T$56,L54,M54)","v":2},null,{"$f":"MATCH(E54,【元データ】評価シート!$A$63:$A$114,0)","v":29},{"$f":"MATCH(F54,【元データ】評価シート!$B$62:$T$62,0)","v":19},{"$f":"MATCH(E54,【元データ】評価シート!$A$5:$A$56,0)","v":29},{"$f":"MATCH(F54,【元データ】評価シート!$B$4:$T$4,0)","v":19}]
[302010,153,1,"敷鉄板荷吊り時に玉掛けワイヤーが外れ、敷鉄板で手足を挟む","送配電線等","転倒",{"$f":"INDEX(【元データ】評価シート!$B$63:$T$114,J55,K55)","v":2},{"$f":"INDEX(【元データ】評価シート!$B$5:$T$56,L55,M55)","v":2},null,{"$f":"MATCH(E55,【元データ】評価シート!$A$63:$A$114,0)","v":26},{"$f":"MATCH(F55,【元データ】評価シート!$B$62:$T$62,0)","v":2},{"$f":"MATCH(E55,【元データ】評価シート!$A$5:$A$56,0)","v":26},{"$f":"MATCH(F55,【元データ】評価シート!$B$4:$T$4,0)","v":2}]
[110010,154,1,"荷吊り中、吊りフックから外れ敷鉄板で手を挟む","玉掛用具","はさまれ・巻き込まれ",{"$f":"INDEX(【元データ】評価シート!$B$63:$T$114,J56,K56)","v":3},{"$f":"INDEX(【元データ】評価シート!$B$5:$T$56,L56,M56)","v":2},null,{"$f":"MATCH(E56,【元データ】評価シート!$A$63:$A$114,0)","v":33},{"$f":"MATCH(F56,【元データ】評価シート!$B$62:$T$62,0)","v":7},{"$f":"MATCH(E56,【元データ】評価シート!$A$5:$A$56,0)","v":33},{"$f":"MATCH(F56,【元データ】評価シート!$B$4:$T$4,0)","v":7}]
[302010,155,1,"建方時、玉掛けワイヤーが切れて落下する","玉掛用具","はさまれ・巻き込まれ",{"$f":"INDEX(【元データ】評価シート!$B$63:$T$114,J57,K57)","v":3},{"$f":"INDEX(【元データ】評価シート!$B$5:$T$56,L57,M57)","v":2},null,{"$f":"MATCH(E57,【元データ】評価シート!$A$63:$A$114,0)","v":33},{"$f":"MATCH(F57,【元データ】評価シート!$B$62:$T$62,0)","v":7},{"$f":"MATCH(E57,【元データ】評価シート!$A$5:$A$56,0)","v":33},{"$f":"MATCH(F57,【元データ】評価シート!$B$4:$T$4,0)","v":7}]
[102010,156,1,"資材運搬時、鋼板が滑り落ち足を負傷する","玉掛用具","飛来・落下",{"$f":"INDEX(【元データ】評価シート!$B$63:$T$114,J58,K58)","v":4},{"$f":"INDEX(【元データ】評価シート!$B$5:$T$56,L58,M58)","v":3},null,{"$f":"MATCH(E58,【元データ】評価シート!$A$63:$A$114,0)","v":33},{"$f":"MATCH(F58,【元データ】評価シート!$B$62:$T$62,0)","v":4},{"$f":"MATCH(E58,【元データ】評価シート!$A$5:$A$56,0)","v":33},{"$f":"MATCH(F58,【元データ】評価シート!$B$4:$T$4,0)","v":4}]
[605010,162,1,"通路足場から身を寄り出した際、墜落する","ゴンドラ","墜落・転落",{"$f":"INDEX(【元データ】評価シート!$B$63:$T$114,J59,K59)","v":1},{"$f":"INDEX(【元データ】評価シート!$B$5:$T$56,L59,M59)","v":2},null,{"$f":"MATCH(E59,【元データ】評価シート!$A$63:$A$114,0)","v":16},{"$f":"MATCH(F59,【元データ】評価シート!$B$62:$T$62,0)","v":1},{"$f":"MATCH(E59,【元データ】評価シート!$A$5:$A$56,0)","v":16},{"$f":"MATCH(F59,【元データ】評価シート!$B$4:$T$4,0)","v":1}]
[101010,165,1,"材料運搬時、段差に躓いて転倒する","通路","転倒",{"$f":"INDEX(【元データ】評価シート!$B$63:$T$114,J60,K60)","v":4},{"$f":"INDEX(【元データ】評価シート!$B$5:$T$56,L60,M60)","v":4},null,{"$f":"MATCH(E60,【元データ】評価シート!$A$63:$A$114,0)","v":40},{"$f":"MATCH(F60,【元データ】評価シート!$B$62:$T$62,0)","v":2},{"$f":"MATCH(E60,【元データ】評価シート!$A$5:$A$56,0)","v":40},{"$f":"MATCH(F60,【元データ】評価シート!$B$4:$T$4,0)","v":2}]
[104010,167,1,"足場上で躓いて転倒する","通路","転倒",{"$f":"INDEX(【元データ】評価シート!$B$63:$T$114,J61,K61)","v":4},{"$f":"INDEX(【元データ】評価シート!$B$5:$T$56,L61,M61)","v":4},null,{"$f":"MATCH(E61,【元データ】評価シート!$A$63:$A$114,0)","v":40},{"$f":"MATCH(F61,【元データ】評価シート!$B$62:$T$62,0)","v":2},{"$f":"MATCH(E61,【元データ】評価シート!$A$5:$A$56,0)","v":40},{"$f":"MATCH(F61,【元データ】評価シート!$B$4:$T$4,0)","v":2}]
[401010,168,1,"スラブ上で躓いて転倒する","通路","転倒",{"$f":"INDEX(【元データ】評価シート!$B$63:$T$114,J62,K62)","v":4},{"$f":"INDEX(【元データ】評価シート!$B$5:$T$56,L62,M62)","v":4},null,{"$f":"MATCH(E62,【元データ】評価シート!$A$63:$A$114,0)","v":40},{"$f":"MATCH(F62,【元データ】評価シート!$B$62:$T$62,0)","v":2},{"$f":"MATCH(E62,【元データ】評価シート!$A$5:$A$56,0)","v":40},{"$f":"MATCH(F62,【元データ】評価シート!$B$4:$T$4,0)","v":2}]
[109010,179,1,"振り上げたハンマーが目にあたる","手工具","動作の反動・無理な動作",{"$f":"INDEX(【元データ】評価シート!$B$63:$T$114,J63,K63)","v":1},{"$f":"INDEX(【元データ】評価シート!$B$5:$T$56,L63,M63)","v":2},null,{"$f":"MATCH(E63,【元データ】評価シート!$A$63:$A$114,0)","v":31},{"$f":"MATCH(F63,【元データ】評価シート!$B$62:$T$62,0)","v":19},{"$f":"MATCH(E63,【元データ】評価シート!$A$5:$A$56,0)","v":31},{"$f":"MATCH(F63,【元データ】評価シート!$B$4:$T$4,0)","v":19}]
[301030,185,1,"ベビーサンダー使用時、目に鉄粉が入る","手工具","飛来・落下",{"$f":"INDEX(【元データ】評価シート!$B$63:$T$114,J64,K64)","v":3},{"$f":"INDEX(【元データ】評価シート!$B$5:$T$56,L64,M64)","v":2},null,{"$f":"MATCH(E64,【元データ】評価シート!$A$63:$A$114,0)","v":31},{"$f":"MATCH(F64,【元データ】評価シート!$B$62:$T$62,0)","v":4},{"$f":"MATCH(E64,【元データ】評価シート!$A$5:$A$56,0)","v":31},{"$f":"MATCH(F64,【元データ】評価シート!$B$4:$T$4,0)","v":4}]
[302010,186,1,"カッターナイフで手を切る","手工具","有害物等との接触",{"$f":"INDEX(【元データ】評価シート!$B$63:$T$114,J65,K65)","v":1},{"$f":"INDEX(【元データ】評価シート!$B$5:$T$56,L65,M65)","v":1},null,{"$f":"MATCH(E65,【元データ】評価シート!$A$63:$A$114,0)","v":31},{"$f":"MATCH(F65,【元データ】評価シート!$B$62:$T$62,0)","v":12},{"$f":"MATCH(E65,【元データ】評価シート!$A$5:$A$56,0)","v":31},{"$f":"MATCH(F65,【元データ】評価シート!$B$4:$T$4,0)","v":12}]
[301010,195,1,"ベビーサンダー使用時、誤って手を切る","動力伝導機構","感電",{"$f":"INDEX(【元データ】評価シート!$B$63:$T$114,J66,K66)","v":1},{"$f":"INDEX(【元データ】評価シート!$B$5:$T$56,L66,M66)","v":1},null,{"$f":"MATCH(E66,【元データ】評価シート!$A$63:$A$114,0)","v":2},{"$f":"MATCH(F66,【元データ】評価シート!$B$62:$T$62,0)","v":13},{"$f":"MATCH(E66,【元データ】評価シート!$A$5:$A$56,0)","v":2},{"$f":"MATCH(F66,【元データ】評価シート!$B$4:$T$4,0)","v":13}]
[109010,205,1,"積込み運搬中の資材の荷崩れで負傷する","トラック","交通事故（その他）",{"$f":"INDEX(【元データ】評価シート!$B$63:$T$114,J67,K67)","v":3},{"$f":"INDEX(【元データ】評価シート!$B$5:$T$56,L67,M67)","v":1},null,{"$f":"MATCH(E67,【元データ】評価シート!$A$63:$A$114,0)","v":18},{"$f":"MATCH(F67,【元データ】評価シート!$B$62:$T$62,0)","v":18},{"$f":"MATCH(E67,【元データ】評価シート!$A$5:$A$56,0)","v":18},{"$f":"MATCH(F67,【元データ】評価シート!$B$4:$T$4,0)","v":18}]
[110010,206,1,"荷卸し時、トレーラー上から転落する","トラック","激突され",{"$f":"INDEX(【元データ】評価シート!$B$63:$T$114,J68,K68)","v":4},{"$f":"INDEX(【元データ】評価シート!$B$5:$T$56,L68,M68)","v":3},null,{"$f":"MATCH(E68,【元データ】評価シート!$A$63:$A$114,0)","v":18},{"$f":"MATCH(F68,【元データ】評価シート!$B$62:$T$62,0)","v":6},{"$f":"MATCH(E68,【元データ】評価シート!$A$5:$A$56,0)","v":18},{"$f":"MATCH(F68,【元データ】評価シート!$B$4:$T$4,0)","v":6}]
[108010,207,1,"ピット内清掃時、ピット内で酸欠になる","トラック","墜落・転落",{"$f":"INDEX(【元データ】評価シート!$B$63:$T$114,J69,K69)","v":5},{"$f":"INDEX(【元データ】評価シート!$B$5:$T$56,L69,M69)","v":5},null,{"$f":"MATCH(E69,【元データ】評価シート!$A$63:$A$114,0)","v":18},{"$f":"MATCH(F69,【元データ】評価シート!$B$62:$T$62,0)","v":1},{"$f":"MATCH(E69,【元データ】評価シート!$A$5:$A$56,0)","v":18},{"$f":"MATCH(F69,【元データ】評価シート!$B$4:$T$4,0)","v":1}]
[205010,208,1,"有機溶剤で気分が悪くなる","有害物","有害物等との接触",{"$f":"INDEX(【元データ】評価シート!$B$63:$T$114,J70,K70)","v":4},{"$f":"INDEX(【元データ】評価シート!$B$5:$T$56,L70,M70)","v":2},null,{"$f":"MATCH(E70,【元データ】評価シート!$A$63:$A$114,0)","v":44},{"$f":"MATCH(F70,【元データ】評価シート!$B$62:$T$62,0)","v":12},{"$f":"MATCH(E70,【元データ】評価シート!$A$5:$A$56,0)","v":44},{"$f":"MATCH(F70,【元データ】評価シート!$B$4:$T$4,0)","v":12}]
[502020,209,1,"安全ブロックを使用せず梯子やタラップから転落する","はしご等","墜落・転落",{"$f":"INDEX(【元データ】評価シート!$B$63:$T$114,J71,K71)","v":5},{"$f":"INDEX(【元データ】評価シート!$B$5:$T$56,L71,M71)","v":5},null,{"$f":"MATCH(E71,【元データ】評価シート!$A$63:$A$114,0)","v":32},{"$f":"MATCH(F71,【元データ】評価シート!$B$62:$T$62,0)","v":1},{"$f":"MATCH(E71,【元データ】評価シート!$A$5:$A$56,0)","v":32},{"$f":"MATCH(F71,【元データ】評価シート!$B$4:$T$4,0)","v":1}]
[101010,210,1,"ピット内昇降時、足を滑らせ墜落する","はしご等","墜落・転落",{"$f":"INDEX(【元データ】評価シート!$B$63:$T$114,J72,K72)","v":5},{"$f":"INDEX(【元データ】評価シート!$B$5:$T$56,L72,M72)","v":5},null,{"$f":"MATCH(E72,【元データ】評価シート!$A$63:$A$114,0)","v":32},{"$f":"MATCH(F72,【元データ】評価シート!$B$62:$T$62,0)","v":1},{"$f":"MATCH(E72,【元データ】評価シート!$A$5:$A$56,0)","v":32},{"$f":"MATCH(F72,【元データ】評価シート!$B$4:$T$4,0)","v":1}]
[205010,211,1,"フォークリフト移動時、作業員と接触する","フォークリフト","激突",{"$f":"INDEX(【元データ】評価シート!$B$63:$T$114,J73,K73)","v":2},{"$f":"INDEX(【元データ】評価シート!$B$5:$T$56,L73,M73)","v":2},null,{"$f":"MATCH(E73,【元データ】評価シート!$A$63:$A$114,0)","v":19},{"$f":"MATCH(F73,【元データ】評価シート!$B$62:$T$62,0)","v":3},{"$f":"MATCH(E73,【元データ】評価シート!$A$5:$A$56,0)","v":19},{"$f":"MATCH(F73,【元データ】評価シート!$B$4:$T$4,0)","v":3}]
[null,224,1,"ウインチ巻取り時、介錯していた手が巻き込まれる","原動機","はさまれ・巻き込まれ",{"$f":"INDEX(【元データ】評価シート!$B$63:$T$114,J74,K74)","v":2},{"$f":"INDEX(【元データ】評価シート!$B$5:$T$56,L74,M74)","v":2},null,{"$f":"MATCH(E74,【元データ】評価シート!$A$63:$A$114,0)","v":1},{"$f":"MATCH(F74,【元データ】評価シート!$B$62:$T$62,0)","v":7},{"$f":"MATCH(E74,【元データ】評価シート!$A$5:$A$56,0)","v":1},{"$f":"MATCH(F74,【元データ】評価シート!$B$4:$T$4,0)","v":7}]
[null,225,1,"ウインチでけん引時、けん引ワイヤーが切断し、重量物と接触する","原動機","はさまれ・巻き込まれ",{"$f":"INDEX(【元データ】評価シート!$B$63:$T$114,J75,K75)","v":2},{"$f":"INDEX(【元データ】評価シート!$B$5:$T$56,L75,M75)","v":2},null,{"$f":"MATCH(E75,【元データ】評価シート!$A$63:$A$114,0)","v":1},{"$f":"MATCH(F75,【元データ】評価シート!$B$62:$T$62,0)","v":7},{"$f":"MATCH(E75,【元データ】評価シート!$A$5:$A$56,0)","v":1},{"$f":"MATCH(F75,【元データ】評価シート!$B$4:$T$4,0)","v":7}]
[null,237,1,"バッテリーカーでズリトロけん引時、脱線する","軌道装置","崩壊・倒壊",{"$f":"INDEX(【元データ】評価シート!$B$63:$T$114,J76,K76)","v":1},{"$f":"INDEX(【元データ】評価シート!$B$5:$T$56,L76,M76)","v":1},null,{"$f":"MATCH(E76,【元データ】評価シート!$A$63:$A$114,0)","v":20},{"$f":"MATCH(F76,【元データ】評価シート!$B$62:$T$62,0)","v":5},{"$f":"MATCH(E76,【元データ】評価シート!$A$5:$A$56,0)","v":20},{"$f":"MATCH(F76,【元データ】評価シート!$B$4:$T$4,0)","v":5}]
[null,238,1,"軌道装置後退時、周囲にいた作業員と接触する","軌道装置","はさまれ・巻き込まれ",{"$f":"INDEX(【元データ】評価シート!$B$63:$T$114,J77,K77)","v":2},{"$f":"INDEX(【元データ】評価シート!$B$5:$T$56,L77,M77)","v":2},null,{"$f":"MATCH(E77,【元データ】評価シート!$A$63:$A$114,0)","v":20},{"$f":"MATCH(F77,【元データ】評価シート!$B$62:$T$62,0)","v":7},{"$f":"MATCH(E77,【元データ】評価シート!$A$5:$A$56,0)","v":20},{"$f":"MATCH(F77,【元データ】評価シート!$B$4:$T$4,0)","v":7}]
[null,239,1,"軌道装置が曲線走行時、レール押え金物が外れ、脱線する","軌道装置","崩壊・倒壊",{"$f":"INDEX(【元データ】評価シート!$B$63:$T$114,J78,K78)","v":1},{"$f":"INDEX(【元データ】評価シート!$B$5:$T$56,L78,M78)","v":1},null,{"$f":"MATCH(E78,【元データ】評価シート!$A$63:$A$114,0)","v":20},{"$f":"MATCH(F78,【元データ】評価シート!$B$62:$T$62,0)","v":5},{"$f":"MATCH(E78,【元データ】評価シート!$A$5:$A$56,0)","v":20},{"$f":"MATCH(F78,【元データ】評価シート!$B$4:$T$4,0)","v":5}]
[null,240,1,"ベルトコンベアーの回転部に手を置き、巻き込まれる","コンベア","はさまれ・巻き込まれ",{"$f":"INDEX(【元データ】評価シート!$B$63:$T$114,J79,K79)","v":5},{"$f":"INDEX(【元データ】評価シート!$B$5:$T$56,L79,M79)","v":4},null,{"$f":"MATCH(E79,【元データ】評価シート!$A$63:$A$114,0)","v":21},{"$f":"MATCH(F79,【元データ】評価シート!$B$62:$T$62,0)","v":7},{"$f":"MATCH(E79,【元データ】評価シート!$A$5:$A$56,0)","v":21},{"$f":"MATCH(F79,【元データ】評価シート!$B$4:$T$4,0)","v":7}]
[null,241,1,"ベルトコンベアー修理作業時、間違って操作ボタンを押し、巻き込まれる","コンベア","はさまれ・巻き込まれ",{"$f":"INDEX(【元データ】評価シート!$B$63:$T$114,J80,K80)","v":5},{"$f":"INDEX(【元データ】評価シート!$B$5:$T$56,L80,M80)","v":4},null,{"$f":"MATCH(E80,【元データ】評価シート!$A$63:$A$114,0)","v":21},{"$f":"MATCH(F80,【元データ】評価シート!$B$62:$T$62,0)","v":7},{"$f":"MATCH(E80,【元データ】評価シート!$A$5:$A$56,0)","v":21},{"$f":"MATCH(F80,【元データ】評価シート!$B$4:$T$4,0)","v":7}]
[null,244,1,"チェーンブロックで鋼材引き寄せ時、引く方向に手を置き、挟まれる","人力クレーン等","はさまれ・巻き込まれ",{"$f":"INDEX(【元データ】評価シート!$B$63:$T$114,J81,K81)","v":3},{"$f":"INDEX(【元データ】評価シート!$B$5:$T$56,L81,M81)","v":2},null,{"$f":"MATCH(E81,【元データ】評価シート!$A$63:$A$114,0)","v":28},{"$f":"MATCH(F81,【元データ】評価シート!$B$62:$T$62,0)","v":7},{"$f":"MATCH(E81,【元データ】評価シート!$A$5:$A$56,0)","v":28},{"$f":"MATCH(F81,【元データ】評価シート!$B$4:$T$4,0)","v":7}]
[null,245,1,"２台のチェーンブロックで鋼材吊り上げ時、左右のバランスが悪く、片側に吊荷が流れ挟まれる","人力クレーン等","はさまれ・巻き込まれ",{"$f":"INDEX(【元データ】評価シート!$B$63:$T$114,J82,K82)","v":3},{"$f":"INDEX(【元データ】評価シート!$B$5:$T$56,L82,M82)","v":2},null,{"$f":"MATCH(E82,【元データ】評価シート!$A$63:$A$114,0)","v":28},{"$f":"MATCH(F82,【元データ】評価シート!$B$62:$T$62,0)","v":7},{"$f":"MATCH(E82,【元データ】評価シート!$A$5:$A$56,0)","v":28},{"$f":"MATCH(F82,【元データ】評価シート!$B$4:$T$4,0)","v":7}]
[null,246,1,"ガソリン容器が破損し、引火する","引火性の物","火災",{"$f":"INDEX(【元データ】評価シート!$B$63:$T$114,J83,K83)","v":3},{"$f":"INDEX(【元データ】評価シート!$B$5:$T$56,L83,M83)","v":2},null,{"$f":"MATCH(E83,【元データ】評価シート!$A$63:$A$114,0)","v":42},{"$f":"MATCH(F83,【元データ】評価シート!$B$62:$T$62,0)","v":16},{"$f":"MATCH(E83,【元データ】評価シート!$A$5:$A$56,0)","v":42},{"$f":"MATCH(F83,【元データ】評価シート!$B$4:$T$4,0)","v":16}]
[null,247,1,"軽油が漏洩し、引火する","引火性の物","火災",{"$f":"INDEX(【元データ】評価シート!$B$63:$T$114,J84,K84)","v":3},{"$f":"INDEX(【元データ】評価シート!$B$5:$T$56,L84,M84)","v":2},null,{"$f":"MATCH(E84,【元データ】評価シート!$A$63:$A$114,0)","v":42},{"$f":"MATCH(F84,【元データ】評価シート!$B$62:$T$62,0)","v":16},{"$f":"MATCH(E84,【元データ】評価シート!$A$5:$A$56,0)","v":42},{"$f":"MATCH(F84,【元データ】評価シート!$B$4:$T$4,0)","v":16}]

{"sheet":"杭・配管・ 機械工","index":14,"n_rows":100,"n_cols":13,"rows_kept":100,"cut":false,"hidden":false,"merged":[[0,1,0,2]]}
[null,"工種区分"]
["工種コード",null,"杭・配管・\n機械工","危険ポイント","起因物","事故型","可能性","重大性"]
[206010,2,1,"溶接時、火花が飛散する","アーク溶接装置","火災",{"$f":"INDEX(【元データ】評価シート!$B$63:$T$114,J3,K3)","v":2},{"$f":"INDEX(【元データ】評価シート!$B$5:$T$56,L3,M3)","v":2},null,{"$f":"MATCH(E3,【元データ】評価シート!$A$63:$A$114,0)","v":25},{"$f":"MATCH(F3,【元データ】評価シート!$B$62:$T$62,0)","v":16},{"$f":"MATCH(E3,【元データ】評価シート!$A$5:$A$56,0)","v":25},{"$f":"MATCH(F3,【元データ】評価シート!$B$4:$T$4,0)","v":16}]
[109010,5,1,"溶接部で火傷する","アーク溶接装置","高温低温物との接触",{"$f":"INDEX(【元データ】評価シート!$B$63:$T$114,J4,K4)","v":3},{"$f":"INDEX(【元データ】評価シート!$B$5:$T$56,L4,M4)","v":2},null,{"$f":"MATCH(E4,【元データ】評価シート!$A$63:$A$114,0)","v":25},{"$f":"MATCH(F4,【元データ】評価シート!$B$62:$T$62,0)","v":11},{"$f":"MATCH(E4,【元データ】評価シート!$A$5:$A$56,0)","v":25},{"$f":"MATCH(F4,【元データ】評価シート!$B$4:$T$4,0)","v":11}]
[101010,7,1,"立馬で材料荷渡しや作業時に転落する","足場","墜落・転落",{"$f":"INDEX(【元データ】評価シート!$B$63:$T$114,J5,K5)","v":5},{"$f":"INDEX(【元データ】評価シート!$B$5:$T$56,L5,M5)","v":5},null,{"$f":"MATCH(E5,【元データ】評価シート!$A$63:$A$114,0)","v":34},{"$f":"MATCH(F5,【元データ】評価シート!$B$62:$T$62,0)","v":1},{"$f":"MATCH(E5,【元データ】評価シート!$A$5:$A$56,0)","v":34},{"$f":"MATCH(F5,【元データ】評価シート!$B$4:$T$4,0)","v":1}]
[101010,8,1,"立馬の脚が段差・床スリーブにはまり、または縮んで転落・転倒する","足場","墜落・転落",{"$f":"INDEX(【元データ】評価シート!$B$63:$T$114,J6,K6)","v":5},{"$f":"INDEX(【元データ】評価シート!$B$5:$T$56,L6,M6)","v":5},null,{"$f":"MATCH(E6,【元データ】評価シート!$A$63:$A$114,0)","v":34},{"$f":"MATCH(F6,【元データ】評価シート!$B$62:$T$62,0)","v":1},{"$f":"MATCH(E6,【元データ】評価シート!$A$5:$A$56,0)","v":34},{"$f":"MATCH(F6,【元データ】評価シート!$B$4:$T$4,0)","v":1}]
[101010,9,1,"立馬から降りる時に踏み外して転落する","足場","踏み抜き",{"$f":"INDEX(【元データ】評価シート!$B$63:$T$114,J7,K7)","v":1},{"$f":"INDEX(【元データ】評価シート!$B$5:$T$56,L7,M7)","v":1},null,{"$f":"MATCH(E7,【元データ】評価シート!$A$63:$A$114,0)","v":34},{"$f":"MATCH(F7,【元データ】評価シート!$B$62:$T$62,0)","v":9},{"$f":"MATCH(E7,【元データ】評価シート!$A$5:$A$56,0)","v":34},{"$f":"MATCH(F7,【元データ】評価シート!$B$4:$T$4,0)","v":9}]
[706010,10,1,"梯子作業中バランスを崩して転落する","はしご等","墜落・転落",{"$f":"INDEX(【元データ】評価シート!$B$63:$T$114,J8,K8)","v":5},{"$f":"INDEX(【元データ】評価シート!$B$5:$T$56,L8,M8)","v":5},null,{"$f":"MATCH(E8,【元データ】評価シート!$A$63:$A$114,0)","v":32},{"$f":"MATCH(F8,【元データ】評価シート!$B$62:$T$62,0)","v":1},{"$f":"MATCH(E8,【元データ】評価シート!$A$5:$A$56,0)","v":32},{"$f":"MATCH(F8,【元データ】評価シート!$B$4:$T$4,0)","v":1}]
[105010,11,1,"足場使用時、足場から墜落する","足場","墜落・転落",{"$f":"INDEX(【元データ】評価シート!$B$63:$T$114,J9,K9)","v":5},{"$f":"INDEX(【元データ】評価シート!$B$5:$T$56,L9,M9)","v":5},null,{"$f":"MATCH(E9,【元データ】評価シート!$A$63:$A$114,0)","v":34},{"$f":"MATCH(F9,【元データ】評価シート!$B$62:$T$62,0)","v":1},{"$f":"MATCH(E9,【元データ】評価シート!$A$5:$A$56,0)","v":34},{"$f":"MATCH(F9,【元データ】評価シート!$B$4:$T$4,0)","v":1}]
[105010,12,1,"足場の隙間から墜落する","足場","墜落・転落",{"$f":"INDEX(【元データ】評価シート!$B$63:$T$114,J10,K10)","v":5},{"$f":"INDEX(【元データ】評価シート!$B$5:$T$56,L10,M10)","v":5},null,{"$f":"MATCH(E10,【元データ】評価シート!$A$63:$A$114,0)","v":34},{"$f":"MATCH(F10,【元データ】評価シート!$B$62:$T$62,0)","v":1},{"$f":"MATCH(E10,【元データ】評価シート!$A$5:$A$56,0)","v":34},{"$f":"MATCH(F10,【元データ】評価シート!$B$4:$T$4,0)","v":1}]
[203010,14,1,"足場板を固定する際、足場板の天ビンにより墜落する","足場","踏み抜き",{"$f":"INDEX(【元データ】評価シート!$B$63:$T$114,J11,K11)","v":1},{"$f":"INDEX(【元データ】評価シート!$B$5:$T$56,L11,M11)","v":1},null,{"$f":"MATCH(E11,【元データ】評価シート!$A$63:$A$114,0)","v":34},{"$f":"MATCH(F11,【元データ】評価シート!$B$62:$T$62,0)","v":9},{"$f":"MATCH(E11,【元データ】評価シート!$A$5:$A$56,0)","v":34},{"$f":"MATCH(F11,【元データ】評価シート!$B$4:$T$4,0)","v":9}]
[402020,15,1,"立馬上で作業中突風にあおられ材料と共に転落する","足場","墜落・転落",{"$f":"INDEX(【元データ】評価シート!$B$63:$T$114,J12,K12)","v":5},{"$f":"INDEX(【元データ】評価シート!$B$5:$T$56,L12,M12)","v":5},null,{"$f":"MATCH(E12,【元データ】評価シート!$A$63:$A$114,0)","v":34},{"$f":"MATCH(F12,【元データ】評価シート!$B$62:$T$62,0)","v":1},{"$f":"MATCH(E12,【元データ】評価シート!$A$5:$A$56,0)","v":34},{"$f":"MATCH(F12,【元データ】評価シート!$B$4:$T$4,0)","v":1}]
[402030,17,1,"足場の中桟に足を掛け作業中、中桟が外れて転落する","足場","墜落・転落",{"$f":"INDEX(【元データ】評価シート!$B$63:$T$114,J13,K13)","v":5},{"$f":"INDEX(【元データ】評価シート!$B$5:$T$56,L13,M13)","v":5},null,{"$f":"MATCH(E13,【元データ】評価シート!$A$63:$A$114,0)","v":34},{"$f":"MATCH(F13,【元データ】評価シート!$B$62:$T$62,0)","v":1},{"$f":"MATCH(E13,【元データ】評価シート!$A$5:$A$56,0)","v":34},{"$f":"MATCH(F13,【元データ】評価シート!$B$4:$T$4,0)","v":1}]
[105010,21,1,"足場上で躓いて転倒する","足場","転倒",{"$f":"INDEX(【元データ】評価シート!$B$63:$T$114,J14,K14)","v":1},{"$f":"INDEX(【元データ】評価シート!$B$5:$T$56,L14,M14)","v":2},null,{"$f":"MATCH(E14,【元データ】評価シート!$A$63:$A$114,0)","v":34},{"$f":"MATCH(F14,【元データ】評価シート!$B$62:$T$62,0)","v":2},{"$f":"MATCH(E14,【元データ】評価シート!$A$5:$A$56,0)","v":34},{"$f":"MATCH(F14,【元データ】評価シート!$B$4:$T$4,0)","v":2}]
[402020,23,1,"布板昇降ハッチの蓋が閉まり手を詰める","足場","はさまれ・巻き込まれ",{"$f":"INDEX(【元データ】評価シート!$B$63:$T$114,J15,K15)","v":2},{"$f":"INDEX(【元データ】評価シート!$B$5:$T$56,L15,M15)","v":2},null,{"$f":"MATCH(E15,【元データ】評価シート!$A$63:$A$114,0)","v":34},{"$f":"MATCH(F15,【元データ】評価シート!$B$62:$T$62,0)","v":7},{"$f":"MATCH(E15,【元データ】評価シート!$A$5:$A$56,0)","v":34},{"$f":"MATCH(F15,【元データ】評価シート!$B$4:$T$4,0)","v":7}]
[105010,24,1,"足場使用時、足場から材料等を落下させる","足場","飛来・落下",{"$f":"INDEX(【元データ】評価シート!$B$63:$T$114,J16,K16)","v":2},{"$f":"INDEX(【元データ】評価シート!$B$5:$T$56,L16,M16)","v":2},null,{"$f":"MATCH(E16,【元データ】評価シート!$A$63:$A$114,0)","v":34},{"$f":"MATCH(F16,【元データ】評価シート!$B$62:$T$62,0)","v":4},{"$f":"MATCH(E16,【元データ】評価シート!$A$5:$A$56,0)","v":34},{"$f":"MATCH(F16,【元データ】評価シート!$B$4:$T$4,0)","v":4}]
[404020,35,1,"吊荷が強風であおられる","異常環境等","飛来・落下",{"$f":"INDEX(【元データ】評価シート!$B$63:$T$114,J17,K17)","v":1},{"$f":"INDEX(【元データ】評価シート!$B$5:$T$56,L17,M17)","v":1},null,{"$f":"MATCH(E17,【元データ】評価シート!$A$63:$A$114,0)","v":51},{"$f":"MATCH(F17,【元データ】評価シート!$B$62:$T$62,0)","v":4},{"$f":"MATCH(E17,【元データ】評価シート!$A$5:$A$56,0)","v":51},{"$f":"MATCH(F17,【元データ】評価シート!$B$4:$T$4,0)","v":4}]
[108010,36,1,"クレーン使用時、資材を既存物にぶつける","移動式クレーン","激突",{"$f":"INDEX(【元データ】評価シート!$B$63:$T$114,J18,K18)","v":1},{"$f":"INDEX(【元データ】評価シート!$B$5:$T$56,L18,M18)","v":2},null,{"$f":"MATCH(E18,【元データ】評価シート!$A$63:$A$114,0)","v":13},{"$f":"MATCH(F18,【元データ】評価シート!$B$62:$T$62,0)","v":3},{"$f":"MATCH(E18,【元データ】評価シート!$A$5:$A$56,0)","v":13},{"$f":"MATCH(F18,【元データ】評価シート!$B$4:$T$4,0)","v":3}]
[110010,37,1,"ユニック作業中誤作動にて吊荷が振れて負傷する","移動式クレーン","激突され",{"$f":"INDEX(【元データ】評価シート!$B$63:$T$114,J19,K19)","v":3},{"$f":"INDEX(【元データ】評価シート!$B$5:$T$56,L19,M19)","v":3},null,{"$f":"MATCH(E19,【元データ】評価シート!$A$63:$A$114,0)","v":13},{"$f":"MATCH(F19,【元データ】評価シート!$B$62:$T$62,0)","v":6},{"$f":"MATCH(E19,【元データ】評価シート!$A$5:$A$56,0)","v":13},{"$f":"MATCH(F19,【元データ】評価シート!$B$4:$T$4,0)","v":6}]
[108010,38,1,"ブーム組立時、高所から転落する","移動式クレーン","墜落・転落",{"$f":"INDEX(【元データ】評価シート!$B$63:$T$114,J20,K20)","v":4},{"$f":"INDEX(【元データ】評価シート!$B$5:$T$56,L20,M20)","v":4},null,{"$f":"MATCH(E20,【元データ】評価シート!$A$63:$A$114,0)","v":13},{"$f":"MATCH(F20,【元データ】評価シート!$B$62:$T$62,0)","v":1},{"$f":"MATCH(E20,【元データ】評価シート!$A$5:$A$56,0)","v":13},{"$f":"MATCH(F20,【元データ】評価シート!$B$4:$T$4,0)","v":1}]
[401020,39,1,"ブームをたたむ時、荷台から転落する","移動式クレーン","墜落・転落",{"$f":"INDEX(【元データ】評価シート!$B$63:$T$114,J21,K21)","v":4},{"$f":"INDEX(【元データ】評価シート!$B$5:$T$56,L21,M21)","v":4},null,{"$f":"MATCH(E21,【元データ】評価シート!$A$63:$A$114,0)","v":13},{"$f":"MATCH(F21,【元データ】評価シート!$B$62:$T$62,0)","v":1},{"$f":"MATCH(E21,【元データ】評価シート!$A$5:$A$56,0)","v":13},{"$f":"MATCH(F21,【元データ】評価シート!$B$4:$T$4,0)","v":1}]
[108010,41,1,"揚重機組立時、手･足を挟まれる","移動式クレーン","はさまれ・巻き込まれ",{"$f":"INDEX(【元データ】評価シート!$B$63:$T$114,J22,K22)","v":3},{"$f":"INDEX(【元データ】評価シート!$B$5:$T$56,L22,M22)","v":3},null,{"$f":"MATCH(E22,【元データ】評価シート!$A$63:$A$114,0)","v":13},{"$f":"MATCH(F22,【元データ】評価シート!$B$62:$T$62,0)","v":7},{"$f":"MATCH(E22,【元データ】評価シート!$A$5:$A$56,0)","v":13},{"$f":"MATCH(F22,【元データ】評価シート!$B$4:$T$4,0)","v":7}]
[401020,42,1,"ブームをたたむ時、手を挟む","移動式クレーン","はさまれ・巻き込まれ",{"$f":"INDEX(【元データ】評価シート!$B$63:$T$114,J23,K23)","v":3},{"$f":"INDEX(【元データ】評価シート!$B$5:$T$56,L23,M23)","v":3},null,{"$f":"MATCH(E23,【元データ】評価シート!$A$63:$A$114,0)","v":13},{"$f":"MATCH(F23,【元データ】評価シート!$B$62:$T$62,0)","v":7},{"$f":"MATCH(E23,【元データ】評価シート!$A$5:$A$56,0)","v":13},{"$f":"MATCH(F23,【元データ】評価シート!$B$4:$T$4,0)","v":7}]
[102010,43,1,"吊荷時、搬入車輛（ユニック車)が転倒する","移動式クレーン","崩壊・倒壊",{"$f":"INDEX(【元データ】評価シート!$B$63:$T$114,J24,K24)","v":3},{"$f":"INDEX(【元データ】評価シート!$B$5:$T$56,L24,M24)","v":2},null,{"$f":"MATCH(E24,【元データ】評価シート!$A$63:$A$114,0)","v":13},{"$f":"MATCH(F24,【元データ】評価シート!$B$62:$T$62,0)","v":5},{"$f":"MATCH(E24,【元データ】評価シート!$A$5:$A$56,0)","v":13},{"$f":"MATCH(F24,【元データ】評価シート!$B$4:$T$4,0)","v":5}]
[108010,44,1,"揚重機が転倒する","移動式クレーン","崩壊・倒壊",{"$f":"INDEX(【元データ】評価シート!$B$63:$T$114,J25,K25)","v":3},{"$f":"INDEX(【元データ】評価シート!$B$5:$T$56,L25,M25)","v":2},null,{"$f":"MATCH(E25,【元データ】評価シート!$A$63:$A$114,0)","v":13},{"$f":"MATCH(F25,【元データ】評価シート!$B$62:$T$62,0)","v":5},{"$f":"MATCH(E25,【元データ】評価シート!$A$5:$A$56,0)","v":13},{"$f":"MATCH(F25,【元データ】評価シート!$B$4:$T$4,0)","v":5}]
[110010,45,1,"資材荷吊り時アウトリガー下地盤が沈下しユニック車が転倒する","移動式クレーン","崩壊・倒壊",{"$f":"INDEX(【元データ】評価シート!$B$63:$T$114,J26,K26)","v":3},{"$f":"INDEX(【元データ】評価シート!$B$5:$T$56,L26,M26)","v":2},null,{"$f":"MATCH(E26,【元データ】評価シート!$A$63:$A$114,0)","v":13},{"$f":"MATCH(F26,【元データ】評価シート!$B$62:$T$62,0)","v":5},{"$f":"MATCH(E26,【元データ】評価シート!$A$5:$A$56,0)","v":13},{"$f":"MATCH(F26,【元データ】評価シート!$B$4:$T$4,0)","v":5}]
[110010,46,1,"資材荷吊り時過過重になりユニック車が転倒する","移動式クレーン","崩壊・倒壊",{"$f":"INDEX(【元データ】評価シート!$B$63:$T$114,J27,K27)","v":3},{"$f":"INDEX(【元データ】評価シート!$B$5:$T$56,L27,M27)","v":2},null,{"$f":"MATCH(E27,【元データ】評価シート!$A$63:$A$114,0)","v":13},{"$f":"MATCH(F27,【元データ】評価シート!$B$62:$T$62,0)","v":5},{"$f":"MATCH(E27,【元データ】評価シート!$A$5:$A$56,0)","v":13},{"$f":"MATCH(F27,【元データ】評価シート!$B$4:$T$4,0)","v":5}]
[206010,50,1,"構台架設時、梁から墜落する","開口部","墜落・転落",{"$f":"INDEX(【元データ】評価シート!$B$63:$T$114,J28,K28)","v":5},{"$f":"INDEX(【元データ】評価シート!$B$5:$T$56,L28,M28)","v":4},null,{"$f":"MATCH(E28,【元データ】評価シート!$A$63:$A$114,0)","v":37},{"$f":"MATCH(F28,【元データ】評価シート!$B$62:$T$62,0)","v":1},{"$f":"MATCH(E28,【元データ】評価シート!$A$5:$A$56,0)","v":37},{"$f":"MATCH(F28,【元データ】評価シート!$B$4:$T$4,0)","v":1}]
[401010,52,1,"昇降設備を使用せずに墜落する","開口部","墜落・転落",{"$f":"INDEX(【元データ】評価シート!$B$63:$T$114,J29,K29)","v":5},{"$f":"INDEX(【元データ】評価シート!$B$5:$T$56,L29,M29)","v":4},null,{"$f":"MATCH(E29,【元データ】評価シート!$A$63:$A$114,0)","v":37},{"$f":"MATCH(F29,【元データ】評価シート!$B$62:$T$62,0)","v":1},{"$f":"MATCH(E29,【元データ】評価シート!$A$5:$A$56,0)","v":37},{"$f":"MATCH(F29,【元データ】評価シート!$B$4:$T$4,0)","v":1}]
[401010,53,1,"物を取ろうと足場に足を掛け滑って転落する","開口部","墜落・転落",{"$f":"INDEX(【元データ】評価シート!$B$63:$T$114,J30,K30)","v":5},{"$f":"INDEX(【元データ】評価シート!$B$5:$T$56,L30,M30)","v":4},null,{"$f":"MATCH(E30,【元データ】評価シート!$A$63:$A$114,0)","v":37},{"$f":"MATCH(F30,【元データ】評価シート!$B$62:$T$62,0)","v":1},{"$f":"MATCH(E30,【元データ】評価シート!$A$5:$A$56,0)","v":37},{"$f":"MATCH(F30,【元データ】評価シート!$B$4:$T$4,0)","v":1}]
[401010,54,1,"足場の隙間から墜落する","開口部","墜落・転落",{"$f":"INDEX(【元データ】評価シート!$B$63:$T$114,J31,K31)","v":5},{"$f":"INDEX(【元データ】評価シート!$B$5:$T$56,L31,M31)","v":4},null,{"$f":"MATCH(E31,【元データ】評価シート!$A$63:$A$114,0)","v":37},{"$f":"MATCH(F31,【元データ】評価シート!$B$62:$T$62,0)","v":1},{"$f":"MATCH(E31,【元データ】評価シート!$A$5:$A$56,0)","v":37},{"$f":"MATCH(F31,【元データ】評価シート!$B$4:$T$4,0)","v":1}]
[402020,57,1,"荷上げで開口部から墜落する","開口部","墜落・転落",{"$f":"INDEX(【元データ】評価シート!$B$63:$T$114,J32,K32)","v":5},{"$f":"INDEX(【元データ】評価シート!$B$5:$T$56,L32,M32)","v":4},null,{"$f":"MATCH(E32,【元データ】評価シート!$A$63:$A$114,0)","v":37},{"$f":"MATCH(F32,【元データ】評価シート!$B$62:$T$62,0)","v":1},{"$f":"MATCH(E32,【元データ】評価シート!$A$5:$A$56,0)","v":37},{"$f":"MATCH(F32,【元データ】評価シート!$B$4:$T$4,0)","v":1}]
[405010,61,1,"ＰＣ組立時、スラブ端部から墜落する","開口部","墜落・転落",{"$f":"INDEX(【元データ】評価シート!$B$63:$T$114,J33,K33)","v":5},{"$f":"INDEX(【元データ】評価シート!$B$5:$T$56,L33,M33)","v":4},null,{"$f":"MATCH(E33,【元データ】評価シート!$A$63:$A$114,0)","v":37},{"$f":"MATCH(F33,【元データ】評価シート!$B$62:$T$62,0)","v":1},{"$f":"MATCH(E33,【元データ】評価シート!$A$5:$A$56,0)","v":37},{"$f":"MATCH(F33,【元データ】評価シート!$B$4:$T$4,0)","v":1}]
[206010,64,1,"構台架設時、手が滑り工具類が落下する","開口部","飛来・落下",{"$f":"INDEX(【元データ】評価シート!$B$63:$T$114,J34,K34)","v":1},{"$f":"INDEX(【元データ】評価シート!$B$5:$T$56,L34,M34)","v":1},null,{"$f":"MATCH(E34,【元データ】評価シート!$A$63:$A$114,0)","v":37},{"$f":"MATCH(F34,【元データ】評価シート!$B$62:$T$62,0)","v":4},{"$f":"MATCH(E34,【元データ】評価シート!$A$5:$A$56,0)","v":37},{"$f":"MATCH(F34,【元データ】評価シート!$B$4:$T$4,0)","v":4}]
[404030,65,1,"ﾎﾞﾙﾄ締め時、手が滑り工具類が落下する","開口部","飛来・落下",{"$f":"INDEX(【元データ】評価シート!$B$63:$T$114,J35,K35)","v":1},{"$f":"INDEX(【元データ】評価シート!$B$5:$T$56,L35,M35)","v":1},null,{"$f":"MATCH(E35,【元データ】評価シート!$A$63:$A$114,0)","v":37},{"$f":"MATCH(F35,【元データ】評価シート!$B$62:$T$62,0)","v":4},{"$f":"MATCH(E35,【元データ】評価シート!$A$5:$A$56,0)","v":37},{"$f":"MATCH(F35,【元データ】評価シート!$B$4:$T$4,0)","v":4}]
[404050,66,1,"ﾃﾞｯｷ敷込み時、手が滑り工具類を落下させる","開口部","飛来・落下",{"$f":"INDEX(【元データ】評価シート!$B$63:$T$114,J36,K36)","v":1},{"$f":"INDEX(【元データ】評価シート!$B$5:$T$56,L36,M36)","v":1},null,{"$f":"MATCH(E36,【元データ】評価シート!$A$63:$A$114,0)","v":37},{"$f":"MATCH(F36,【元データ】評価シート!$B$62:$T$62,0)","v":4},{"$f":"MATCH(E36,【元データ】評価シート!$A$5:$A$56,0)","v":37},{"$f":"MATCH(F36,【元データ】評価シート!$B$4:$T$4,0)","v":4}]
[206010,70,1,"ガス切断時アセチレンガスが漏れ、火事になる","ガス溶接装置","火災",{"$f":"INDEX(【元データ】評価シート!$B$63:$T$114,J37,K37)","v":3},{"$f":"INDEX(【元データ】評価シート!$B$5:$T$56,L37,M37)","v":2},null,{"$f":"MATCH(E37,【元データ】評価シート!$A$63:$A$114,0)","v":24},{"$f":"MATCH(F37,【元データ】評価シート!$B$62:$T$62,0)","v":16},{"$f":"MATCH(E37,【元データ】評価シート!$A$5:$A$56,0)","v":24},{"$f":"MATCH(F37,【元データ】評価シート!$B$4:$T$4,0)","v":16}]
[402050,71,1,"ピット内で酸欠する","可燃性のガス","有害物等との接触",{"$f":"INDEX(【元データ】評価シート!$B$63:$T$114,J38,K38)","v":2},{"$f":"INDEX(【元データ】評価シート!$B$5:$T$56,L38,M38)","v":2},null,{"$f":"MATCH(E38,【元データ】評価シート!$A$63:$A$114,0)","v":43},{"$f":"MATCH(F38,【元データ】評価シート!$B$62:$T$62,0)","v":12},{"$f":"MATCH(E38,【元データ】評価シート!$A$5:$A$56,0)","v":43},{"$f":"MATCH(F38,【元データ】評価シート!$B$4:$T$4,0)","v":12}]
[302010,73,1,"オーガー取付時、リーダーの間に手･足を挟む","基礎工事用機械","はさまれ・巻き込まれ",{"$f":"INDEX(【元データ】評価シート!$B$63:$T$114,J39,K39)","v":2},{"$f":"INDEX(【元データ】評価シート!$B$5:$T$56,L39,M39)","v":2},null,{"$f":"MATCH(E39,【元データ】評価シート!$A$63:$A$114,0)","v":7},{"$f":"MATCH(F39,【元データ】評価シート!$B$62:$T$62,0)","v":7},{"$f":"MATCH(E39,【元データ】評価シート!$A$5:$A$56,0)","v":7},{"$f":"MATCH(F39,【元データ】評価シート!$B$4:$T$4,0)","v":7}]
[302010,74,1,"杭打ち機と作業員が接触する","基礎工事用機械","はさまれ・巻き込まれ",{"$f":"INDEX(【元データ】評価シート!$B$63:$T$114,J40,K40)","v":2},{"$f":"INDEX(【元データ】評価シート!$B$5:$T$56,L40,M40)","v":2},null,{"$f":"MATCH(E40,【元データ】評価シート!$A$63:$A$114,0)","v":7},{"$f":"MATCH(F40,【元データ】評価シート!$B$62:$T$62,0)","v":7},{"$f":"MATCH(E40,【元データ】評価シート!$A$5:$A$56,0)","v":7},{"$f":"MATCH(F40,【元データ】評価シート!$B$4:$T$4,0)","v":7}]
[302010,75,1,"杭ジョイント時、下杭と上杭の間に指を挟む","基礎工事用機械","はさまれ・巻き込まれ",{"$f":"INDEX(【元データ】評価シート!$B$63:$T$114,J41,K41)","v":2},{"$f":"INDEX(【元データ】評価シート!$B$5:$T$56,L41,M41)","v":2},null,{"$f":"MATCH(E41,【元データ】評価シート!$A$63:$A$114,0)","v":7},{"$f":"MATCH(F41,【元データ】評価シート!$B$62:$T$62,0)","v":7},{"$f":"MATCH(E41,【元データ】評価シート!$A$5:$A$56,0)","v":7},{"$f":"MATCH(F41,【元データ】評価シート!$B$4:$T$4,0)","v":7}]
[302010,76,1,"杭吊込み時、既存物や作業員に接触する","基礎工事用機械","はさまれ・巻き込まれ",{"$f":"INDEX(【元データ】評価シート!$B$63:$T$114,J42,K42)","v":2},{"$f":"INDEX(【元データ】評価シート!$B$5:$T$56,L42,M42)","v":2},null,{"$f":"MATCH(E42,【元データ】評価シート!$A$63:$A$114,0)","v":7},{"$f":"MATCH(F42,【元データ】評価シート!$B$62:$T$62,0)","v":7},{"$f":"MATCH(E42,【元データ】評価シート!$A$5:$A$56,0)","v":7},{"$f":"MATCH(F42,【元データ】評価シート!$B$4:$T$4,0)","v":7}]
[301020,77,1,"削孔時に重機が転倒する","基礎工事用機械","崩壊・倒壊",{"$f":"INDEX(【元データ】評価シート!$B$63:$T$114,J43,K43)","v":2},{"$f":"INDEX(【元データ】評価シート!$B$5:$T$56,L43,M43)","v":1},null,{"$f":"MATCH(E43,【元データ】評価シート!$A$63:$A$114,0)","v":7},{"$f":"MATCH(F43,【元データ】評価シート!$B$62:$T$62,0)","v":5},{"$f":"MATCH(E43,【元データ】評価シート!$A$5:$A$56,0)","v":7},{"$f":"MATCH(F43,【元データ】評価シート!$B$4:$T$4,0)","v":5}]
[302010,78,1,"杭打ち機が転倒する","基礎工事用機械","崩壊・倒壊",{"$f":"INDEX(【元データ】評価シート!$B$63:$T$114,J44,K44)","v":2},{"$f":"INDEX(【元データ】評価シート!$B$5:$T$56,L44,M44)","v":1},null,{"$f":"MATCH(E44,【元データ】評価シート!$A$63:$A$114,0)","v":7},{"$f":"MATCH(F44,【元データ】評価シート!$B$62:$T$62,0)","v":5},{"$f":"MATCH(E44,【元データ】評価シート!$A$5:$A$56,0)","v":7},{"$f":"MATCH(F44,【元データ】評価シート!$B$4:$T$4,0)","v":5}]
[202010,79,1,"外壁の控えを取付け時に折り曲げた波板で手を負傷する","金属材料","切れ・こすれ",{"$f":"INDEX(【元データ】評価シート!$B$63:$T$114,J45,K45)","v":2},{"$f":"INDEX(【元データ】評価シート!$B$5:$T$56,L45,M45)","v":2},null,{"$f":"MATCH(E45,【元データ】評価シート!$A$63:$A$114,0)","v":45},{"$f":"MATCH(F45,【元データ】評価シート!$B$62:$T$62,0)","v":8},{"$f":"MATCH(E45,【元データ】評価シート!$A$5:$A$56,0)","v":45},{"$f":"MATCH(F45,【元データ】評価シート!$B$4:$T$4,0)","v":8}]
[202010,86,1,"資材にあたって負傷する","金属材料","激突",{"$f":"INDEX(【元データ】評価シート!$B$63:$T$114,J46,K46)","v":2},{"$f":"INDEX(【元データ】評価シート!$B$5:$T$56,L46,M46)","v":2},null,{"$f":"MATCH(E46,【元データ】評価シート!$A$63:$A$114,0)","v":45},{"$f":"MATCH(F46,【元データ】評価シート!$B$62:$T$62,0)","v":3},{"$f":"MATCH(E46,【元データ】評価シート!$A$5:$A$56,0)","v":45},{"$f":"MATCH(F46,【元データ】評価シート!$B$4:$T$4,0)","v":3}]
[301010,88,1,"敷鉄板敷き込み時、足を滑らせて転倒する","金属材料","転倒",{"$f":"INDEX(【元データ】評価シート!$B$63:$T$114,J47,K47)","v":2},{"$f":"INDEX(【元データ】評価シート!$B$5:$T$56,L47,M47)","v":2},null,{"$f":"MATCH(E47,【元データ】評価シート!$A$63:$A$114,0)","v":45},{"$f":"MATCH(F47,【元データ】評価シート!$B$62:$T$62,0)","v":2},{"$f":"MATCH(E47,【元データ】評価シート!$A$5:$A$56,0)","v":45},{"$f":"MATCH(F47,【元データ】評価シート!$B$4:$T$4,0)","v":2}]
[405010,89,1,"重量物を持って腰を痛める","金属材料","動作の反動・無理な動作",{"$f":"INDEX(【元データ】評価シート!$B$63:$T$114,J48,K48)","v":1},{"$f":"INDEX(【元データ】評価シート!$B$5:$T$56,L48,M48)","v":2},null,{"$f":"MATCH(E48,【元データ】評価シート!$A$63:$A$114,0)","v":45},{"$f":"MATCH(F48,【元データ】評価シート!$B$62:$T$62,0)","v":19},{"$f":"MATCH(E48,【元データ】評価シート!$A$5:$A$56,0)","v":45},{"$f":"MATCH(F48,【元データ】評価シート!$B$4:$T$4,0)","v":19}]
[202010,90,1,"単管パイプとクランプで指を挟む","金属材料","はさまれ・巻き込まれ",{"$f":"INDEX(【元データ】評価シート!$B$63:$T$114,J49,K49)","v":4},{"$f":"INDEX(【元データ】評価シート!$B$5:$T$56,L49,M49)","v":3},null,{"$f":"MATCH(E49,【元データ】評価シート!$A$63:$A$114,0)","v":45},{"$f":"MATCH(F49,【元データ】評価シート!$B$62:$T$62,0)","v":7},{"$f":"MATCH(E49,【元データ】評価シート!$A$5:$A$56,0)","v":45},{"$f":"MATCH(F49,【元データ】評価シート!$B$4:$T$4,0)","v":7}]
[206010,91,1,"構台を仮置きする際、手を挟む","金属材料","はさまれ・巻き込まれ",{"$f":"INDEX(【元データ】評価シート!$B$63:$T$114,J50,K50)","v":4},{"$f":"INDEX(【元データ】評価シート!$B$5:$T$56,L50,M50)","v":3},null,{"$f":"MATCH(E50,【元データ】評価シート!$A$63:$A$114,0)","v":45},{"$f":"MATCH(F50,【元データ】評価シート!$B$62:$T$62,0)","v":7},{"$f":"MATCH(E50,【元データ】評価シート!$A$5:$A$56,0)","v":45},{"$f":"MATCH(F50,【元データ】評価シート!$B$4:$T$4,0)","v":7}]
[202010,95,1,"資材受渡し時、手が滑り、落下する","金属材料","飛来・落下",{"$f":"INDEX(【元データ】評価シート!$B$63:$T$114,J51,K51)","v":5},{"$f":"INDEX(【元データ】評価シート!$B$5:$T$56,L51,M51)","v":3},null,{"$f":"MATCH(E51,【元データ】評価シート!$A$63:$A$114,0)","v":45},{"$f":"MATCH(F51,【元データ】評価シート!$B$62:$T$62,0)","v":4},{"$f":"MATCH(E51,【元データ】評価シート!$A$5:$A$56,0)","v":45},{"$f":"MATCH(F51,【元データ】評価シート!$B$4:$T$4,0)","v":4}]
[404050,97,1,"デッキが鉄骨から外れて落下する","金属材料","飛来・落下",{"$f":"INDEX(【元データ】評価シート!$B$63:$T$114,J52,K52)","v":5},{"$f":"INDEX(【元データ】評価シート!$B$5:$T$56,L52,M52)","v":3},null,{"$f":"MATCH(E52,【元データ】評価シート!$A$63:$A$114,0)","v":45},{"$f":"MATCH(F52,【元データ】評価シート!$B$62:$T$62,0)","v":4},{"$f":"MATCH(E52,【元データ】評価シート!$A$5:$A$56,0)","v":45},{"$f":"MATCH(F52,【元データ】評価シート!$B$4:$T$4,0)","v":4}]
[404050,98,1,"ﾃﾞｯｷ敷込み時、手が滑り、ﾃﾞｯｷを落下させる","金属材料","飛来・落下",{"$f":"INDEX(【元データ】評価シート!$B$63:$T$114,J53,K53)","v":5},{"$f":"INDEX(【元データ】評価シート!$B$5:$T$56,L53,M53)","v":3},null,{"$f":"MATCH(E53,【元データ】評価シート!$A$63:$A$114,0)","v":45},{"$f":"MATCH(F53,【元データ】評価シート!$B$62:$T$62,0)","v":4},{"$f":"MATCH(E53,【元データ】評価シート!$A$5:$A$56,0)","v":45},{"$f":"MATCH(F53,【元データ】評価シート!$B$4:$T$4,0)","v":4}]
[301010,101,1,"重機使用時に誤って旋回レバーに触れ、作業員と接触する","掘削用機械","激突",{"$f":"INDEX(【元データ】評価シート!$B$63:$T$114,J54,K54)","v":1},{"$f":"INDEX(【元データ】評価シート!$B$5:$T$56,L54,M54)","v":2},null,{"$f":"MATCH(E54,【元データ】評価シート!$A$63:$A$114,0)","v":6},{"$f":"MATCH(F54,【元データ】評価シート!$B$62:$T$62,0)","v":3},{"$f":"MATCH(E54,【元データ】評価シート!$A$5:$A$56,0)","v":6},{"$f":"MATCH(F54,【元データ】評価シート!$B$4:$T$4,0)","v":3}]
[101010,102,1,"重機と作業員が接触する","掘削用機械","激突され",{"$f":"INDEX(【元データ】評価シート!$B$63:$T$114,J55,K55)","v":4},{"$f":"INDEX(【元データ】評価シート!$B$5:$T$56,L55,M55)","v":3},null,{"$f":"MATCH(E55,【元データ】評価シート!$A$63:$A$114,0)","v":6},{"$f":"MATCH(F55,【元データ】評価シート!$B$62:$T$62,0)","v":6},{"$f":"MATCH(E55,【元データ】評価シート!$A$5:$A$56,0)","v":6},{"$f":"MATCH(F55,【元データ】評価シート!$B$4:$T$4,0)","v":6}]
[301020,103,1,"重機移動時に敷鉄板で足を挟む","掘削用機械","はさまれ・巻き込まれ",{"$f":"INDEX(【元データ】評価シート!$B$63:$T$114,J56,K56)","v":4},{"$f":"INDEX(【元データ】評価シート!$B$5:$T$56,L56,M56)","v":3},null,{"$f":"MATCH(E56,【元データ】評価シート!$A$63:$A$114,0)","v":6},{"$f":"MATCH(F56,【元データ】評価シート!$B$62:$T$62,0)","v":7},{"$f":"MATCH(E56,【元データ】評価シート!$A$5:$A$56,0)","v":6},{"$f":"MATCH(F56,【元データ】評価シート!$B$4:$T$4,0)","v":7}]
[101010,105,1,"揚重作業時クレーンが転倒する","クレーン","転倒",{"$f":"INDEX(【元データ】評価シート!$B$63:$T$114,J57,K57)","v":1},{"$f":"INDEX(【元データ】評価シート!$B$5:$T$56,L57,M57)","v":2},null,{"$f":"MATCH(E57,【元データ】評価シート!$A$63:$A$114,0)","v":12},{"$f":"MATCH(F57,【元データ】評価シート!$B$62:$T$62,0)","v":2},{"$f":"MATCH(E57,【元データ】評価シート!$A$5:$A$56,0)","v":12},{"$f":"MATCH(F57,【元データ】評価シート!$B$4:$T$4,0)","v":2}]
[301020,106,1,"鉄骨を仮置きする際、手を挟む","クレーン","はさまれ・巻き込まれ",{"$f":"INDEX(【元データ】評価シート!$B$63:$T$114,J58,K58)","v":4},{"$f":"INDEX(【元データ】評価シート!$B$5:$T$56,L58,M58)","v":3},null,{"$f":"MATCH(E58,【元データ】評価シート!$A$63:$A$114,0)","v":12},{"$f":"MATCH(F58,【元データ】評価シート!$B$62:$T$62,0)","v":7},{"$f":"MATCH(E58,【元データ】評価シート!$A$5:$A$56,0)","v":12},{"$f":"MATCH(F58,【元データ】評価シート!$B$4:$T$4,0)","v":7}]
[102010,107,1,"建方時、吊荷が外れ落下する","クレーン","飛来・落下",{"$f":"INDEX(【元データ】評価シート!$B$63:$T$114,J59,K59)","v":4},{"$f":"INDEX(【元データ】評価シート!$B$5:$T$56,L59,M59)","v":3},null,{"$f":"MATCH(E59,【元データ】評価シート!$A$63:$A$114,0)","v":12},{"$f":"MATCH(F59,【元データ】評価シート!$B$62:$T$62,0)","v":4},{"$f":"MATCH(E59,【元データ】評価シート!$A$5:$A$56,0)","v":12},{"$f":"MATCH(F59,【元データ】評価シート!$B$4:$T$4,0)","v":4}]
[105010,109,1,"高所作業車使用時、転落する","高所作業車","墜落・転落",{"$f":"INDEX(【元データ】評価シート!$B$63:$T$114,J60,K60)","v":3},{"$f":"INDEX(【元データ】評価シート!$B$5:$T$56,L60,M60)","v":3},null,{"$f":"MATCH(E60,【元データ】評価シート!$A$63:$A$114,0)","v":10},{"$f":"MATCH(F60,【元データ】評価シート!$B$62:$T$62,0)","v":1},{"$f":"MATCH(E60,【元データ】評価シート!$A$5:$A$56,0)","v":10},{"$f":"MATCH(F60,【元データ】評価シート!$B$4:$T$4,0)","v":1}]
[204010,110,1,"高所作業車使用時、身を寄り出して墜落する","高所作業車","墜落・転落",{"$f":"INDEX(【元データ】評価シート!$B$63:$T$114,J61,K61)","v":3},{"$f":"INDEX(【元データ】評価シート!$B$5:$T$56,L61,M61)","v":3},null,{"$f":"MATCH(E61,【元データ】評価シート!$A$63:$A$114,0)","v":10},{"$f":"MATCH(F61,【元データ】評価シート!$B$62:$T$62,0)","v":1},{"$f":"MATCH(E61,【元データ】評価シート!$A$5:$A$56,0)","v":10},{"$f":"MATCH(F61,【元データ】評価シート!$B$4:$T$4,0)","v":1}]
[402030,111,1,"高所作業車移動時に開口部の養生蓋に引っ掛かって転倒する","高所作業車","転倒",{"$f":"INDEX(【元データ】評価シート!$B$63:$T$114,J62,K62)","v":1},{"$f":"INDEX(【元データ】評価シート!$B$5:$T$56,L62,M62)","v":2},null,{"$f":"MATCH(E62,【元データ】評価シート!$A$63:$A$114,0)","v":10},{"$f":"MATCH(F62,【元データ】評価シート!$B$62:$T$62,0)","v":2},{"$f":"MATCH(E62,【元データ】評価シート!$A$5:$A$56,0)","v":10},{"$f":"MATCH(F62,【元データ】評価シート!$B$4:$T$4,0)","v":2}]
[103010,128,1,"杭周廻りのぬかるみに足をとられ、転倒する","締固め用機械","激突",{"$f":"INDEX(【元データ】評価シート!$B$63:$T$114,J63,K63)","v":2},{"$f":"INDEX(【元データ】評価シート!$B$5:$T$56,L63,M63)","v":2},null,{"$f":"MATCH(E63,【元データ】評価シート!$A$63:$A$114,0)","v":8},{"$f":"MATCH(F63,【元データ】評価シート!$B$62:$T$62,0)","v":3},{"$f":"MATCH(E63,【元データ】評価シート!$A$5:$A$56,0)","v":8},{"$f":"MATCH(F63,【元データ】評価シート!$B$4:$T$4,0)","v":3}]
[401010,135,1,"材料移動時、既存物、隣接建物に接触する","人力運搬機","転倒",{"$f":"INDEX(【元データ】評価シート!$B$63:$T$114,J64,K64)","v":3},{"$f":"INDEX(【元データ】評価シート!$B$5:$T$56,L64,M64)","v":3},null,{"$f":"MATCH(E64,【元データ】評価シート!$A$63:$A$114,0)","v":29},{"$f":"MATCH(F64,【元データ】評価シート!$B$62:$T$62,0)","v":2},{"$f":"MATCH(E64,【元データ】評価シート!$A$5:$A$56,0)","v":29},{"$f":"MATCH(F64,【元データ】評価シート!$B$4:$T$4,0)","v":2}]
[101010,136,1,"配管運搬時に、周囲の人に材料を当ててしまう","人力運搬機","激突",{"$f":"INDEX(【元データ】評価シート!$B$63:$T$114,J65,K65)","v":2},{"$f":"INDEX(【元データ】評価シート!$B$5:$T$56,L65,M65)","v":2},null,{"$f":"MATCH(E65,【元データ】評価シート!$A$63:$A$114,0)","v":29},{"$f":"MATCH(F65,【元データ】評価シート!$B$62:$T$62,0)","v":3},{"$f":"MATCH(E65,【元データ】評価シート!$A$5:$A$56,0)","v":29},{"$f":"MATCH(F65,【元データ】評価シート!$B$4:$T$4,0)","v":3}]
[105020,137,1,"溶接治具運搬時、足場に手をぶつけて負傷する","人力運搬機","激突",{"$f":"INDEX(【元データ】評価シート!$B$63:$T$114,J66,K66)","v":2},{"$f":"INDEX(【元データ】評価シート!$B$5:$T$56,L66,M66)","v":2},null,{"$f":"MATCH(E66,【元データ】評価シート!$A$63:$A$114,0)","v":29},{"$f":"MATCH(F66,【元データ】評価シート!$B$62:$T$62,0)","v":3},{"$f":"MATCH(E66,【元データ】評価シート!$A$5:$A$56,0)","v":29},{"$f":"MATCH(F66,【元データ】評価シート!$B$4:$T$4,0)","v":3}]
[403050,138,1,"材料運搬時、躓いて転倒する","人力運搬機","激突",{"$f":"INDEX(【元データ】評価シート!$B$63:$T$114,J67,K67)","v":2},{"$f":"INDEX(【元データ】評価シート!$B$5:$T$56,L67,M67)","v":2},null,{"$f":"MATCH(E67,【元データ】評価シート!$A$63:$A$114,0)","v":29},{"$f":"MATCH(F67,【元データ】評価シート!$B$62:$T$62,0)","v":3},{"$f":"MATCH(E67,【元データ】評価シート!$A$5:$A$56,0)","v":29},{"$f":"MATCH(F67,【元データ】評価シート!$B$4:$T$4,0)","v":3}]
[103010,139,1,"重量物を持って腰を痛める","人力運搬機","転倒",{"$f":"INDEX(【元データ】評価シート!$B$63:$T$114,J68,K68)","v":3},{"$f":"INDEX(【元データ】評価シート!$B$5:$T$56,L68,M68)","v":3},null,{"$f":"MATCH(E68,【元データ】評価シート!$A$63:$A$114,0)","v":29},{"$f":"MATCH(F68,【元データ】評価シート!$B$62:$T$62,0)","v":2},{"$f":"MATCH(E68,【元データ】評価シート!$A$5:$A$56,0)","v":29},{"$f":"MATCH(F68,【元データ】評価シート!$B$4:$T$4,0)","v":2}]
[105020,140,1,"資材運搬時、台車に手を挟まれて負傷する","人力運搬機","動作の反動・無理な動作",{"$f":"INDEX(【元データ】評価シート!$B$63:$T$114,J69,K69)","v":1},{"$f":"INDEX(【元データ】評価シート!$B$5:$T$56,L69,M69)","v":2},null,{"$f":"MATCH(E69,【元データ】評価シート!$A$63:$A$114,0)","v":29},{"$f":"MATCH(F69,【元データ】評価シート!$B$62:$T$62,0)","v":19},{"$f":"MATCH(E69,【元データ】評価シート!$A$5:$A$56,0)","v":29},{"$f":"MATCH(F69,【元データ】評価シート!$B$4:$T$4,0)","v":19}]
[110010,142,1,"重量物運搬時パレットが傾き倒れる","エレベータ、リフト","はさまれ・巻き込まれ",{"$f":"INDEX(【元データ】評価シート!$B$63:$T$114,J70,K70)","v":3},{"$f":"INDEX(【元データ】評価シート!$B$5:$T$56,L70,M70)","v":3},null,{"$f":"MATCH(E70,【元データ】評価シート!$A$63:$A$114,0)","v":14},{"$f":"MATCH(F70,【元データ】評価シート!$B$62:$T$62,0)","v":7},{"$f":"MATCH(E70,【元データ】評価シート!$A$5:$A$56,0)","v":14},{"$f":"MATCH(F70,【元データ】評価シート!$B$4:$T$4,0)","v":7}]
[302010,153,1,"敷鉄板荷吊り時に玉掛けワイヤーが外れ、敷鉄板で手足を挟む","送配電線等","転倒",{"$f":"INDEX(【元データ】評価シート!$B$63:$T$114,J71,K71)","v":2},{"$f":"INDEX(【元データ】評価シート!$B$5:$T$56,L71,M71)","v":2},null,{"$f":"MATCH(E71,【元データ】評価シート!$A$63:$A$114,0)","v":26},{"$f":"MATCH(F71,【元データ】評価シート!$B$62:$T$62,0)","v":2},{"$f":"MATCH(E71,【元データ】評価シート!$A$5:$A$56,0)","v":26},{"$f":"MATCH(F71,【元データ】評価シート!$B$4:$T$4,0)","v":2}]
[110010,154,1,"荷吊り中、吊りフックから外れ敷鉄板で手を挟む","玉掛用具","はさまれ・巻き込まれ",{"$f":"INDEX(【元データ】評価シート!$B$63:$T$114,J72,K72)","v":3},{"$f":"INDEX(【元データ】評価シート!$B$5:$T$56,L72,M72)","v":2},null,{"$f":"MATCH(E72,【元データ】評価シート!$A$63:$A$114,0)","v":33},{"$f":"MATCH(F72,【元データ】評価シート!$B$62:$T$62,0)","v":7},{"$f":"MATCH(E72,【元データ】評価シート!$A$5:$A$56,0)","v":33},{"$f":"MATCH(F72,【元データ】評価シート!$B$4:$T$4,0)","v":7}]
[302010,155,1,"建方時、玉掛けワイヤーが切れて落下する","玉掛用具","はさまれ・巻き込まれ",{"$f":"INDEX(【元データ】評価シート!$B$63:$T$114,J73,K73)","v":3},{"$f":"INDEX(【元データ】評価シート!$B$5:$T$56,L73,M73)","v":2},null,{"$f":"MATCH(E73,【元データ】評価シート!$A$63:$A$114,0)","v":33},{"$f":"MATCH(F73,【元データ】評価シート!$B$62:$T$62,0)","v":7},{"$f":"MATCH(E73,【元データ】評価シート!$A$5:$A$56,0)","v":33},{"$f":"MATCH(F73,【元データ】評価シート!$B$4:$T$4,0)","v":7}]
[102010,156,1,"資材運搬時、鋼板が滑り落ち足を負傷する","玉掛用具","飛来・落下",{"$f":"INDEX(【元データ】評価シート!$B$63:$T$114,J74,K74)","v":4},{"$f":"INDEX(【元データ】評価シート!$B$5:$T$56,L74,M74)","v":3},null,{"$f":"MATCH(E74,【元データ】評価シート!$A$63:$A$114,0)","v":33},{"$f":"MATCH(F74,【元データ】評価シート!$B$62:$T$62,0)","v":4},{"$f":"MATCH(E74,【元データ】評価シート!$A$5:$A$56,0)","v":33},{"$f":"MATCH(F74,【元データ】評価シート!$B$4:$T$4,0)","v":4}]
[103020,157,1,"鋼矢板吊込作業時、ﾗｼﾞｺﾝｼｬｯｸﾙが玉掛けワイヤーごとはずれて落下し接触する","玉掛用具","飛来・落下",{"$f":"INDEX(【元データ】評価シート!$B$63:$T$114,J75,K75)","v":4},{"$f":"INDEX(【元データ】評価シート!$B$5:$T$56,L75,M75)","v":3},null,{"$f":"MATCH(E75,【元データ】評価シート!$A$63:$A$114,0)","v":33},{"$f":"MATCH(F75,【元データ】評価シート!$B$62:$T$62,0)","v":4},{"$f":"MATCH(E75,【元データ】評価シート!$A$5:$A$56,0)","v":33},{"$f":"MATCH(F75,【元データ】評価シート!$B$4:$T$4,0)","v":4}]
[205010,161,1,"レール組立時、仮設ゴンドラから転落する","通路","墜落・転落",{"$f":"INDEX(【元データ】評価シート!$B$63:$T$114,J76,K76)","v":4},{"$f":"INDEX(【元データ】評価シート!$B$5:$T$56,L76,M76)","v":4},null,{"$f":"MATCH(E76,【元データ】評価シート!$A$63:$A$114,0)","v":40},{"$f":"MATCH(F76,【元データ】評価シート!$B$62:$T$62,0)","v":1},{"$f":"MATCH(E76,【元データ】評価シート!$A$5:$A$56,0)","v":40},{"$f":"MATCH(F76,【元データ】評価シート!$B$4:$T$4,0)","v":1}]
[605010,162,1,"通路足場から身を寄り出した際、墜落する","ゴンドラ","墜落・転落",{"$f":"INDEX(【元データ】評価シート!$B$63:$T$114,J77,K77)","v":1},{"$f":"INDEX(【元データ】評価シート!$B$5:$T$56,L77,M77)","v":2},null,{"$f":"MATCH(E77,【元データ】評価シート!$A$63:$A$114,0)","v":16},{"$f":"MATCH(F77,【元データ】評価シート!$B$62:$T$62,0)","v":1},{"$f":"MATCH(E77,【元データ】評価シート!$A$5:$A$56,0)","v":16},{"$f":"MATCH(F77,【元データ】評価シート!$B$4:$T$4,0)","v":1}]
[101010,165,1,"材料運搬時、段差に躓いて転倒する","通路","転倒",{"$f":"INDEX(【元データ】評価シート!$B$63:$T$114,J78,K78)","v":4},{"$f":"INDEX(【元データ】評価シート!$B$5:$T$56,L78,M78)","v":4},null,{"$f":"MATCH(E78,【元データ】評価シート!$A$63:$A$114,0)","v":40},{"$f":"MATCH(F78,【元データ】評価シート!$B$62:$T$62,0)","v":2},{"$f":"MATCH(E78,【元データ】評価シート!$A$5:$A$56,0)","v":40},{"$f":"MATCH(F78,【元データ】評価シート!$B$4:$T$4,0)","v":2}]
[104010,167,1,"足場上で躓いて転倒する","通路","転倒",{"$f":"INDEX(【元データ】評価シート!$B$63:$T$114,J79,K79)","v":4},{"$f":"INDEX(【元データ】評価シート!$B$5:$T$56,L79,M79)","v":4},null,{"$f":"MATCH(E79,【元データ】評価シート!$A$63:$A$114,0)","v":40},{"$f":"MATCH(F79,【元データ】評価シート!$B$62:$T$62,0)","v":2},{"$f":"MATCH(E79,【元データ】評価シート!$A$5:$A$56,0)","v":40},{"$f":"MATCH(F79,【元データ】評価シート!$B$4:$T$4,0)","v":2}]
[401010,168,1,"スラブ上で躓いて転倒する","通路","転倒",{"$f":"INDEX(【元データ】評価シート!$B$63:$T$114,J80,K80)","v":4},{"$f":"INDEX(【元データ】評価シート!$B$5:$T$56,L80,M80)","v":4},null,{"$f":"MATCH(E80,【元データ】評価シート!$A$63:$A$114,0)","v":40},{"$f":"MATCH(F80,【元データ】評価シート!$B$62:$T$62,0)","v":2},{"$f":"MATCH(E80,【元データ】評価シート!$A$5:$A$56,0)","v":40},{"$f":"MATCH(F80,【元データ】評価シート!$B$4:$T$4,0)","v":2}]
[301010,174,1,"インパクトドライバー使用時、指を巻き込まれて負傷する","手工具","切れ・こすれ",{"$f":"INDEX(【元データ】評価シート!$B$63:$T$114,J81,K81)","v":3},{"$f":"INDEX(【元データ】評価シート!$B$5:$T$56,L81,M81)","v":3},null,{"$f":"MATCH(E81,【元データ】評価シート!$A$63:$A$114,0)","v":31},{"$f":"MATCH(F81,【元データ】評価シート!$B$62:$T$62,0)","v":8},{"$f":"MATCH(E81,【元データ】評価シート!$A$5:$A$56,0)","v":31},{"$f":"MATCH(F81,【元データ】評価シート!$B$4:$T$4,0)","v":8}]
[402070,176,1,"シャーレンチ運搬時バランスを崩して転倒する","手工具","切れ・こすれ",{"$f":"INDEX(【元データ】評価シート!$B$63:$T$114,J82,K82)","v":3},{"$f":"INDEX(【元データ】評価シート!$B$5:$T$56,L82,M82)","v":3},null,{"$f":"MATCH(E82,【元データ】評価シート!$A$63:$A$114,0)","v":31},{"$f":"MATCH(F82,【元データ】評価シート!$B$62:$T$62,0)","v":8},{"$f":"MATCH(E82,【元データ】評価シート!$A$5:$A$56,0)","v":31},{"$f":"MATCH(F82,【元データ】評価シート!$B$4:$T$4,0)","v":8}]
[404030,177,1,"鉄骨建ち直し用フックに躓き転倒する","手工具","転倒",{"$f":"INDEX(【元データ】評価シート!$B$63:$T$114,J83,K83)","v":1},{"$f":"INDEX(【元データ】評価シート!$B$5:$T$56,L83,M83)","v":2},null,{"$f":"MATCH(E83,【元データ】評価シート!$A$63:$A$114,0)","v":31},{"$f":"MATCH(F83,【元データ】評価シート!$B$62:$T$62,0)","v":2},{"$f":"MATCH(E83,【元データ】評価シート!$A$5:$A$56,0)","v":31},{"$f":"MATCH(F83,【元データ】評価シート!$B$4:$T$4,0)","v":2}]
[403030,183,1,"鉄骨建入治具での使用時に、定められた以外の使用をして負傷する","手工具","はさまれ・巻き込まれ",{"$f":"INDEX(【元データ】評価シート!$B$63:$T$114,J84,K84)","v":3},{"$f":"INDEX(【元データ】評価シート!$B$5:$T$56,L84,M84)","v":2},null,{"$f":"MATCH(E84,【元データ】評価シート!$A$63:$A$114,0)","v":31},{"$f":"MATCH(F84,【元データ】評価シート!$B$62:$T$62,0)","v":7},{"$f":"MATCH(E84,【元データ】評価シート!$A$5:$A$56,0)","v":31},{"$f":"MATCH(F84,【元データ】評価シート!$B$4:$T$4,0)","v":7}]
[301030,185,1,"ベビーサンダー使用時、目に鉄粉が入る","手工具","飛来・落下",{"$f":"INDEX(【元データ】評価シート!$B$63:$T$114,J85,K85)","v":3},{"$f":"INDEX(【元データ】評価シート!$B$5:$T$56,L85,M85)","v":2},null,{"$f":"MATCH(E85,【元データ】評価シート!$A$63:$A$114,0)","v":31},{"$f":"MATCH(F85,【元データ】評価シート!$B$62:$T$62,0)","v":4},{"$f":"MATCH(E85,【元データ】評価シート!$A$5:$A$56,0)","v":31},{"$f":"MATCH(F85,【元データ】評価シート!$B$4:$T$4,0)","v":4}]
[302010,186,1,"カッターナイフで手を切る","手工具","有害物等との接触",{"$f":"INDEX(【元データ】評価シート!$B$63:$T$114,J86,K86)","v":1},{"$f":"INDEX(【元データ】評価シート!$B$5:$T$56,L86,M86)","v":1},null,{"$f":"MATCH(E86,【元データ】評価シート!$A$63:$A$114,0)","v":31},{"$f":"MATCH(F86,【元データ】評価シート!$B$62:$T$62,0)","v":12},{"$f":"MATCH(E86,【元データ】評価シート!$A$5:$A$56,0)","v":31},{"$f":"MATCH(F86,【元データ】評価シート!$B$4:$T$4,0)","v":12}]
[301010,195,1,"ベビーサンダー使用時、誤って手を切る","動力伝導機構","感電",{"$f":"INDEX(【元データ】評価シート!$B$63:$T$114,J87,K87)","v":1},{"$f":"INDEX(【元データ】評価シート!$B$5:$T$56,L87,M87)","v":1},null,{"$f":"MATCH(E87,【元データ】評価シート!$A$63:$A$114,0)","v":2},{"$f":"MATCH(F87,【元データ】評価シート!$B$62:$T$62,0)","v":13},{"$f":"MATCH(E87,【元データ】評価シート!$A$5:$A$56,0)","v":2},{"$f":"MATCH(F87,【元データ】評価シート!$B$4:$T$4,0)","v":13}]
[102010,198,1,"高速カッターで手を切る","動力伝導機構","切れ・こすれ",{"$f":"INDEX(【元データ】評価シート!$B$63:$T$114,J88,K88)","v":1},{"$f":"INDEX(【元データ】評価シート!$B$5:$T$56,L88,M88)","v":1},null,{"$f":"MATCH(E88,【元データ】評価シート!$A$63:$A$114,0)","v":2},{"$f":"MATCH(F88,【元データ】評価シート!$B$62:$T$62,0)","v":8},{"$f":"MATCH(E88,【元データ】評価シート!$A$5:$A$56,0)","v":2},{"$f":"MATCH(F88,【元データ】評価シート!$B$4:$T$4,0)","v":8}]
[205010,200,1,"プラント機械に手を巻き込まれる","動力伝導機構","切れ・こすれ",{"$f":"INDEX(【元データ】評価シート!$B$63:$T$114,J89,K89)","v":1},{"$f":"INDEX(【元データ】評価シート!$B$5:$T$56,L89,M89)","v":1},null,{"$f":"MATCH(E89,【元データ】評価シート!$A$63:$A$114,0)","v":2},{"$f":"MATCH(F89,【元データ】評価シート!$B$62:$T$62,0)","v":8},{"$f":"MATCH(E89,【元データ】評価シート!$A$5:$A$56,0)","v":2},{"$f":"MATCH(F89,【元データ】評価シート!$B$4:$T$4,0)","v":8}]
[404080,201,1,"高速ｶｯﾀｰの歯が、抜けてしまい損傷する","動力伝導機構","はさまれ・巻き込まれ",{"$f":"INDEX(【元データ】評価シート!$B$63:$T$114,J90,K90)","v":3},{"$f":"INDEX(【元データ】評価シート!$B$5:$T$56,L90,M90)","v":3},null,{"$f":"MATCH(E90,【元データ】評価シート!$A$63:$A$114,0)","v":2},{"$f":"MATCH(F90,【元データ】評価シート!$B$62:$T$62,0)","v":7},{"$f":"MATCH(E90,【元データ】評価シート!$A$5:$A$56,0)","v":2},{"$f":"MATCH(F90,【元データ】評価シート!$B$4:$T$4,0)","v":7}]
[109010,205,1,"積込み運搬中の資材の荷崩れで負傷する","トラック","交通事故（その他）",{"$f":"INDEX(【元データ】評価シート!$B$63:$T$114,J91,K91)","v":3},{"$f":"INDEX(【元データ】評価シート!$B$5:$T$56,L91,M91)","v":1},null,{"$f":"MATCH(E91,【元データ】評価シート!$A$63:$A$114,0)","v":18},{"$f":"MATCH(F91,【元データ】評価シート!$B$62:$T$62,0)","v":18},{"$f":"MATCH(E91,【元データ】評価シート!$A$5:$A$56,0)","v":18},{"$f":"MATCH(F91,【元データ】評価シート!$B$4:$T$4,0)","v":18}]
[110010,206,1,"荷卸し時、トレーラー上から転落する","トラック","激突され",{"$f":"INDEX(【元データ】評価シート!$B$63:$T$114,J92,K92)","v":4},{"$f":"INDEX(【元データ】評価シート!$B$5:$T$56,L92,M92)","v":3},null,{"$f":"MATCH(E92,【元データ】評価シート!$A$63:$A$114,0)","v":18},{"$f":"MATCH(F92,【元データ】評価シート!$B$62:$T$62,0)","v":6},{"$f":"MATCH(E92,【元データ】評価シート!$A$5:$A$56,0)","v":18},{"$f":"MATCH(F92,【元データ】評価シート!$B$4:$T$4,0)","v":6}]
[502020,209,1,"安全ブロックを使用せず梯子やタラップから転落する","はしご等","墜落・転落",{"$f":"INDEX(【元データ】評価シート!$B$63:$T$114,J93,K93)","v":5},{"$f":"INDEX(【元データ】評価シート!$B$5:$T$56,L93,M93)","v":5},null,{"$f":"MATCH(E93,【元データ】評価シート!$A$63:$A$114,0)","v":32},{"$f":"MATCH(F93,【元データ】評価シート!$B$62:$T$62,0)","v":1},{"$f":"MATCH(E93,【元データ】評価シート!$A$5:$A$56,0)","v":32},{"$f":"MATCH(F93,【元データ】評価シート!$B$4:$T$4,0)","v":1}]
[102010,218,1,"汚水配管撤去時に汚物が目や口に入る","有害物","有害物等との接触",{"$f":"INDEX(【元データ】評価シート!$B$63:$T$114,J94,K94)","v":4},{"$f":"INDEX(【元データ】評価シート!$B$5:$T$56,L94,M94)","v":2},null,{"$f":"MATCH(E94,【元データ】評価シート!$A$63:$A$114,0)","v":44},{"$f":"MATCH(F94,【元データ】評価シート!$B$62:$T$62,0)","v":12},{"$f":"MATCH(E94,【元データ】評価シート!$A$5:$A$56,0)","v":44},{"$f":"MATCH(F94,【元データ】評価シート!$B$4:$T$4,0)","v":12}]
[null,224,1,"ウインチ巻取り時、介錯していた手が巻き込まれる","原動機","はさまれ・巻き込まれ",{"$f":"INDEX(【元データ】評価シート!$B$63:$T$114,J95,K95)","v":2},{"$f":"INDEX(【元データ】評価シート!$B$5:$T$56,L95,M95)","v":2},null,{"$f":"MATCH(E95,【元データ】評価シート!$A$63:$A$114,0)","v":1},{"$f":"MATCH(F95,【元データ】評価シート!$B$62:$T$62,0)","v":7},{"$f":"MATCH(E95,【元データ】評価シート!$A$5:$A$56,0)","v":1},{"$f":"MATCH(F95,【元データ】評価シート!$B$4:$T$4,0)","v":7}]
[null,225,1,"ウインチでけん引時、けん引ワイヤーが切断し、重量物と接触する","原動機","はさまれ・巻き込まれ",{"$f":"INDEX(【元データ】評価シート!$B$63:$T$114,J96,K96)","v":2},{"$f":"INDEX(【元データ】評価シート!$B$5:$T$56,L96,M96)","v":2},null,{"$f":"MATCH(E96,【元データ】評価シート!$A$63:$A$114,0)","v":1},{"$f":"MATCH(F96,【元データ】評価シート!$B$62:$T$62,0)","v":7},{"$f":"MATCH(E96,【元データ】評価シート!$A$5:$A$56,0)","v":1},{"$f":"MATCH(F96,【元データ】評価シート!$B$4:$T$4,0)","v":7}]
[null,244,1,"チェーンブロックで鋼材引き寄せ時、引く方向に手を置き、挟まれる","人力クレーン等","はさまれ・巻き込まれ",{"$f":"INDEX(【元データ】評価シート!$B$63:$T$114,J97,K97)","v":3},{"$f":"INDEX(【元データ】評価シート!$B$5:$T$56,L97,M97)","v":2},null,{"$f":"MATCH(E97,【元データ】評価シート!$A$63:$A$114,0)","v":28},{"$f":"MATCH(F97,【元データ】評価シート!$B$62:$T$62,0)","v":7},{"$f":"MATCH(E97,【元データ】評価シート!$A$5:$A$56,0)","v":28},{"$f":"MATCH(F97,【元データ】評価シート!$B$4:$T$4,0)","v":7}]
[null,245,1,"２台のチェーンブロックで鋼材吊り上げ時、左右のバランスが悪く、片側に吊荷が流れ挟まれる","人力クレーン等","はさまれ・巻き込まれ",{"$f":"INDEX(【元データ】評価シート!$B$63:$T$114,J98,K98)","v":3},{"$f":"INDEX(【元データ】評価シート!$B$5:$T$56,L98,M98)","v":2},null,{"$f":"MATCH(E98,【元データ】評価シート!$A$63:$A$114,0)","v":28},{"$f":"MATCH(F98,【元データ】評価シート!$B$62:$T$62,0)","v":7},{"$f":"MATCH(E98,【元データ】評価シート!$A$5:$A$56,0)","v":28},{"$f":"MATCH(F98,【元データ】評価シート!$B$4:$T$4,0)","v":7}]
[null,246,1,"ガソリン容器が破損し、引火する","引火性の物","火災",{"$f":"INDEX(【元データ】評価シート!$B$63:$T$114,J99,K99)","v":3},{"$f":"INDEX(【元データ】評価シート!$B$5:$T$56,L99,M99)","v":2},null,{"$f":"MATCH(E99,【元データ】評価シート!$A$63:$A$114,0)","v":42},{"$f":"MATCH(F99,【元データ】評価シート!$B$62:$T$62,0)","v":16},{"$f":"MATCH(E99,【元データ】評価シート!$A$5:$A$56,0)","v":42},{"$f":"MATCH(F99,【元データ】評価シート!$B$4:$T$4,0)","v":16}]
[null,247,1,"軽油が漏洩し、引火する","引火性の物","火災",{"$f":"INDEX(【元データ】評価シート!$B$63:$T$114,J100,K100)","v":3},{"$f":"INDEX(【元データ】評価シート!$B$5:$T$56,L100,M100)","v":2},null,{"$f":"MATCH(E100,【元データ】評価シート!$A$63:$A$114,0)","v":42},{"$f":"MATCH(F100,【元データ】評価シート!$B$62:$T$62,0)","v":16},{"$f":"MATCH(E100,【元データ】評価シート!$A$5:$A$56,0)","v":42},{"$f":"MATCH(F100,【元データ】評価シート!$B$4:$T$4,0)","v":16}]

{"sheet":"その他（交通誘導員他）","index":15,"n_rows":8,"n_cols":13,"rows_kept":8,"cut":false,"hidden":false,"merged":[[0,1,0,2]]}
[null,"工種区分"]
["工種コード",null,"その他（交通誘導員他）","危険ポイント","起因物","事故型","可能性","重大性"]
[301010,132,1,"誘導員が工事車輛に接触する","地山、岩石","崩壊・倒壊",{"$f":"INDEX(【元データ】評価シート!$B$63:$T$114,J3,K3)","v":5},{"$f":"INDEX(【元データ】評価シート!$B$5:$T$56,L3,M3)","v":5},null,{"$f":"MATCH(E3,【元データ】評価シート!$A$63:$A$114,0)","v":48},{"$f":"MATCH(F3,【元データ】評価シート!$B$62:$T$62,0)","v":5},{"$f":"MATCH(E3,【元データ】評価シート!$A$5:$A$56,0)","v":48},{"$f":"MATCH(F3,【元データ】評価シート!$B$4:$T$4,0)","v":5}]
[101010,166,1,"誘導時、躓いて転倒する","通路","転倒",{"$f":"INDEX(【元データ】評価シート!$B$63:$T$114,J4,K4)","v":4},{"$f":"INDEX(【元データ】評価シート!$B$5:$T$56,L4,M4)","v":4},null,{"$f":"MATCH(E4,【元データ】評価シート!$A$63:$A$114,0)","v":40},{"$f":"MATCH(F4,【元データ】評価シート!$B$62:$T$62,0)","v":2},{"$f":"MATCH(E4,【元データ】評価シート!$A$5:$A$56,0)","v":40},{"$f":"MATCH(F4,【元データ】評価シート!$B$4:$T$4,0)","v":2}]
[404030,178,1,"スランプコーンを引き上げる際、腰を痛める","手工具","転倒",{"$f":"INDEX(【元データ】評価シート!$B$63:$T$114,J5,K5)","v":1},{"$f":"INDEX(【元データ】評価シート!$B$5:$T$56,L5,M5)","v":2},null,{"$f":"MATCH(E5,【元データ】評価シート!$A$63:$A$114,0)","v":31},{"$f":"MATCH(F5,【元データ】評価シート!$B$62:$T$62,0)","v":2},{"$f":"MATCH(E5,【元データ】評価シート!$A$5:$A$56,0)","v":31},{"$f":"MATCH(F5,【元データ】評価シート!$B$4:$T$4,0)","v":2}]
[105020,202,1,"工事車輛の搬出入時、第三者と接触する","動力伝導機構","破裂",{"$f":"INDEX(【元データ】評価シート!$B$63:$T$114,J6,K6)","v":1},{"$f":"INDEX(【元データ】評価シート!$B$5:$T$56,L6,M6)","v":1},null,{"$f":"MATCH(E6,【元データ】評価シート!$A$63:$A$114,0)","v":2},{"$f":"MATCH(F6,【元データ】評価シート!$B$62:$T$62,0)","v":15},{"$f":"MATCH(E6,【元データ】評価シート!$A$5:$A$56,0)","v":2},{"$f":"MATCH(F6,【元データ】評価シート!$B$4:$T$4,0)","v":15}]
[103010,203,1,"搬出入車輛が作業員と接触する","トラック","交通事故（道路）",{"$f":"INDEX(【元データ】評価シート!$B$63:$T$114,J7,K7)","v":5},{"$f":"INDEX(【元データ】評価シート!$B$5:$T$56,L7,M7)","v":5},null,{"$f":"MATCH(E7,【元データ】評価シート!$A$63:$A$114,0)","v":18},{"$f":"MATCH(F7,【元データ】評価シート!$B$62:$T$62,0)","v":17},{"$f":"MATCH(E7,【元データ】評価シート!$A$5:$A$56,0)","v":18},{"$f":"MATCH(F7,【元データ】評価シート!$B$4:$T$4,0)","v":17}]
[103010,204,1,"生コン車と接触する","トラック","交通事故（道路）",{"$f":"INDEX(【元データ】評価シート!$B$63:$T$114,J8,K8)","v":5},{"$f":"INDEX(【元データ】評価シート!$B$5:$T$56,L8,M8)","v":5},null,{"$f":"MATCH(E8,【元データ】評価シート!$A$63:$A$114,0)","v":18},{"$f":"MATCH(F8,【元データ】評価シート!$B$62:$T$62,0)","v":17},{"$f":"MATCH(E8,【元データ】評価シート!$A$5:$A$56,0)","v":18},{"$f":"MATCH(F8,【元データ】評価シート!$B$4:$T$4,0)","v":17}]

{"sheet":"危険ポイント【削除禁止】","index":16,"n_rows":251,"n_cols":19,"rows_kept":251,"cut":false,"hidden":false,"merged":[[0,1,0,15]]}
[null,"工種区分"]
["工種コード",null,"鳶土工","型枠大工","鉄筋工","左官","内装仕上","屋根・\n防水工","電工","重機土工\n・舗装工","解体工","林・造園工","トンネル","シールド・推進工","杭・配管・\n機械工","その他（交通誘導員他）","危険ポイント","可能性","重大性"]
[101010,7,1,1,1,1,1,null,1,1,null,null,null,null,1,null,"立馬で材料荷渡しや作業時に転落する",5,5]
[101010,8,1,1,1,1,1,null,1,1,null,null,null,null,1,null,"立馬の脚が段差・床スリーブにはまり、または縮んで転落・転倒する",5,5]
[706010,10,1,1,1,1,1,1,1,1,1,1,1,1,1,null,"梯子作業中バランスを崩して転落する",5,5]
[105010,11,1,1,1,1,1,1,1,1,1,1,1,1,1,null,"足場使用時、足場から墜落する",5,5]
[105010,12,1,1,1,1,1,1,1,1,1,1,1,1,1,null,"足場の隙間から墜落する",5,5]
[202010,13,1,null,null,null,null,null,null,null,null,null,null,null,null,null,"枠組足場解体荷下ろし中、妻手摺の隙間から墜落する",5,5]
[402020,15,1,1,1,1,1,null,1,1,null,null,null,null,1,null,"立馬上で作業中突風にあおられ材料と共に転落する",5,5]
[402020,16,null,1,null,null,null,null,null,null,null,null,null,null,null,null,"型枠建込み時、立馬から転落する",5,5]
[402030,17,1,1,1,1,1,null,1,1,1,1,1,1,1,null,"足場の中桟に足を掛け作業中、中桟が外れて転落する",5,5]
[404030,18,null,null,null,null,1,null,null,null,null,null,null,null,null,null,"錆止め塗装中、足場から転落する",5,5]
[404080,19,null,null,null,null,1,null,1,null,null,null,null,null,null,null,"ローリング足場の手摺が外れて転落する",5,5]
[404080,20,null,null,null,null,1,null,1,null,null,null,null,null,null,null,"ﾛｰﾘﾝｸﾞﾀﾜｰ使用時、身を寄り出して墜落する",5,5]
[301010,130,null,null,null,null,null,null,null,null,null,null,1,null,null,null,"地山が崩壊する",5,5]
[301010,131,null,null,null,null,null,null,null,1,null,null,null,null,null,null,"残土が近隣家屋に流れる",5,5]
[301010,132,null,null,null,null,null,null,null,null,null,null,null,null,null,1,"誘導員が工事車輛に接触する",5,5]
[103010,203,null,null,null,null,null,null,null,null,null,null,null,null,null,1,"搬出入車輛が作業員と接触する",5,5]
[103010,204,null,null,null,null,null,null,null,null,null,null,null,null,null,1,"生コン車と接触する",5,5]
[108010,207,null,1,null,null,1,null,null,null,null,null,null,1,null,null,"ピット内清掃時、ピット内で酸欠になる",5,5]
[502020,209,1,1,1,1,1,1,1,1,1,null,1,1,1,null,"安全ブロックを使用せず梯子やタラップから転落する",5,5]
[101010,210,null,1,null,null,1,null,null,null,null,null,null,1,null,null,"ピット内昇降時、足を滑らせ墜落する",5,5]
[403050,217,null,null,null,null,null,1,null,null,null,null,null,null,null,null,"屋根組立時、墜落する",5,5]
[108010,38,1,1,1,null,null,1,1,1,1,1,1,1,1,null,"ブーム組立時、高所から転落する",4,4]
[401020,39,1,1,1,null,null,1,1,1,1,1,1,1,1,null,"ブームをたたむ時、荷台から転落する",4,4]
[203030,49,1,null,null,null,null,null,null,null,null,null,null,null,null,null,"手摺取付け時、墜落する",5,4]
[206010,50,1,null,null,null,null,null,null,1,null,null,null,null,1,null,"構台架設時、梁から墜落する",5,4]
[301030,51,1,null,null,null,null,null,null,1,null,null,null,null,null,null,"切梁架設時、梁から墜落する",5,4]
[401010,52,1,1,1,1,1,1,1,1,1,1,1,1,1,null,"昇降設備を使用せずに墜落する",5,4]
[401010,53,1,1,1,1,1,1,1,1,1,1,1,1,1,null,"物を取ろうと足場に足を掛け滑って転落する",5,4]
[401010,54,1,1,1,1,1,1,1,1,1,1,1,1,1,null,"足場の隙間から墜落する",5,4]
[401010,55,1,1,1,null,null,null,null,null,null,null,null,null,null,null,"梁天端から転落する",5,4]
[402010,56,1,null,null,null,null,null,null,1,null,null,null,null,null,null,"地山・開口部から転落する",5,4]
[402020,57,1,1,1,null,null,1,null,null,1,null,1,1,1,null,"荷上げで開口部から墜落する",5,4]
[404010,58,1,null,null,null,null,null,null,null,null,null,null,null,null,null,"鉄骨地組中（スタンション親綱設置）梁上から踏み外して転落する",5,4]
[404030,59,1,null,null,null,null,null,null,null,null,null,null,null,null,null,"ﾎﾞﾙﾄ締め時、梁から墜落する",5,4]
[404050,60,1,null,null,null,null,null,null,null,null,null,null,null,null,null,"ﾃﾞｯｷ敷込み時、バランスを崩して墜落する",5,4]
[405010,61,1,null,null,null,null,null,null,null,null,null,null,null,1,null,"ＰＣ組立時、スラブ端部から墜落する",5,4]
[103020,112,1,null,null,null,null,null,null,null,null,null,null,null,null,null,"仮囲い組立時、横桟より墜落する",5,4]
[201010,113,1,null,null,null,null,null,null,null,null,null,null,1,null,null,"梁天端から転落する",5,4]
[204010,114,null,null,1,null,null,null,null,null,null,null,null,null,null,null,"スラブ上での作業中、スラブ筋に躓いて転倒する",5,4]
[205010,161,null,null,null,null,null,null,null,null,null,null,null,null,1,null,"レール組立時、仮設ゴンドラから転落する",4,4]
[402010,163,null,null,1,null,null,null,null,null,null,null,null,null,null,null,"地中梁圧接中、移動時に転落する",4,4]
[403050,164,null,null,null,null,null,1,null,null,null,null,null,null,null,null,"仮敷きのデッキプレートを歩行中転落する",4,4]
[101010,165,1,1,1,1,1,1,1,1,1,null,1,1,1,null,"材料運搬時、段差に躓いて転倒する",4,4]
[101010,166,null,null,null,null,null,null,null,null,null,null,null,null,null,1,"誘導時、躓いて転倒する",4,4]
[104010,167,1,1,1,1,1,1,1,1,1,null,1,1,1,null,"足場上で躓いて転倒する",4,4]
[401010,168,1,1,1,1,1,1,1,1,1,null,1,1,1,null,"スラブ上で躓いて転倒する",4,4]
[401010,169,null,null,1,null,null,null,null,null,null,null,null,null,null,null,"鉄筋を担いでいる際、資材に躓いて転倒する",4,4]
[403030,170,null,null,1,null,null,null,null,null,null,null,null,null,null,null,"壁の差筋をまたぎ転倒する",4,4]
[403050,171,null,1,null,null,1,1,1,null,null,null,null,null,null,null,"カッターナイフで手を切る",4,4]
[null,240,null,null,null,null,null,null,null,null,null,null,1,1,null,null,"ベルトコンベアーの回転部に手を置き、巻き込まれる",2,5]
[null,241,null,null,null,null,null,null,null,null,null,null,1,1,null,null,"ベルトコンベアー修理作業時、間違って操作ボタンを押し、巻き込まれる",2,5]
[110010,37,1,1,1,null,null,1,1,1,1,1,1,1,1,null,"ユニック作業中誤作動にて吊荷が振れて負傷する",3,3]
[108010,41,1,1,1,null,null,null,1,1,1,1,1,1,1,null,"揚重機組立時、手･足を挟まれる",3,3]
[401020,42,1,1,1,null,null,null,1,1,1,1,1,1,1,null,"ブームをたたむ時、手を挟む",3,3]
[105010,67,1,1,1,1,1,1,1,null,1,null,null,null,null,null,"作業場所移動時、外部足場の階段で足が滑り転倒する",3,3]
[402020,68,1,1,1,1,1,null,1,null,1,null,null,null,null,null,"手摺壁に足をかける際、足が滑り転倒する",3,3]
[402050,69,1,1,1,null,null,null,null,null,null,null,null,null,null,null,"地中梁を乗り越える時に手足を負傷する",3,3]
[202010,90,1,1,1,1,1,1,1,1,1,null,1,1,1,null,"単管パイプとクランプで指を挟む",4,3]
[206010,91,1,null,null,null,null,null,null,null,null,null,null,null,1,null,"構台を仮置きする際、手を挟む",4,3]
[403020,92,null,null,1,null,null,null,null,null,null,null,null,null,null,null,"上部に束ねていたフープ筋が自重でずれて手を挟む",4,3]
[403060,93,null,null,1,null,null,null,null,null,null,null,null,null,null,null,"鉄筋とカプラーとの間に指を挟む",4,3]
[404040,94,null,null,null,null,null,1,null,null,null,null,null,null,null,null,"ﾃﾞｯｷﾌﾟﾚｰﾄを仮置きする際、手を挟まれる",4,3]
[202010,95,1,1,1,1,1,1,1,1,1,null,1,1,1,null,"資材受渡し時、手が滑り、落下する",5,3]
[203030,96,1,null,null,null,null,null,null,null,1,null,null,null,null,null,"つりチェーンの外れにより、部材が落下する",5,3]
[404050,97,1,null,null,null,null,null,null,null,null,null,null,null,1,null,"デッキが鉄骨から外れて落下する",5,3]
[404050,98,1,null,null,null,null,null,null,null,null,null,null,null,1,null,"ﾃﾞｯｷ敷込み時、手が滑り、ﾃﾞｯｷを落下させる",5,3]
[402010,99,1,null,null,null,null,null,1,null,null,null,null,null,null,null,"結束バンド切断時に鋼管が崩れて負傷する",5,3]
[101010,102,1,null,null,null,null,null,null,1,null,null,null,null,1,null,"重機と作業員が接触する",4,3]
[301020,103,null,null,null,null,null,null,null,1,null,null,null,null,1,null,"重機移動時に敷鉄板で足を挟む",4,3]
[301020,104,1,null,null,null,null,null,null,1,null,null,null,null,null,null,"山留め架設時、吊荷が振れて手を挟む",3,3]
[301020,106,1,null,null,null,null,null,null,null,null,null,null,null,1,null,"鉄骨を仮置きする際、手を挟む",4,3]
[102010,107,1,null,null,null,null,null,null,null,null,null,null,null,1,null,"建方時、吊荷が外れ落下する",4,3]
[103010,108,null,null,null,null,null,null,null,1,null,null,null,null,null,null,"アスファルト使用時、火傷する",5,3]
[105010,109,1,null,null,null,1,1,1,null,null,null,1,null,1,null,"高所作業車使用時、転落する",3,3]
[204010,110,1,null,null,null,1,1,1,null,null,null,1,null,1,null,"高所作業車使用時、身を寄り出して墜落する",3,3]
[105010,115,1,null,null,null,null,null,null,null,null,null,1,null,null,null,"コンクリート打設中、スラブ筋に躓き転倒する",3,3]
[401010,116,null,null,1,null,null,null,null,null,null,null,null,null,null,null,"スラブ（ﾃﾞｯｷ）上梁筋をまたごうとして転倒する",3,3]
[403030,117,null,null,1,null,null,null,null,null,null,null,null,null,null,null,"地組架台が倒れて、鉄筋と接触する",3,3]
[402020,119,null,1,null,null,null,null,null,null,null,null,null,null,null,null,"支保工が解体された持出しｽﾗﾌﾞ型枠に乗り墜落する",3,3]
[402060,120,null,1,null,null,null,null,null,null,null,null,null,null,null,null,"打設後鉄筋水洗い時に足を乗せたサポートが外れて転倒する",3,3]
[104010,133,1,null,null,null,null,null,null,null,null,null,null,null,null,null,"一輪車運搬時に作業床から転落する",3,3]
[401010,134,1,null,null,null,null,null,null,null,null,null,null,null,null,null,"一輪車での運搬時、躓いて転倒する",3,3]
[401010,135,1,1,1,1,1,1,1,1,1,null,null,1,1,null,"材料移動時、既存物、隣接建物に接触する",3,3]
[103010,139,1,1,1,1,1,1,1,1,1,null,null,1,1,null,"重量物を持って腰を痛める",3,3]
[110010,141,null,1,null,null,null,null,null,null,null,null,null,null,null,null,"ハンドリフトを車上から下ろす時に手を挟む",4,3]
[110010,142,null,null,null,null,null,null,null,null,null,null,null,null,1,null,"重量物運搬時パレットが傾き倒れる",3,3]
[110010,143,1,null,null,null,null,null,null,null,null,null,null,null,null,null,"生コンバケツをクレーンにて吊り土砂を降ろす時に反動で手を挟む",4,3]
[205010,147,null,null,null,null,null,null,1,null,null,null,null,null,null,null,"配線接続時に、感電する",4,3]
[102010,156,1,null,null,null,null,null,null,1,null,null,1,1,1,null,"資材運搬時、鋼板が滑り落ち足を負傷する",4,3]
[103020,157,null,null,null,null,null,null,null,null,null,null,null,null,1,null,"鋼矢板吊込作業時、ﾗｼﾞｺﾝｼｬｯｸﾙが玉掛けワイヤーごとはずれて落下し接触する",4,3]
[301020,158,null,null,null,null,null,1,null,null,null,null,null,null,null,null,"ﾃﾞｯｷﾌﾟﾚｰﾄ取込み時、吊荷が外れ落下する",4,3]
[404040,159,1,null,null,null,null,null,null,null,null,null,null,null,null,null,"足場の大バラシ時、介錯ロープがワイヤーに引掛かり足場が倒れる",4,3]
[202010,160,null,null,null,1,1,null,null,null,null,null,null,null,null,null,"後ろ向きに掃き掃除中コーナー部の足場の隙間から墜落する",3,3]
[101010,172,null,null,null,null,null,null,1,null,null,null,null,null,null,null,"束ねてあるビニールテープ切断時に、カッターナイフで手を切る",3,3]
[105010,173,1,1,null,null,null,1,null,null,null,null,null,null,null,null,"誤ってハンマーで指を叩く",3,3]
[301010,174,1,null,null,null,null,null,null,null,null,null,null,null,1,null,"インパクトドライバー使用時、指を巻き込まれて負傷する",3,3]
[302010,175,null,null,null,null,null,null,null,null,null,1,null,null,null,null,"手鋸で手や指を切る",3,3]
[402070,176,1,null,null,null,null,null,null,null,null,null,null,null,1,null,"シャーレンチ運搬時バランスを崩して転倒する",3,3]
[404080,201,1,null,1,null,null,null,null,1,null,null,null,null,1,null,"高速ｶｯﾀｰの歯が、抜けてしまい損傷する",3,3]
[110010,206,1,1,1,1,null,null,null,1,1,null,1,1,1,null,"荷卸し時、トレーラー上から転落する",4,3]
[null,227,null,null,null,null,null,null,null,null,1,null,null,null,null,null,"コンクリート破砕機が旋回し、後方にいた作業員が挟まれる",3,3]
[null,233,1,null,null,1,1,null,null,null,null,null,null,null,null,null,"エレベーター開口部から墜落する",3,3]
[null,249,null,null,null,null,null,null,null,null,null,null,1,null,null,null,"切羽からの突発湧水によりおぼれる",5,3]
[302010,1,1,null,null,null,null,null,null,null,null,null,null,null,null,null,"スタッド溶接時、火花が飛散する",2,2]
[206010,2,1,1,1,null,null,null,null,1,null,null,1,1,1,null,"溶接時、火花が飛散する",2,2]
[302010,3,null,null,null,null,null,null,null,1,null,null,null,null,null,null,"杭ジョイント溶接時、火傷する",3,2]
[302010,4,1,null,null,null,null,null,null,null,null,null,null,null,null,null,"スタッド溶接時、火傷する",3,2]
[109010,5,1,1,1,null,null,null,null,1,null,null,1,1,1,null,"溶接部で火傷する",3,2]
[202010,6,1,null,null,null,null,null,null,null,null,null,1,1,null,null,"足場解体時、既存物、隣接建物に接触する",1,2]
[105010,21,1,1,1,1,1,1,1,1,1,1,1,1,1,null,"足場上で躓いて転倒する",1,2]
[202020,22,null,null,null,null,1,null,1,null,null,null,null,null,null,null,"ローリング足場が倒れて負傷する",3,2]
[402020,23,1,1,1,1,1,null,1,1,1,1,1,1,1,null,"布板昇降ハッチの蓋が閉まり手を詰める",2,2]
[105010,24,1,1,1,1,1,1,1,1,1,1,1,1,1,null,"足場使用時、足場から材料等を落下させる",2,2]
[202010,25,1,null,null,null,null,null,null,null,null,null,null,null,null,null,"足場の大バラシ時、玉掛けワイヤーに引掛かり足場が倒れる",3,2]
[205010,26,1,null,null,null,null,null,null,null,null,null,null,null,null,null,"重量物運搬時インターロッキングに躓いて足の上に落下する",1,2]
[509020,27,1,null,null,null,null,null,null,null,null,null,null,null,null,null,"取付作業中吊元の後打ちアンカーが抜け、吊り荷が落下して手にあたる",2,2]
[405010,28,1,null,null,null,null,null,null,null,null,null,null,null,null,null,"ＰＣを仮置きする際、手を挟む",2,2]
[405010,29,1,null,null,null,null,null,null,null,null,null,null,null,null,null,"PC柱・壁が倒れて負傷する",2,2]
[205010,30,1,null,null,null,1,null,null,null,null,null,1,1,null,null,"足場清掃時、足場からガラ等を落下させる",3,2]
[401010,31,1,null,null,null,null,null,null,null,null,null,1,1,null,null,"コンクリートを外部に飛散させる",3,2]
[108010,36,1,1,1,null,null,null,null,1,1,null,1,1,1,null,"クレーン使用時、資材を既存物にぶつける",1,2]
[401020,40,1,null,null,null,null,null,null,null,null,null,1,1,null,null,"コンクリート打設中、ホースが暴れて接触し転倒する",2,2]
[102010,43,1,1,1,null,null,null,1,1,1,1,1,1,1,null,"吊荷時、搬入車輛（ユニック車)が転倒する",3,2]
[108010,44,1,1,1,null,null,null,1,1,1,1,1,1,1,null,"揚重機が転倒する",3,2]
[110010,45,1,1,1,null,null,null,1,1,1,1,1,1,1,null,"資材荷吊り時アウトリガー下地盤が沈下しユニック車が転倒する",3,2]
[110010,46,1,1,1,null,null,null,1,1,1,1,1,1,1,null,"資材荷吊り時過過重になりユニック車が転倒する",3,2]
[401020,47,1,null,null,null,null,null,null,null,null,null,1,1,null,null,"ポンプ車のブームを合図なく動かしバランスを崩して転倒する",3,2]
[401020,48,1,null,null,null,null,null,null,null,null,null,1,1,null,null,"圧送車が転倒する",3,2]
[401010,62,1,null,null,null,null,null,null,1,null,null,null,null,null,null,"釜場に足をとられて転倒する",1,2]
[206010,70,1,null,null,null,null,null,null,null,null,null,null,1,1,null,"ガス切断時アセチレンガスが漏れ、火事になる",3,2]
[402050,71,1,null,null,null,null,null,null,null,null,null,null,1,1,null,"ピット内で酸欠する",2,2]
[302010,72,null,null,null,null,null,null,null,null,null,null,null,1,null,null,"ロッド組立時、高所から転落する",2,2]
[302010,73,null,null,null,null,null,null,null,null,null,null,null,null,1,null,"オーガー取付時、リーダーの間に手･足を挟む",2,2]
[302010,74,null,null,null,null,null,null,null,null,null,null,null,null,1,null,"杭打ち機と作業員が接触する",2,2]
[302010,75,null,null,null,null,null,null,null,null,null,null,null,null,1,null,"杭ジョイント時、下杭と上杭の間に指を挟む",2,2]
[302010,76,null,null,null,null,null,null,null,null,null,null,null,null,1,null,"杭吊込み時、既存物や作業員に接触する",2,2]
[202010,79,null,null,null,null,null,null,null,null,null,null,null,null,1,null,"外壁の控えを取付け時に折り曲げた波板で手を負傷する",2,2]
[203020,80,1,null,null,null,null,null,null,null,null,null,null,null,null,null,"差筋で足を切る",2,2]
[402050,81,1,1,1,null,null,null,null,null,null,null,null,null,null,null,"小払し中、型枠材の釘が手に刺さる",2,2]
[402050,82,null,1,null,null,null,null,null,null,null,null,null,null,null,null,"金物くさび取外し時、はねて目にあたり負傷する",2,2]
[402050,83,null,1,null,null,null,null,null,null,null,null,null,null,null,null,"鋼管荷渡し時、手を挟む",2,2]
[402070,84,null,1,null,null,null,null,null,null,null,null,null,null,null,null,"差筋で足を切る",2,2]
[101010,85,1,1,1,null,null,null,null,null,null,null,null,1,null,null,"長尺物を振り回す際、作業員にぶつける",2,2]
[202010,86,1,1,1,1,1,1,1,1,1,1,1,1,1,null,"資材にあたって負傷する",2,2]
[202010,87,1,1,null,null,null,null,null,null,null,null,1,1,null,null,"単管パイプを受け取る際、バランスを崩して転倒する",2,2]
[301010,88,1,null,null,null,null,null,null,1,null,null,1,1,1,null,"敷鉄板敷き込み時、足を滑らせて転倒する",2,2]
[405010,89,1,null,null,null,null,null,null,null,null,null,1,1,1,null,"重量物を持って腰を痛める",1,2]
[301010,101,null,null,null,null,null,null,null,1,null,null,null,null,1,null,"重機使用時に誤って旋回レバーに触れ、作業員と接触する",1,2]
[101010,105,1,1,1,null,null,null,null,1,1,1,1,1,1,null,"揚重作業時クレーンが転倒する",1,2]
[402030,111,1,null,null,null,1,1,1,null,null,null,1,null,1,null,"高所作業車移動時に開口部の養生蓋に引っ掛かって転倒する",1,2]
[403030,118,null,1,null,null,null,null,null,null,null,null,null,null,null,null,"型枠建込み時、足場から墜落する",2,2]
[401010,121,null,1,null,null,null,null,null,null,null,null,null,null,null,null,"パイプサポートが倒れて負傷する",1,2]
[402020,122,null,1,null,null,null,null,null,null,null,null,null,null,null,null,"ﾊﾟｲﾌﾟｻﾎﾟｰﾄ受け渡し時上部サポートが抜けて負傷する",1,2]
[402050,123,null,1,null,null,null,null,null,null,null,null,null,null,null,null,"大形型枠脱型時クレーンで吊上げた際に落下し負傷する",1,2]
[402050,124,null,1,null,null,null,null,null,null,null,null,null,null,null,null,"外壁解体時、誤って型枠を落下させる",2,2]
[402050,125,null,1,null,null,null,null,null,null,null,null,null,null,null,null,"パイプサポートを緩めた時、根太材が落下して負傷する",2,2]
[402060,126,null,1,null,null,null,null,null,null,null,null,null,null,null,null,"型枠解体時、目にゴミが入る",2,2]
[103010,128,null,null,null,null,null,null,null,null,null,null,null,null,1,null,"杭周廻りのぬかるみに足をとられ、転倒する",2,2]
[302010,129,null,null,null,null,null,null,null,1,null,null,null,null,null,null,"法面(土砂)が崩壊する",3,2]
[101010,136,null,null,null,null,null,null,null,null,null,null,null,1,1,null,"配管運搬時に、周囲の人に材料を当ててしまう",2,2]
[105020,137,1,1,1,null,null,1,null,1,null,null,1,1,1,null,"溶接治具運搬時、足場に手をぶつけて負傷する",2,2]
[403050,138,1,1,1,1,1,1,1,1,1,null,null,1,1,null,"材料運搬時、躓いて転倒する",2,2]
[105020,140,1,1,1,1,1,1,1,1,1,null,null,1,1,null,"資材運搬時、台車に手を挟まれて負傷する",1,2]
[301010,144,null,null,null,1,null,null,null,null,null,null,null,null,null,null,"ハンドミキサー使用時、手や服が巻き込まれる",2,2]
[502020,145,1,null,null,null,null,null,null,1,null,null,null,null,null,null,"ダンプ後退時、バックホーと接触する",2,2]
[103010,146,1,null,null,null,null,null,null,1,null,null,null,null,null,null,"後進ダンプにひかれて負傷する",1,2]
[105010,148,null,null,null,null,null,null,1,null,null,null,null,null,null,null,"配線結線時に充電部に接触して感電する",4,2]
[105010,149,null,null,null,null,null,null,1,null,null,null,null,null,null,null,"配線撤去時に誤って活線に接触して感電する",4,2]
[105010,150,null,null,null,null,null,null,1,null,null,null,null,null,null,null,"配線敷設時、鉄筋の結束線が指に刺さる",4,2]
[105010,152,null,null,null,null,null,null,1,null,null,null,null,null,null,null,"キャプタイヤーに躓き転倒する",2,2]
[302010,153,1,null,null,null,null,null,null,1,null,null,1,1,1,null,"敷鉄板荷吊り時に玉掛けワイヤーが外れ、敷鉄板で手足を挟む",2,2]
[110010,154,1,null,null,null,null,null,null,1,null,null,1,1,1,null,"荷吊り中、吊りフックから外れ敷鉄板で手を挟む",3,2]
[302010,155,1,null,null,null,null,null,null,1,null,null,1,1,1,null,"建方時、玉掛けワイヤーが切れて落下する",3,2]
[605010,162,1,1,1,1,1,1,1,null,null,null,null,1,1,null,"通路足場から身を寄り出した際、墜落する",1,2]
[404030,177,1,null,null,null,null,null,null,null,null,null,null,null,1,null,"鉄骨建ち直し用フックに躓き転倒する",1,2]
[404030,178,null,null,null,null,null,null,null,null,null,null,null,null,null,1,"スランプコーンを引き上げる際、腰を痛める",1,2]
[109010,179,1,null,null,null,null,null,null,1,1,null,1,1,null,null,"振り上げたハンマーが目にあたる",1,2]
[402020,180,null,1,null,null,null,null,null,null,null,null,null,null,null,null,"釘打ち機が暴発し手を負傷する",3,2]
[402020,181,null,1,null,null,null,null,null,null,null,null,null,null,null,null,"バール使用時誤って手にあたる",3,2]
[402050,182,null,null,1,null,null,null,null,null,null,null,null,null,null,null,"電動結束機使用時、手や指を詰める",3,2]
[403030,183,1,null,null,null,null,null,null,null,null,null,null,null,1,null,"鉄骨建入治具での使用時に、定められた以外の使用をして負傷する",3,2]
[404030,184,1,null,null,null,null,null,null,1,null,null,null,null,null,null,"切梁架設時、手が滑り工具類が落下する",3,2]
[301030,185,1,1,1,null,null,1,null,null,null,null,1,1,1,null,"ベビーサンダー使用時、目に鉄粉が入る",3,2]
[null,187,null,null,null,null,null,null,1,null,null,null,null,null,null,null,"分電盤移設時、感電する",1,2]
[105010,188,null,null,null,null,null,null,1,null,null,null,null,null,null,null,"電源切替時、感電する",4,2]
[105010,189,null,null,null,null,null,null,1,null,null,null,null,null,null,null,"電源投入時に機械・電動工具を点検していた人が負傷する",4,2]
[105010,190,null,null,null,null,null,null,1,null,null,null,null,null,null,null,"停電時の点検清掃時に残留電荷により感電する",4,2]
[105010,191,null,null,null,null,null,null,1,null,null,null,null,null,null,null,"水銀灯取付時、手を詰める",4,2]
[105010,192,null,null,null,null,null,null,1,null,null,null,null,null,null,null,"足場に水銀灯を設置する時に器具を落下させ下部の作業員に当たる",1,2]
[205010,208,null,null,null,null,1,1,null,null,null,null,null,1,null,null,"有機溶剤で気分が悪くなる",4,2]
[205010,211,1,null,null,null,1,null,1,null,null,null,null,1,null,null,"フォークリフト移動時、作業員と接触する",2,2]
[110010,212,null,1,null,null,null,null,null,null,null,null,null,null,null,null,"サンダーや丸のこ等使用時、手がぶれたり、刃がはねて負傷する",3,2]
[101010,213,null,1,null,null,null,null,null,null,null,null,null,null,null,null,"不安定な状態で丸のこで指を切る",3,2]
[402010,214,null,1,null,null,null,null,null,null,null,null,null,null,null,null,"充電式丸のこ使用時（やむなく使用時）刃がはねて負傷する",3,2]
[402020,215,null,1,null,null,null,null,null,null,null,null,null,null,null,null,"丸のこ使用時わき見をして負傷する",3,2]
[102010,218,null,null,null,null,null,null,null,null,null,null,null,null,1,null,"汚水配管撤去時に汚物が目や口に入る",4,2]
[null,220,null,null,null,null,null,null,null,null,null,1,null,null,null,null,"チェーンソーで伐木時、伐木した木が倒れかかり、挟まれる",1,2]
[null,224,null,null,null,null,null,null,null,null,null,null,1,1,1,null,"ウインチ巻取り時、介錯していた手が巻き込まれる",2,2]
[null,225,null,null,null,null,null,null,null,null,null,null,1,1,1,null,"ウインチでけん引時、けん引ワイヤーが切断し、重量物と接触する",2,2]
[null,226,null,null,null,null,null,null,null,null,1,null,null,null,null,null,"コンクリート破砕機で解体時、ガラが飛散し下敷きになる",3,2]
[null,228,null,null,null,null,null,null,null,null,1,null,null,null,null,null,"圧砕機で鉄筋切断し、切断片が飛散し、作業員に当たる",3,2]
[null,230,null,null,null,null,null,null,null,null,null,1,null,null,null,null,"伐倒機旋回時、周囲にいた作業員を巻き込む",3,2]
[null,231,null,null,null,null,null,null,null,null,null,1,null,null,null,null,"伐倒機で伐倒時、倒れる方向にいた作業員に接触する",3,2]
[null,238,null,null,null,null,null,null,null,null,null,null,1,1,null,null,"軌道装置後退時、周囲にいた作業員と接触する",2,2]
[null,244,1,null,null,null,null,null,null,null,null,null,null,1,1,null,"チェーンブロックで鋼材引き寄せ時、引く方向に手を置き、挟まれる",3,2]
[null,245,1,null,null,null,null,null,null,null,null,null,null,1,1,null,"２台のチェーンブロックで鋼材吊り上げ時、左右のバランスが悪く、片側に吊荷が流れ挟まれる",3,2]
[null,246,1,1,1,1,1,1,null,1,1,null,1,1,1,null,"ガソリン容器が破損し、引火する",3,2]
[null,247,1,1,1,1,1,1,null,1,1,null,1,1,1,null,"軽油が漏洩し、引火する",3,2]
[null,248,null,null,null,null,null,null,null,null,null,1,null,null,null,null,"伐木時、かかり木が作業員に接触する",1,2]
[101010,9,1,1,1,1,1,null,1,1,null,null,null,null,1,null,"立馬から降りる時に踏み外して転落する",1,1]
[203010,14,1,1,1,1,1,1,1,1,1,1,1,1,1,null,"足場板を固定する際、足場板の天ビンにより墜落する",1,1]
[302010,32,1,null,null,1,null,null,null,null,null,null,1,1,null,null,"ホース先端よりセメントミルクが飛び出し顔にかかる",1,1]
[401020,33,1,null,null,1,null,null,null,null,null,null,1,1,null,null,"手足にコンクリートが触れてただれる",1,1]
[403060,34,null,null,null,1,null,null,null,null,null,null,1,1,null,null,"グラウト材注入する際、グラウト材が目に入る",1,1]
[404020,35,1,1,1,null,null,null,null,1,1,null,1,1,1,null,"吊荷が強風であおられる",1,1]
[203030,63,1,1,1,null,null,null,null,null,null,null,null,null,null,null,"梁上移動時、工具等が落下する",1,1]
[206010,64,1,null,null,null,null,null,null,null,null,null,null,null,1,null,"構台架設時、手が滑り工具類が落下する",1,1]
[404030,65,1,null,null,null,null,null,null,null,null,null,null,null,1,null,"ﾎﾞﾙﾄ締め時、手が滑り工具類が落下する",1,1]
[404050,66,1,null,null,null,null,null,null,null,null,null,null,null,1,null,"ﾃﾞｯｷ敷込み時、手が滑り工具類を落下させる",1,1]
[301020,77,null,null,null,null,null,null,null,null,null,null,null,null,1,null,"削孔時に重機が転倒する",2,1]
[302010,78,null,null,null,null,null,null,null,null,null,null,null,null,1,null,"杭打ち機が転倒する",2,1]
[402020,100,null,1,null,null,null,null,null,null,null,null,null,null,null,null,"打ち損じた釘が目にあたる",1,1]
[402060,127,null,null,null,null,null,null,null,1,null,null,null,null,null,null,"舗装時、第三者と作業員が接触する",1,1]
[105010,151,null,null,null,null,null,null,1,null,null,null,null,null,null,null,"配線敷設時、鉄筋間に足を挟み転倒する",1,1]
[302010,186,1,1,1,null,null,1,null,null,null,null,1,1,1,null,"カッターナイフで手を切る",1,1]
[105010,193,null,null,null,null,null,null,1,null,null,null,null,null,null,null,"分電盤取付時に落下させ足を詰める",1,1]
[105010,194,null,1,null,null,null,null,null,null,null,null,null,null,null,null,"雨天時、丸のこを使用して感電する",1,1]
[301010,195,1,1,1,null,null,1,null,null,null,null,1,1,1,null,"ベビーサンダー使用時、誤って手を切る",1,1]
[101010,196,null,null,null,null,null,null,null,null,null,1,null,null,null,null,"草刈り機で手や足を切る",1,1]
[101010,197,1,null,null,null,null,null,null,1,null,null,null,null,null,null,"インパクトドライバー使用時、指を負傷する",1,1]
[102010,198,1,null,1,null,null,null,null,1,null,null,null,null,1,null,"高速カッターで手を切る",1,1]
[105020,199,null,null,null,null,1,null,null,null,null,null,null,null,null,null,"スクレイパー刃の取替時に手を切る",1,1]
[205010,200,null,null,null,null,null,null,null,null,null,null,null,null,1,null,"プラント機械に手を巻き込まれる",1,1]
[105020,202,null,null,null,null,null,null,null,null,null,null,null,null,null,1,"工事車輛の搬出入時、第三者と接触する",1,1]
[109010,205,1,1,1,1,null,null,null,1,1,null,1,1,1,null,"積込み運搬中の資材の荷崩れで負傷する",3,1]
[402020,216,null,1,null,null,null,null,null,null,null,null,null,null,null,null,"チップソー使用時、目に鉄粉が入る",1,1]
[null,221,null,null,null,null,null,null,null,null,null,1,null,null,null,null,"チェーンソー使用時、切断した粉が目に入る",1,1]
[null,222,null,null,null,null,null,null,null,null,null,1,null,null,null,null,"チェーンソーで二分割時、切断した木がはねて身体に当たる",1,1]
[null,223,null,null,null,null,null,null,null,null,null,1,null,null,null,null,"チェーンソー使用時、刃が下肢に接触する",1,1]
[null,229,null,null,null,null,null,null,null,null,1,null,null,null,null,null,"コンクリート破砕機から降りる際、足を踏み外す",1,1]
[null,232,null,null,null,null,null,null,null,null,null,1,null,null,null,null,"伐倒機が斜面で作業時、安定を崩して倒壊する",2,1]
[null,234,1,null,null,null,null,null,null,null,null,null,null,null,null,null,"エレベーターで長尺もの運搬時、はみ出した資材が外部足場と接触する",1,1]
[null,235,null,null,null,1,1,1,null,null,null,null,null,null,null,null,"ベビーホイストで資材吊り上げ時、玉掛が外れて落下する",1,1]
[null,236,null,null,null,null,null,null,null,null,null,1,null,null,null,null,"索道で資材輸送時、資材の結束が外れる",1,1]
[null,237,null,null,null,null,null,null,null,null,null,null,1,1,null,null,"バッテリーカーでズリトロけん引時、脱線する",1,1]
[null,239,null,null,null,null,null,null,null,null,null,null,1,1,null,null,"軌道装置が曲線走行時、レール押え金物が外れ、脱線する",1,1]
[null,242,null,null,null,null,null,null,null,1,null,null,null,null,null,null,"不整地運搬車で斜面走行時、バランスを崩して転倒する",1,1]
[null,243,null,null,null,null,null,null,null,1,null,null,null,null,null,null,"不整地運搬車走行時、土砂が崩壊し転倒する",1,1]
[null,null,null,"　　　　　　　　　　　　　　　　　　　　　　　　　　　　　　　　　　　　　　　　　　　　　　　　　　　　　　　　　　　　　　　　　　　　　　　　　　　　　　　　　　　　　　　　　　　　　　　　　　　　　　　　　　　　　　　　　　　　　　　　　　　　　　　　　　　　　　　　　　　　　　　　　　　　　　　　　　　　　　　　　　　　　　　　　　　　　　　　　　　　　　　　　　　　　　　　　　　　　　　　　　　　　　　　　　　　　　　　　　　　　　　　　　　　　　　　　　　　　　　　　　　　　　　　　　　　　　　　　　　　　　　　　　　　　　　　　　　　　　　　　　　　　　　　　　　　　　　　　　　　　　　　　　　　　　　　　　　　　　　　　　　　　　　　　　　　　　　　　　　　　　　　　　　　　　　　　　　　　　　　　　　　　　　　　　　　　　　　　　　　　　　　　　　　　　　　　　　　　　　　　　　　　　　　　　　　　　　　　　　　　　　　　　　　　　　　　　　　　　　　　　　　　　　　　　　　　　　　　　　　　　　　　　　　　　　　　　　　　　　　　　　　　　　　　　　　　　　　　　　　　　　　　　　　　　　　　　　　　　　　　　　　　　　　　　　　　　　　　　　　　　　　　　　　　　　　　　　　　　　　　　　　　　　　　　　　　　　　　　　　　　　　　　　　　　　　　　　　　　　　　　　　　　　　　　　　　　　　　　　　　　　　　　　　　　　　　　　　　　　　　　　　　　　　　　　　　　　　　　　　　　　　　　　　　　　　　　　　　　　　　　　　　　　　　　　　　　　　　　　　　　　　　　　　　　　　　　　　　　　　　　　　　　　　　　　　　　　　　　　　　　　　　　　　　　　　　　　　　　　　　　　　　　　　　　　　　　　　　　　　　　　　　　　　　　　　　　　　　　　　　　　　　　　　　　　　　　　　　　　　　　　　　　　　　　　　　　　　　　　　　　　　　　　　　　　　　　　　　　　　　　　　　　　　　　　　　　　　　　　　　　　　　　　　　　　　　　　　　　　　　　　　　　　　　　　　　　　　　　　　　　　　　　　　　　　　　　　　　　　　　　　　　　　　　　　　　　　　　　　　　　　　　　　　　　　　　　　　　　　　　　　　　　　　　　　　　　　　　　　　　　　　　　　　　　　　　　　　　　　　　　　　　　　　　　　　　　　　　　　　　　　　　　　　　　　　　　　　　　　　　　　　　　　　　　　　　　　　　　　　　　　　　　　　　　　　　　　　　　　　　　　　　　　　　　　　　　　　　　　　　　　　　　　　　　　　　　　　　　　　　　　　　　　　　　　　　　　　　　　　　　　　　　　　　　　　　　　　　　　　　　　　　　　　　　　　　　　　　　　　　　　　　　　　　　　　　　　　　　　　　　　　　　　　　　　　　　　　　　　　　　　　　　　　　　　　　　　　　　　　　　　　　　　　　　　　　　　　　　　　　　　　　　　　　　　　　　　　　　　　　　　　　　　　　　　　　　　　　　　　　　　　　　　　　　　　　　　　　　　　　　　　　　　　　　　　　　　　　　　　　　　　　　　　　　　　　　　　　　　　　　　　　　　　　　　　　　　　　　　　　　　　　　　　　　　　　　　　　　　　　　　　　　　　　　　　　　　　　　　　　　　　　　　　　　　　　　　　　　　　　　　　　　　　　　　　　　　　　　　　　　　　　　　　　　　　　　　　　　　　　　　　　　　　　　　　　　　　　　　　　　　　　　　　　　　　　　　　　　　　　　　　　　　　　　　　　　　　　　　　　　　　　　　　　　　　　　　　　　　　　　　　　　　　　　　　　　　　　　　　　　　　　　　　　　　　　　　　　　　　　　　　　　　　　　　　　　　　　　　　　　　　　　　　　　　　　　　　　　　　　　　　　　　　　　　　　　　　　　　　　　　　　　　　　　　　　　　　　　　　　　　　　　　　　　　　　　　　　　　　　　　　　　　　　　　　　　　　　　　　　　　　　　　　　　　　　　　　　　　　　　　　　　　　　　　　　　　　　　　　　　　　　　　　　　　　　　　　　　　　　　　　　　　　　　　　　　　　　　　　　　　　　　　　　　　　　　　　　　　　　"]

{"sheet":"【元データ】評価シート","index":17,"n_rows":114,"n_cols":20,"rows_kept":114,"cut":false,"hidden":false,"merged":[[0,1,1,1],[59,1,60,1]]}
[null,"重大性"]
[]
[]
[null,"墜落・転落","転倒","激突","飛来・落下","崩壊・倒壊","激突され","はさまれ・巻き込まれ","切れ・こすれ","踏み抜き","おぼれ","高温低温物との接触","有害物等との接触","感電","爆発","破裂","火災","交通事故（道路）","交通事故（その他）","動作の反動・無理な動作"]
["原動機",2,1,1,2,1,1,2,1,1,1,1,1,1,1,1,1,1,1,1]
["動力伝導機構",2,1,1,2,1,1,3,1,1,1,1,1,1,1,1,1,1,1,1]
["丸のこ盤",2,1,1,2,1,2,2,2,1,1,1,1,1,1,1,1,1,1,1]
["チェーンソー",2,1,1,2,1,2,2,2,1,1,1,1,1,1,1,1,1,1,1]
["整地・運搬・積込み用機械",3,2,2,2,1,3,3,1,1,2,1,1,1,1,1,1,2,1,1]
["掘削用機械",4,2,2,2,2,3,3,1,1,1,1,1,1,1,1,1,1,1,1]
["基礎工事用機械",2,2,2,2,1,2,2,1,1,1,1,1,1,1,1,1,1,1,1]
["締固め用機械",3,1,2,1,1,2,2,1,1,1,1,1,1,1,1,1,1,1,1]
["解体用機械",2,2,2,2,2,2,3,1,1,1,1,1,1,1,1,1,2,1,1]
["高所作業車",3,2,2,1,1,2,3,1,1,1,1,1,2,1,1,1,2,1,1]
["伐木等機械",3,2,1,2,1,2,2,1,1,1,1,1,1,1,1,1,1,1,1]
["クレーン",3,2,1,3,2,3,3,1,1,1,1,1,2,1,1,1,1,1,1]
["移動式クレーン",4,2,2,3,2,3,3,1,1,2,1,1,1,1,1,1,3,1,1]
["エレベータ、リフト",3,2,1,2,1,2,3,1,1,1,1,1,1,1,1,1,1,1,1]
["揚貨装置",2,1,1,1,1,1,2,1,1,1,1,1,1,1,1,1,1,1,1]
["ゴンドラ",2,1,1,1,1,1,2,1,1,1,1,1,1,1,1,1,1,1,1]
["機械集材装置、運材索道",2,1,1,1,1,2,2,1,1,1,1,1,1,1,1,1,1,1,1]
["トラック",5,3,2,2,2,3,4,2,1,1,2,1,1,1,1,1,5,1,2]
["フォークリフト",4,3,2,3,2,3,3,1,1,1,1,1,1,1,1,1,2,1,2]
["軌道装置",2,1,1,1,1,2,2,1,1,1,1,1,1,1,1,1,1,1,1]
["コンベア",3,2,2,2,2,2,4,2,1,1,1,1,1,1,1,1,1,1,2]
["不整地運搬車",3,2,2,1,1,1,2,1,1,1,1,1,1,1,1,1,1,1,1]
["乗用車、バス、バイク",4,3,2,2,2,3,3,2,1,2,2,1,1,1,1,1,5,1,2]
["ガス溶接装置",2,1,1,2,1,1,2,1,1,1,2,1,1,1,1,2,1,1,1]
["アーク溶接装置",1,1,1,2,1,2,2,1,1,1,2,2,2,1,1,2,1,1,1]
["送配電線等",3,2,1,1,1,1,2,1,1,1,1,1,2,1,1,1,1,1,1]
["電力設備",2,1,1,1,1,1,2,1,1,1,2,1,2,1,1,1,1,1,1]
["人力クレーン等",2,2,2,2,2,2,2,1,1,1,1,1,1,1,1,1,1,1,2]
["人力運搬機",3,3,2,2,3,3,3,2,1,2,2,1,1,1,1,1,3,1,2]
["人力機械",2,2,1,2,1,2,2,2,1,1,1,1,1,1,1,1,1,1,1]
["手工具",2,2,2,2,2,2,2,3,1,1,2,1,1,1,1,1,1,1,2]
["はしご等",5,2,2,2,2,2,2,2,1,1,1,1,1,1,1,1,1,1,2]
["玉掛用具",2,2,1,3,3,2,2,1,1,1,1,1,1,1,1,1,1,1,1]
["足場",5,2,2,2,2,2,2,1,1,2,1,1,1,1,1,1,1,1,2]
["支保工",3,2,1,2,2,1,2,1,1,1,1,1,1,1,1,1,1,1,1]
["階段、桟橋",5,3,2,2,2,1,2,1,1,2,1,1,1,1,1,1,1,1,2]
["開口部",4,2,1,1,1,1,2,1,1,2,1,1,1,1,1,1,1,1,1]
["屋根",5,2,2,2,2,1,2,1,1,2,1,1,1,1,1,1,1,1,1]
["作業床",4,3,2,2,2,2,2,1,1,2,2,1,1,1,1,1,1,1,2]
["通路",4,4,2,2,2,2,2,2,1,1,2,1,1,1,1,1,2,1,2]
["爆発性の物等",1,1,1,2,1,1,1,1,1,1,1,1,1,2,1,1,1,1,1]
["引火性の物",1,1,1,1,1,1,1,1,1,1,2,1,1,1,1,2,1,1,1]
["可燃性のガス",1,1,1,1,1,1,1,1,1,1,2,2,1,2,1,1,1,1,1]
["有害物",1,1,1,2,1,1,1,1,1,1,2,2,1,1,1,1,1,1,1]
["金属材料",3,2,2,3,3,3,3,2,1,1,2,1,1,1,1,1,1,1,2]
["木材、竹材",2,2,2,3,2,2,2,2,1,1,1,1,1,1,1,1,1,1,2]
["石、砂、砂利",2,2,1,2,2,2,2,1,1,1,1,1,1,1,1,1,1,1,2]
["地山、岩石",4,2,2,2,5,2,2,1,1,1,1,1,1,1,1,1,2,1,2]
["立木等",4,2,2,3,3,4,2,2,1,1,1,1,1,1,1,1,2,1,2]
["水",2,2,1,1,1,1,1,1,1,3,2,1,1,1,1,1,2,1,1]
["異常環境等",2,2,1,1,1,1,1,1,1,1,1,2,1,1,1,1,1,1,1]
["高温・低温環境",2,2,1,1,1,1,1,1,1,1,3,1,1,1,1,1,2,1,1]
[]
[]
[]
[null,"可能性"]
[]
[null,"墜落・転落","転倒","激突","飛来・落下","崩壊・倒壊","激突され","はさまれ・巻き込まれ","切れ・こすれ","踏み抜き","おぼれ","高温低温物との接触","有害物等との接触","感電","爆発","破裂","火災","交通事故（道路）","交通事故（その他）","動作の反動・無理な動作"]
["原動機",1,1,1,2,1,1,2,1,1,1,1,2,1,1,1,1,1,1,1]
["動力伝導機構",1,1,1,1,1,1,3,1,1,1,1,1,1,1,1,1,1,1,1]
["丸のこ盤",1,1,1,2,1,2,3,3,1,1,1,1,1,1,1,1,1,1,1]
["チェーンソー",1,1,1,2,2,2,1,3,1,1,1,1,1,1,1,1,1,1,1]
["整地・運搬・積込み用機械",3,3,1,2,2,3,4,1,1,2,1,1,1,1,1,1,2,1,1]
["掘削用機械",4,3,1,3,3,4,4,1,1,2,2,1,1,1,1,1,1,1,1]
["基礎工事用機械",2,2,2,3,2,2,2,1,1,1,1,1,1,1,1,1,1,1,1]
["締固め用機械",3,1,2,1,1,2,3,1,1,1,1,1,1,1,1,1,1,1,1]
["解体用機械",2,3,2,3,2,3,3,1,1,1,1,1,1,1,1,1,2,1,1]
["高所作業車",3,1,2,1,1,2,3,1,1,1,1,1,3,1,1,1,2,1,1]
["伐木等機械",3,2,1,2,2,3,3,1,1,1,1,1,1,1,1,1,1,1,1]
["クレーン",3,1,1,4,3,3,4,1,1,1,1,1,3,1,1,1,1,1,1]
["移動式クレーン",4,2,1,3,3,3,3,1,1,3,1,1,2,1,1,1,3,1,1]
["エレベータ、リフト",3,1,1,3,1,2,3,1,1,1,1,1,2,1,1,1,1,1,1]
["揚貨装置",2,1,1,1,1,1,2,1,1,1,1,1,1,1,1,1,1,1,1]
["ゴンドラ",1,1,1,1,1,1,1,1,1,1,1,1,1,1,1,1,1,1,1]
["機械集材装置、運材索道",1,1,1,1,1,2,1,1,1,1,1,1,1,1,1,1,1,1,1]
["トラック",5,3,3,3,3,4,5,1,1,2,2,2,2,1,2,1,5,3,1]
["フォークリフト",4,3,2,4,3,4,4,1,1,2,2,1,1,1,1,1,3,2,1]
["軌道装置",2,1,1,1,1,2,2,1,1,1,1,1,1,1,1,1,1,1,1]
["コンベア",3,1,2,3,2,3,5,1,1,1,1,1,2,1,1,1,1,1,1]
["不整地運搬車",3,2,2,1,1,1,3,1,1,1,1,1,1,1,1,1,1,1,1]
["乗用車、バス、バイク",4,2,2,2,3,3,3,1,1,2,2,1,1,1,1,1,5,3,1]
["ガス溶接装置",1,1,1,1,1,1,1,1,1,1,3,1,1,2,1,3,1,1,1]
["アーク溶接装置",1,1,1,1,1,2,2,1,1,1,3,2,3,1,1,2,1,1,1]
["送配電線等",3,2,1,1,1,1,1,1,1,1,2,1,4,1,1,1,1,1,1]
["電力設備",1,1,1,1,2,1,1,1,1,1,2,1,4,1,1,1,1,1,1]
["人力クレーン等",2,2,1,3,3,3,3,1,1,1,1,1,1,1,1,1,1,1,1]
["人力運搬機",3,3,2,3,5,4,4,1,1,2,2,1,1,1,1,1,3,2,1]
["人力機械",1,1,1,2,2,2,2,1,1,1,1,1,1,1,1,1,1,1,1]
["手工具",2,1,2,3,2,3,3,3,1,2,3,1,2,1,1,1,1,1,1]
["はしご等",5,2,2,2,3,2,2,1,1,1,1,1,1,1,1,1,1,1,1]
["玉掛用具",2,1,1,4,3,3,3,1,1,1,1,1,1,1,1,1,1,1,1]
["足場",5,1,1,2,3,2,2,1,1,3,1,1,1,1,1,1,1,1,1]
["支保工",3,1,1,2,3,1,1,1,1,1,1,1,1,1,1,1,1,1,1]
["階段、桟橋",5,3,2,1,3,1,2,1,1,3,1,1,1,1,1,1,1,1,1]
["開口部",5,1,1,1,1,1,1,1,1,3,1,1,1,1,1,1,1,1,1]
["屋根",5,1,2,2,3,1,1,1,1,3,1,1,1,1,1,1,1,1,1]
["作業床",5,3,2,2,2,2,2,1,1,2,2,1,1,1,1,1,1,1,1]
["通路",4,4,3,2,2,2,2,1,1,2,2,1,1,1,1,1,2,1,1]
["爆発性の物等",1,1,1,2,1,1,1,1,1,1,1,2,1,3,1,2,1,1,1]
["引火性の物",1,1,1,1,1,1,1,1,1,1,3,2,1,3,1,3,1,1,1]
["可燃性のガス",1,1,1,1,1,1,1,1,1,1,2,2,1,3,1,3,1,1,1]
["有害物",1,1,1,2,1,1,1,1,1,1,2,4,1,1,1,1,1,1,1]
["金属材料",3,2,2,5,5,3,4,2,1,1,3,1,2,2,1,1,1,1,1]
["木材、竹材",3,2,1,4,4,3,3,1,1,1,1,1,1,1,1,1,1,1,1]
["石、砂、砂利",2,1,1,3,3,2,2,1,1,1,1,1,1,1,1,1,1,1,1]
["地山、岩石",5,3,2,3,5,2,2,1,1,1,1,1,1,1,1,1,1,1,1]
["立木等",4,2,1,4,5,5,3,1,1,1,1,1,2,1,1,1,1,1,1]
["水",2,2,1,1,1,1,1,1,1,5,3,1,1,1,1,1,1,1,1]
["異常環境等",1,1,1,1,1,1,1,1,1,1,2,4,1,1,1,1,1,1,1]
["高温・低温環境",1,1,1,1,1,1,1,1,1,1,5,2,1,1,1,1,2,1,1]

{"sheet":"支店一覧","index":18,"n_rows":9,"n_cols":2,"rows_kept":9,"cut":false,"hidden":false,"merged":[]}
["支店ID","支店名"]
["10","札幌支店"]
["20","東北支店"]
["30","東日本支社"]
["40","名古屋支店"]
["50","西日本支社"]
["60","広島支店"]
["70","四国支店"]
["80","九州支店"]

{"sheet":"大工種一覧","index":19,"n_rows":101,"n_cols":3,"rows_kept":101,"cut":false,"hidden":false,"merged":[]}
["大工種ID","大工種名","土建名"]
[1,"共通仮設工事","建築"]
[2,"直接仮設工事","建築"]
[3,"躯体工事","建築"]
[4,"仕上工事","建築"]
[5,"設備工事","建築"]
[6,"外構・造成工事","建築"]
[7,"解体撤去・その他工事","建築"]
[{"$f":"ROW()-2","v":7}]
[8]
[9]
[10]
[11]
[12]
[13]
[14]
[15]
[16]
[17]
[18]
[19]
[20]
[21]
[22]
[23]
[24]
[25]
[26]
[27]
[28]
[29]
[30]
[31]
[32]
[33]
[34]
[35]
[36]
[37]
[38]
[39]
[40]
[41]
[42]
[43]
[44]
[45]
[46]
[47]
[48]
[49]
[50]
[51]
[52]
[53]
[54]
[55]
[56]
[57]
[58]
[59]
[60]
[61]
[62]
[63]
[64]
[{"$f":"ROW()-2","v":65}]
[66]
[67]
[68]
[69]
[70]
[71]
[72]
[73]
[74]
[75]
[76]
[77]
[78]
[79]
[80]
[81]
[82]
[83]
[84]
[85]
[86]
[87]
[88]
[89]
[90]
[91]
[92]
[93]
[94]
[95]
[96]
[97]
[98]
[99]

{"sheet":"工種一覧","index":20,"n_rows":287,"n_cols":3,"rows_kept":287,"cut":false,"hidden":false,"merged":[]}
["工種ID","工種名称","大工種名"]
[101010,"準備工事","共通仮設工事"]
[101020,"近隣家屋調査工事","共通仮設工事"]
[102010,"仮設建物工事（組立・解体）","共通仮設工事"]
[103010,"歩道乗入改造工事","共通仮設工事"]
[103020,"仮囲工事","共通仮設工事"]
[104010,"警備","共通仮設工事"]
[105010,"工事用電気設備工事","共通仮設工事"]
[105020,"工事用給排水設備工事","共通仮設工事"]
[108010,"揚重機（建方・解体）","共通仮設工事"]
[109010,"各種試験","共通仮設工事"]
[110010,"運搬・荷揚・揚重","共通仮設工事"]
[201010,"遣方墨出工事","直接仮設工事"]
[202010,"内外足場組立・解体工事（枠組・ビケ・単管足場）","直接仮設工事"]
[202020,"内外足場組立・解体工事（ローリング・荷取ステージ等）","直接仮設工事"]
[203010,"専用仮設工事（通路足場）","直接仮設工事"]
[203020,"専用仮設工事（コンクリート足場）","直接仮設工事"]
[203030,"専用仮設工事（鉄骨吊り足場等）","直接仮設工事"]
[204010,"安全設備工事（シート・ネット）","直接仮設工事"]
[205010,"片付清掃工事","直接仮設工事"]
[205020,"美装工事","直接仮設工事"]
[206010,"構台組立・解体工事","直接仮設工事"]
[301010,"土工事","躯体工事"]
[301020,"山留工事（親杭・シートパイル・SMW等)","躯体工事"]
[301030,"山留工事（切梁組立・解体）","躯体工事"]
[302010,"地業工事","躯体工事"]
[401010,"コンクリート工事（打設）","躯体工事"]
[401020,"コンクリート工事（圧送）","躯体工事"]
[402010,"型枠組立工事（基礎・地中梁）","躯体工事"]
[402020,"型枠組立工事（柱・壁）","躯体工事"]
[402030,"型枠組立工事（梁・スラブ）","躯体工事"]
[402040,"型枠組立工事（持出スラブ）","躯体工事"]
[402050,"型枠解体工事（側面）","躯体工事"]
[402060,"型枠解体工事（梁・スラブ）","躯体工事"]
[402070,"型枠工事（その他）","躯体工事"]
[403010,"鉄筋組立工事（基礎・地中梁）","躯体工事"]
[403020,"鉄筋組立工事（柱・壁）","躯体工事"]
[403030,"鉄筋組立工事（梁・スラブ）","躯体工事"]
[403040,"鉄筋工事（その他）","躯体工事"]
[403050,"鉄筋継手工事（圧接・溶接）","躯体工事"]
[403060,"鉄筋継手工事（機械式）","躯体工事"]
[404010,"鉄骨工事（搬入・仮置）","躯体工事"]
[404020,"鉄骨工事（建方）","躯体工事"]
[404030,"鉄骨工事（建ち直し・本締め）","躯体工事"]
[404040,"鉄骨工事（デッキプレート搬入・取込）","躯体工事"]
[404050,"鉄骨工事（デッキプレート敷込）","躯体工事"]
[404060,"鉄骨工事（現場溶接）","躯体工事"]
[404070,"鉄骨工事（スタッド）","躯体工事"]
[404080,"鉄骨工事（耐火被覆）","躯体工事"]
[405010,"PC工事（柱・梁）","躯体工事"]
[405020,"PC工事（スラブ・バルコニー）","躯体工事"]
[405030,"プレストレスト工事（設置・緊張）","躯体工事"]
[501010,"組積工事（ALC・成形板）","仕上工事"]
[501020,"組積工事（ｺﾝｸﾘｰﾄﾌﾞﾛｯｸ、ｶﾞﾗｽﾌﾞﾛｯｸ等）","仕上工事"]
[502010,"防水工事（アスファルト）","仕上工事"]
[502020,"防水工事（シート）","仕上工事"]
[502030,"防水工事（塗膜）","仕上工事"]
[502040,"防水工事（シーリング）","仕上工事"]
[503010,"石工事","仕上工事"]
[504010,"タイル工事","仕上工事"]
[505010,"木工事","仕上工事"]
[506010,"金属工事（足場作業）","仕上工事"]
[506020,"金属工事（溶接作業）","仕上工事"]
[506030,"金属工事（その他）","仕上工事"]
[507010,"左官工事","仕上工事"]
[507020,"左官工事（土間）","仕上工事"]
[508010,"木製建具工事","仕上工事"]
[509010,"金属製建具工事（AW)","仕上工事"]
[509020,"金属製建具工事（SD)","仕上工事"]
[509030,"金属製建具工事（SS・重量SS)","仕上工事"]
[509040,"金属製建具工事（CW)","仕上工事"]
[510010,"ガラス工事","仕上工事"]
[511010,"塗装工事（塗装・塗床）","仕上工事"]
[511020,"吹付工事","仕上工事"]
[512010,"内装工事（壁・天井下地）","仕上工事"]
[512020,"内装工事（ボード貼り）","仕上工事"]
[512030,"内装工事（壁・天井仕上げ）","仕上工事"]
[512040,"内装工事（床下地）","仕上工事"]
[512050,"内装工事（床仕上げ）","仕上工事"]
[512060,"内装工事（カーテン・ブラインド）","仕上工事"]
[512070,"ウレタン吹付工事","仕上工事"]
[512080,"屋根工事","仕上工事"]
[512090,"樋工事","仕上工事"]
[513010,"仕上ユニット工事（UB、洗面、キッチン、家具等）","仕上工事"]
[514010,"その他仕上工事（トイレブース他）","仕上工事"]
[601010,"電気設備工事（ケーブルラック）","設備工事"]
[601020,"電気設備工事（配線・配管）","設備工事"]
[601030,"電気設備工事（照明器具・機器）","設備工事"]
[601040,"電気設備工事（キュービクル・盤）","設備工事"]
[601050,"電気設備工事（避雷針・接地）","設備工事"]
[601060,"電気設備工事（埋設配管）","設備工事"]
[601070,"電気設備工事（打込配管）","設備工事"]
[601080,"電気設備工事（スリーブ・インサート）","設備工事"]
[601090,"電気設備工事（試運転調整）","設備工事"]
[601100,"電気設備工事（撤去工事）","設備工事"]
[601110,"電気設備工事（その他）","設備工事"]
[602010,"空調設備工事（ダクト）","設備工事"]
[602020,"空調設備工事（冷媒・ドレン）","設備工事"]
[602030,"空調設備工事（機械搬入・据付・その他）","設備工事"]
[602040,"空調設備工事（計装配線・配管）","設備工事"]
[602050,"空調設備工事（屋内配管）","設備工事"]
[602060,"空調設備工事（ピット内配管）","設備工事"]
[602070,"空調設備工事（保温）","設備工事"]
[602080,"空調設備工事（スリーブ・インサート）","設備工事"]
[602090,"空調設備工事（試運転調整）","設備工事"]
[602100,"空調設備工事（撤去工事）","設備工事"]
[602110,"空調設備工事（その他）","設備工事"]
[603010,"給排水衛生設備工事（スリーブ・インサート）","設備工事"]
[603020,"給排水衛生設備工事（屋外配管・その他）","設備工事"]
[603030,"給排水衛生設備工事（屋内配管・その他）","設備工事"]
[603040,"給排水衛生設備工事（ピット内配管）","設備工事"]
[603050,"給排水衛生設備工事（機械搬入・据付・その他）","設備工事"]
[603060,"給排水衛生設備工事（保温）","設備工事"]
[603070,"給排水衛生設備工事（試運転調整）","設備工事"]
[603080,"給排水衛生設備工事（撤去工事）","設備工事"]
[603090,"給排水衛生設備工事（その他）","設備工事"]
[604010,"その他設備工事","設備工事"]
[605010,"輸送設備工事（エレベーター、ダムウェイダー等）","設備工事"]
[605020,"輸送設備工事（エスカレーター)","設備工事"]
[605030,"機械据付工事（立駐等）","設備工事"]
[701010,"外構工事（構築物等）","外構・造成工事"]
[702010,"排水工事","外構・造成工事"]
[703010,"舗装工事","外構・造成工事"]
[704010,"囲障工事","外構・造成工事"]
[705010,"敷地造成工事","外構・造成工事"]
[706010,"植栽・造園工事","外構・造成工事"]
[750010,"解体撤去工事（RC造）","解体撤去・その他工事"]
[750020,"解体撤去工事（SRC造）","解体撤去・その他工事"]
[750030,"解体撤去工事（S造他）","解体撤去・その他工事"]
[750040,"斫り工事","解体撤去・その他工事"]
[750050,"ウォータージェット工事","解体撤去・その他工事"]
[750060,"アンカー打設工事","解体撤去・その他工事"]
[750070,"雑鍛冶工事","解体撤去・その他工事"]
[750080,"その他工事","解体撤去・その他工事"]
[{"$f":"ROW()-2","v":133}]
[134]
[135]
[136]
[137]
[138]
[139]
[140]
[141]
[142]
[143]
[144]
[145]
[146]
[147]
[148]
[149]
[150]
[151]
[152]
[153]
[154]
[155]
[156]
[157]
[158]
[159]
[160]
[161]
[162]
[163]
[164]
[165]
[166]
[167]
[168]
[169]
[170]
[171]
[172]
[173]
[174]
[175]
[176]
[177]
[178]
[179]
[180]
[{"$f":"ROW()-2","v":181}]
[182]
[183]
[184]
[185]
[186]
[187]
[188]
[189]
[190]
[191]
[192]
[193]
[194]
[195]
[196]
[197]
[198]
[199]
[200]
[201]
[202]
[203]
[204]
[205]
[206]
[207]
[208]
[209]
[210]
[211]
[212]
[213]
[214]
[215]
[216]
[217]
[{"$f":"ROW()-2","v":218}]
[219]
[220]
[221]
[222]
[223]
[224]
[225]
[226]
[227]
[228]
[229]
[230]
[231]
[232]
[233]
[234]
[235]
[236]
[237]
[238]
[239]
[240]
[241]
[242]
[243]
[244]
[245]
[246]
[247]
[248]
[249]
[250]
[251]
[252]
[253]
[254]
[255]
[256]
[257]
[258]
[259]
[260]
[261]
[262]
[263]
[264]
[265]
[266]
[267]
[268]
[269]
[270]
[271]
[272]
[273]
[274]
[275]
[276]
[277]
[278]
[279]
[280]
[281]
[{"$f":"ROW()-2","v":282}]
[{"$f":"ROW()-2","v":283}]
[{"$f":"ROW()-2","v":284}]
[{"$f":"ROW()-2","v":285}]

{"sheet":"資格一覧","index":21,"n_rows":979,"n_cols":6,"rows_kept":979,"cut":false,"hidden":false,"merged":[]}
["資格ID","資格名","資格名（略称）","工種名","工種ID","注釈"]
[1,"移動式クレーンの運転（５ｔ未満）","（５未移ク）",null,"101010","吊り上げ荷重　特別教育１ｔ未満　または技能講習１ｔ以上５ｔ未満"]
[2,"車両系建設機械（整地・運搬・積込用及び掘削用）の運転","（車掘削）",null,"101010","機体重量　特別教育３ｔ未満　または技能講習３ｔ以上"]
[3,"車両系建設機械（解体用）の運転","（車解体）",null,"101010","機体重量　特別教育３ｔ未満　または技能講習３ｔ以上"]
[4,"車両系荷役運搬機械（不整地運搬車）の運転","（車不整）",null,"101010","最大積載量　特別教育１ｔ未満　または技能講習１ｔ以上"]
[5,"高所作業車の運転","（高車）",null,"101010","作業床の高さ　特別教育１０m未満　または技能講習１０ｍ以上"]
[6,"玉掛けの業務","（玉掛）",null,"101010","吊り上げ荷重　特別教育１ｔ未満　または技能講習１ｔ以上"]
[7,"ボーリングマシンの運転","（ボーリ）",null,"101010","特別教育"]
[8,"高所作業車の運転","（高車）",null,"101020","作業床の高さ　特別教育１０m未満　または技能講習１０ｍ以上"]
[9,"地山の掘削作業、土止め支保工の組立て等作業","（地掘・土支）",null,"102010","技能講習　掘削面の高さが２ｍ以上の地山の掘削作業<br>技能講習　土止め支保工の切梁または腹起しの取付または取外しの作業"]
[10,"足場の組立て等作業","（足場）",null,"102010","技能講習　つり足場、張出し足場または高さが５ｍ以上の構造の足場の組立て、解体または変更の作業"]
[11,"移動式クレーンの運転（５ｔ未満）","（５未移ク）",null,"102010","吊り上げ荷重　特別教育１ｔ未満　または技能講習１ｔ以上５ｔ未満"]
[12,"車両系建設機械（整地・運搬・積込用及び掘削用）の運転","（車掘削）",null,"102010","機体重量　特別教育３ｔ未満　または技能講習３ｔ以上"]
[13,"高所作業車の運転","（高車）",null,"102010","作業床の高さ　特別教育１０m未満　または技能講習１０ｍ以上"]
[14,"玉掛けの業務","（玉掛）",null,"102010","吊り上げ荷重　特別教育１ｔ未満　または技能講習１ｔ以上"]
[15,"ガス溶接等の作業","（ガス）",null,"103010","免許　アセチレン溶接装置またはガス集合溶接装置を用いて行う金属の溶接、溶断等の作業<br>技能講習　可燃性ガス及び酸素を用いて行う金属の溶接、溶断等の作業"]
[16,"地山の掘削作業、土止め支保工の組立て等作業","（地掘・土支）",null,"103010","技能講習　掘削面の高さが２ｍ以上の地山の掘削作業<br>技能講習　土止め支保工の切梁または腹起しの取付または取外しの作業"]
[17,"移動式クレーンの運転（５ｔ未満）","（５未移ク）",null,"103010","吊り上げ荷重　特別教育１ｔ未満　または技能講習１ｔ以上５ｔ未満"]
[18,"車両系建設機械（整地・運搬・積込用及び掘削用）の運転","（車掘削）",null,"103010","機体重量　特別教育３ｔ未満　または技能講習３ｔ以上"]
[19,"車両系建設機械（解体用）の運転","（車解体）",null,"103010","機体重量　特別教育３ｔ未満　または技能講習３ｔ以上"]
[20,"車両系荷役運搬機械（不整地運搬車）の運転","（車不整）",null,"103010","最大積載量　特別教育１ｔ未満　または技能講習１ｔ以上"]
[21,"高所作業車の運転","（高車）",null,"103010","作業床の高さ　特別教育１０m未満　または技能講習１０ｍ以上"]
[22,"玉掛けの業務","（玉掛）",null,"103010","吊り上げ荷重　特別教育１ｔ未満　または技能講習１ｔ以上"]
[23,"アーク溶接等の作業","（アーク）",null,"103010","特別教育　アーク溶接、溶断等の作業"]
[24,"足場の組立て等作業","（足場）",null,"103020","技能講習　つり足場、張出し足場または高さが５ｍ以上の構造の足場の組立て、解体または変更の作業"]
[25,"移動式クレーンの運転（５ｔ未満）","（５未移ク）",null,"103020","吊り上げ荷重　特別教育１ｔ未満　または技能講習１ｔ以上５ｔ未満"]
[26,"タワークレーンの運転（５ｔ未満）","（５未TC）",null,"103020","吊り上げ荷重　特別教育５ｔ未満"]
[27,"車両系建設機械（整地・運搬・積込用及び掘削用）の運転","（車掘削）",null,"103020","機体重量　特別教育３ｔ未満　または技能講習３ｔ以上"]
[28,"高所作業車の運転","（高車）",null,"103020","作業床の高さ　特別教育１０m未満　または技能講習１０ｍ以上"]
[29,"玉掛けの業務","（玉掛）",null,"103020","吊り上げ荷重　特別教育１ｔ未満　または技能講習１ｔ以上"]
[30,"地山の掘削作業、土止め支保工の組立て等作業","（地掘・土支）",null,"105010","技能講習　掘削面の高さが２ｍ以上の地山の掘削作業<br>技能講習　土止め支保工の切梁または腹起しの取付または取外しの作業"]
[31,"移動式クレーンの運転（５ｔ未満）","（５未移ク）",null,"105010","吊り上げ荷重　特別教育１ｔ未満　または技能講習１ｔ以上５ｔ未満"]
[32,"タワークレーンの運転（５ｔ未満）","（５未TC）",null,"105010","吊り上げ荷重　特別教育５ｔ未満"]
[33,"車両系建設機械（整地・運搬・積込用及び掘削用）の運転","（車掘削）",null,"105010","機体重量　特別教育３ｔ未満　または技能講習３ｔ以上"]
[34,"高所作業車の運転","（高車）",null,"105010","作業床の高さ　特別教育１０m未満　または技能講習１０ｍ以上"]
[35,"玉掛けの業務","（玉掛）",null,"105010","吊り上げ荷重　特別教育１ｔ未満　または技能講習１ｔ以上"]
[36,"電気工事士","（電工士）",null,"105010","免許　電気工事を行う作業"]
[37,"低圧電気の取扱い業務","（低圧電）",null,"105010","特別教育　充電電路又はその支持物の敷設の点検、修理、充電部分が露出した開閉器の操作等の作業"]
[38,"地山の掘削作業、土止め支保工の組立て等作業","（地掘・土支）",null,"105020","技能講習　掘削面の高さが２ｍ以上の地山の掘削作業<br>技能講習　土止め支保工の切梁または腹起しの取付または取外しの作業"]
[39,"移動式クレーンの運転（５ｔ未満）","（５未移ク）",null,"105020","吊り上げ荷重　特別教育１ｔ未満　または技能講習１ｔ以上５ｔ未満"]
[40,"タワークレーンの運転（５ｔ未満）","（５未TC）",null,"105020","吊り上げ荷重　特別教育５ｔ未満"]
[41,"車両系建設機械（整地・運搬・積込用及び掘削用）の運転","（車掘削）",null,"105020","機体重量　特別教育３ｔ未満　または技能講習３ｔ以上"]
[42,"高所作業車の運転","（高車）",null,"105020","作業床の高さ　特別教育１０m未満　または技能講習１０ｍ以上"]
[43,"玉掛けの業務","（玉掛）",null,"105020","吊り上げ荷重　特別教育１ｔ未満　または技能講習１ｔ以上"]
[44,"移動式クレーンの運転（５ｔ以上）","（移ク免）",null,"108010","吊り上げ荷重　免許５ｔ以上"]
[45,"地山の掘削作業、土止め支保工の組立て等作業","（地掘・土支）",null,"108010","技能講習　掘削面の高さが２ｍ以上の地山の掘削作業<br>技能講習　土止め支保工の切梁または腹起しの取付または取外しの作業"]
[46,"移動式クレーンの運転（５ｔ未満）","（５未移ク）",null,"108010","吊り上げ荷重　特別教育１ｔ未満　または技能講習１ｔ以上５ｔ未満"]
[47,"タワークレーンの運転（５ｔ未満）","（５未TC）",null,"108010","吊り上げ荷重　特別教育５ｔ未満"]
[48,"高所作業車の運転","（高車）",null,"108010","作業床の高さ　特別教育１０m未満　または技能講習１０ｍ以上"]
[49,"玉掛けの業務","（玉掛）",null,"108010","吊り上げ荷重　特別教育１ｔ未満　または技能講習１ｔ以上"]
[50,"高所作業車の運転","（高車）",null,"109010","作業床の高さ　特別教育１０m未満　または技能講習１０ｍ以上"]
[51,"移動式クレーンの運転（５ｔ未満）","（５未移ク）",null,"110010","吊り上げ荷重　特別教育１ｔ未満　または技能講習１ｔ以上５ｔ未満"]
[52,"タワークレーンの運転（５ｔ未満）","（５未TC）",null,"110010","吊り上げ荷重　特別教育５ｔ未満"]
[53,"高所作業車の運転","（高車）",null,"110010","作業床の高さ　特別教育１０m未満　または技能講習１０ｍ以上"]
[54,"玉掛けの業務","（玉掛）",null,"110010","吊り上げ荷重　特別教育１ｔ未満　または技能講習１ｔ以上"]
[55,"高所作業車の運転","（高車）",null,"201010","作業床の高さ　特別教育１０m未満　または技能講習１０ｍ以上"]
[56,"はい作業","（はい）",null,"202010","技能講習　高さが2ｍ以上の荷の積上げ、積卸しを行う作業"]
[57,"足場の組立て等作業","（足場）",null,"202010","技能講習　つり足場、張出し足場または高さが５ｍ以上の構造の足場の組立て、解体または変更の作業"]
[58,"移動式クレーンの運転（５ｔ未満）","（５未移ク）",null,"202010","吊り上げ荷重　特別教育１ｔ未満　または技能講習１ｔ以上５ｔ未満"]
[59,"タワークレーンの運転（５ｔ未満）","（５未TC）",null,"202010","吊り上げ荷重　特別教育５ｔ未満"]
[60,"高所作業車の運転","（高車）",null,"202010","作業床の高さ　特別教育１０m未満　または技能講習１０ｍ以上"]
[61,"車両系荷役運搬機械（フォークリフト等）","（フォーク）",null,"202010","最大荷重　特別教育１ｔ未満　または技能講習１ｔ以上"]
[62,"玉掛けの業務","（玉掛）",null,"202010","吊り上げ荷重　特別教育１ｔ未満　または技能講習１ｔ以上"]
[63,"はい作業","（はい）",null,"202020","技能講習　高さが2ｍ以上の荷の積上げ、積卸しを行う作業"]
[64,"足場の組立て等作業","（足場）",null,"202020","技能講習　つり足場、張出し足場または高さが５ｍ以上の構造の足場の組立て、解体または変更の作業"]
[65,"移動式クレーンの運転（５ｔ未満）","（５未移ク）",null,"202020","吊り上げ荷重　特別教育１ｔ未満　または技能講習１ｔ以上５ｔ未満"]
[66,"タワークレーンの運転（５ｔ未満）","（５未TC）",null,"202020","吊り上げ荷重　特別教育５ｔ未満"]
[67,"高所作業車の運転","（高車）",null,"202020","作業床の高さ　特別教育１０m未満　または技能講習１０ｍ以上"]
[68,"車両系荷役運搬機械（フォークリフト等）","（フォーク）",null,"202020","最大荷重　特別教育１ｔ未満　または技能講習１ｔ以上"]
[69,"玉掛けの業務","（玉掛）",null,"202020","吊り上げ荷重　特別教育１ｔ未満　または技能講習１ｔ以上"]
[70,"はい作業","（はい）",null,"203010","技能講習　高さが2ｍ以上の荷の積上げ、積卸しを行う作業"]
[71,"足場の組立て等作業","（足場）",null,"203010","技能講習　つり足場、張出し足場または高さが５ｍ以上の構造の足場の組立て、解体または変更の作業"]
[72,"移動式クレーンの運転（５ｔ未満）","（５未移ク）",null,"203010","吊り上げ荷重　特別教育１ｔ未満　または技能講習１ｔ以上５ｔ未満"]
[73,"タワークレーンの運転（５ｔ未満）","（５未TC）",null,"203010","吊り上げ荷重　特別教育５ｔ未満"]
[74,"高所作業車の運転","（高車）",null,"203010","作業床の高さ　特別教育１０m未満　または技能講習１０ｍ以上"]
[75,"車両系荷役運搬機械（フォークリフト等）","（フォーク）",null,"203010","最大荷重　特別教育１ｔ未満　または技能講習１ｔ以上"]
[76,"玉掛けの業務","（玉掛）",null,"203010","吊り上げ荷重　特別教育１ｔ未満　または技能講習１ｔ以上"]
[77,"はい作業","（はい）",null,"203020","技能講習　高さが2ｍ以上の荷の積上げ、積卸しを行う作業"]
[78,"足場の組立て等作業","（足場）",null,"203020","技能講習　つり足場、張出し足場または高さが５ｍ以上の構造の足場の組立て、解体または変更の作業"]
[79,"移動式クレーンの運転（５ｔ未満）","（５未移ク）",null,"203020","吊り上げ荷重　特別教育１ｔ未満　または技能講習１ｔ以上５ｔ未満"]
[80,"タワークレーンの運転（５ｔ未満）","（５未TC）",null,"203020","吊り上げ荷重　特別教育５ｔ未満"]
[81,"高所作業車の運転","（高車）",null,"203020","作業床の高さ　特別教育１０m未満　または技能講習１０ｍ以上"]
[82,"車両系荷役運搬機械（フォークリフト等）","（フォーク）",null,"203020","最大荷重　特別教育１ｔ未満　または技能講習１ｔ以上"]
[83,"玉掛けの業務","（玉掛）",null,"203020","吊り上げ荷重　特別教育１ｔ未満　または技能講習１ｔ以上"]
[84,"はい作業","（はい）",null,"203030","技能講習　高さが2ｍ以上の荷の積上げ、積卸しを行う作業"]
[85,"足場の組立て等作業","（足場）",null,"203030","技能講習　つり足場、張出し足場または高さが５ｍ以上の構造の足場の組立て、解体または変更の作業"]
[86,"移動式クレーンの運転（５ｔ未満）","（５未移ク）",null,"203030","吊り上げ荷重　特別教育１ｔ未満　または技能講習１ｔ以上５ｔ未満"]
[87,"タワークレーンの運転（５ｔ未満）","（５未TC）",null,"203030","吊り上げ荷重　特別教育５ｔ未満"]
[88,"高所作業車の運転","（高車）",null,"203030","作業床の高さ　特別教育１０m未満　または技能講習１０ｍ以上"]
[89,"車両系荷役運搬機械（フォークリフト等）","（フォーク）",null,"203030","最大荷重　特別教育１ｔ未満　または技能講習１ｔ以上"]
[90,"玉掛けの業務","（玉掛）",null,"203030","吊り上げ荷重　特別教育１ｔ未満　または技能講習１ｔ以上"]
[91,"足場の組立て等作業","（足場）",null,"204010","技能講習　つり足場、張出し足場または高さが５ｍ以上の構造の足場の組立て、解体または変更の作業"]
[92,"移動式クレーンの運転（５ｔ未満）","（５未移ク）",null,"204010","吊り上げ荷重　特別教育１ｔ未満　または技能講習１ｔ以上５ｔ未満"]
[93,"タワークレーンの運転（５ｔ未満）","（５未TC）",null,"204010","吊り上げ荷重　特別教育５ｔ未満"]
[94,"高所作業車の運転","（高車）",null,"204010","作業床の高さ　特別教育１０m未満　または技能講習１０ｍ以上"]
[95,"車両系荷役運搬機械（フォークリフト等）","（フォーク）",null,"204010","最大荷重　特別教育１ｔ未満　または技能講習１ｔ以上"]
[96,"玉掛けの業務","（玉掛）",null,"204010","吊り上げ荷重　特別教育１ｔ未満　または技能講習１ｔ以上"]
[97,"はい作業","（はい）",null,"205010","技能講習　高さが2ｍ以上の荷の積上げ、積卸しを行う作業"]
[98,"移動式クレーンの運転（５ｔ未満）","（５未移ク）",null,"205010","吊り上げ荷重　特別教育１ｔ未満　または技能講習１ｔ以上５ｔ未満"]
[99,"タワークレーンの運転（５ｔ未満）","（５未TC）",null,"205010","吊り上げ荷重　特別教育５ｔ未満"]
[100,"高所作業車の運転","（高車）",null,"205010","作業床の高さ　特別教育１０m未満　または技能講習１０ｍ以上"]
[101,"玉掛けの業務","（玉掛）",null,"205010","吊り上げ荷重　特別教育１ｔ未満　または技能講習１ｔ以上"]
[102,"有機溶剤の取扱い作業","（有機）",null,"205020","技能講習　屋内作業場やタンクの内部などで、有機溶剤を取扱う作業"]
[103,"高所作業車の運転","（高車）",null,"205020","作業床の高さ　特別教育１０m未満　または技能講習１０ｍ以上"]
[104,"ガス溶接等の作業","（ガス）",null,"206010","免許　アセチレン溶接装置またはガス集合溶接装置を用いて行う金属の溶接、溶断等の作業<br>技能講習　可燃性ガス及び酸素を用いて行う金属の溶接、溶断等の作業"]
[105,"足場の組立て等作業","（足場）",null,"206010","技能講習　つり足場、張出し足場または高さが５ｍ以上の構造の足場の組立て、解体または変更の作業"]
[106,"建築物等の鉄骨の組立て等作業","（鉄骨）",null,"206010","技能講習　建築物の骨組み等で金属製の部材により構成されるもの（高さが５ｍ以上）の組立て、解体または変更の作業"]
[107,"移動式クレーンの運転（５ｔ未満）","（５未移ク）",null,"206010","吊り上げ荷重　特別教育１ｔ未満　または技能講習１ｔ以上５ｔ未満"]
[108,"タワークレーンの運転（５ｔ未満）","（５未TC）",null,"206010","吊り上げ荷重　特別教育５ｔ未満"]
[109,"車両系建設機械（整地・運搬・積込用及び掘削用）の運転","（車掘削）",null,"206010","機体重量　特別教育３ｔ未満　または技能講習３ｔ以上"]
[110,"高所作業車の運転","（高車）",null,"206010","作業床の高さ　特別教育１０m未満　または技能講習１０ｍ以上"]
[111,"車両系荷役運搬機械（フォークリフト等）","（フォーク）",null,"206010","最大荷重　特別教育１ｔ未満　または技能講習１ｔ以上"]
[112,"玉掛けの業務","（玉掛）",null,"206010","吊り上げ荷重　特別教育１ｔ未満　または技能講習１ｔ以上"]
[113,"アーク溶接等の作業","（アーク）",null,"206010","特別教育　アーク溶接、溶断等の作業"]
[114,"自由研削砥石（グラインダ）の取替え、試運転","（砥石）",null,"206010","特別教育"]
[115,"ガス溶接等の作業","（ガス）",null,"301010","免許　アセチレン溶接装置またはガス集合溶接装置を用いて行う金属の溶接、溶断等の作業<br>技能講習　可燃性ガス及び酸素を用いて行う金属の溶接、溶断等の作業"]
[116,"地山の掘削作業、土止め支保工の組立て等作業","（地掘・土支）",null,"301010","技能講習　掘削面の高さが２ｍ以上の地山の掘削作業<br>技能講習　土止め支保工の切梁または腹起しの取付または取外しの作業"]
[117,"移動式クレーンの運転（５ｔ未満）","（５未移ク）",null,"301010","吊り上げ荷重　特別教育１ｔ未満　または技能講習１ｔ以上５ｔ未満"]
[118,"タワークレーンの運転（５ｔ未満）","（５未TC）",null,"301010","吊り上げ荷重　特別教育５ｔ未満"]
[119,"車両系建設機械（整地・運搬・積込用及び掘削用）の運転","（車掘削）",null,"301010","機体重量　特別教育３ｔ未満　または技能講習３ｔ以上"]
[120,"車両系建設機械（解体用）の運転","（車解体）",null,"301010","機体重量　特別教育３ｔ未満　または技能講習３ｔ以上"]
[121,"車両系荷役運搬機械（不整地運搬車）の運転","（車不整）",null,"301010","最大積載量　特別教育１ｔ未満　または技能講習１ｔ以上"]
[122,"高所作業車の運転","（高車）",null,"301010","作業床の高さ　特別教育１０m未満　または技能講習１０ｍ以上"]
[123,"玉掛けの業務","（玉掛）",null,"301010","吊り上げ荷重　特別教育１ｔ未満　または技能講習１ｔ以上"]
[124,"アーク溶接等の作業","（アーク）",null,"301010","特別教育　アーク溶接、溶断等の作業"]
[125,"自由研削砥石（グラインダ）の取替え、試運転","（砥石）",null,"301010","特別教育"]
[126,"ガス溶接等の作業","（ガス）",null,"301020","免許　アセチレン溶接装置またはガス集合溶接装置を用いて行う金属の溶接、溶断等の作業<br>技能講習　可燃性ガス及び酸素を用いて行う金属の溶接、溶断等の作業"]
[127,"地山の掘削作業、土止め支保工の組立て等作業","（地掘・土支）",null,"301020","技能講習　掘削面の高さが２ｍ以上の地山の掘削作業<br>技能講習　土止め支保工の切梁または腹起しの取付または取外しの作業"]
[128,"はい作業","（はい）",null,"301020","技能講習　高さが2ｍ以上の荷の積上げ、積卸しを行う作業"]
[129,"移動式クレーンの運転（５ｔ未満）","（５未移ク）",null,"301020","吊り上げ荷重　特別教育１ｔ未満　または技能講習１ｔ以上５ｔ未満"]
[130,"タワークレーンの運転（５ｔ未満）","（５未TC）",null,"301020","吊り上げ荷重　特別教育５ｔ未満"]
[131,"車両系建設機械（整地・運搬・積込用及び掘削用）の運転","（車掘削）",null,"301020","機体重量　特別教育３ｔ未満　または技能講習３ｔ以上"]
[132,"車両系建設機械（基礎工事用）の運転","（車基礎）",null,"301020","機体重量　特別教育３ｔ未満　または技能講習３ｔ以上"]
[133,"車両系建設機械（解体用）の運転","（車解体）",null,"301020","機体重量　特別教育３ｔ未満　または技能講習３ｔ以上"]
[134,"車両系荷役運搬機械（不整地運搬車）の運転","（車不整）",null,"301020","最大積載量　特別教育１ｔ未満　または技能講習１ｔ以上"]
[135,"高所作業車の運転","（高車）",null,"301020","作業床の高さ　特別教育１０m未満　または技能講習１０ｍ以上"]
[136,"車両系荷役運搬機械（フォークリフト等）","（フォーク）",null,"301020","最大荷重　特別教育１ｔ未満　または技能講習１ｔ以上"]
[137,"玉掛けの業務","（玉掛）",null,"301020","吊り上げ荷重　特別教育１ｔ未満　または技能講習１ｔ以上"]
[138,"アーク溶接等の作業","（アーク）",null,"301020","特別教育　アーク溶接、溶断等の作業"]
[139,"自由研削砥石（グラインダ）の取替え、試運転","（砥石）",null,"301020","特別教育"]
[140,"ガス溶接等の作業","（ガス）",null,"301030","免許　アセチレン溶接装置またはガス集合溶接装置を用いて行う金属の溶接、溶断等の作業<br>技能講習　可燃性ガス及び酸素を用いて行う金属の溶接、溶断等の作業"]
[141,"地山の掘削作業、土止め支保工の組立て等作業","（地掘・土支）",null,"301030","技能講習　掘削面の高さが２ｍ以上の地山の掘削作業<br>技能講習　土止め支保工の切梁または腹起しの取付または取外しの作業"]
[142,"はい作業","（はい）",null,"301030","技能講習　高さが2ｍ以上の荷の積上げ、積卸しを行う作業"]
[143,"移動式クレーンの運転（５ｔ未満）","（５未移ク）",null,"301030","吊り上げ荷重　特別教育１ｔ未満　または技能講習１ｔ以上５ｔ未満"]
[144,"タワークレーンの運転（５ｔ未満）","（５未TC）",null,"301030","吊り上げ荷重　特別教育５ｔ未満"]
[145,"車両系建設機械（整地・運搬・積込用及び掘削用）の運転","（車掘削）",null,"301030","機体重量　特別教育３ｔ未満　または技能講習３ｔ以上"]
[146,"高所作業車の運転","（高車）",null,"301030","作業床の高さ　特別教育１０m未満　または技能講習１０ｍ以上"]
[147,"車両系荷役運搬機械（フォークリフト等）","（フォーク）",null,"301030","最大荷重　特別教育１ｔ未満　または技能講習１ｔ以上"]
[148,"玉掛けの業務","（玉掛）",null,"301030","吊り上げ荷重　特別教育１ｔ未満　または技能講習１ｔ以上"]
[149,"アーク溶接等の作業","（アーク）",null,"301030","特別教育　アーク溶接、溶断等の作業"]
[150,"自由研削砥石（グラインダ）の取替え、試運転","（砥石）",null,"301030","特別教育"]
[151,"ガス溶接等の作業","（ガス）",null,"302010","免許　アセチレン溶接装置またはガス集合溶接装置を用いて行う金属の溶接、溶断等の作業<br>技能講習　可燃性ガス及び酸素を用いて行う金属の溶接、溶断等の作業"]
[152,"移動式クレーンの運転（５ｔ以上）","（移ク免）",null,"302010","吊り上げ荷重　免許５ｔ以上"]
[153,"地山の掘削作業、土止め支保工の組立て等作業","（地掘・土支）",null,"302010","技能講習　掘削面の高さが２ｍ以上の地山の掘削作業<br>技能講習　土止め支保工の切梁または腹起しの取付または取外しの作業"]
[154,"はい作業","（はい）",null,"302010","技能講習　高さが2ｍ以上の荷の積上げ、積卸しを行う作業"]
[155,"移動式クレーンの運転（５ｔ未満）","（５未移ク）",null,"302010","吊り上げ荷重　特別教育１ｔ未満　または技能講習１ｔ以上５ｔ未満"]
[156,"車両系建設機械（整地・運搬・積込用及び掘削用）の運転","（車掘削）",null,"302010","機体重量　特別教育３ｔ未満　または技能講習３ｔ以上"]
[157,"車両系建設機械（基礎工事用）の運転","（車基礎）",null,"302010","機体重量　特別教育３ｔ未満　または技能講習３ｔ以上"]
[158,"高所作業車の運転","（高車）",null,"302010","作業床の高さ　特別教育１０m未満　または技能講習１０ｍ以上"]
[159,"玉掛けの業務","（玉掛）",null,"302010","吊り上げ荷重　特別教育１ｔ未満　または技能講習１ｔ以上"]
[160,"アーク溶接等の作業","（アーク）",null,"302010","特別教育　アーク溶接、溶断等の作業"]
[161,"自由研削砥石（グラインダ）の取替え、試運転","（砥石）",null,"302010","特別教育"]
[162,"はい作業","（はい）",null,"401010","技能講習　高さが2ｍ以上の荷の積上げ、積卸しを行う作業"]
[163,"移動式クレーンの運転（５ｔ未満）","（５未移ク）",null,"401010","吊り上げ荷重　特別教育１ｔ未満　または技能講習１ｔ以上５ｔ未満"]
[164,"タワークレーンの運転（５ｔ未満）","（５未TC）",null,"401010","吊り上げ荷重　特別教育５ｔ未満"]
[165,"車両系建設機械（整地・運搬・積込用及び掘削用）の運転","（車掘削）",null,"401010","機体重量　特別教育３ｔ未満　または技能講習３ｔ以上"]
[166,"高所作業車の運転","（高車）",null,"401010","作業床の高さ　特別教育１０m未満　または技能講習１０ｍ以上"]
[167,"玉掛けの業務","（玉掛）",null,"401010","吊り上げ荷重　特別教育１ｔ未満　または技能講習１ｔ以上"]
[168,"移動式クレーンの運転（５ｔ以上）","（移ク免）",null,"401020","吊り上げ荷重　免許５ｔ以上"]
[169,"はい作業","（はい）",null,"401020","技能講習　高さが2ｍ以上の荷の積上げ、積卸しを行う作業"]
[170,"移動式クレーンの運転（５ｔ未満）","（５未移ク）",null,"401020","吊り上げ荷重　特別教育１ｔ未満　または技能講習１ｔ以上５ｔ未満"]
[171,"タワークレーンの運転（５ｔ未満）","（５未TC）",null,"401020","吊り上げ荷重　特別教育５ｔ未満"]
[172,"高所作業車の運転","（高車）",null,"401020","作業床の高さ　特別教育１０m未満　または技能講習１０ｍ以上"]
[173,"玉掛けの業務","（玉掛）",null,"401020","吊り上げ荷重　特別教育１ｔ未満　または技能講習１ｔ以上"]
[174,"車両系建設機械（コンクリート打設用機械）の運転","（車コン）",null,"401020","特別教育　コンクリート打設用機械（ポンプ車）の作業装置の操作"]
[175,"はい作業","（はい）",null,"402010","技能講習　高さが2ｍ以上の荷の積上げ、積卸しを行う作業"]
[176,"型枠支保工の組立て等作業","（型支）",null,"402010","技能講習　型枠支保工の組立てまたは解体の作業"]
[177,"移動式クレーンの運転（５ｔ未満）","（５未移ク）",null,"402010","吊り上げ荷重　特別教育１ｔ未満　または技能講習１ｔ以上５ｔ未満"]
[178,"タワークレーンの運転（５ｔ未満）","（５未TC）",null,"402010","吊り上げ荷重　特別教育５ｔ未満"]
[179,"高所作業車の運転","（高車）",null,"402010","作業床の高さ　特別教育１０m未満　または技能講習１０ｍ以上"]
[180,"車両系荷役運搬機械（フォークリフト等）","（フォーク）",null,"402010","最大荷重　特別教育１ｔ未満　または技能講習１ｔ以上"]
[181,"玉掛けの業務","（玉掛）",null,"402010","吊り上げ荷重　特別教育１ｔ未満　または技能講習１ｔ以上"]
[182,"アーク溶接等の作業","（アーク）",null,"402010","特別教育　アーク溶接、溶断等の作業"]
[183,"自由研削砥石（グラインダ）の取替え、試運転","（砥石）",null,"402010","特別教育"]
[184,"はい作業","（はい）",null,"402020","技能講習　高さが2ｍ以上の荷の積上げ、積卸しを行う作業"]
[185,"型枠支保工の組立て等作業","（型支）",null,"402020","技能講習　型枠支保工の組立てまたは解体の作業"]
[186,"移動式クレーンの運転（５ｔ未満）","（５未移ク）",null,"402020","吊り上げ荷重　特別教育１ｔ未満　または技能講習１ｔ以上５ｔ未満"]
[187,"タワークレーンの運転（５ｔ未満）","（５未TC）",null,"402020","吊り上げ荷重　特別教育５ｔ未満"]
[188,"高所作業車の運転","（高車）",null,"402020","作業床の高さ　特別教育１０m未満　または技能講習１０ｍ以上"]
[189,"車両系荷役運搬機械（フォークリフト等）","（フォーク）",null,"402020","最大荷重　特別教育１ｔ未満　または技能講習１ｔ以上"]
[190,"玉掛けの業務","（玉掛）",null,"402020","吊り上げ荷重　特別教育１ｔ未満　または技能講習１ｔ以上"]
[191,"アーク溶接等の作業","（アーク）",null,"402020","特別教育　アーク溶接、溶断等の作業"]
[192,"自由研削砥石（グラインダ）の取替え、試運転","（砥石）",null,"402020","特別教育"]
[193,"はい作業","（はい）",null,"402030","技能講習　高さが2ｍ以上の荷の積上げ、積卸しを行う作業"]
[194,"型枠支保工の組立て等作業","（型支）",null,"402030","技能講習　型枠支保工の組立てまたは解体の作業"]
[195,"移動式クレーンの運転（５ｔ未満）","（５未移ク）",null,"402030","吊り上げ荷重　特別教育１ｔ未満　または技能講習１ｔ以上５ｔ未満"]
[196,"タワークレーンの運転（５ｔ未満）","（５未TC）",null,"402030","吊り上げ荷重　特別教育５ｔ未満"]
[197,"高所作業車の運転","（高車）",null,"402030","作業床の高さ　特別教育１０m未満　または技能講習１０ｍ以上"]
[198,"車両系荷役運搬機械（フォークリフト等）","（フォーク）",null,"402030","最大荷重　特別教育１ｔ未満　または技能講習１ｔ以上"]
[199,"玉掛けの業務","（玉掛）",null,"402030","吊り上げ荷重　特別教育１ｔ未満　または技能講習１ｔ以上"]
[200,"アーク溶接等の作業","（アーク）",null,"402030","特別教育　アーク溶接、溶断等の作業"]
[201,"自由研削砥石（グラインダ）の取替え、試運転","（砥石）",null,"402030","特別教育"]
[202,"はい作業","（はい）",null,"402040","技能講習　高さが2ｍ以上の荷の積上げ、積卸しを行う作業"]
[203,"型枠支保工の組立て等作業","（型支）",null,"402040","技能講習　型枠支保工の組立てまたは解体の作業"]
[204,"移動式クレーンの運転（５ｔ未満）","（５未移ク）",null,"402040","吊り上げ荷重　特別教育１ｔ未満　または技能講習１ｔ以上５ｔ未満"]
[205,"タワークレーンの運転（５ｔ未満）","（５未TC）",null,"402040","吊り上げ荷重　特別教育５ｔ未満"]
[206,"高所作業車の運転","（高車）",null,"402040","作業床の高さ　特別教育１０m未満　または技能講習１０ｍ以上"]
[207,"車両系荷役運搬機械（フォークリフト等）","（フォーク）",null,"402040","最大荷重　特別教育１ｔ未満　または技能講習１ｔ以上"]
[208,"玉掛けの業務","（玉掛）",null,"402040","吊り上げ荷重　特別教育１ｔ未満　または技能講習１ｔ以上"]
[209,"アーク溶接等の作業","（アーク）",null,"402040","特別教育　アーク溶接、溶断等の作業"]
[210,"自由研削砥石（グラインダ）の取替え、試運転","（砥石）",null,"402040","特別教育"]
[211,"はい作業","（はい）",null,"402050","技能講習　高さが2ｍ以上の荷の積上げ、積卸しを行う作業"]
[212,"型枠支保工の組立て等作業","（型支）",null,"402050","技能講習　型枠支保工の組立てまたは解体の作業"]
[213,"酸素欠乏危険作業（２種）","（酸欠）",null,"402050","技能講習　雨水などが滞留している暗渠、マンホールの内部等での作業並びに酸素欠乏症にかかるおそれ及び硫化水素中毒にかかるおそれがある場所での作業"]
[214,"移動式クレーンの運転（５ｔ未満）","（５未移ク）",null,"402050","吊り上げ荷重　特別教育１ｔ未満　または技能講習１ｔ以上５ｔ未満"]
[215,"タワークレーンの運転（５ｔ未満）","（５未TC）",null,"402050","吊り上げ荷重　特別教育５ｔ未満"]
[216,"高所作業車の運転","（高車）",null,"402050","作業床の高さ　特別教育１０m未満　または技能講習１０ｍ以上"]
[217,"車両系荷役運搬機械（フォークリフト等）","（フォーク）",null,"402050","最大荷重　特別教育１ｔ未満　または技能講習１ｔ以上"]
[218,"玉掛けの業務","（玉掛）",null,"402050","吊り上げ荷重　特別教育１ｔ未満　または技能講習１ｔ以上"]
[219,"アーク溶接等の作業","（アーク）",null,"402050","特別教育　アーク溶接、溶断等の作業"]
[220,"自由研削砥石（グラインダ）の取替え、試運転","（砥石）",null,"402050","特別教育"]
[221,"はい作業","（はい）",null,"402060","技能講習　高さが2ｍ以上の荷の積上げ、積卸しを行う作業"]
[222,"型枠支保工の組立て等作業","（型支）",null,"402060","技能講習　型枠支保工の組立てまたは解体の作業"]
[223,"酸素欠乏危険作業（２種）","（酸欠）",null,"402060","技能講習　雨水などが滞留している暗渠、マンホールの内部等での作業並びに酸素欠乏症にかかるおそれ及び硫化水素中毒にかかるおそれがある場所での作業"]
[224,"移動式クレーンの運転（５ｔ未満）","（５未移ク）",null,"402060","吊り上げ荷重　特別教育１ｔ未満　または技能講習１ｔ以上５ｔ未満"]
[225,"タワークレーンの運転（５ｔ未満）","（５未TC）",null,"402060","吊り上げ荷重　特別教育５ｔ未満"]
[226,"高所作業車の運転","（高車）",null,"402060","作業床の高さ　特別教育１０m未満　または技能講習１０ｍ以上"]
[227,"車両系荷役運搬機械（フォークリフト等）","（フォーク）",null,"402060","最大荷重　特別教育１ｔ未満　または技能講習１ｔ以上"]
[228,"玉掛けの業務","（玉掛）",null,"402060","吊り上げ荷重　特別教育１ｔ未満　または技能講習１ｔ以上"]
[229,"アーク溶接等の作業","（アーク）",null,"402060","特別教育　アーク溶接、溶断等の作業"]
[230,"自由研削砥石（グラインダ）の取替え、試運転","（砥石）",null,"402060","特別教育"]
[231,"はい作業","（はい）",null,"402070","技能講習　高さが2ｍ以上の荷の積上げ、積卸しを行う作業"]
[232,"型枠支保工の組立て等作業","（型支）",null,"402070","技能講習　型枠支保工の組立てまたは解体の作業"]
[233,"酸素欠乏危険作業（２種）","（酸欠）",null,"402070","技能講習　雨水などが滞留している暗渠、マンホールの内部等での作業並びに酸素欠乏症にかかるおそれ及び硫化水素中毒にかかるおそれがある場所での作業"]
[234,"移動式クレーンの運転（５ｔ未満）","（５未移ク）",null,"402070","吊り上げ荷重　特別教育１ｔ未満　または技能講習１ｔ以上５ｔ未満"]
[235,"タワークレーンの運転（５ｔ未満）","（５未TC）",null,"402070","吊り上げ荷重　特別教育５ｔ未満"]
[236,"高所作業車の運転","（高車）",null,"402070","作業床の高さ　特別教育１０m未満　または技能講習１０ｍ以上"]
[237,"車両系荷役運搬機械（フォークリフト等）","（フォーク）",null,"402070","最大荷重　特別教育１ｔ未満　または技能講習１ｔ以上"]
[238,"玉掛けの業務","（玉掛）",null,"402070","吊り上げ荷重　特別教育１ｔ未満　または技能講習１ｔ以上"]
[239,"アーク溶接等の作業","（アーク）",null,"402070","特別教育　アーク溶接、溶断等の作業"]
[240,"自由研削砥石（グラインダ）の取替え、試運転","（砥石）",null,"402070","特別教育"]
[241,"移動式クレーンの運転（５ｔ未満）","（５未移ク）",null,"403010","吊り上げ荷重　特別教育１ｔ未満　または技能講習１ｔ以上５ｔ未満"]
[242,"タワークレーンの運転（５ｔ未満）","（５未TC）",null,"403010","吊り上げ荷重　特別教育５ｔ未満"]
[243,"高所作業車の運転","（高車）",null,"403010","作業床の高さ　特別教育１０m未満　または技能講習１０ｍ以上"]
[244,"玉掛けの業務","（玉掛）",null,"403010","吊り上げ荷重　特別教育１ｔ未満　または技能講習１ｔ以上"]
[245,"アーク溶接等の作業","（アーク）",null,"403010","特別教育　アーク溶接、溶断等の作業"]
[246,"自由研削砥石（グラインダ）の取替え、試運転","（砥石）",null,"403010","特別教育"]
[247,"移動式クレーンの運転（５ｔ未満）","（５未移ク）",null,"403020","吊り上げ荷重　特別教育１ｔ未満　または技能講習１ｔ以上５ｔ未満"]
[248,"タワークレーンの運転（５ｔ未満）","（５未TC）",null,"403020","吊り上げ荷重　特別教育５ｔ未満"]
[249,"高所作業車の運転","（高車）",null,"403020","作業床の高さ　特別教育１０m未満　または技能講習１０ｍ以上"]
[250,"玉掛けの業務","（玉掛）",null,"403020","吊り上げ荷重　特別教育１ｔ未満　または技能講習１ｔ以上"]
[251,"アーク溶接等の作業","（アーク）",null,"403020","特別教育　アーク溶接、溶断等の作業"]
[252,"自由研削砥石（グラインダ）の取替え、試運転","（砥石）",null,"403020","特別教育"]
[253,"移動式クレーンの運転（５ｔ未満）","（５未移ク）",null,"403030","吊り上げ荷重　特別教育１ｔ未満　または技能講習１ｔ以上５ｔ未満"]
[254,"タワークレーンの運転（５ｔ未満）","（５未TC）",null,"403030","吊り上げ荷重　特別教育５ｔ未満"]
[255,"高所作業車の運転","（高車）",null,"403030","作業床の高さ　特別教育１０m未満　または技能講習１０ｍ以上"]
[256,"玉掛けの業務","（玉掛）",null,"403030","吊り上げ荷重　特別教育１ｔ未満　または技能講習１ｔ以上"]
[257,"アーク溶接等の作業","（アーク）",null,"403030","特別教育　アーク溶接、溶断等の作業"]
[258,"自由研削砥石（グラインダ）の取替え、試運転","（砥石）",null,"403030","特別教育"]
[259,"移動式クレーンの運転（５ｔ未満）","（５未移ク）",null,"403040","吊り上げ荷重　特別教育１ｔ未満　または技能講習１ｔ以上５ｔ未満"]
[260,"タワークレーンの運転（５ｔ未満）","（５未TC）",null,"403040","吊り上げ荷重　特別教育５ｔ未満"]
[261,"高所作業車の運転","（高車）",null,"403040","作業床の高さ　特別教育１０m未満　または技能講習１０ｍ以上"]
[262,"玉掛けの業務","（玉掛）",null,"403040","吊り上げ荷重　特別教育１ｔ未満　または技能講習１ｔ以上"]
[263,"アーク溶接等の作業","（アーク）",null,"403040","特別教育　アーク溶接、溶断等の作業"]
[264,"自由研削砥石（グラインダ）の取替え、試運転","（砥石）",null,"403040","特別教育"]
[265,"ガス溶接等の作業","（ガス）",null,"403050","免許　アセチレン溶接装置またはガス集合溶接装置を用いて行う金属の溶接、溶断等の作業<br>技能講習　可燃性ガス及び酸素を用いて行う金属の溶接、溶断等の作業"]
[266,"移動式クレーンの運転（５ｔ未満）","（５未移ク）",null,"403050","吊り上げ荷重　特別教育１ｔ未満　または技能講習１ｔ以上５ｔ未満"]
[267,"タワークレーンの運転（５ｔ未満）","（５未TC）",null,"403050","吊り上げ荷重　特別教育５ｔ未満"]
[268,"高所作業車の運転","（高車）",null,"403050","作業床の高さ　特別教育１０m未満　または技能講習１０ｍ以上"]
[269,"玉掛けの業務","（玉掛）",null,"403050","吊り上げ荷重　特別教育１ｔ未満　または技能講習１ｔ以上"]
[270,"アーク溶接等の作業","（アーク）",null,"403050","特別教育　アーク溶接、溶断等の作業"]
[271,"自由研削砥石（グラインダ）の取替え、試運転","（砥石）",null,"403050","特別教育"]
[272,"ガス溶接等の作業","（ガス）",null,"403060","免許　アセチレン溶接装置またはガス集合溶接装置を用いて行う金属の溶接、溶断等の作業<br>技能講習　可燃性ガス及び酸素を用いて行う金属の溶接、溶断等の作業"]
[273,"移動式クレーンの運転（５ｔ未満）","（５未移ク）",null,"403060","吊り上げ荷重　特別教育１ｔ未満　または技能講習１ｔ以上５ｔ未満"]
[274,"タワークレーンの運転（５ｔ未満）","（５未TC）",null,"403060","吊り上げ荷重　特別教育５ｔ未満"]
[275,"高所作業車の運転","（高車）",null,"403060","作業床の高さ　特別教育１０m未満　または技能講習１０ｍ以上"]
[276,"玉掛けの業務","（玉掛）",null,"403060","吊り上げ荷重　特別教育１ｔ未満　または技能講習１ｔ以上"]
[277,"アーク溶接等の作業","（アーク）",null,"403060","特別教育　アーク溶接、溶断等の作業"]
[278,"自由研削砥石（グラインダ）の取替え、試運転","（砥石）",null,"403060","特別教育"]
[279,"ガス溶接等の作業","（ガス）",null,"404010","免許　アセチレン溶接装置またはガス集合溶接装置を用いて行う金属の溶接、溶断等の作業<br>技能講習　可燃性ガス及び酸素を用いて行う金属の溶接、溶断等の作業"]
[280,"移動式クレーンの運転（５ｔ以上）","（移ク免）",null,"404010","吊り上げ荷重　免許５ｔ以上"]
[281,"建築物等の鉄骨の組立て等作業","（鉄骨）",null,"404010","技能講習　建築物の骨組み等で金属製の部材により構成されるもの（高さが５ｍ以上）の組立て、解体または変更の作業"]
[282,"移動式クレーンの運転（５ｔ未満）","（５未移ク）",null,"404010","吊り上げ荷重　特別教育１ｔ未満　または技能講習１ｔ以上５ｔ未満"]
[283,"タワークレーンの運転（５ｔ未満）","（５未TC）",null,"404010","吊り上げ荷重　特別教育５ｔ未満"]
[284,"高所作業車の運転","（高車）",null,"404010","作業床の高さ　特別教育１０m未満　または技能講習１０ｍ以上"]
[285,"玉掛けの業務","（玉掛）",null,"404010","吊り上げ荷重　特別教育１ｔ未満　または技能講習１ｔ以上"]
[286,"アーク溶接等の作業","（アーク）",null,"404010","特別教育　アーク溶接、溶断等の作業"]
[287,"自由研削砥石（グラインダ）の取替え、試運転","（砥石）",null,"404010","特別教育"]
[288,"ガス溶接等の作業","（ガス）",null,"404020","免許　アセチレン溶接装置またはガス集合溶接装置を用いて行う金属の溶接、溶断等の作業<br>技能講習　可燃性ガス及び酸素を用いて行う金属の溶接、溶断等の作業"]
[289,"移動式クレーンの運転（５ｔ以上）","（移ク免）",null,"404020","吊り上げ荷重　免許５ｔ以上"]
[290,"足場の組立て等作業","（足場）",null,"404020","技能講習　つり足場、張出し足場または高さが５ｍ以上の構造の足場の組立て、解体または変更の作業"]
[291,"建築物等の鉄骨の組立て等作業","（鉄骨）",null,"404020","技能講習　建築物の骨組み等で金属製の部材により構成されるもの（高さが５ｍ以上）の組立て、解体または変更の作業"]
[292,"移動式クレーンの運転（５ｔ未満）","（５未移ク）",null,"404020","吊り上げ荷重　特別教育１ｔ未満　または技能講習１ｔ以上５ｔ未満"]
[293,"タワークレーンの運転（５ｔ未満）","（５未TC）",null,"404020","吊り上げ荷重　特別教育５ｔ未満"]
[294,"高所作業車の運転","（高車）",null,"404020","作業床の高さ　特別教育１０m未満　または技能講習１０ｍ以上"]
[295,"玉掛けの業務","（玉掛）",null,"404020","吊り上げ荷重　特別教育１ｔ未満　または技能講習１ｔ以上"]
[296,"アーク溶接等の作業","（アーク）",null,"404020","特別教育　アーク溶接、溶断等の作業"]
[297,"自由研削砥石（グラインダ）の取替え、試運転","（砥石）",null,"404020","特別教育"]
[298,"ガス溶接等の作業","（ガス）",null,"404030","免許　アセチレン溶接装置またはガス集合溶接装置を用いて行う金属の溶接、溶断等の作業<br>技能講習　可燃性ガス及び酸素を用いて行う金属の溶接、溶断等の作業"]
[299,"移動式クレーンの運転（５ｔ以上）","（移ク免）",null,"404030","吊り上げ荷重　免許５ｔ以上"]
[300,"建築物等の鉄骨の組立て等作業","（鉄骨）",null,"404030","技能講習　建築物の骨組み等で金属製の部材により構成されるもの（高さが５ｍ以上）の組立て、解体または変更の作業"]
[301,"移動式クレーンの運転（５ｔ未満）","（５未移ク）",null,"404030","吊り上げ荷重　特別教育１ｔ未満　または技能講習１ｔ以上５ｔ未満"]
[302,"タワークレーンの運転（５ｔ未満）","（５未TC）",null,"404030","吊り上げ荷重　特別教育５ｔ未満"]
[303,"高所作業車の運転","（高車）",null,"404030","作業床の高さ　特別教育１０m未満　または技能講習１０ｍ以上"]
[304,"玉掛けの業務","（玉掛）",null,"404030","吊り上げ荷重　特別教育１ｔ未満　または技能講習１ｔ以上"]
[305,"アーク溶接等の作業","（アーク）",null,"404030","特別教育　アーク溶接、溶断等の作業"]
[306,"自由研削砥石（グラインダ）の取替え、試運転","（砥石）",null,"404030","特別教育"]
[307,"ガス溶接等の作業","（ガス）",null,"404040","免許　アセチレン溶接装置またはガス集合溶接装置を用いて行う金属の溶接、溶断等の作業<br>技能講習　可燃性ガス及び酸素を用いて行う金属の溶接、溶断等の作業"]
[308,"移動式クレーンの運転（５ｔ以上）","（移ク免）",null,"404040","吊り上げ荷重　免許５ｔ以上"]
[309,"移動式クレーンの運転（５ｔ未満）","（５未移ク）",null,"404040","吊り上げ荷重　特別教育１ｔ未満　または技能講習１ｔ以上５ｔ未満"]
[310,"タワークレーンの運転（５ｔ未満）","（５未TC）",null,"404040","吊り上げ荷重　特別教育５ｔ未満"]
[311,"高所作業車の運転","（高車）",null,"404040","作業床の高さ　特別教育１０m未満　または技能講習１０ｍ以上"]
[312,"玉掛けの業務","（玉掛）",null,"404040","吊り上げ荷重　特別教育１ｔ未満　または技能講習１ｔ以上"]
[313,"アーク溶接等の作業","（アーク）",null,"404040","特別教育　アーク溶接、溶断等の作業"]
[314,"自由研削砥石（グラインダ）の取替え、試運転","（砥石）",null,"404040","特別教育"]
[315,"ガス溶接等の作業","（ガス）",null,"404050","免許　アセチレン溶接装置またはガス集合溶接装置を用いて行う金属の溶接、溶断等の作業<br>技能講習　可燃性ガス及び酸素を用いて行う金属の溶接、溶断等の作業"]
[316,"移動式クレーンの運転（５ｔ以上）","（移ク免）",null,"404050","吊り上げ荷重　免許５ｔ以上"]
[317,"移動式クレーンの運転（５ｔ未満）","（５未移ク）",null,"404050","吊り上げ荷重　特別教育１ｔ未満　または技能講習１ｔ以上５ｔ未満"]
[318,"タワークレーンの運転（５ｔ未満）","（５未TC）",null,"404050","吊り上げ荷重　特別教育５ｔ未満"]
[319,"高所作業車の運転","（高車）",null,"404050","作業床の高さ　特別教育１０m未満　または技能講習１０ｍ以上"]
[320,"玉掛けの業務","（玉掛）",null,"404050","吊り上げ荷重　特別教育１ｔ未満　または技能講習１ｔ以上"]
[321,"アーク溶接等の作業","（アーク）",null,"404050","特別教育　アーク溶接、溶断等の作業"]
[322,"自由研削砥石（グラインダ）の取替え、試運転","（砥石）",null,"404050","特別教育"]
[323,"ガス溶接等の作業","（ガス）",null,"404060","免許　アセチレン溶接装置またはガス集合溶接装置を用いて行う金属の溶接、溶断等の作業<br>技能講習　可燃性ガス及び酸素を用いて行う金属の溶接、溶断等の作業"]
[324,"移動式クレーンの運転（５ｔ以上）","（移ク免）",null,"404060","吊り上げ荷重　免許５ｔ以上"]
[325,"建築物等の鉄骨の組立て等作業","（鉄骨）",null,"404060","技能講習　建築物の骨組み等で金属製の部材により構成されるもの（高さが５ｍ以上）の組立て、解体または変更の作業"]
[326,"移動式クレーンの運転（５ｔ未満）","（５未移ク）",null,"404060","吊り上げ荷重　特別教育１ｔ未満　または技能講習１ｔ以上５ｔ未満"]
[327,"タワークレーンの運転（５ｔ未満）","（５未TC）",null,"404060","吊り上げ荷重　特別教育５ｔ未満"]
[328,"高所作業車の運転","（高車）",null,"404060","作業床の高さ　特別教育１０m未満　または技能講習１０ｍ以上"]
[329,"玉掛けの業務","（玉掛）",null,"404060","吊り上げ荷重　特別教育１ｔ未満　または技能講習１ｔ以上"]
[330,"アーク溶接等の作業","（アーク）",null,"404060","特別教育　アーク溶接、溶断等の作業"]
[331,"自由研削砥石（グラインダ）の取替え、試運転","（砥石）",null,"404060","特別教育"]
[332,"ガス溶接等の作業","（ガス）",null,"404070","免許　アセチレン溶接装置またはガス集合溶接装置を用いて行う金属の溶接、溶断等の作業<br>技能講習　可燃性ガス及び酸素を用いて行う金属の溶接、溶断等の作業"]
[333,"建築物等の鉄骨の組立て等作業","（鉄骨）",null,"404070","技能講習　建築物の骨組み等で金属製の部材により構成されるもの（高さが５ｍ以上）の組立て、解体または変更の作業"]
[334,"移動式クレーンの運転（５ｔ未満）","（５未移ク）",null,"404070","吊り上げ荷重　特別教育１ｔ未満　または技能講習１ｔ以上５ｔ未満"]
[335,"タワークレーンの運転（５ｔ未満）","（５未TC）",null,"404070","吊り上げ荷重　特別教育５ｔ未満"]
[336,"高所作業車の運転","（高車）",null,"404070","作業床の高さ　特別教育１０m未満　または技能講習１０ｍ以上"]
[337,"玉掛けの業務","（玉掛）",null,"404070","吊り上げ荷重　特別教育１ｔ未満　または技能講習１ｔ以上"]
[338,"アーク溶接等の作業","（アーク）",null,"404070","特別教育　アーク溶接、溶断等の作業"]
[339,"自由研削砥石（グラインダ）の取替え、試運転","（砥石）",null,"404070","特別教育"]
[340,"移動式クレーンの運転（５ｔ未満）","（５未移ク）",null,"404080","吊り上げ荷重　特別教育１ｔ未満　または技能講習１ｔ以上５ｔ未満"]
[341,"タワークレーンの運転（５ｔ未満）","（５未TC）",null,"404080","吊り上げ荷重　特別教育５ｔ未満"]
[342,"高所作業車の運転","（高車）",null,"404080","作業床の高さ　特別教育１０m未満　または技能講習１０ｍ以上"]
[343,"玉掛けの業務","（玉掛）",null,"404080","吊り上げ荷重　特別教育１ｔ未満　または技能講習１ｔ以上"]
[344,"アーク溶接等の作業","（アーク）",null,"404080","特別教育　アーク溶接、溶断等の作業"]
[345,"自由研削砥石（グラインダ）の取替え、試運転","（砥石）",null,"404080","特別教育"]
[346,"ガス溶接等の作業","（ガス）",null,"405010","免許　アセチレン溶接装置またはガス集合溶接装置を用いて行う金属の溶接、溶断等の作業<br>技能講習　可燃性ガス及び酸素を用いて行う金属の溶接、溶断等の作業"]
[347,"移動式クレーンの運転（５ｔ未満）","（５未移ク）",null,"405010","吊り上げ荷重　特別教育１ｔ未満　または技能講習１ｔ以上５ｔ未満"]
[348,"タワークレーンの運転（５ｔ未満）","（５未TC）",null,"405010","吊り上げ荷重　特別教育５ｔ未満"]
[349,"高所作業車の運転","（高車）",null,"405010","作業床の高さ　特別教育１０m未満　または技能講習１０ｍ以上"]
[350,"車両系荷役運搬機械（フォークリフト等）","（フォーク）",null,"405010","最大荷重　特別教育１ｔ未満　または技能講習１ｔ以上"]
[351,"玉掛けの業務","（玉掛）",null,"405010","吊り上げ荷重　特別教育１ｔ未満　または技能講習１ｔ以上"]
[352,"アーク溶接等の作業","（アーク）",null,"405010","特別教育　アーク溶接、溶断等の作業"]
[353,"自由研削砥石（グラインダ）の取替え、試運転","（砥石）",null,"405010","特別教育"]
[354,"ガス溶接等の作業","（ガス）",null,"405020","免許　アセチレン溶接装置またはガス集合溶接装置を用いて行う金属の溶接、溶断等の作業<br>技能講習　可燃性ガス及び酸素を用いて行う金属の溶接、溶断等の作業"]
[355,"移動式クレーンの運転（５ｔ未満）","（５未移ク）",null,"405020","吊り上げ荷重　特別教育１ｔ未満　または技能講習１ｔ以上５ｔ未満"]
[356,"タワークレーンの運転（５ｔ未満）","（５未TC）",null,"405020","吊り上げ荷重　特別教育５ｔ未満"]
[357,"高所作業車の運転","（高車）",null,"405020","作業床の高さ　特別教育１０m未満　または技能講習１０ｍ以上"]
[358,"車両系荷役運搬機械（フォークリフト等）","（フォーク）",null,"405020","最大荷重　特別教育１ｔ未満　または技能講習１ｔ以上"]
[359,"玉掛けの業務","（玉掛）",null,"405020","吊り上げ荷重　特別教育１ｔ未満　または技能講習１ｔ以上"]
[360,"アーク溶接等の作業","（アーク）",null,"405020","特別教育　アーク溶接、溶断等の作業"]
[361,"自由研削砥石（グラインダ）の取替え、試運転","（砥石）",null,"405020","特別教育"]
[362,"ガス溶接等の作業","（ガス）",null,"405030","免許　アセチレン溶接装置またはガス集合溶接装置を用いて行う金属の溶接、溶断等の作業<br>技能講習　可燃性ガス及び酸素を用いて行う金属の溶接、溶断等の作業"]
[363,"移動式クレーンの運転（５ｔ未満）","（５未移ク）",null,"405030","吊り上げ荷重　特別教育１ｔ未満　または技能講習１ｔ以上５ｔ未満"]
[364,"タワークレーンの運転（５ｔ未満）","（５未TC）",null,"405030","吊り上げ荷重　特別教育５ｔ未満"]
[365,"高所作業車の運転","（高車）",null,"405030","作業床の高さ　特別教育１０m未満　または技能講習１０ｍ以上"]
[366,"玉掛けの業務","（玉掛）",null,"405030","吊り上げ荷重　特別教育１ｔ未満　または技能講習１ｔ以上"]
[367,"アーク溶接等の作業","（アーク）",null,"405030","特別教育　アーク溶接、溶断等の作業"]
[368,"自由研削砥石（グラインダ）の取替え、試運転","（砥石）",null,"405030","特別教育"]
[369,"ガス溶接等の作業","（ガス）",null,"501010","免許　アセチレン溶接装置またはガス集合溶接装置を用いて行う金属の溶接、溶断等の作業<br>技能講習　可燃性ガス及び酸素を用いて行う金属の溶接、溶断等の作業"]
[370,"はい作業","（はい）",null,"501010","技能講習　高さが2ｍ以上の荷の積上げ、積卸しを行う作業"]
[371,"移動式クレーンの運転（５ｔ未満）","（５未移ク）",null,"501010","吊り上げ荷重　特別教育１ｔ未満　または技能講習１ｔ以上５ｔ未満"]
[372,"タワークレーンの運転（５ｔ未満）","（５未TC）",null,"501010","吊り上げ荷重　特別教育５ｔ未満"]
[373,"高所作業車の運転","（高車）",null,"501010","作業床の高さ　特別教育１０m未満　または技能講習１０ｍ以上"]
[374,"車両系荷役運搬機械（フォークリフト等）","（フォーク）",null,"501010","最大荷重　特別教育１ｔ未満　または技能講習１ｔ以上"]
[375,"玉掛けの業務","（玉掛）",null,"501010","吊り上げ荷重　特別教育１ｔ未満　または技能講習１ｔ以上"]
[376,"アーク溶接等の作業","（アーク）",null,"501010","特別教育　アーク溶接、溶断等の作業"]
[377,"自由研削砥石（グラインダ）の取替え、試運転","（砥石）",null,"501010","特別教育"]
[378,"ガス溶接等の作業","（ガス）",null,"501020","免許　アセチレン溶接装置またはガス集合溶接装置を用いて行う金属の溶接、溶断等の作業<br>技能講習　可燃性ガス及び酸素を用いて行う金属の溶接、溶断等の作業"]
[379,"はい作業","（はい）",null,"501020","技能講習　高さが2ｍ以上の荷の積上げ、積卸しを行う作業"]
[380,"移動式クレーンの運転（５ｔ未満）","（５未移ク）",null,"501020","吊り上げ荷重　特別教育１ｔ未満　または技能講習１ｔ以上５ｔ未満"]
[381,"タワークレーンの運転（５ｔ未満）","（５未TC）",null,"501020","吊り上げ荷重　特別教育５ｔ未満"]
[382,"高所作業車の運転","（高車）",null,"501020","作業床の高さ　特別教育１０m未満　または技能講習１０ｍ以上"]
[383,"車両系荷役運搬機械（フォークリフト等）","（フォーク）",null,"501020","最大荷重　特別教育１ｔ未満　または技能講習１ｔ以上"]
[384,"玉掛けの業務","（玉掛）",null,"501020","吊り上げ荷重　特別教育１ｔ未満　または技能講習１ｔ以上"]
[385,"アーク溶接等の作業","（アーク）",null,"501020","特別教育　アーク溶接、溶断等の作業"]
[386,"自由研削砥石（グラインダ）の取替え、試運転","（砥石）",null,"501020","特別教育"]
[387,"はい作業","（はい）",null,"502010","技能講習　高さが2ｍ以上の荷の積上げ、積卸しを行う作業"]
[388,"有機溶剤の取扱い作業","（有機）",null,"502010","技能講習　屋内作業場やタンクの内部などで、有機溶剤を取扱う作業"]
[389,"移動式クレーンの運転（５ｔ未満）","（５未移ク）",null,"502010","吊り上げ荷重　特別教育１ｔ未満　または技能講習１ｔ以上５ｔ未満"]
[390,"タワークレーンの運転（５ｔ未満）","（５未TC）",null,"502010","吊り上げ荷重　特別教育５ｔ未満"]
[391,"高所作業車の運転","（高車）",null,"502010","作業床の高さ　特別教育１０m未満　または技能講習１０ｍ以上"]
[392,"車両系荷役運搬機械（フォークリフト等）","（フォーク）",null,"502010","最大荷重　特別教育１ｔ未満　または技能講習１ｔ以上"]
[393,"玉掛けの業務","（玉掛）",null,"502010","吊り上げ荷重　特別教育１ｔ未満　または技能講習１ｔ以上"]
[394,"有機溶剤の取扱い作業","（有機）",null,"502020","技能講習　屋内作業場やタンクの内部などで、有機溶剤を取扱う作業"]
[395,"移動式クレーンの運転（５ｔ未満）","（５未移ク）",null,"502020","吊り上げ荷重　特別教育１ｔ未満　または技能講習１ｔ以上５ｔ未満"]
[396,"タワークレーンの運転（５ｔ未満）","（５未TC）",null,"502020","吊り上げ荷重　特別教育５ｔ未満"]
[397,"高所作業車の運転","（高車）",null,"502020","作業床の高さ　特別教育１０m未満　または技能講習１０ｍ以上"]
[398,"車両系荷役運搬機械（フォークリフト等）","（フォーク）",null,"502020","最大荷重　特別教育１ｔ未満　または技能講習１ｔ以上"]
[399,"玉掛けの業務","（玉掛）",null,"502020","吊り上げ荷重　特別教育１ｔ未満　または技能講習１ｔ以上"]
[400,"有機溶剤の取扱い作業","（有機）",null,"502030","技能講習　屋内作業場やタンクの内部などで、有機溶剤を取扱う作業"]
[401,"移動式クレーンの運転（５ｔ未満）","（５未移ク）",null,"502030","吊り上げ荷重　特別教育１ｔ未満　または技能講習１ｔ以上５ｔ未満"]
[402,"タワークレーンの運転（５ｔ未満）","（５未TC）",null,"502030","吊り上げ荷重　特別教育５ｔ未満"]
[403,"高所作業車の運転","（高車）",null,"502030","作業床の高さ　特別教育１０m未満　または技能講習１０ｍ以上"]
[404,"玉掛けの業務","（玉掛）",null,"502030","吊り上げ荷重　特別教育１ｔ未満　または技能講習１ｔ以上"]
[405,"有機溶剤の取扱い作業","（有機）",null,"502040","技能講習　屋内作業場やタンクの内部などで、有機溶剤を取扱う作業"]
[406,"移動式クレーンの運転（５ｔ未満）","（５未移ク）",null,"502040","吊り上げ荷重　特別教育１ｔ未満　または技能講習１ｔ以上５ｔ未満"]
[407,"タワークレーンの運転（５ｔ未満）","（５未TC）",null,"502040","吊り上げ荷重　特別教育５ｔ未満"]
[408,"高所作業車の運転","（高車）",null,"502040","作業床の高さ　特別教育１０m未満　または技能講習１０ｍ以上"]
[409,"玉掛けの業務","（玉掛）",null,"502040","吊り上げ荷重　特別教育１ｔ未満　または技能講習１ｔ以上"]
[410,"有機溶剤の取扱い作業","（有機）",null,"503010","技能講習　屋内作業場やタンクの内部などで、有機溶剤を取扱う作業"]
[411,"移動式クレーンの運転（５ｔ未満）","（５未移ク）",null,"503010","吊り上げ荷重　特別教育１ｔ未満　または技能講習１ｔ以上５ｔ未満"]
[412,"タワークレーンの運転（５ｔ未満）","（５未TC）",null,"503010","吊り上げ荷重　特別教育５ｔ未満"]
[413,"高所作業車の運転","（高車）",null,"503010","作業床の高さ　特別教育１０m未満　または技能講習１０ｍ以上"]
[414,"車両系荷役運搬機械（フォークリフト等）","（フォーク）",null,"503010","最大荷重　特別教育１ｔ未満　または技能講習１ｔ以上"]
[415,"玉掛けの業務","（玉掛）",null,"503010","吊り上げ荷重　特別教育１ｔ未満　または技能講習１ｔ以上"]
[416,"自由研削砥石（グラインダ）の取替え、試運転","（砥石）",null,"503010","特別教育"]
[417,"有機溶剤の取扱い作業","（有機）",null,"504010","技能講習　屋内作業場やタンクの内部などで、有機溶剤を取扱う作業"]
[418,"移動式クレーンの運転（５ｔ未満）","（５未移ク）",null,"504010","吊り上げ荷重　特別教育１ｔ未満　または技能講習１ｔ以上５ｔ未満"]
[419,"タワークレーンの運転（５ｔ未満）","（５未TC）",null,"504010","吊り上げ荷重　特別教育５ｔ未満"]
[420,"高所作業車の運転","（高車）",null,"504010","作業床の高さ　特別教育１０m未満　または技能講習１０ｍ以上"]
[421,"車両系荷役運搬機械（フォークリフト等）","（フォーク）",null,"504010","最大荷重　特別教育１ｔ未満　または技能講習１ｔ以上"]
[422,"玉掛けの業務","（玉掛）",null,"504010","吊り上げ荷重　特別教育１ｔ未満　または技能講習１ｔ以上"]
[423,"自由研削砥石（グラインダ）の取替え、試運転","（砥石）",null,"504010","特別教育"]
[424,"移動式クレーンの運転（５ｔ未満）","（５未移ク）",null,"505010","吊り上げ荷重　特別教育１ｔ未満　または技能講習１ｔ以上５ｔ未満"]
[425,"タワークレーンの運転（５ｔ未満）","（５未TC）",null,"505010","吊り上げ荷重　特別教育５ｔ未満"]
[426,"高所作業車の運転","（高車）",null,"505010","作業床の高さ　特別教育１０m未満　または技能講習１０ｍ以上"]
[427,"車両系荷役運搬機械（フォークリフト等）","（フォーク）",null,"505010","最大荷重　特別教育１ｔ未満　または技能講習１ｔ以上"]
[428,"玉掛けの業務","（玉掛）",null,"505010","吊り上げ荷重　特別教育１ｔ未満　または技能講習１ｔ以上"]
[429,"ガス溶接等の作業","（ガス）",null,"506010","免許　アセチレン溶接装置またはガス集合溶接装置を用いて行う金属の溶接、溶断等の作業<br>技能講習　可燃性ガス及び酸素を用いて行う金属の溶接、溶断等の作業"]
[430,"移動式クレーンの運転（５ｔ未満）","（５未移ク）",null,"506010","吊り上げ荷重　特別教育１ｔ未満　または技能講習１ｔ以上５ｔ未満"]
[431,"タワークレーンの運転（５ｔ未満）","（５未TC）",null,"506010","吊り上げ荷重　特別教育５ｔ未満"]
[432,"高所作業車の運転","（高車）",null,"506010","作業床の高さ　特別教育１０m未満　または技能講習１０ｍ以上"]
[433,"玉掛けの業務","（玉掛）",null,"506010","吊り上げ荷重　特別教育１ｔ未満　または技能講習１ｔ以上"]
[434,"アーク溶接等の作業","（アーク）",null,"506010","特別教育　アーク溶接、溶断等の作業"]
[435,"自由研削砥石（グラインダ）の取替え、試運転","（砥石）",null,"506010","特別教育"]
[436,"ガス溶接等の作業","（ガス）",null,"506020","免許　アセチレン溶接装置またはガス集合溶接装置を用いて行う金属の溶接、溶断等の作業<br>技能講習　可燃性ガス及び酸素を用いて行う金属の溶接、溶断等の作業"]
[437,"移動式クレーンの運転（５ｔ未満）","（５未移ク）",null,"506020","吊り上げ荷重　特別教育１ｔ未満　または技能講習１ｔ以上５ｔ未満"]
[438,"タワークレーンの運転（５ｔ未満）","（５未TC）",null,"506020","吊り上げ荷重　特別教育５ｔ未満"]
[439,"高所作業車の運転","（高車）",null,"506020","作業床の高さ　特別教育１０m未満　または技能講習１０ｍ以上"]
[440,"玉掛けの業務","（玉掛）",null,"506020","吊り上げ荷重　特別教育１ｔ未満　または技能講習１ｔ以上"]
[441,"アーク溶接等の作業","（アーク）",null,"506020","特別教育　アーク溶接、溶断等の作業"]
[442,"自由研削砥石（グラインダ）の取替え、試運転","（砥石）",null,"506020","特別教育"]
[443,"ガス溶接等の作業","（ガス）",null,"506030","免許　アセチレン溶接装置またはガス集合溶接装置を用いて行う金属の溶接、溶断等の作業<br>技能講習　可燃性ガス及び酸素を用いて行う金属の溶接、溶断等の作業"]
[444,"移動式クレーンの運転（５ｔ未満）","（５未移ク）",null,"506030","吊り上げ荷重　特別教育１ｔ未満　または技能講習１ｔ以上５ｔ未満"]
[445,"タワークレーンの運転（５ｔ未満）","（５未TC）",null,"506030","吊り上げ荷重　特別教育５ｔ未満"]
[446,"高所作業車の運転","（高車）",null,"506030","作業床の高さ　特別教育１０m未満　または技能講習１０ｍ以上"]
[447,"車両系荷役運搬機械（フォークリフト等）","（フォーク）",null,"506030","最大荷重　特別教育１ｔ未満　または技能講習１ｔ以上"]
[448,"玉掛けの業務","（玉掛）",null,"506030","吊り上げ荷重　特別教育１ｔ未満　または技能講習１ｔ以上"]
[449,"アーク溶接等の作業","（アーク）",null,"506030","特別教育　アーク溶接、溶断等の作業"]
[450,"自由研削砥石（グラインダ）の取替え、試運転","（砥石）",null,"506030","特別教育"]
[451,"移動式クレーンの運転（５ｔ未満）","（５未移ク）",null,"507010","吊り上げ荷重　特別教育１ｔ未満　または技能講習１ｔ以上５ｔ未満"]
[452,"タワークレーンの運転（５ｔ未満）","（５未TC）",null,"507010","吊り上げ荷重　特別教育５ｔ未満"]
[453,"高所作業車の運転","（高車）",null,"507010","作業床の高さ　特別教育１０m未満　または技能講習１０ｍ以上"]
[454,"玉掛けの業務","（玉掛）",null,"507010","吊り上げ荷重　特別教育１ｔ未満　または技能講習１ｔ以上"]
[455,"自由研削砥石（グラインダ）の取替え、試運転","（砥石）",null,"507010","特別教育"]
[456,"移動式クレーンの運転（５ｔ未満）","（５未移ク）",null,"507020","吊り上げ荷重　特別教育１ｔ未満　または技能講習１ｔ以上５ｔ未満"]
[457,"タワークレーンの運転（５ｔ未満）","（５未TC）",null,"507020","吊り上げ荷重　特別教育５ｔ未満"]
[458,"高所作業車の運転","（高車）",null,"507020","作業床の高さ　特別教育１０m未満　または技能講習１０ｍ以上"]
[459,"玉掛けの業務","（玉掛）",null,"507020","吊り上げ荷重　特別教育１ｔ未満　または技能講習１ｔ以上"]
[460,"自由研削砥石（グラインダ）の取替え、試運転","（砥石）",null,"507020","特別教育"]
[461,"移動式クレーンの運転（５ｔ未満）","（５未移ク）",null,"508010","吊り上げ荷重　特別教育１ｔ未満　または技能講習１ｔ以上５ｔ未満"]
[462,"タワークレーンの運転（５ｔ未満）","（５未TC）",null,"508010","吊り上げ荷重　特別教育５ｔ未満"]
[463,"高所作業車の運転","（高車）",null,"508010","作業床の高さ　特別教育１０m未満　または技能講習１０ｍ以上"]
[464,"車両系荷役運搬機械（フォークリフト等）","（フォーク）",null,"508010","最大荷重　特別教育１ｔ未満　または技能講習１ｔ以上"]
[465,"玉掛けの業務","（玉掛）",null,"508010","吊り上げ荷重　特別教育１ｔ未満　または技能講習１ｔ以上"]
[466,"ガス溶接等の作業","（ガス）",null,"509010","免許　アセチレン溶接装置またはガス集合溶接装置を用いて行う金属の溶接、溶断等の作業<br>技能講習　可燃性ガス及び酸素を用いて行う金属の溶接、溶断等の作業"]
[467,"移動式クレーンの運転（５ｔ未満）","（５未移ク）",null,"509010","吊り上げ荷重　特別教育１ｔ未満　または技能講習１ｔ以上５ｔ未満"]
[468,"タワークレーンの運転（５ｔ未満）","（５未TC）",null,"509010","吊り上げ荷重　特別教育５ｔ未満"]
[469,"高所作業車の運転","（高車）",null,"509010","作業床の高さ　特別教育１０m未満　または技能講習１０ｍ以上"]
[470,"車両系荷役運搬機械（フォークリフト等）","（フォーク）",null,"509010","最大荷重　特別教育１ｔ未満　または技能講習１ｔ以上"]
[471,"玉掛けの業務","（玉掛）",null,"509010","吊り上げ荷重　特別教育１ｔ未満　または技能講習１ｔ以上"]
[472,"アーク溶接等の作業","（アーク）",null,"509010","特別教育　アーク溶接、溶断等の作業"]
[473,"自由研削砥石（グラインダ）の取替え、試運転","（砥石）",null,"509010","特別教育"]
[474,"ガス溶接等の作業","（ガス）",null,"509020","免許　アセチレン溶接装置またはガス集合溶接装置を用いて行う金属の溶接、溶断等の作業<br>技能講習　可燃性ガス及び酸素を用いて行う金属の溶接、溶断等の作業"]
[475,"移動式クレーンの運転（５ｔ未満）","（５未移ク）",null,"509020","吊り上げ荷重　特別教育１ｔ未満　または技能講習１ｔ以上５ｔ未満"]
[476,"タワークレーンの運転（５ｔ未満）","（５未TC）",null,"509020","吊り上げ荷重　特別教育５ｔ未満"]
[477,"高所作業車の運転","（高車）",null,"509020","作業床の高さ　特別教育１０m未満　または技能講習１０ｍ以上"]
[478,"車両系荷役運搬機械（フォークリフト等）","（フォーク）",null,"509020","最大荷重　特別教育１ｔ未満　または技能講習１ｔ以上"]
[479,"玉掛けの業務","（玉掛）",null,"509020","吊り上げ荷重　特別教育１ｔ未満　または技能講習１ｔ以上"]
[480,"アーク溶接等の作業","（アーク）",null,"509020","特別教育　アーク溶接、溶断等の作業"]
[481,"自由研削砥石（グラインダ）の取替え、試運転","（砥石）",null,"509020","特別教育"]
[482,"ガス溶接等の作業","（ガス）",null,"509030","免許　アセチレン溶接装置またはガス集合溶接装置を用いて行う金属の溶接、溶断等の作業<br>技能講習　可燃性ガス及び酸素を用いて行う金属の溶接、溶断等の作業"]
[483,"移動式クレーンの運転（５ｔ未満）","（５未移ク）",null,"509030","吊り上げ荷重　特別教育１ｔ未満　または技能講習１ｔ以上５ｔ未満"]
[484,"タワークレーンの運転（５ｔ未満）","（５未TC）",null,"509030","吊り上げ荷重　特別教育５ｔ未満"]
[485,"高所作業車の運転","（高車）",null,"509030","作業床の高さ　特別教育１０m未満　または技能講習１０ｍ以上"]
[486,"車両系荷役運搬機械（フォークリフト等）","（フォーク）",null,"509030","最大荷重　特別教育１ｔ未満　または技能講習１ｔ以上"]
[487,"玉掛けの業務","（玉掛）",null,"509030","吊り上げ荷重　特別教育１ｔ未満　または技能講習１ｔ以上"]
[488,"アーク溶接等の作業","（アーク）",null,"509030","特別教育　アーク溶接、溶断等の作業"]
[489,"自由研削砥石（グラインダ）の取替え、試運転","（砥石）",null,"509030","特別教育"]
[490,"ガス溶接等の作業","（ガス）",null,"509040","免許　アセチレン溶接装置またはガス集合溶接装置を用いて行う金属の溶接、溶断等の作業<br>技能講習　可燃性ガス及び酸素を用いて行う金属の溶接、溶断等の作業"]
[491,"ガス溶接等の作業","（ガス）",null,"509040","免許　アセチレン溶接装置またはガス集合溶接装置を用いて行う金属の溶接、溶断等の作業<br>技能講習　可燃性ガス及び酸素を用いて行う金属の溶接、溶断等の作業"]
[492,"移動式クレーンの運転（５ｔ未満）","（５未移ク）",null,"509040","吊り上げ荷重　特別教育１ｔ未満　または技能講習１ｔ以上５ｔ未満"]
[493,"タワークレーンの運転（５ｔ未満）","（５未TC）",null,"509040","吊り上げ荷重　特別教育５ｔ未満"]
[494,"高所作業車の運転","（高車）",null,"509040","作業床の高さ　特別教育１０m未満　または技能講習１０ｍ以上"]
[495,"車両系荷役運搬機械（フォークリフト等）","（フォーク）",null,"509040","最大荷重　特別教育１ｔ未満　または技能講習１ｔ以上"]
[496,"玉掛けの業務","（玉掛）",null,"509040","吊り上げ荷重　特別教育１ｔ未満　または技能講習１ｔ以上"]
[497,"アーク溶接等の作業","（アーク）",null,"509040","特別教育　アーク溶接、溶断等の作業"]
[498,"自由研削砥石（グラインダ）の取替え、試運転","（砥石）",null,"509040","特別教育"]
[499,"移動式クレーンの運転（５ｔ未満）","（５未移ク）",null,"510010","吊り上げ荷重　特別教育１ｔ未満　または技能講習１ｔ以上５ｔ未満"]
[500,"タワークレーンの運転（５ｔ未満）","（５未TC）",null,"510010","吊り上げ荷重　特別教育５ｔ未満"]
[501,"高所作業車の運転","（高車）",null,"510010","作業床の高さ　特別教育１０m未満　または技能講習１０ｍ以上"]
[502,"車両系荷役運搬機械（フォークリフト等）","（フォーク）",null,"510010","最大荷重　特別教育１ｔ未満　または技能講習１ｔ以上"]
[503,"玉掛けの業務","（玉掛）",null,"510010","吊り上げ荷重　特別教育１ｔ未満　または技能講習１ｔ以上"]
[504,"有機溶剤の取扱い作業","（有機）",null,"511010","技能講習　屋内作業場やタンクの内部などで、有機溶剤を取扱う作業"]
[505,"移動式クレーンの運転（５ｔ未満）","（５未移ク）",null,"511010","吊り上げ荷重　特別教育１ｔ未満　または技能講習１ｔ以上５ｔ未満"]
[506,"タワークレーンの運転（５ｔ未満）","（５未TC）",null,"511010","吊り上げ荷重　特別教育５ｔ未満"]
[507,"高所作業車の運転","（高車）",null,"511010","作業床の高さ　特別教育１０m未満　または技能講習１０ｍ以上"]
[508,"車両系荷役運搬機械（フォークリフト等）","（フォーク）",null,"511010","最大荷重　特別教育１ｔ未満　または技能講習１ｔ以上"]
[509,"玉掛けの業務","（玉掛）",null,"511010","吊り上げ荷重　特別教育１ｔ未満　または技能講習１ｔ以上"]
[510,"有機溶剤の取扱い作業","（有機）",null,"511020","技能講習　屋内作業場やタンクの内部などで、有機溶剤を取扱う作業"]
[511,"移動式クレーンの運転（５ｔ未満）","（５未移ク）",null,"511020","吊り上げ荷重　特別教育１ｔ未満　または技能講習１ｔ以上５ｔ未満"]
[512,"タワークレーンの運転（５ｔ未満）","（５未TC）",null,"511020","吊り上げ荷重　特別教育５ｔ未満"]
[513,"高所作業車の運転","（高車）",null,"511020","作業床の高さ　特別教育１０m未満　または技能講習１０ｍ以上"]
[514,"車両系荷役運搬機械（フォークリフト等）","（フォーク）",null,"511020","最大荷重　特別教育１ｔ未満　または技能講習１ｔ以上"]
[515,"玉掛けの業務","（玉掛）",null,"511020","吊り上げ荷重　特別教育１ｔ未満　または技能講習１ｔ以上"]
[516,"ガス溶接等の作業","（ガス）",null,"512010","免許　アセチレン溶接装置またはガス集合溶接装置を用いて行う金属の溶接、溶断等の作業<br>技能講習　可燃性ガス及び酸素を用いて行う金属の溶接、溶断等の作業"]
[517,"移動式クレーンの運転（５ｔ未満）","（５未移ク）",null,"512010","吊り上げ荷重　特別教育１ｔ未満　または技能講習１ｔ以上５ｔ未満"]
[518,"タワークレーンの運転（５ｔ未満）","（５未TC）",null,"512010","吊り上げ荷重　特別教育５ｔ未満"]
[519,"高所作業車の運転","（高車）",null,"512010","作業床の高さ　特別教育１０m未満　または技能講習１０ｍ以上"]
[520,"車両系荷役運搬機械（フォークリフト等）","（フォーク）",null,"512010","最大荷重　特別教育１ｔ未満　または技能講習１ｔ以上"]
[521,"玉掛けの業務","（玉掛）",null,"512010","吊り上げ荷重　特別教育１ｔ未満　または技能講習１ｔ以上"]
[522,"アーク溶接等の作業","（アーク）",null,"512010","特別教育　アーク溶接、溶断等の作業"]
[523,"自由研削砥石（グラインダ）の取替え、試運転","（砥石）",null,"512010","特別教育"]
[524,"有機溶剤の取扱い作業","（有機）",null,"512020","技能講習　屋内作業場やタンクの内部などで、有機溶剤を取扱う作業"]
[525,"移動式クレーンの運転（５ｔ未満）","（５未移ク）",null,"512020","吊り上げ荷重　特別教育１ｔ未満　または技能講習１ｔ以上５ｔ未満"]
[526,"タワークレーンの運転（５ｔ未満）","（５未TC）",null,"512020","吊り上げ荷重　特別教育５ｔ未満"]
[527,"高所作業車の運転","（高車）",null,"512020","作業床の高さ　特別教育１０m未満　または技能講習１０ｍ以上"]
[528,"車両系荷役運搬機械（フォークリフト等）","（フォーク）",null,"512020","最大荷重　特別教育１ｔ未満　または技能講習１ｔ以上"]
[529,"玉掛けの業務","（玉掛）",null,"512020","吊り上げ荷重　特別教育１ｔ未満　または技能講習１ｔ以上"]
[530,"有機溶剤の取扱い作業","（有機）",null,"512030","技能講習　屋内作業場やタンクの内部などで、有機溶剤を取扱う作業"]
[531,"移動式クレーンの運転（５ｔ未満）","（５未移ク）",null,"512030","吊り上げ荷重　特別教育１ｔ未満　または技能講習１ｔ以上５ｔ未満"]
[532,"タワークレーンの運転（５ｔ未満）","（５未TC）",null,"512030","吊り上げ荷重　特別教育５ｔ未満"]
[533,"高所作業車の運転","（高車）",null,"512030","作業床の高さ　特別教育１０m未満　または技能講習１０ｍ以上"]
[534,"車両系荷役運搬機械（フォークリフト等）","（フォーク）",null,"512030","最大荷重　特別教育１ｔ未満　または技能講習１ｔ以上"]
[535,"玉掛けの業務","（玉掛）",null,"512030","吊り上げ荷重　特別教育１ｔ未満　または技能講習１ｔ以上"]
[536,"有機溶剤の取扱い作業","（有機）",null,"512040","技能講習　屋内作業場やタンクの内部などで、有機溶剤を取扱う作業"]
[537,"移動式クレーンの運転（５ｔ未満）","（５未移ク）",null,"512040","吊り上げ荷重　特別教育１ｔ未満　または技能講習１ｔ以上５ｔ未満"]
[538,"タワークレーンの運転（５ｔ未満）","（５未TC）",null,"512040","吊り上げ荷重　特別教育５ｔ未満"]
[539,"高所作業車の運転","（高車）",null,"512040","作業床の高さ　特別教育１０m未満　または技能講習１０ｍ以上"]
[540,"車両系荷役運搬機械（フォークリフト等）","（フォーク）",null,"512040","最大荷重　特別教育１ｔ未満　または技能講習１ｔ以上"]
[541,"玉掛けの業務","（玉掛）",null,"512040","吊り上げ荷重　特別教育１ｔ未満　または技能講習１ｔ以上"]
[542,"有機溶剤の取扱い作業","（有機）",null,"512050","技能講習　屋内作業場やタンクの内部などで、有機溶剤を取扱う作業"]
[543,"移動式クレーンの運転（５ｔ未満）","（５未移ク）",null,"512050","吊り上げ荷重　特別教育１ｔ未満　または技能講習１ｔ以上５ｔ未満"]
[544,"タワークレーンの運転（５ｔ未満）","（５未TC）",null,"512050","吊り上げ荷重　特別教育５ｔ未満"]
[545,"高所作業車の運転","（高車）",null,"512050","作業床の高さ　特別教育１０m未満　または技能講習１０ｍ以上"]
[546,"車両系荷役運搬機械（フォークリフト等）","（フォーク）",null,"512050","最大荷重　特別教育１ｔ未満　または技能講習１ｔ以上"]
[547,"玉掛けの業務","（玉掛）",null,"512050","吊り上げ荷重　特別教育１ｔ未満　または技能講習１ｔ以上"]
[548,"移動式クレーンの運転（５ｔ未満）","（５未移ク）",null,"512060","吊り上げ荷重　特別教育１ｔ未満　または技能講習１ｔ以上５ｔ未満"]
[549,"タワークレーンの運転（５ｔ未満）","（５未TC）",null,"512060","吊り上げ荷重　特別教育５ｔ未満"]
[550,"高所作業車の運転","（高車）",null,"512060","作業床の高さ　特別教育１０m未満　または技能講習１０ｍ以上"]
[551,"玉掛けの業務","（玉掛）",null,"512060","吊り上げ荷重　特別教育１ｔ未満　または技能講習１ｔ以上"]
[552,"移動式クレーンの運転（５ｔ未満）","（５未移ク）",null,"512070","吊り上げ荷重　特別教育１ｔ未満　または技能講習１ｔ以上５ｔ未満"]
[553,"タワークレーンの運転（５ｔ未満）","（５未TC）",null,"512070","吊り上げ荷重　特別教育５ｔ未満"]
[554,"高所作業車の運転","（高車）",null,"512070","作業床の高さ　特別教育１０m未満　または技能講習１０ｍ以上"]
[555,"玉掛けの業務","（玉掛）",null,"512070","吊り上げ荷重　特別教育１ｔ未満　または技能講習１ｔ以上"]
[556,"ガス溶接等の作業","（ガス）",null,"512080","免許　アセチレン溶接装置またはガス集合溶接装置を用いて行う金属の溶接、溶断等の作業<br>技能講習　可燃性ガス及び酸素を用いて行う金属の溶接、溶断等の作業"]
[557,"移動式クレーンの運転（５ｔ未満）","（５未移ク）",null,"512080","吊り上げ荷重　特別教育１ｔ未満　または技能講習１ｔ以上５ｔ未満"]
[558,"タワークレーンの運転（５ｔ未満）","（５未TC）",null,"512080","吊り上げ荷重　特別教育５ｔ未満"]
[559,"高所作業車の運転","（高車）",null,"512080","作業床の高さ　特別教育１０m未満　または技能講習１０ｍ以上"]
[560,"車両系荷役運搬機械（フォークリフト等）","（フォーク）",null,"512080","最大荷重　特別教育１ｔ未満　または技能講習１ｔ以上"]
[561,"玉掛けの業務","（玉掛）",null,"512080","吊り上げ荷重　特別教育１ｔ未満　または技能講習１ｔ以上"]
[562,"アーク溶接等の作業","（アーク）",null,"512080","特別教育　アーク溶接、溶断等の作業"]
[563,"自由研削砥石（グラインダ）の取替え、試運転","（砥石）",null,"512080","特別教育"]
[564,"ガス溶接等の作業","（ガス）",null,"512090","免許　アセチレン溶接装置またはガス集合溶接装置を用いて行う金属の溶接、溶断等の作業<br>技能講習　可燃性ガス及び酸素を用いて行う金属の溶接、溶断等の作業"]
[565,"有機溶剤の取扱い作業","（有機）",null,"512090","技能講習　屋内作業場やタンクの内部などで、有機溶剤を取扱う作業"]
[566,"移動式クレーンの運転（５ｔ未満）","（５未移ク）",null,"512090","吊り上げ荷重　特別教育１ｔ未満　または技能講習１ｔ以上５ｔ未満"]
[567,"タワークレーンの運転（５ｔ未満）","（５未TC）",null,"512090","吊り上げ荷重　特別教育５ｔ未満"]
[568,"高所作業車の運転","（高車）",null,"512090","作業床の高さ　特別教育１０m未満　または技能講習１０ｍ以上"]
[569,"車両系荷役運搬機械（フォークリフト等）","（フォーク）",null,"512090","最大荷重　特別教育１ｔ未満　または技能講習１ｔ以上"]
[570,"玉掛けの業務","（玉掛）",null,"512090","吊り上げ荷重　特別教育１ｔ未満　または技能講習１ｔ以上"]
[571,"アーク溶接等の作業","（アーク）",null,"512090","特別教育　アーク溶接、溶断等の作業"]
[572,"自由研削砥石（グラインダ）の取替え、試運転","（砥石）",null,"512090","特別教育"]
[573,"有機溶剤の取扱い作業","（有機）",null,"513010","技能講習　屋内作業場やタンクの内部などで、有機溶剤を取扱う作業"]
[574,"移動式クレーンの運転（５ｔ未満）","（５未移ク）",null,"513010","吊り上げ荷重　特別教育１ｔ未満　または技能講習１ｔ以上５ｔ未満"]
[575,"タワークレーンの運転（５ｔ未満）","（５未TC）",null,"513010","吊り上げ荷重　特別教育５ｔ未満"]
[576,"高所作業車の運転","（高車）",null,"513010","作業床の高さ　特別教育１０m未満　または技能講習１０ｍ以上"]
[577,"車両系荷役運搬機械（フォークリフト等）","（フォーク）",null,"513010","最大荷重　特別教育１ｔ未満　または技能講習１ｔ以上"]
[578,"玉掛けの業務","（玉掛）",null,"513010","吊り上げ荷重　特別教育１ｔ未満　または技能講習１ｔ以上"]
[579,"有機溶剤の取扱い作業","（有機）",null,"514010","技能講習　屋内作業場やタンクの内部などで、有機溶剤を取扱う作業"]
[580,"移動式クレーンの運転（５ｔ未満）","（５未移ク）",null,"514010","吊り上げ荷重　特別教育１ｔ未満　または技能講習１ｔ以上５ｔ未満"]
[581,"タワークレーンの運転（５ｔ未満）","（５未TC）",null,"514010","吊り上げ荷重　特別教育５ｔ未満"]
[582,"高所作業車の運転","（高車）",null,"514010","作業床の高さ　特別教育１０m未満　または技能講習１０ｍ以上"]
[583,"車両系荷役運搬機械（フォークリフト等）","（フォーク）",null,"514010","最大荷重　特別教育１ｔ未満　または技能講習１ｔ以上"]
[584,"玉掛けの業務","（玉掛）",null,"514010","吊り上げ荷重　特別教育１ｔ未満　または技能講習１ｔ以上"]
[585,"地山の掘削作業、土止め支保工の組立て等作業","（地掘・土支）",null,"601010","技能講習　掘削面の高さが２ｍ以上の地山の掘削作業<br>技能講習　土止め支保工の切梁または腹起しの取付または取外しの作業"]
[586,"はい作業","（はい）",null,"601010","技能講習　高さが2ｍ以上の荷の積上げ、積卸しを行う作業"]
[587,"移動式クレーンの運転（５ｔ未満）","（５未移ク）",null,"601010","吊り上げ荷重　特別教育１ｔ未満　または技能講習１ｔ以上５ｔ未満"]
[588,"タワークレーンの運転（５ｔ未満）","（５未TC）",null,"601010","吊り上げ荷重　特別教育５ｔ未満"]
[589,"高所作業車の運転","（高車）",null,"601010","作業床の高さ　特別教育１０m未満　または技能講習１０ｍ以上"]
[590,"玉掛けの業務","（玉掛）",null,"601010","吊り上げ荷重　特別教育１ｔ未満　または技能講習１ｔ以上"]
[591,"アーク溶接等の作業","（アーク）",null,"601010","特別教育　アーク溶接、溶断等の作業"]
[592,"自由研削砥石（グラインダ）の取替え、試運転","（砥石）",null,"601010","特別教育"]
[593,"電気工事士","（電工士）",null,"601010","免許　電気工事を行う作業"]
[594,"低圧電気の取扱い業務","（低圧電）",null,"601010","特別教育　充電電路又はその支持物の敷設の点検、修理、充電部分が露出した開閉器の操作等の作業"]
[595,"地山の掘削作業、土止め支保工の組立て等作業","（地掘・土支）",null,"601020","技能講習　掘削面の高さが２ｍ以上の地山の掘削作業<br>技能講習　土止め支保工の切梁または腹起しの取付または取外しの作業"]
[596,"はい作業","（はい）",null,"601020","技能講習　高さが2ｍ以上の荷の積上げ、積卸しを行う作業"]
[597,"酸素欠乏危険作業（２種）","（酸欠）",null,"601020","技能講習　雨水などが滞留している暗渠、マンホールの内部等での作業並びに酸素欠乏症にかかるおそれ及び硫化水素中毒にかかるおそれがある場所での作業"]
[598,"移動式クレーンの運転（５ｔ未満）","（５未移ク）",null,"601020","吊り上げ荷重　特別教育１ｔ未満　または技能講習１ｔ以上５ｔ未満"]
[599,"タワークレーンの運転（５ｔ未満）","（５未TC）",null,"601020","吊り上げ荷重　特別教育５ｔ未満"]
[600,"高所作業車の運転","（高車）",null,"601020","作業床の高さ　特別教育１０m未満　または技能講習１０ｍ以上"]
[601,"玉掛けの業務","（玉掛）",null,"601020","吊り上げ荷重　特別教育１ｔ未満　または技能講習１ｔ以上"]
[602,"アーク溶接等の作業","（アーク）",null,"601020","特別教育　アーク溶接、溶断等の作業"]
[603,"自由研削砥石（グラインダ）の取替え、試運転","（砥石）",null,"601020","特別教育"]
[604,"電気工事士","（電工士）",null,"601020","免許　電気工事を行う作業"]
[605,"低圧電気の取扱い業務","（低圧電）",null,"601020","特別教育　充電電路又はその支持物の敷設の点検、修理、充電部分が露出した開閉器の操作等の作業"]
[606,"地山の掘削作業、土止め支保工の組立て等作業","（地掘・土支）",null,"601030","技能講習　掘削面の高さが２ｍ以上の地山の掘削作業<br>技能講習　土止め支保工の切梁または腹起しの取付または取外しの作業"]
[607,"はい作業","（はい）",null,"601030","技能講習　高さが2ｍ以上の荷の積上げ、積卸しを行う作業"]
[608,"移動式クレーンの運転（５ｔ未満）","（５未移ク）",null,"601030","吊り上げ荷重　特別教育１ｔ未満　または技能講習１ｔ以上５ｔ未満"]
[609,"タワークレーンの運転（５ｔ未満）","（５未TC）",null,"601030","吊り上げ荷重　特別教育５ｔ未満"]
[610,"高所作業車の運転","（高車）",null,"601030","作業床の高さ　特別教育１０m未満　または技能講習１０ｍ以上"]
[611,"玉掛けの業務","（玉掛）",null,"601030","吊り上げ荷重　特別教育１ｔ未満　または技能講習１ｔ以上"]
[612,"アーク溶接等の作業","（アーク）",null,"601030","特別教育　アーク溶接、溶断等の作業"]
[613,"自由研削砥石（グラインダ）の取替え、試運転","（砥石）",null,"601030","特別教育"]
[614,"電気工事士","（電工士）",null,"601030","免許　電気工事を行う作業"]
[615,"低圧電気の取扱い業務","（低圧電）",null,"601030","特別教育　充電電路又はその支持物の敷設の点検、修理、充電部分が露出した開閉器の操作等の作業"]
[616,"地山の掘削作業、土止め支保工の組立て等作業","（地掘・土支）",null,"601040","技能講習　掘削面の高さが２ｍ以上の地山の掘削作業<br>技能講習　土止め支保工の切梁または腹起しの取付または取外しの作業"]
[617,"はい作業","（はい）",null,"601040","技能講習　高さが2ｍ以上の荷の積上げ、積卸しを行う作業"]
[618,"移動式クレーンの運転（５ｔ未満）","（５未移ク）",null,"601040","吊り上げ荷重　特別教育１ｔ未満　または技能講習１ｔ以上５ｔ未満"]
[619,"タワークレーンの運転（５ｔ未満）","（５未TC）",null,"601040","吊り上げ荷重　特別教育５ｔ未満"]
[620,"高所作業車の運転","（高車）",null,"601040","作業床の高さ　特別教育１０m未満　または技能講習１０ｍ以上"]
[621,"車両系荷役運搬機械（フォークリフト等）","（フォーク）",null,"601040","最大荷重　特別教育１ｔ未満　または技能講習１ｔ以上"]
[622,"玉掛けの業務","（玉掛）",null,"601040","吊り上げ荷重　特別教育１ｔ未満　または技能講習１ｔ以上"]
[623,"アーク溶接等の作業","（アーク）",null,"601040","特別教育　アーク溶接、溶断等の作業"]
[624,"自由研削砥石（グラインダ）の取替え、試運転","（砥石）",null,"601040","特別教育"]
[625,"電気工事士","（電工士）",null,"601040","免許　電気工事を行う作業"]
[626,"低圧電気の取扱い業務","（低圧電）",null,"601040","特別教育　充電電路又はその支持物の敷設の点検、修理、充電部分が露出した開閉器の操作等の作業"]
[627,"ガス溶接等の作業","（ガス）",null,"601050","免許　アセチレン溶接装置またはガス集合溶接装置を用いて行う金属の溶接、溶断等の作業<br>技能講習　可燃性ガス及び酸素を用いて行う金属の溶接、溶断等の作業"]
[628,"地山の掘削作業、土止め支保工の組立て等作業","（地掘・土支）",null,"601050","技能講習　掘削面の高さが２ｍ以上の地山の掘削作業<br>技能講習　土止め支保工の切梁または腹起しの取付または取外しの作業"]
[629,"はい作業","（はい）",null,"601050","技能講習　高さが2ｍ以上の荷の積上げ、積卸しを行う作業"]
[630,"移動式クレーンの運転（５ｔ未満）","（５未移ク）",null,"601050","吊り上げ荷重　特別教育１ｔ未満　または技能講習１ｔ以上５ｔ未満"]
[631,"タワークレーンの運転（５ｔ未満）","（５未TC）",null,"601050","吊り上げ荷重　特別教育５ｔ未満"]
[632,"高所作業車の運転","（高車）",null,"601050","作業床の高さ　特別教育１０m未満　または技能講習１０ｍ以上"]
[633,"玉掛けの業務","（玉掛）",null,"601050","吊り上げ荷重　特別教育１ｔ未満　または技能講習１ｔ以上"]
[634,"アーク溶接等の作業","（アーク）",null,"601050","特別教育　アーク溶接、溶断等の作業"]
[635,"自由研削砥石（グラインダ）の取替え、試運転","（砥石）",null,"601050","特別教育"]
[636,"電気工事士","（電工士）",null,"601050","免許　電気工事を行う作業"]
[637,"低圧電気の取扱い業務","（低圧電）",null,"601050","特別教育　充電電路又はその支持物の敷設の点検、修理、充電部分が露出した開閉器の操作等の作業"]
[638,"地山の掘削作業、土止め支保工の組立て等作業","（地掘・土支）",null,"601060","技能講習　掘削面の高さが２ｍ以上の地山の掘削作業<br>技能講習　土止め支保工の切梁または腹起しの取付または取外しの作業"]
[639,"はい作業","（はい）",null,"601060","技能講習　高さが2ｍ以上の荷の積上げ、積卸しを行う作業"]
[640,"移動式クレーンの運転（５ｔ未満）","（５未移ク）",null,"601060","吊り上げ荷重　特別教育１ｔ未満　または技能講習１ｔ以上５ｔ未満"]
[641,"タワークレーンの運転（５ｔ未満）","（５未TC）",null,"601060","吊り上げ荷重　特別教育５ｔ未満"]
[642,"車両系建設機械（整地・運搬・積込用及び掘削用）の運転","（車掘削）",null,"601060","機体重量　特別教育３ｔ未満　または技能講習３ｔ以上"]
[643,"車両系建設機械（解体用）の運転","（車解体）",null,"601060","機体重量　特別教育３ｔ未満　または技能講習３ｔ以上"]
[644,"高所作業車の運転","（高車）",null,"601060","作業床の高さ　特別教育１０m未満　または技能講習１０ｍ以上"]
[645,"玉掛けの業務","（玉掛）",null,"601060","吊り上げ荷重　特別教育１ｔ未満　または技能講習１ｔ以上"]
[646,"アーク溶接等の作業","（アーク）",null,"601060","特別教育　アーク溶接、溶断等の作業"]
[647,"自由研削砥石（グラインダ）の取替え、試運転","（砥石）",null,"601060","特別教育"]
[648,"電気工事士","（電工士）",null,"601060","免許　電気工事を行う作業"]
[649,"低圧電気の取扱い業務","（低圧電）",null,"601060","特別教育　充電電路又はその支持物の敷設の点検、修理、充電部分が露出した開閉器の操作等の作業"]
[650,"地山の掘削作業、土止め支保工の組立て等作業","（地掘・土支）",null,"601070","技能講習　掘削面の高さが２ｍ以上の地山の掘削作業<br>技能講習　土止め支保工の切梁または腹起しの取付または取外しの作業"]
[651,"はい作業","（はい）",null,"601070","技能講習　高さが2ｍ以上の荷の積上げ、積卸しを行う作業"]
[652,"移動式クレーンの運転（５ｔ未満）","（５未移ク）",null,"601070","吊り上げ荷重　特別教育１ｔ未満　または技能講習１ｔ以上５ｔ未満"]
[653,"タワークレーンの運転（５ｔ未満）","（５未TC）",null,"601070","吊り上げ荷重　特別教育５ｔ未満"]
[654,"高所作業車の運転","（高車）",null,"601070","作業床の高さ　特別教育１０m未満　または技能講習１０ｍ以上"]
[655,"玉掛けの業務","（玉掛）",null,"601070","吊り上げ荷重　特別教育１ｔ未満　または技能講習１ｔ以上"]
[656,"アーク溶接等の作業","（アーク）",null,"601070","特別教育　アーク溶接、溶断等の作業"]
[657,"自由研削砥石（グラインダ）の取替え、試運転","（砥石）",null,"601070","特別教育"]
[658,"電気工事士","（電工士）",null,"601070","免許　電気工事を行う作業"]
[659,"低圧電気の取扱い業務","（低圧電）",null,"601070","特別教育　充電電路又はその支持物の敷設の点検、修理、充電部分が露出した開閉器の操作等の作業"]
[660,"地山の掘削作業、土止め支保工の組立て等作業","（地掘・土支）",null,"601080","技能講習　掘削面の高さが２ｍ以上の地山の掘削作業<br>技能講習　土止め支保工の切梁または腹起しの取付または取外しの作業"]
[661,"はい作業","（はい）",null,"601080","技能講習　高さが2ｍ以上の荷の積上げ、積卸しを行う作業"]
[662,"移動式クレーンの運転（５ｔ未満）","（５未移ク）",null,"601080","吊り上げ荷重　特別教育１ｔ未満　または技能講習１ｔ以上５ｔ未満"]
[663,"タワークレーンの運転（５ｔ未満）","（５未TC）",null,"601080","吊り上げ荷重　特別教育５ｔ未満"]
[664,"高所作業車の運転","（高車）",null,"601080","作業床の高さ　特別教育１０m未満　または技能講習１０ｍ以上"]
[665,"玉掛けの業務","（玉掛）",null,"601080","吊り上げ荷重　特別教育１ｔ未満　または技能講習１ｔ以上"]
[666,"アーク溶接等の作業","（アーク）",null,"601080","特別教育　アーク溶接、溶断等の作業"]
[667,"自由研削砥石（グラインダ）の取替え、試運転","（砥石）",null,"601080","特別教育"]
[668,"移動式クレーンの運転（５ｔ未満）","（５未移ク）",null,"601100","吊り上げ荷重　特別教育１ｔ未満　または技能講習１ｔ以上５ｔ未満"]
[669,"タワークレーンの運転（５ｔ未満）","（５未TC）",null,"601100","吊り上げ荷重　特別教育５ｔ未満"]
[670,"高所作業車の運転","（高車）",null,"601100","作業床の高さ　特別教育１０m未満　または技能講習１０ｍ以上"]
[671,"玉掛けの業務","（玉掛）",null,"601100","吊り上げ荷重　特別教育１ｔ未満　または技能講習１ｔ以上"]
[672,"電気工事士","（電工士）",null,"601100","免許　電気工事を行う作業"]
[673,"低圧電気の取扱い業務","（低圧電）",null,"601100","特別教育　充電電路又はその支持物の敷設の点検、修理、充電部分が露出した開閉器の操作等の作業"]
[674,"移動式クレーンの運転（５ｔ未満）","（５未移ク）",null,"601110","吊り上げ荷重　特別教育１ｔ未満　または技能講習１ｔ以上５ｔ未満"]
[675,"タワークレーンの運転（５ｔ未満）","（５未TC）",null,"601110","吊り上げ荷重　特別教育５ｔ未満"]
[676,"高所作業車の運転","（高車）",null,"601110","作業床の高さ　特別教育１０m未満　または技能講習１０ｍ以上"]
[677,"玉掛けの業務","（玉掛）",null,"601110","吊り上げ荷重　特別教育１ｔ未満　または技能講習１ｔ以上"]
[678,"電気工事士","（電工士）",null,"601110","免許　電気工事を行う作業"]
[679,"低圧電気の取扱い業務","（低圧電）",null,"601110","特別教育　充電電路又はその支持物の敷設の点検、修理、充電部分が露出した開閉器の操作等の作業"]
[680,"ガス溶接等の作業","（ガス）",null,"602010","免許　アセチレン溶接装置またはガス集合溶接装置を用いて行う金属の溶接、溶断等の作業<br>技能講習　可燃性ガス及び酸素を用いて行う金属の溶接、溶断等の作業"]
[681,"地山の掘削作業、土止め支保工の組立て等作業","（地掘・土支）",null,"602010","技能講習　掘削面の高さが２ｍ以上の地山の掘削作業<br>技能講習　土止め支保工の切梁または腹起しの取付または取外しの作業"]
[682,"はい作業","（はい）",null,"602010","技能講習　高さが2ｍ以上の荷の積上げ、積卸しを行う作業"]
[683,"移動式クレーンの運転（５ｔ未満）","（５未移ク）",null,"602010","吊り上げ荷重　特別教育１ｔ未満　または技能講習１ｔ以上５ｔ未満"]
[684,"タワークレーンの運転（５ｔ未満）","（５未TC）",null,"602010","吊り上げ荷重　特別教育５ｔ未満"]
[685,"高所作業車の運転","（高車）",null,"602010","作業床の高さ　特別教育１０m未満　または技能講習１０ｍ以上"]
[686,"玉掛けの業務","（玉掛）",null,"602010","吊り上げ荷重　特別教育１ｔ未満　または技能講習１ｔ以上"]
[687,"アーク溶接等の作業","（アーク）",null,"602010","特別教育　アーク溶接、溶断等の作業"]
[688,"自由研削砥石（グラインダ）の取替え、試運転","（砥石）",null,"602010","特別教育"]
[689,"ガス溶接等の作業","（ガス）",null,"602020","免許　アセチレン溶接装置またはガス集合溶接装置を用いて行う金属の溶接、溶断等の作業<br>技能講習　可燃性ガス及び酸素を用いて行う金属の溶接、溶断等の作業"]
[690,"地山の掘削作業、土止め支保工の組立て等作業","（地掘・土支）",null,"602020","技能講習　掘削面の高さが２ｍ以上の地山の掘削作業<br>技能講習　土止め支保工の切梁または腹起しの取付または取外しの作業"]
[691,"はい作業","（はい）",null,"602020","技能講習　高さが2ｍ以上の荷の積上げ、積卸しを行う作業"]
[692,"移動式クレーンの運転（５ｔ未満）","（５未移ク）",null,"602020","吊り上げ荷重　特別教育１ｔ未満　または技能講習１ｔ以上５ｔ未満"]
[693,"タワークレーンの運転（５ｔ未満）","（５未TC）",null,"602020","吊り上げ荷重　特別教育５ｔ未満"]
[694,"高所作業車の運転","（高車）",null,"602020","作業床の高さ　特別教育１０m未満　または技能講習１０ｍ以上"]
[695,"玉掛けの業務","（玉掛）",null,"602020","吊り上げ荷重　特別教育１ｔ未満　または技能講習１ｔ以上"]
[696,"アーク溶接等の作業","（アーク）",null,"602020","特別教育　アーク溶接、溶断等の作業"]
[697,"自由研削砥石（グラインダ）の取替え、試運転","（砥石）",null,"602020","特別教育"]
[698,"地山の掘削作業、土止め支保工の組立て等作業","（地掘・土支）",null,"602030","技能講習　掘削面の高さが２ｍ以上の地山の掘削作業<br>技能講習　土止め支保工の切梁または腹起しの取付または取外しの作業"]
[699,"はい作業","（はい）",null,"602030","技能講習　高さが2ｍ以上の荷の積上げ、積卸しを行う作業"]
[700,"移動式クレーンの運転（５ｔ未満）","（５未移ク）",null,"602030","吊り上げ荷重　特別教育１ｔ未満　または技能講習１ｔ以上５ｔ未満"]
[701,"タワークレーンの運転（５ｔ未満）","（５未TC）",null,"602030","吊り上げ荷重　特別教育５ｔ未満"]
[702,"高所作業車の運転","（高車）",null,"602030","作業床の高さ　特別教育１０m未満　または技能講習１０ｍ以上"]
[703,"車両系荷役運搬機械（フォークリフト等）","（フォーク）",null,"602030","最大荷重　特別教育１ｔ未満　または技能講習１ｔ以上"]
[704,"玉掛けの業務","（玉掛）",null,"602030","吊り上げ荷重　特別教育１ｔ未満　または技能講習１ｔ以上"]
[705,"アーク溶接等の作業","（アーク）",null,"602030","特別教育　アーク溶接、溶断等の作業"]
[706,"自由研削砥石（グラインダ）の取替え、試運転","（砥石）",null,"602030","特別教育"]
[707,"地山の掘削作業、土止め支保工の組立て等作業","（地掘・土支）",null,"602040","技能講習　掘削面の高さが２ｍ以上の地山の掘削作業<br>技能講習　土止め支保工の切梁または腹起しの取付または取外しの作業"]
[708,"はい作業","（はい）",null,"602040","技能講習　高さが2ｍ以上の荷の積上げ、積卸しを行う作業"]
[709,"移動式クレーンの運転（５ｔ未満）","（５未移ク）",null,"602040","吊り上げ荷重　特別教育１ｔ未満　または技能講習１ｔ以上５ｔ未満"]
[710,"タワークレーンの運転（５ｔ未満）","（５未TC）",null,"602040","吊り上げ荷重　特別教育５ｔ未満"]
[711,"高所作業車の運転","（高車）",null,"602040","作業床の高さ　特別教育１０m未満　または技能講習１０ｍ以上"]
[712,"玉掛けの業務","（玉掛）",null,"602040","吊り上げ荷重　特別教育１ｔ未満　または技能講習１ｔ以上"]
[713,"アーク溶接等の作業","（アーク）",null,"602040","特別教育　アーク溶接、溶断等の作業"]
[714,"自由研削砥石（グラインダ）の取替え、試運転","（砥石）",null,"602040","特別教育"]
[715,"電気工事士","（電工士）",null,"602040","免許　電気工事を行う作業"]
[716,"低圧電気の取扱い業務","（低圧電）",null,"602040","特別教育　充電電路又はその支持物の敷設の点検、修理、充電部分が露出した開閉器の操作等の作業"]
[717,"ガス溶接等の作業","（ガス）",null,"602050","免許　アセチレン溶接装置またはガス集合溶接装置を用いて行う金属の溶接、溶断等の作業<br>技能講習　可燃性ガス及び酸素を用いて行う金属の溶接、溶断等の作業"]
[718,"地山の掘削作業、土止め支保工の組立て等作業","（地掘・土支）",null,"602050","技能講習　掘削面の高さが２ｍ以上の地山の掘削作業<br>技能講習　土止め支保工の切梁または腹起しの取付または取外しの作業"]
[719,"はい作業","（はい）",null,"602050","技能講習　高さが2ｍ以上の荷の積上げ、積卸しを行う作業"]
[720,"移動式クレーンの運転（５ｔ未満）","（５未移ク）",null,"602050","吊り上げ荷重　特別教育１ｔ未満　または技能講習１ｔ以上５ｔ未満"]
[721,"タワークレーンの運転（５ｔ未満）","（５未TC）",null,"602050","吊り上げ荷重　特別教育５ｔ未満"]
[722,"高所作業車の運転","（高車）",null,"602050","作業床の高さ　特別教育１０m未満　または技能講習１０ｍ以上"]
[723,"玉掛けの業務","（玉掛）",null,"602050","吊り上げ荷重　特別教育１ｔ未満　または技能講習１ｔ以上"]
[724,"アーク溶接等の作業","（アーク）",null,"602050","特別教育　アーク溶接、溶断等の作業"]
[725,"自由研削砥石（グラインダ）の取替え、試運転","（砥石）",null,"602050","特別教育"]
[726,"ガス溶接等の作業","（ガス）",null,"602060","免許　アセチレン溶接装置またはガス集合溶接装置を用いて行う金属の溶接、溶断等の作業<br>技能講習　可燃性ガス及び酸素を用いて行う金属の溶接、溶断等の作業"]
[727,"地山の掘削作業、土止め支保工の組立て等作業","（地掘・土支）",null,"602060","技能講習　掘削面の高さが２ｍ以上の地山の掘削作業<br>技能講習　土止め支保工の切梁または腹起しの取付または取外しの作業"]
[728,"はい作業","（はい）",null,"602060","技能講習　高さが2ｍ以上の荷の積上げ、積卸しを行う作業"]
[729,"酸素欠乏危険作業（２種）","（酸欠）",null,"602060","技能講習　雨水などが滞留している暗渠、マンホールの内部等での作業並びに酸素欠乏症にかかるおそれ及び硫化水素中毒にかかるおそれがある場所での作業"]
[730,"移動式クレーンの運転（５ｔ未満）","（５未移ク）",null,"602060","吊り上げ荷重　特別教育１ｔ未満　または技能講習１ｔ以上５ｔ未満"]
[731,"タワークレーンの運転（５ｔ未満）","（５未TC）",null,"602060","吊り上げ荷重　特別教育５ｔ未満"]
[732,"高所作業車の運転","（高車）",null,"602060","作業床の高さ　特別教育１０m未満　または技能講習１０ｍ以上"]
[733,"玉掛けの業務","（玉掛）",null,"602060","吊り上げ荷重　特別教育１ｔ未満　または技能講習１ｔ以上"]
[734,"アーク溶接等の作業","（アーク）",null,"602060","特別教育　アーク溶接、溶断等の作業"]
[735,"自由研削砥石（グラインダ）の取替え、試運転","（砥石）",null,"602060","特別教育"]
[736,"地山の掘削作業、土止め支保工の組立て等作業","（地掘・土支）",null,"602070","技能講習　掘削面の高さが２ｍ以上の地山の掘削作業<br>技能講習　土止め支保工の切梁または腹起しの取付または取外しの作業"]
[737,"はい作業","（はい）",null,"602070","技能講習　高さが2ｍ以上の荷の積上げ、積卸しを行う作業"]
[738,"酸素欠乏危険作業（２種）","（酸欠）",null,"602070","技能講習　雨水などが滞留している暗渠、マンホールの内部等での作業並びに酸素欠乏症にかかるおそれ及び硫化水素中毒にかかるおそれがある場所での作業"]
[739,"移動式クレーンの運転（５ｔ未満）","（５未移ク）",null,"602070","吊り上げ荷重　特別教育１ｔ未満　または技能講習１ｔ以上５ｔ未満"]
[740,"タワークレーンの運転（５ｔ未満）","（５未TC）",null,"602070","吊り上げ荷重　特別教育５ｔ未満"]
[741,"高所作業車の運転","（高車）",null,"602070","作業床の高さ　特別教育１０m未満　または技能講習１０ｍ以上"]
[742,"玉掛けの業務","（玉掛）",null,"602070","吊り上げ荷重　特別教育１ｔ未満　または技能講習１ｔ以上"]
[743,"アーク溶接等の作業","（アーク）",null,"602070","特別教育　アーク溶接、溶断等の作業"]
[744,"自由研削砥石（グラインダ）の取替え、試運転","（砥石）",null,"602070","特別教育"]
[745,"地山の掘削作業、土止め支保工の組立て等作業","（地掘・土支）",null,"602080","技能講習　掘削面の高さが２ｍ以上の地山の掘削作業<br>技能講習　土止め支保工の切梁または腹起しの取付または取外しの作業"]
[746,"はい作業","（はい）",null,"602080","技能講習　高さが2ｍ以上の荷の積上げ、積卸しを行う作業"]
[747,"移動式クレーンの運転（５ｔ未満）","（５未移ク）",null,"602080","吊り上げ荷重　特別教育１ｔ未満　または技能講習１ｔ以上５ｔ未満"]
[748,"タワークレーンの運転（５ｔ未満）","（５未TC）",null,"602080","吊り上げ荷重　特別教育５ｔ未満"]
[749,"高所作業車の運転","（高車）",null,"602080","作業床の高さ　特別教育１０m未満　または技能講習１０ｍ以上"]
[750,"玉掛けの業務","（玉掛）",null,"602080","吊り上げ荷重　特別教育１ｔ未満　または技能講習１ｔ以上"]
[751,"アーク溶接等の作業","（アーク）",null,"602080","特別教育　アーク溶接、溶断等の作業"]
[752,"自由研削砥石（グラインダ）の取替え、試運転","（砥石）",null,"602080","特別教育"]
[753,"移動式クレーンの運転（５ｔ未満）","（５未移ク）",null,"602100","吊り上げ荷重　特別教育１ｔ未満　または技能講習１ｔ以上５ｔ未満"]
[754,"タワークレーンの運転（５ｔ未満）","（５未TC）",null,"602100","吊り上げ荷重　特別教育５ｔ未満"]
[755,"高所作業車の運転","（高車）",null,"602100","作業床の高さ　特別教育１０m未満　または技能講習１０ｍ以上"]
[756,"玉掛けの業務","（玉掛）",null,"602100","吊り上げ荷重　特別教育１ｔ未満　または技能講習１ｔ以上"]
[757,"移動式クレーンの運転（５ｔ未満）","（５未移ク）",null,"602110","吊り上げ荷重　特別教育１ｔ未満　または技能講習１ｔ以上５ｔ未満"]
[758,"タワークレーンの運転（５ｔ未満）","（５未TC）",null,"602110","吊り上げ荷重　特別教育５ｔ未満"]
[759,"高所作業車の運転","（高車）",null,"602110","作業床の高さ　特別教育１０m未満　または技能講習１０ｍ以上"]
[760,"玉掛けの業務","（玉掛）",null,"602110","吊り上げ荷重　特別教育１ｔ未満　または技能講習１ｔ以上"]
[761,"地山の掘削作業、土止め支保工の組立て等作業","（地掘・土支）",null,"603010","技能講習　掘削面の高さが２ｍ以上の地山の掘削作業<br>技能講習　土止め支保工の切梁または腹起しの取付または取外しの作業"]
[762,"はい作業","（はい）",null,"603010","技能講習　高さが2ｍ以上の荷の積上げ、積卸しを行う作業"]
[763,"移動式クレーンの運転（５ｔ未満）","（５未移ク）",null,"603010","吊り上げ荷重　特別教育１ｔ未満　または技能講習１ｔ以上５ｔ未満"]
[764,"タワークレーンの運転（５ｔ未満）","（５未TC）",null,"603010","吊り上げ荷重　特別教育５ｔ未満"]
[765,"高所作業車の運転","（高車）",null,"603010","作業床の高さ　特別教育１０m未満　または技能講習１０ｍ以上"]
[766,"玉掛けの業務","（玉掛）",null,"603010","吊り上げ荷重　特別教育１ｔ未満　または技能講習１ｔ以上"]
[767,"アーク溶接等の作業","（アーク）",null,"603010","特別教育　アーク溶接、溶断等の作業"]
[768,"自由研削砥石（グラインダ）の取替え、試運転","（砥石）",null,"603010","特別教育"]
[769,"ガス溶接等の作業","（ガス）",null,"603020","免許　アセチレン溶接装置またはガス集合溶接装置を用いて行う金属の溶接、溶断等の作業<br>技能講習　可燃性ガス及び酸素を用いて行う金属の溶接、溶断等の作業"]
[770,"地山の掘削作業、土止め支保工の組立て等作業","（地掘・土支）",null,"603020","技能講習　掘削面の高さが２ｍ以上の地山の掘削作業<br>技能講習　土止め支保工の切梁または腹起しの取付または取外しの作業"]
[771,"はい作業","（はい）",null,"603020","技能講習　高さが2ｍ以上の荷の積上げ、積卸しを行う作業"]
[772,"移動式クレーンの運転（５ｔ未満）","（５未移ク）",null,"603020","吊り上げ荷重　特別教育１ｔ未満　または技能講習１ｔ以上５ｔ未満"]
[773,"タワークレーンの運転（５ｔ未満）","（５未TC）",null,"603020","吊り上げ荷重　特別教育５ｔ未満"]
[774,"車両系建設機械（整地・運搬・積込用及び掘削用）の運転","（車掘削）",null,"603020","機体重量　特別教育３ｔ未満　または技能講習３ｔ以上"]
[775,"車両系建設機械（解体用）の運転","（車解体）",null,"603020","機体重量　特別教育３ｔ未満　または技能講習３ｔ以上"]
[776,"高所作業車の運転","（高車）",null,"603020","作業床の高さ　特別教育１０m未満　または技能講習１０ｍ以上"]
[777,"玉掛けの業務","（玉掛）",null,"603020","吊り上げ荷重　特別教育１ｔ未満　または技能講習１ｔ以上"]
[778,"アーク溶接等の作業","（アーク）",null,"603020","特別教育　アーク溶接、溶断等の作業"]
[779,"自由研削砥石（グラインダ）の取替え、試運転","（砥石）",null,"603020","特別教育"]
[780,"ガス溶接等の作業","（ガス）",null,"603030","免許　アセチレン溶接装置またはガス集合溶接装置を用いて行う金属の溶接、溶断等の作業<br>技能講習　可燃性ガス及び酸素を用いて行う金属の溶接、溶断等の作業"]
[781,"地山の掘削作業、土止め支保工の組立て等作業","（地掘・土支）",null,"603030","技能講習　掘削面の高さが２ｍ以上の地山の掘削作業<br>技能講習　土止め支保工の切梁または腹起しの取付または取外しの作業"]
[782,"はい作業","（はい）",null,"603030","技能講習　高さが2ｍ以上の荷の積上げ、積卸しを行う作業"]
[783,"移動式クレーンの運転（５ｔ未満）","（５未移ク）",null,"603030","吊り上げ荷重　特別教育１ｔ未満　または技能講習１ｔ以上５ｔ未満"]
[784,"タワークレーンの運転（５ｔ未満）","（５未TC）",null,"603030","吊り上げ荷重　特別教育５ｔ未満"]
[785,"高所作業車の運転","（高車）",null,"603030","作業床の高さ　特別教育１０m未満　または技能講習１０ｍ以上"]
[786,"玉掛けの業務","（玉掛）",null,"603030","吊り上げ荷重　特別教育１ｔ未満　または技能講習１ｔ以上"]
[787,"アーク溶接等の作業","（アーク）",null,"603030","特別教育　アーク溶接、溶断等の作業"]
[788,"自由研削砥石（グラインダ）の取替え、試運転","（砥石）",null,"603030","特別教育"]
[789,"ガス溶接等の作業","（ガス）",null,"603040","免許　アセチレン溶接装置またはガス集合溶接装置を用いて行う金属の溶接、溶断等の作業<br>技能講習　可燃性ガス及び酸素を用いて行う金属の溶接、溶断等の作業"]
[790,"地山の掘削作業、土止め支保工の組立て等作業","（地掘・土支）",null,"603040","技能講習　掘削面の高さが２ｍ以上の地山の掘削作業<br>技能講習　土止め支保工の切梁または腹起しの取付または取外しの作業"]
[791,"はい作業","（はい）",null,"603040","技能講習　高さが2ｍ以上の荷の積上げ、積卸しを行う作業"]
[792,"酸素欠乏危険作業（２種）","（酸欠）",null,"603040","技能講習　雨水などが滞留している暗渠、マンホールの内部等での作業並びに酸素欠乏症にかかるおそれ及び硫化水素中毒にかかるおそれがある場所での作業"]
[793,"移動式クレーンの運転（５ｔ未満）","（５未移ク）",null,"603040","吊り上げ荷重　特別教育１ｔ未満　または技能講習１ｔ以上５ｔ未満"]
[794,"タワークレーンの運転（５ｔ未満）","（５未TC）",null,"603040","吊り上げ荷重　特別教育５ｔ未満"]
[795,"高所作業車の運転","（高車）",null,"603040","作業床の高さ　特別教育１０m未満　または技能講習１０ｍ以上"]
[796,"玉掛けの業務","（玉掛）",null,"603040","吊り上げ荷重　特別教育１ｔ未満　または技能講習１ｔ以上"]
[797,"アーク溶接等の作業","（アーク）",null,"603040","特別教育　アーク溶接、溶断等の作業"]
[798,"自由研削砥石（グラインダ）の取替え、試運転","（砥石）",null,"603040","特別教育"]
[799,"地山の掘削作業、土止め支保工の組立て等作業","（地掘・土支）",null,"603050","技能講習　掘削面の高さが２ｍ以上の地山の掘削作業<br>技能講習　土止め支保工の切梁または腹起しの取付または取外しの作業"]
[800,"はい作業","（はい）",null,"603050","技能講習　高さが2ｍ以上の荷の積上げ、積卸しを行う作業"]
[801,"移動式クレーンの運転（５ｔ未満）","（５未移ク）",null,"603050","吊り上げ荷重　特別教育１ｔ未満　または技能講習１ｔ以上５ｔ未満"]
[802,"タワークレーンの運転（５ｔ未満）","（５未TC）",null,"603050","吊り上げ荷重　特別教育５ｔ未満"]
[803,"高所作業車の運転","（高車）",null,"603050","作業床の高さ　特別教育１０m未満　または技能講習１０ｍ以上"]
[804,"車両系荷役運搬機械（フォークリフト等）","（フォーク）",null,"603050","最大荷重　特別教育１ｔ未満　または技能講習１ｔ以上"]
[805,"玉掛けの業務","（玉掛）",null,"603050","吊り上げ荷重　特別教育１ｔ未満　または技能講習１ｔ以上"]
[806,"アーク溶接等の作業","（アーク）",null,"603050","特別教育　アーク溶接、溶断等の作業"]
[807,"自由研削砥石（グラインダ）の取替え、試運転","（砥石）",null,"603050","特別教育"]
[808,"地山の掘削作業、土止め支保工の組立て等作業","（地掘・土支）",null,"603060","技能講習　掘削面の高さが２ｍ以上の地山の掘削作業<br>技能講習　土止め支保工の切梁または腹起しの取付または取外しの作業"]
[809,"はい作業","（はい）",null,"603060","技能講習　高さが2ｍ以上の荷の積上げ、積卸しを行う作業"]
[810,"酸素欠乏危険作業（２種）","（酸欠）",null,"603060","技能講習　雨水などが滞留している暗渠、マンホールの内部等での作業並びに酸素欠乏症にかかるおそれ及び硫化水素中毒にかかるおそれがある場所での作業"]
[811,"移動式クレーンの運転（５ｔ未満）","（５未移ク）",null,"603060","吊り上げ荷重　特別教育１ｔ未満　または技能講習１ｔ以上５ｔ未満"]
[812,"タワークレーンの運転（５ｔ未満）","（５未TC）",null,"603060","吊り上げ荷重　特別教育５ｔ未満"]
[813,"高所作業車の運転","（高車）",null,"603060","作業床の高さ　特別教育１０m未満　または技能講習１０ｍ以上"]
[814,"玉掛けの業務","（玉掛）",null,"603060","吊り上げ荷重　特別教育１ｔ未満　または技能講習１ｔ以上"]
[815,"アーク溶接等の作業","（アーク）",null,"603060","特別教育　アーク溶接、溶断等の作業"]
[816,"自由研削砥石（グラインダ）の取替え、試運転","（砥石）",null,"603060","特別教育"]
[817,"移動式クレーンの運転（５ｔ未満）","（５未移ク）",null,"603080","吊り上げ荷重　特別教育１ｔ未満　または技能講習１ｔ以上５ｔ未満"]
[818,"タワークレーンの運転（５ｔ未満）","（５未TC）",null,"603080","吊り上げ荷重　特別教育５ｔ未満"]
[819,"高所作業車の運転","（高車）",null,"603080","作業床の高さ　特別教育１０m未満　または技能講習１０ｍ以上"]
[820,"玉掛けの業務","（玉掛）",null,"603080","吊り上げ荷重　特別教育１ｔ未満　または技能講習１ｔ以上"]
[821,"移動式クレーンの運転（５ｔ未満）","（５未移ク）",null,"603090","吊り上げ荷重　特別教育１ｔ未満　または技能講習１ｔ以上５ｔ未満"]
[822,"タワークレーンの運転（５ｔ未満）","（５未TC）",null,"603090","吊り上げ荷重　特別教育５ｔ未満"]
[823,"高所作業車の運転","（高車）",null,"603090","作業床の高さ　特別教育１０m未満　または技能講習１０ｍ以上"]
[824,"玉掛けの業務","（玉掛）",null,"603090","吊り上げ荷重　特別教育１ｔ未満　または技能講習１ｔ以上"]
[825,"ガス溶接等の作業","（ガス）",null,"604010","免許　アセチレン溶接装置またはガス集合溶接装置を用いて行う金属の溶接、溶断等の作業<br>技能講習　可燃性ガス及び酸素を用いて行う金属の溶接、溶断等の作業"]
[826,"地山の掘削作業、土止め支保工の組立て等作業","（地掘・土支）",null,"604010","技能講習　掘削面の高さが２ｍ以上の地山の掘削作業<br>技能講習　土止め支保工の切梁または腹起しの取付または取外しの作業"]
[827,"はい作業","（はい）",null,"604010","技能講習　高さが2ｍ以上の荷の積上げ、積卸しを行う作業"]
[828,"移動式クレーンの運転（５ｔ未満）","（５未移ク）",null,"604010","吊り上げ荷重　特別教育１ｔ未満　または技能講習１ｔ以上５ｔ未満"]
[829,"タワークレーンの運転（５ｔ未満）","（５未TC）",null,"604010","吊り上げ荷重　特別教育５ｔ未満"]
[830,"高所作業車の運転","（高車）",null,"604010","作業床の高さ　特別教育１０m未満　または技能講習１０ｍ以上"]
[831,"玉掛けの業務","（玉掛）",null,"604010","吊り上げ荷重　特別教育１ｔ未満　または技能講習１ｔ以上"]
[832,"アーク溶接等の作業","（アーク）",null,"604010","特別教育　アーク溶接、溶断等の作業"]
[833,"自由研削砥石（グラインダ）の取替え、試運転","（砥石）",null,"604010","特別教育"]
[834,"ガス溶接等の作業","（ガス）",null,"605010","免許　アセチレン溶接装置またはガス集合溶接装置を用いて行う金属の溶接、溶断等の作業<br>技能講習　可燃性ガス及び酸素を用いて行う金属の溶接、溶断等の作業"]
[835,"地山の掘削作業、土止め支保工の組立て等作業","（地掘・土支）",null,"605010","技能講習　掘削面の高さが２ｍ以上の地山の掘削作業<br>技能講習　土止め支保工の切梁または腹起しの取付または取外しの作業"]
[836,"移動式クレーンの運転（５ｔ未満）","（５未移ク）",null,"605010","吊り上げ荷重　特別教育１ｔ未満　または技能講習１ｔ以上５ｔ未満"]
[837,"タワークレーンの運転（５ｔ未満）","（５未TC）",null,"605010","吊り上げ荷重　特別教育５ｔ未満"]
[838,"高所作業車の運転","（高車）",null,"605010","作業床の高さ　特別教育１０m未満　または技能講習１０ｍ以上"]
[839,"車両系荷役運搬機械（フォークリフト等）","（フォーク）",null,"605010","最大荷重　特別教育１ｔ未満　または技能講習１ｔ以上"]
[840,"玉掛けの業務","（玉掛）",null,"605010","吊り上げ荷重　特別教育１ｔ未満　または技能講習１ｔ以上"]
[841,"アーク溶接等の作業","（アーク）",null,"605010","特別教育　アーク溶接、溶断等の作業"]
[842,"自由研削砥石（グラインダ）の取替え、試運転","（砥石）",null,"605010","特別教育"]
[843,"ガス溶接等の作業","（ガス）",null,"605020","免許　アセチレン溶接装置またはガス集合溶接装置を用いて行う金属の溶接、溶断等の作業<br>技能講習　可燃性ガス及び酸素を用いて行う金属の溶接、溶断等の作業"]
[844,"地山の掘削作業、土止め支保工の組立て等作業","（地掘・土支）",null,"605020","技能講習　掘削面の高さが２ｍ以上の地山の掘削作業<br>技能講習　土止め支保工の切梁または腹起しの取付または取外しの作業"]
[845,"移動式クレーンの運転（５ｔ未満）","（５未移ク）",null,"605020","吊り上げ荷重　特別教育１ｔ未満　または技能講習１ｔ以上５ｔ未満"]
[846,"タワークレーンの運転（５ｔ未満）","（５未TC）",null,"605020","吊り上げ荷重　特別教育５ｔ未満"]
[847,"高所作業車の運転","（高車）",null,"605020","作業床の高さ　特別教育１０m未満　または技能講習１０ｍ以上"]
[848,"車両系荷役運搬機械（フォークリフト等）","（フォーク）",null,"605020","最大荷重　特別教育１ｔ未満　または技能講習１ｔ以上"]
[849,"玉掛けの業務","（玉掛）",null,"605020","吊り上げ荷重　特別教育１ｔ未満　または技能講習１ｔ以上"]
[850,"アーク溶接等の作業","（アーク）",null,"605020","特別教育　アーク溶接、溶断等の作業"]
[851,"自由研削砥石（グラインダ）の取替え、試運転","（砥石）",null,"605020","特別教育"]
[852,"ガス溶接等の作業","（ガス）",null,"605030","免許　アセチレン溶接装置またはガス集合溶接装置を用いて行う金属の溶接、溶断等の作業<br>技能講習　可燃性ガス及び酸素を用いて行う金属の溶接、溶断等の作業"]
[853,"地山の掘削作業、土止め支保工の組立て等作業","（地掘・土支）",null,"605030","技能講習　掘削面の高さが２ｍ以上の地山の掘削作業<br>技能講習　土止め支保工の切梁または腹起しの取付または取外しの作業"]
[854,"移動式クレーンの運転（５ｔ未満）","（５未移ク）",null,"605030","吊り上げ荷重　特別教育１ｔ未満　または技能講習１ｔ以上５ｔ未満"]
[855,"タワークレーンの運転（５ｔ未満）","（５未TC）",null,"605030","吊り上げ荷重　特別教育５ｔ未満"]
[856,"高所作業車の運転","（高車）",null,"605030","作業床の高さ　特別教育１０m未満　または技能講習１０ｍ以上"]
[857,"車両系荷役運搬機械（フォークリフト等）","（フォーク）",null,"605030","最大荷重　特別教育１ｔ未満　または技能講習１ｔ以上"]
[858,"玉掛けの業務","（玉掛）",null,"605030","吊り上げ荷重　特別教育１ｔ未満　または技能講習１ｔ以上"]
[859,"アーク溶接等の作業","（アーク）",null,"605030","特別教育　アーク溶接、溶断等の作業"]
[860,"自由研削砥石（グラインダ）の取替え、試運転","（砥石）",null,"605030","特別教育"]
[861,"ガス溶接等の作業","（ガス）",null,"701010","免許　アセチレン溶接装置またはガス集合溶接装置を用いて行う金属の溶接、溶断等の作業<br>技能講習　可燃性ガス及び酸素を用いて行う金属の溶接、溶断等の作業"]
[862,"地山の掘削作業、土止め支保工の組立て等作業","（地掘・土支）",null,"701010","技能講習　掘削面の高さが２ｍ以上の地山の掘削作業<br>技能講習　土止め支保工の切梁または腹起しの取付または取外しの作業"]
[863,"型枠支保工の組立て等作業","（型支）",null,"701010","技能講習　型枠支保工の組立てまたは解体の作業"]
[864,"移動式クレーンの運転（５ｔ未満）","（５未移ク）",null,"701010","吊り上げ荷重　特別教育１ｔ未満　または技能講習１ｔ以上５ｔ未満"]
[865,"タワークレーンの運転（５ｔ未満）","（５未TC）",null,"701010","吊り上げ荷重　特別教育５ｔ未満"]
[866,"車両系建設機械（整地・運搬・積込用及び掘削用）の運転","（車掘削）",null,"701010","機体重量　特別教育３ｔ未満　または技能講習３ｔ以上"]
[867,"車両系建設機械（解体用）の運転","（車解体）",null,"701010","機体重量　特別教育３ｔ未満　または技能講習３ｔ以上"]
[868,"車両系荷役運搬機械（不整地運搬車）の運転","（車不整）",null,"701010","最大積載量　特別教育１ｔ未満　または技能講習１ｔ以上"]
[869,"高所作業車の運転","（高車）",null,"701010","作業床の高さ　特別教育１０m未満　または技能講習１０ｍ以上"]
[870,"玉掛けの業務","（玉掛）",null,"701010","吊り上げ荷重　特別教育１ｔ未満　または技能講習１ｔ以上"]
[871,"アーク溶接等の作業","（アーク）",null,"701010","特別教育　アーク溶接、溶断等の作業"]
[872,"自由研削砥石（グラインダ）の取替え、試運転","（砥石）",null,"701010","特別教育"]
[873,"ガス溶接等の作業","（ガス）",null,"702010","免許　アセチレン溶接装置またはガス集合溶接装置を用いて行う金属の溶接、溶断等の作業<br>技能講習　可燃性ガス及び酸素を用いて行う金属の溶接、溶断等の作業"]
[874,"地山の掘削作業、土止め支保工の組立て等作業","（地掘・土支）",null,"702010","技能講習　掘削面の高さが２ｍ以上の地山の掘削作業<br>技能講習　土止め支保工の切梁または腹起しの取付または取外しの作業"]
[875,"移動式クレーンの運転（５ｔ未満）","（５未移ク）",null,"702010","吊り上げ荷重　特別教育１ｔ未満　または技能講習１ｔ以上５ｔ未満"]
[876,"車両系建設機械（整地・運搬・積込用及び掘削用）の運転","（車掘削）",null,"702010","機体重量　特別教育３ｔ未満　または技能講習３ｔ以上"]
[877,"車両系建設機械（解体用）の運転","（車解体）",null,"702010","機体重量　特別教育３ｔ未満　または技能講習３ｔ以上"]
[878,"車両系荷役運搬機械（不整地運搬車）の運転","（車不整）",null,"702010","最大積載量　特別教育１ｔ未満　または技能講習１ｔ以上"]
[879,"高所作業車の運転","（高車）",null,"702010","作業床の高さ　特別教育１０m未満　または技能講習１０ｍ以上"]
[880,"玉掛けの業務","（玉掛）",null,"702010","吊り上げ荷重　特別教育１ｔ未満　または技能講習１ｔ以上"]
[881,"アーク溶接等の作業","（アーク）",null,"702010","特別教育　アーク溶接、溶断等の作業"]
[882,"自由研削砥石（グラインダ）の取替え、試運転","（砥石）",null,"702010","特別教育"]
[883,"ガス溶接等の作業","（ガス）",null,"703010","免許　アセチレン溶接装置またはガス集合溶接装置を用いて行う金属の溶接、溶断等の作業<br>技能講習　可燃性ガス及び酸素を用いて行う金属の溶接、溶断等の作業"]
[884,"地山の掘削作業、土止め支保工の組立て等作業","（地掘・土支）",null,"703010","技能講習　掘削面の高さが２ｍ以上の地山の掘削作業<br>技能講習　土止め支保工の切梁または腹起しの取付または取外しの作業"]
[885,"移動式クレーンの運転（５ｔ未満）","（５未移ク）",null,"703010","吊り上げ荷重　特別教育１ｔ未満　または技能講習１ｔ以上５ｔ未満"]
[886,"車両系建設機械（整地・運搬・積込用及び掘削用）の運転","（車掘削）",null,"703010","機体重量　特別教育３ｔ未満　または技能講習３ｔ以上"]
[887,"車両系建設機械（解体用）の運転","（車解体）",null,"703010","機体重量　特別教育３ｔ未満　または技能講習３ｔ以上"]
[888,"車両系荷役運搬機械（不整地運搬車）の運転","（車不整）",null,"703010","最大積載量　特別教育１ｔ未満　または技能講習１ｔ以上"]
[889,"高所作業車の運転","（高車）",null,"703010","作業床の高さ　特別教育１０m未満　または技能講習１０ｍ以上"]
[890,"玉掛けの業務","（玉掛）",null,"703010","吊り上げ荷重　特別教育１ｔ未満　または技能講習１ｔ以上"]
[891,"アーク溶接等の作業","（アーク）",null,"703010","特別教育　アーク溶接、溶断等の作業"]
[892,"自由研削砥石（グラインダ）の取替え、試運転","（砥石）",null,"703010","特別教育"]
[893,"ガス溶接等の作業","（ガス）",null,"704010","免許　アセチレン溶接装置またはガス集合溶接装置を用いて行う金属の溶接、溶断等の作業<br>技能講習　可燃性ガス及び酸素を用いて行う金属の溶接、溶断等の作業"]
[894,"地山の掘削作業、土止め支保工の組立て等作業","（地掘・土支）",null,"704010","技能講習　掘削面の高さが２ｍ以上の地山の掘削作業<br>技能講習　土止め支保工の切梁または腹起しの取付または取外しの作業"]
[895,"移動式クレーンの運転（５ｔ未満）","（５未移ク）",null,"704010","吊り上げ荷重　特別教育１ｔ未満　または技能講習１ｔ以上５ｔ未満"]
[896,"車両系建設機械（整地・運搬・積込用及び掘削用）の運転","（車掘削）",null,"704010","機体重量　特別教育３ｔ未満　または技能講習３ｔ以上"]
[897,"車両系建設機械（解体用）の運転","（車解体）",null,"704010","機体重量　特別教育３ｔ未満　または技能講習３ｔ以上"]
[898,"車両系荷役運搬機械（不整地運搬車）の運転","（車不整）",null,"704010","最大積載量　特別教育１ｔ未満　または技能講習１ｔ以上"]
[899,"高所作業車の運転","（高車）",null,"704010","作業床の高さ　特別教育１０m未満　または技能講習１０ｍ以上"]
[900,"玉掛けの業務","（玉掛）",null,"704010","吊り上げ荷重　特別教育１ｔ未満　または技能講習１ｔ以上"]
[901,"アーク溶接等の作業","（アーク）",null,"704010","特別教育　アーク溶接、溶断等の作業"]
[902,"自由研削砥石（グラインダ）の取替え、試運転","（砥石）",null,"704010","特別教育"]
[903,"地山の掘削作業、土止め支保工の組立て等作業","（地掘・土支）",null,"705010","技能講習　掘削面の高さが２ｍ以上の地山の掘削作業<br>技能講習　土止め支保工の切梁または腹起しの取付または取外しの作業"]
[904,"移動式クレーンの運転（５ｔ未満）","（５未移ク）",null,"705010","吊り上げ荷重　特別教育１ｔ未満　または技能講習１ｔ以上５ｔ未満"]
[905,"車両系建設機械（整地・運搬・積込用及び掘削用）の運転","（車掘削）",null,"705010","機体重量　特別教育３ｔ未満　または技能講習３ｔ以上"]
[906,"車両系建設機械（解体用）の運転","（車解体）",null,"705010","機体重量　特別教育３ｔ未満　または技能講習３ｔ以上"]
[907,"車両系荷役運搬機械（不整地運搬車）の運転","（車不整）",null,"705010","最大積載量　特別教育１ｔ未満　または技能講習１ｔ以上"]
[908,"玉掛けの業務","（玉掛）",null,"705010","吊り上げ荷重　特別教育１ｔ未満　または技能講習１ｔ以上"]
[909,"地山の掘削作業、土止め支保工の組立て等作業","（地掘・土支）",null,"706010","技能講習　掘削面の高さが２ｍ以上の地山の掘削作業<br>技能講習　土止め支保工の切梁または腹起しの取付または取外しの作業"]
[910,"移動式クレーンの運転（５ｔ未満）","（５未移ク）",null,"706010","吊り上げ荷重　特別教育１ｔ未満　または技能講習１ｔ以上５ｔ未満"]
[911,"車両系建設機械（整地・運搬・積込用及び掘削用）の運転","（車掘削）",null,"706010","機体重量　特別教育３ｔ未満　または技能講習３ｔ以上"]
[912,"車両系建設機械（解体用）の運転","（車解体）",null,"706010","機体重量　特別教育３ｔ未満　または技能講習３ｔ以上"]
[913,"車両系荷役運搬機械（不整地運搬車）の運転","（車不整）",null,"706010","最大積載量　特別教育１ｔ未満　または技能講習１ｔ以上"]
[914,"玉掛けの業務","（玉掛）",null,"706010","吊り上げ荷重　特別教育１ｔ未満　または技能講習１ｔ以上"]
[915,"ガス溶接等の作業","（ガス）",null,"750010","免許　アセチレン溶接装置またはガス集合溶接装置を用いて行う金属の溶接、溶断等の作業<br>技能講習　可燃性ガス及び酸素を用いて行う金属の溶接、溶断等の作業"]
[916,"地山の掘削作業、土止め支保工の組立て等作業","（地掘・土支）",null,"750010","技能講習　掘削面の高さが２ｍ以上の地山の掘削作業<br>技能講習　土止め支保工の切梁または腹起しの取付または取外しの作業"]
[917,"コンクリート造の工作物の解体等作業","（コン解）",null,"750010","技能講習　高さが５ｍ以上のコンクリート造の工作物の解体または破壊の作業"]
[918,"移動式クレーンの運転（５ｔ未満）","（５未移ク）",null,"750010","吊り上げ荷重　特別教育１ｔ未満　または技能講習１ｔ以上５ｔ未満"]
[919,"車両系建設機械（整地・運搬・積込用及び掘削用）の運転","（車掘削）",null,"750010","機体重量　特別教育３ｔ未満　または技能講習３ｔ以上"]
[920,"車両系建設機械（解体用）の運転","（車解体）",null,"750010","機体重量　特別教育３ｔ未満　または技能講習３ｔ以上"]
[921,"車両系荷役運搬機械（不整地運搬車）の運転","（車不整）",null,"750010","最大積載量　特別教育１ｔ未満　または技能講習１ｔ以上"]
[922,"高所作業車の運転","（高車）",null,"750010","作業床の高さ　特別教育１０m未満　または技能講習１０ｍ以上"]
[923,"玉掛けの業務","（玉掛）",null,"750010","吊り上げ荷重　特別教育１ｔ未満　または技能講習１ｔ以上"]
[924,"粉じん作業","（粉じん）",null,"750010","特別教育　粉じん発生場所での作業（斫り作業、石・タイル切断作業等）"]
[925,"アーク溶接等の作業","（アーク）",null,"750010","特別教育　アーク溶接、溶断等の作業"]
[926,"自由研削砥石（グラインダ）の取替え、試運転","（砥石）",null,"750010","特別教育"]
[927,"ガス溶接等の作業","（ガス）",null,"750020","免許　アセチレン溶接装置またはガス集合溶接装置を用いて行う金属の溶接、溶断等の作業<br>技能講習　可燃性ガス及び酸素を用いて行う金属の溶接、溶断等の作業"]
[928,"地山の掘削作業、土止め支保工の組立て等作業","（地掘・土支）",null,"750020","技能講習　掘削面の高さが２ｍ以上の地山の掘削作業<br>技能講習　土止め支保工の切梁または腹起しの取付または取外しの作業"]
[929,"建築物等の鉄骨の組立て等作業","（鉄骨）",null,"750020","技能講習　建築物の骨組み等で金属製の部材により構成されるもの（高さが５ｍ以上）の組立て、解体または変更の作業"]
[930,"コンクリート造の工作物の解体等作業","（コン解）",null,"750020","技能講習　高さが５ｍ以上のコンクリート造の工作物の解体または破壊の作業"]
[931,"移動式クレーンの運転（５ｔ未満）","（５未移ク）",null,"750020","吊り上げ荷重　特別教育１ｔ未満　または技能講習１ｔ以上５ｔ未満"]
[932,"車両系建設機械（整地・運搬・積込用及び掘削用）の運転","（車掘削）",null,"750020","機体重量　特別教育３ｔ未満　または技能講習３ｔ以上"]
[933,"車両系建設機械（解体用）の運転","（車解体）",null,"750020","機体重量　特別教育３ｔ未満　または技能講習３ｔ以上"]
[934,"車両系荷役運搬機械（不整地運搬車）の運転","（車不整）",null,"750020","最大積載量　特別教育１ｔ未満　または技能講習１ｔ以上"]
[935,"高所作業車の運転","（高車）",null,"750020","作業床の高さ　特別教育１０m未満　または技能講習１０ｍ以上"]
[936,"玉掛けの業務","（玉掛）",null,"750020","吊り上げ荷重　特別教育１ｔ未満　または技能講習１ｔ以上"]
[937,"粉じん作業","（粉じん）",null,"750020","特別教育　粉じん発生場所での作業（斫り作業、石・タイル切断作業等）"]
[938,"アーク溶接等の作業","（アーク）",null,"750020","特別教育　アーク溶接、溶断等の作業"]
[939,"自由研削砥石（グラインダ）の取替え、試運転","（砥石）",null,"750020","特別教育"]
[940,"ガス溶接等の作業","（ガス）",null,"750030","免許　アセチレン溶接装置またはガス集合溶接装置を用いて行う金属の溶接、溶断等の作業<br>技能講習　可燃性ガス及び酸素を用いて行う金属の溶接、溶断等の作業"]
[941,"地山の掘削作業、土止め支保工の組立て等作業","（地掘・土支）",null,"750030","技能講習　掘削面の高さが２ｍ以上の地山の掘削作業<br>技能講習　土止め支保工の切梁または腹起しの取付または取外しの作業"]
[942,"建築物等の鉄骨の組立て等作業","（鉄骨）",null,"750030","技能講習　建築物の骨組み等で金属製の部材により構成されるもの（高さが５ｍ以上）の組立て、解体または変更の作業"]
[943,"コンクリート造の工作物の解体等作業","（コン解）",null,"750030","技能講習　高さが５ｍ以上のコンクリート造の工作物の解体または破壊の作業"]
[944,"移動式クレーンの運転（５ｔ未満）","（５未移ク）",null,"750030","吊り上げ荷重　特別教育１ｔ未満　または技能講習１ｔ以上５ｔ未満"]
[945,"車両系建設機械（整地・運搬・積込用及び掘削用）の運転","（車掘削）",null,"750030","機体重量　特別教育３ｔ未満　または技能講習３ｔ以上"]
[946,"車両系建設機械（解体用）の運転","（車解体）",null,"750030","機体重量　特別教育３ｔ未満　または技能講習３ｔ以上"]
[947,"車両系荷役運搬機械（不整地運搬車）の運転","（車不整）",null,"750030","最大積載量　特別教育１ｔ未満　または技能講習１ｔ以上"]
[948,"高所作業車の運転","（高車）",null,"750030","作業床の高さ　特別教育１０m未満　または技能講習１０ｍ以上"]
[949,"玉掛けの業務","（玉掛）",null,"750030","吊り上げ荷重　特別教育１ｔ未満　または技能講習１ｔ以上"]
[950,"粉じん作業","（粉じん）",null,"750030","特別教育　粉じん発生場所での作業（斫り作業、石・タイル切断作業等）"]
[951,"アーク溶接等の作業","（アーク）",null,"750030","特別教育　アーク溶接、溶断等の作業"]
[952,"自由研削砥石（グラインダ）の取替え、試運転","（砥石）",null,"750030","特別教育"]
[953,"ガス溶接等の作業","（ガス）",null,"750040","免許　アセチレン溶接装置またはガス集合溶接装置を用いて行う金属の溶接、溶断等の作業<br>技能講習　可燃性ガス及び酸素を用いて行う金属の溶接、溶断等の作業"]
[954,"コンクリート造の工作物の解体等作業","（コン解）",null,"750040","技能講習　高さが５ｍ以上のコンクリート造の工作物の解体または破壊の作業"]
[955,"高所作業車の運転","（高車）",null,"750040","作業床の高さ　特別教育１０m未満　または技能講習１０ｍ以上"]
[956,"粉じん作業","（粉じん）",null,"750040","特別教育　粉じん発生場所での作業（斫り作業、石・タイル切断作業等）"]
[957,"アーク溶接等の作業","（アーク）",null,"750040","特別教育　アーク溶接、溶断等の作業"]
[958,"自由研削砥石（グラインダ）の取替え、試運転","（砥石）",null,"750040","特別教育"]
[959,"ガス溶接等の作業","（ガス）",null,"750050","免許　アセチレン溶接装置またはガス集合溶接装置を用いて行う金属の溶接、溶断等の作業<br>技能講習　可燃性ガス及び酸素を用いて行う金属の溶接、溶断等の作業"]
[960,"コンクリート造の工作物の解体等作業","（コン解）",null,"750050","技能講習　高さが５ｍ以上のコンクリート造の工作物の解体または破壊の作業"]
[961,"移動式クレーンの運転（５ｔ未満）","（５未移ク）",null,"750050","吊り上げ荷重　特別教育１ｔ未満　または技能講習１ｔ以上５ｔ未満"]
[962,"車両系建設機械（整地・運搬・積込用及び掘削用）の運転","（車掘削）",null,"750050","機体重量　特別教育３ｔ未満　または技能講習３ｔ以上"]
[963,"高所作業車の運転","（高車）",null,"750050","作業床の高さ　特別教育１０m未満　または技能講習１０ｍ以上"]
[964,"玉掛けの業務","（玉掛）",null,"750050","吊り上げ荷重　特別教育１ｔ未満　または技能講習１ｔ以上"]
[965,"粉じん作業","（粉じん）",null,"750050","特別教育　粉じん発生場所での作業（斫り作業、石・タイル切断作業等）"]
[966,"アーク溶接等の作業","（アーク）",null,"750050","特別教育　アーク溶接、溶断等の作業"]
[967,"自由研削砥石（グラインダ）の取替え、試運転","（砥石）",null,"750050","特別教育"]
[968,"ガス溶接等の作業","（ガス）",null,"750060","免許　アセチレン溶接装置またはガス集合溶接装置を用いて行う金属の溶接、溶断等の作業<br>技能講習　可燃性ガス及び酸素を用いて行う金属の溶接、溶断等の作業"]
[969,"高所作業車の運転","（高車）",null,"750060","作業床の高さ　特別教育１０m未満　または技能講習１０ｍ以上"]
[970,"アーク溶接等の作業","（アーク）",null,"750060","特別教育　アーク溶接、溶断等の作業"]
[971,"自由研削砥石（グラインダ）の取替え、試運転","（砥石）",null,"750060","特別教育"]
[972,"ガス溶接等の作業","（ガス）",null,"750070","免許　アセチレン溶接装置またはガス集合溶接装置を用いて行う金属の溶接、溶断等の作業<br>技能講習　可燃性ガス及び酸素を用いて行う金属の溶接、溶断等の作業"]
[973,"移動式クレーンの運転（５ｔ未満）","（５未移ク）",null,"750070","吊り上げ荷重　特別教育１ｔ未満　または技能講習１ｔ以上５ｔ未満"]
[974,"タワークレーンの運転（５ｔ未満）","（５未TC）",null,"750070","吊り上げ荷重　特別教育５ｔ未満"]
[975,"高所作業車の運転","（高車）",null,"750070","作業床の高さ　特別教育１０m未満　または技能講習１０ｍ以上"]
[976,"玉掛けの業務","（玉掛）",null,"750070","吊り上げ荷重　特別教育１ｔ未満　または技能講習１ｔ以上"]
[977,"アーク溶接等の作業","（アーク）",null,"750070","特別教育　アーク溶接、溶断等の作業"]
[978,"自由研削砥石（グラインダ）の取替え、試運転","（砥石）",null,"750070","特別教育"]

{"sheet":"注意事項","index":22,"n_rows":99,"n_cols":3,"rows_kept":99,"cut":false,"hidden":false,"merged":[]}
["注意事項ID","注意事項","確認項目"]
[1,"・安全帯の２丁掛けが必要ないか確認すること（※内外足場組立解体工事、専用仮設組立解体工事、構台組立解体工事、山留工事（切梁組立解体）、鉄骨工事（DP）、PC工事）","保護具(安全帯、メガネ、マスク、他）"]
[2,"・ハーネス式安全帯が必要ないか確認すること（※鉄骨工事（建方・建ち直し・本締め）、エレベーター取付工事）","保護具(安全帯、メガネ、マスク、他）"]
[3,"・アピールマーカーがついているか確認すること","保護具(安全帯、メガネ、マスク、他）"]
[4,"・保護メガネ、マスクが必要ないか確認すること（サンダー切断・研磨、溶接作業、ＬＧＳ切断、木材加工他）","保護具(安全帯、メガネ、マスク、他）"]
[5,"・マスクの規格を確認しているか確認すること（※アスベスト撤去従事時）","保護具(安全帯、メガネ、マスク、他）"]
[6,"・マスクの使用時間・期限を確認しているか確認すること（※有機溶剤）","保護具(安全帯、メガネ、マスク、他）"]
[7,"・防振手袋を使用しているか確認すること（※振動作業）","保護具(安全帯、メガネ、マスク、他）"]
[8,"・作業箇所の親綱が設置されて、緩みはないか確認すること","親綱"]
[9,"・親綱の設置位置は適正か確認すること","親綱"]
[10,"・安全帯が使用できるか確認すること","親綱"]
[11,"・支柱は適切な物を使用しているか確認すること","親綱"]
[12,"・支柱の使用方法は適切か確認すること（兼用タイプ・片側タイプを確認すること）","親綱"]
[13,"・作業場所を足場使用者が点検・確認すること","足場"]
[14,"・手すり等が取外されていないか等を確認し是正を依頼すること","足場"]
[15,"・水平、落下防止ネット等が設置されているかを確認し是正を依頼すること","足場"]
[16,"・許可を得て取外した手すり等は復旧されているか確認すること","足場"]
[17,"・足場上は片付いているか確認すること","足場"]
[18,"・水平、落下防止ネット等が設置されているか確認すること","足場"]
[19,"・今日の作業に適した作業床があるか確認すること","作業床"]
[20,"・水平、落下防止ネット等が設置されているかを確認し是正を依頼すること","作業床"]
[21,"・許可を得て取外した手すり等は復旧されているか確認すること","作業床"]
[22,"・階段の設置場所はどこか確認すること","階段"]
[23,"・省略行為はしない（階段を使用すること）","階段"]
[24,"・渡りの設置場所はどこか確認すること","階段"]
[25,"・設置基準が守られているか確認すること（突出し60cm以上、幅は30cm以上等）","梯子"]
[26,"・破損等がないか確認すること","梯子"]
[27,"・梯子の設置場所はどこか確認すること","梯子"]
[28,"・梯子は上部緊結され下部は第三者が支えているか確認すること","梯子"]
[29,"・安全ブロックは設置されて、安全帯が使用できるか確認すること","梯子"]
[30,"・破損等がないか確認すること（ネジの緩み、部品のはずれ、部材の曲がり）","立馬"]
[31,"・組立ロックを確認すること（開閉解除レバー、補強用部材、伸縮レバー、手掛かり棒）","立馬"]
[32,"・立馬の周辺は整理整頓されているか確認すること","立馬"]
[33,"・足元に開口部や段差がないか確認すること","立馬"]
[34,"・設置方向(手摺設置等）問題ないか確認すること","立馬"]
[35,"・天板に背を向けて昇降しないこと","立馬"]
[36,"・物を持ったまま昇降しないこと","立馬"]
[37,"・身を乗り出したり、不安定な姿勢で作業しないこと","立馬"]
[38,"・２人作業やステップ上で作業しないこと","立馬"]
[39,"・作業に合った工具であるか確認すること","工具"]
[40,"・工具の始業前点検を実施すること","工具"]
[41,"・資格が必要な工具はないか確認すること","工具"]
[42,"・アースを取っているか確認すること","工具"]
[43,"・シャックル、玉掛けワイヤー、介錯ロープ、台木等の点検を実施したか確認すること","玉掛け用具"]
[44,"・吊荷に適した玉掛け用具（特に敷鉄板）、方法であるか確認すること","玉掛け用具"]
[45,"・フックの外れ止めに異常はないか確認すること","玉掛け用具"]
[46,"・火気使用願いは提出しているか確認すること","火気作業"]
[47,"・火気使用許可証の作業箇所へ掲示を準備できているか確認すること","火気作業"]
[48,"・作業周辺に可燃物(ウレタン等）はないか確認すること","火気作業"]
[49,"・火気養生は出来ているか確認すること","火気作業"]
[50,"・火花、切断ピース等の落下による火災の恐れはないか確認すること","火気作業"]
[51,"・作業箇所へ設置する携帯用消火器、水バケツ等を準備できているか確認すること","火気作業"]
[52,"・火気作業の最終時刻は何時か確認すること","火気作業"]
[53,"・残り火の最終確認は誰が実施するのか確認すること","火気作業"]
[54,"・前工程は終了しているか確認すること","その他"]
[55,"・上下作業になっていないか確認すること","その他"]
[56,"・他工種との重複(輻輳)はないか確認すること","その他"]
[57,"・作業場所までの通路は安全か、昇降設備はあるか、渡りはあるか確認すること","その他"]
[58,"・開口部はないか確認すること","その他"]
[59,"・材料の運搬経路は確認すること","その他"]
[{"$f":"ROW()-2","v":59}]
[{"$f":"ROW()-2","v":60}]
[{"$f":"ROW()-2","v":61}]
[{"$f":"ROW()-2","v":62}]
[{"$f":"ROW()-2","v":63}]
[64]
[65]
[66]
[67]
[68]
[69]
[70]
[71]
[72]
[73]
[74]
[75]
[76]
[77]
[78]
[79]
[80]
[81]
[82]
[83]
[84]
[85]
[86]
[87]
[88]
[89]
[90]
[91]
[92]
[93]
[94]
[95]
[96]
[97]

{"sheet":"危険ポイント（可能性 重大性）","index":23,"n_rows":5064,"n_cols":5,"rows_kept":5064,"cut":false,"hidden":false,"merged":[]}
["工種コード","危険ポイント","可能性","重大性","対策"]
[101010,"揚重作業時クレーンが転倒する",null,null,"作業計画書内容を順守する"]
[101010,"揚重作業時クレーンが転倒する",null,null,"アウトリガーの最大張り出し、設置状態を確認する"]
[101010,"揚重作業時クレーンが転倒する",null,null,"作業半径、定格荷重を確認する"]
[101010,"揚重作業時クレーンが転倒する",null,null,"安全装置の解除はしない/させない"]
[101010,"サンダーや丸のこ等使用時、手がぶれたり、刃がはねて負傷する",null,null,"研削砥石使用（交換）基準を順守する"]
[101010,"サンダーや丸のこ等使用時、手がぶれたり、刃がはねて負傷する",null,null,"正しい作業姿勢を確保し無理な切断を行わない"]
[101010,"サンダーや丸のこ等使用時、手がぶれたり、刃がはねて負傷する",null,null,"サンダーや丸のこに合わない刃を使用しない"]
[101010,"サンダーや丸のこ等使用時、手がぶれたり、刃がはねて負傷する",null,null,"保護カバーを外して作業しない"]
[101010,"サンダーや丸のこ等使用時、手がぶれたり、刃がはねて負傷する",null,null,"研削面に障害物がないか確認する"]
[101010,"サンダーや丸のこ等使用時、手がぶれたり、刃がはねて負傷する",null,null,"切断物の下に敷桟をいれて作業する"]
[101010,"サンダーや丸のこ等使用時、手がぶれたり、刃がはねて負傷する",null,null,"小さすぎる材料の切断に丸のこを使用しない"]
[101010,"安全ブロックを使用せず梯子やタラップから転落する",null,null,"梯子の設置基準が満足しているか昇降前に確認する"]
[101010,"安全ブロックを使用せず梯子やタラップから転落する",null,null,"梯子が確実に固定されているか確認する"]
[101010,"安全ブロックを使用せず梯子やタラップから転落する",null,null,"梯子の昇降時には物を持たない"]
[101010,"安全ブロックを使用せず梯子やタラップから転落する",null,null,"安全ブロックを使用する"]
[101010,"安全ブロックを使用せず梯子やタラップから転落する",null,null,"先行で登っている人の後には続かないで順番を待つ"]
[101010,"安全ブロックを使用せず梯子やタラップから転落する",null,null,"通行前に固定されているか確認する"]
[101010,"安全ブロックを使用せず梯子やタラップから転落する",null,null,"通行禁止場所を通らない"]
[101010,"安全ブロックを使用せず梯子やタラップから転落する",null,null,"許可なく足場変更は行わない"]
[101010,"安全ブロックを使用せず梯子やタラップから転落する",null,null,"開口部付近での作業の時は安全帯を使用する"]
[101010,"立馬で材料荷渡しや作業時に転落する",null,null,"危険ポイント・対策（①重大共通）（建築）"]
[101010,"立馬で材料荷渡しや作業時に転落する",null,null,"立馬使用の作業標準を順守する"]
[101010,"立馬で材料荷渡しや作業時に転落する",null,null,"作業床の始業前点検を実施する"]
[101010,"立馬で材料荷渡しや作業時に転落する",null,null,"足場板の端部に乗らない"]
[101010,"立馬で材料荷渡しや作業時に転落する",null,null,"外した設備は必ず元通りに戻し作業前点検を確実に行う"]
[101010,"立馬で材料荷渡しや作業時に転落する",null,null,"立馬上で一人で荷受け可能か確認する"]
[101010,"立馬の脚が段差・床スリーブにはまり、または縮んで転落・転倒する",null,null,"立馬使用の作業標準を順守する"]
[101010,"立馬の脚が段差・床スリーブにはまり、または縮んで転落・転倒する",null,null,"養生蓋等を確認する（設置した立馬の足元確認）"]
[101010,"立馬の脚が段差・床スリーブにはまり、または縮んで転落・転倒する",null,null,"スリーブの上部に立馬の足を配置しない"]
[101010,"立馬の脚が段差・床スリーブにはまり、または縮んで転落・転倒する",null,null,"スリーブ養生の手順（ルール）を決めて励行させる"]
[101010,"立馬の脚が段差・床スリーブにはまり、または縮んで転落・転倒する",null,null,"伸縮足ストッパー等の始業前点検を行う"]
[101010,"立馬から降りる時に踏み外して転落する",null,null,"手掛かり棒を全箇所伸ばし持って降りる"]
[101010,"立馬から降りる時に踏み外して転落する",null,null,"物を持って昇降しない"]
[101010,"立馬から降りる時に踏み外して転落する",null,null,"設置した立馬の安定状態を確認する"]
[101010,"立馬から降りる時に踏み外して転落する",null,null,"昇降時は必ず後ろ向きに降りる"]
[101010,"材料運搬時、躓いて転倒する",null,null,"安全通路を移動する"]
[101010,"材料運搬時、躓いて転倒する",null,null,"近道行為を禁止する"]
[101010,"材料運搬時、段差に躓いて転倒する",null,null,"床段差に足を乗せない"]
[101010,"材料運搬時、段差に躓いて転倒する",null,null,"安全通路を移動する"]
[101010,"重機と作業員が接触する",null,null,"重機と作業員の区分けを行う"]
[101010,"重機と作業員が接触する",null,null,"声掛け合図の徹底"]
[101010,"重機と作業員が接触する",null,null,"ｶﾗｰｺｰﾝによる立ち入り禁止措置を行う"]
[101010,"重機と作業員が接触する",null,null,"重機ＯＰの死角に入らない"]
[101010,"重機と作業員が接触する",null,null,"グーパー運動を実施する"]
[101010,"長尺物を振り回す際、作業員にぶつける",null,null,"声掛け合図の徹底"]
[101010,"長尺物を振り回す際、作業員にぶつける",null,null,"振り回す際は、事前に周囲確認し、人払いを行う"]
[101010,"長尺物を振り回す際、作業員にぶつける",null,null,"ｶﾗｰｺｰﾝによる立ち入り禁止措置を行う"]
[101010,"立馬から転落する",null,null,"物を持って昇降しない"]
[101010,"立馬から転落する",null,null,"開き止めを確認する"]
[101010,"立馬から転落する",null,null,"無理な姿勢で作業しない"]
[101010,"立馬から転落する",null,null,"昇降時は必ず後ろ向きにおりる"]
[101010,"カッターナイフで手を切る",null,null,"カッターナイフを動かす方向に手を置かない"]
[101010,"カッターナイフで手を切る",null,null,"無理な姿勢で作業しない"]
[101010,"ベビーサンダー使用時、誤って手を切る",null,null,"保護手袋を着装する"]
[101010,"ベビーサンダー使用時、誤って手を切る",null,null,"正しい姿勢で作業する"]
[101010,"ベビーサンダー使用時、誤って手を切る",null,null,"保護カバーを使用する"]
[101010,"ベビーサンダー使用時、誤って手を切る",null,null,"工具の始業前点検を実施する"]
[101010,"ベビーサンダー使用時、誤って手を切る",null,null,"切断箇所に手を入れない"]
[101010,"ゴミが飛散する",null,null,"1作業1片付を徹底する"]
[101010,"ゴミが飛散する",null,null,"作業周辺の整理整頓を徹底する"]
[101010,"ゴミが飛散する",null,null,"飛散の恐れがある物を養生する"]
[101010,"草刈り機で手や足を切る",null,null,"保護具を着装する"]
[101010,"草刈り機で手や足を切る",null,null,"正しい姿勢で作業する"]
[101010,"草刈り機で手や足を切る",null,null,"工具の始業前点検を実施する"]
[101010,"草刈り機で手や足を切る",null,null,"伐採箇所に手や足を入れない"]
[101010,"材料移動時、既存物、隣接建物に接触する",null,null,"声掛け合図の徹底"]
[101010,"材料移動時、既存物、隣接建物に接触する",null,null,"無理な姿勢で作業しない"]
[101010,"材料移動時、既存物、隣接建物に接触する",null,null,"振り回す際は、事前に周囲を確認する"]
[101020,"移動時、躓いて転倒する",null,null,"近道行為を禁止する"]
[101020,"移動時、段差に躓いて転倒する",null,null,"床段差に足を乗せない"]
[101020,"立馬から転落する",null,null,"物を持って昇降しない"]
[101020,"立馬から転落する",null,null,"開き止めを確認する"]
[101020,"立馬から転落する",null,null,"無理な姿勢で作業しない"]
[101020,"立馬から転落する",null,null,"昇降時は必ず後ろ向きにおりる"]
[101020,"外壁調査時、梯子から転落する",null,null,"物を持って昇降しない"]
[101020,"外壁調査時、梯子から転落する",null,null,"無理な姿勢で作業しない"]
[101020,"外壁調査時、梯子から転落する",null,null,"梯子の固定状況を確認する"]
[101020,"外壁調査時、梯子から転落する",null,null,"2人1組で作業を行う"]
[101020,"移動時、既存物、隣接建物に接触する",null,null,"声掛け合図の徹底"]
[101020,"移動時、既存物、隣接建物に接触する",null,null,"無理な姿勢で作業しない"]
[101020,"移動時、住民等と接触する",null,null,"声掛け合図の徹底"]
[102010,"材料運搬時、躓いて転倒する",null,null,"安全通路を移動する"]
[102010,"材料運搬時、躓いて転倒する",null,null,"近道行為を禁止する"]
[102010,"材料運搬時、段差に躓いて転倒する",null,null,"床段差に足をのせない"]
[102010,"材料運搬時、段差に躓いて転倒する",null,null,"安全通路を移動する"]
[102010,"立馬から転落する",null,null,"物を持って昇降しない"]
[102010,"立馬から転落する",null,null,"開き止めを確認する"]
[102010,"立馬から転落する",null,null,"無理な姿勢で作業しない"]
[102010,"立馬から転落する",null,null,"昇降時は必ず後ろ向きにおりる"]
[102010,"建方時、吊荷が外れ落下する",null,null,"クレーン使用時の合図の徹底"]
[102010,"建方時、吊荷が外れ落下する",null,null,"声掛け合図の徹底"]
[102010,"建方時、吊荷が外れ落下する",null,null,"玉掛けワイヤーの始業前点検を実施する"]
[102010,"建方時、吊荷が外れ落下する",null,null,"吊荷荷重を確認する"]
[102010,"建方時、吊荷が外れ落下する",null,null,"吊荷下の人払いを行う"]
[102010,"建方時、吊荷が外れ落下する",null,null,"地切りの確認をする（333運動）"]
[102010,"建方時、玉掛けワイヤーが切れて落下する",null,null,"クレーン使用時の合図の徹底"]
[102010,"建方時、玉掛けワイヤーが切れて落下する",null,null,"声掛け合図の徹底"]
[102010,"建方時、玉掛けワイヤーが切れて落下する",null,null,"玉掛けワイヤーの始業前点検を実施する"]
[102010,"建方時、玉掛けワイヤーが切れて落下する",null,null,"吊荷荷重を確認する"]
[102010,"建方時、玉掛けワイヤーが切れて落下する",null,null,"吊荷下の人払いを行う"]
[102010,"インパクトドライバー使用時、指を負傷する",null,null,"無理な姿勢で作業しない"]
[102010,"インパクトドライバー使用時、指を負傷する",null,null,"危険な所に手を入れない"]
[102010,"インパクトドライバー使用時、指を負傷する",null,null,"電動工具の始業前点検を実施する"]
[102010,"屋根組立時、墜落する",null,null,"親綱を張って安全帯を使用する"]
[102010,"屋根組立時、墜落する",null,null,"無理な姿勢で作業しない"]
[102010,"屋根組立時、墜落する",null,null,"安全帯が掛っていない状況を作らない"]
[102010,"屋根解体時、墜落する",null,null,"親綱を張って安全帯を使用する"]
[102010,"屋根解体時、墜落する",null,null,"無理な姿勢で作業しない"]
[102010,"屋根解体時、墜落する",null,null,"安全帯を掛けていない状況を作らない"]
[102010,"吊荷時、搬入車輛（ユニック車)が転倒する",null,null,"アウトリガー下の敷き鉄板養生を実施する"]
[102010,"吊荷時、搬入車輛（ユニック車)が転倒する",null,null,"地盤状況を確認する"]
[102010,"吊荷時、搬入車輛（ユニック車)が転倒する",null,null,"足元の敷鉄板養生を確認する"]
[102010,"吊荷時、搬入車輛（ユニック車)が転倒する",null,null,"無線機ＯＰとの合図の徹底"]
[102010,"吊荷時、搬入車輛（ユニック車)が転倒する",null,null,"吊荷荷重を確認する"]
[102010,"吊荷時、搬入車輛（ユニック車)が転倒する",null,null,"旋回範囲の人払いを行う"]
[102010,"カッターナイフで手を切る",null,null,"カッターナイフを動かす方向に手を置かない"]
[102010,"カッターナイフで手を切る",null,null,"無理な姿勢で作業しない"]
[102010,"不安定な状態で丸のこで指を切る",null,null,"電動工具の始業前点検を実施する"]
[102010,"不安定な状態で丸のこで指を切る",null,null,"丸のこの保護カバーの使用する"]
[102010,"不安定な状態で丸のこで指を切る",null,null,"無理な姿勢で作業しない"]
[103010,"材料運搬時、躓いて転倒する",null,null,"安全通路を移動する"]
[103010,"材料運搬時、躓いて転倒する",null,null,"近道行為を禁止する"]
[103010,"工事車輛の搬出入時、第三者と接触する",null,null,"誘導員の合図に従う"]
[103010,"工事車輛の搬出入時、第三者と接触する",null,null,"第三者から見える場所で合図する"]
[103010,"工事車輛の搬出入時、第三者と接触する",null,null,"声掛け合図の徹底"]
[103010,"工事車輛の搬出入時、第三者と接触する",null,null,"第三者優先で誘導を行う"]
[103010,"工事車輛の搬出入時、第三者と接触する",null,null,"ｶﾗｰｺｰﾝによる立ち入り禁止措置を行う"]
[103010,"搬出入車輛が作業員と接触する",null,null,"声掛け合図の徹底"]
[103010,"搬出入車輛が作業員と接触する",null,null,"安全誘導の合図をする"]
[103010,"搬出入車輛が作業員と接触する",null,null,"搬出入車輛と作業員の通路の区分けを行う"]
[103010,"舗装時、第三者と作業員が接触する",null,null,"誘導員の合図に従う"]
[103010,"舗装時、第三者と作業員が接触する",null,null,"第三者から見える場所で合図する"]
[103010,"舗装時、第三者と作業員が接触する",null,null,"声掛け合図の徹底"]
[103010,"舗装時、第三者と作業員が接触する",null,null,"第三者優先で誘導を行う"]
[103010,"舗装時、第三者と作業員が接触する",null,null,"ｶﾗｰｺｰﾝによる立ち入り禁止措置を行う"]
[103010,"ダンプ後退時、バックホーと接触する",null,null,"声掛け合図の徹底"]
[103010,"ダンプ後退時、バックホーと接触する",null,null,"安全誘導の合図をする"]
[103010,"ダンプ後退時、バックホーと接触する",null,null,"後退時運転手はｻｲﾄﾞﾐﾗｰだけでなく、自分の目で後方を確認する"]
[103010,"重機と作業員が接触する",null,null,"重機と作業員の区分けを行う"]
[103010,"重機と作業員が接触する",null,null,"声掛け合図の徹底"]
[103010,"重機と作業員が接触する",null,null,"ｶﾗｰｺｰﾝによる立ち入り禁止措置を行う"]
[103010,"重機と作業員が接触する",null,null,"重機ＯＰの死角に入らない"]
[103010,"重機と作業員が接触する",null,null,"グーパー運動を実施する"]
[103010,"アスファルト使用時、火傷する",null,null,"アスファルト運搬時はあわてないで作業する"]
[103010,"アスファルト使用時、火傷する",null,null,"アスファルト使用時の作業周辺の人払いを行う"]
[103010,"アスファルト使用時、火傷する",null,null,"保護具を着装する"]
[103010,"近隣家屋の壁を汚す・傷つける",null,null,"近隣家屋との離隔距離を確認する"]
[103010,"近隣家屋の壁を汚す・傷つける",null,null,"重機ＯＰや手元は周囲の安全確認を行う"]
[103010,"近隣家屋の壁を汚す・傷つける",null,null,"ﾌﾞﾙｰｼｰﾄ､ﾍﾞﾆｱ等で養生する"]
[103020,"資材運搬時、鋼板が滑り落ち足を負傷する",null,null,"適切な重量で運搬する"]
[103020,"仮囲い組立時、横桟より墜落する",null,null,"親綱を使って安全帯を使用する"]
[103020,"仮囲い組立時、横桟より墜落する",null,null,"安全帯を使用する"]
[103020,"仮囲い組立時、横桟より墜落する",null,null,"無理な姿勢で作業しない"]
[103020,"材料運搬時、躓いて転倒する",null,null,"安全通路を移動する"]
[103020,"材料運搬時、躓いて転倒する",null,null,"近道行為を禁止する"]
[103020,"長尺物を振り回す際、作業員・既存物に接触する",null,null,"声掛け合図の徹底"]
[103020,"長尺物を振り回す際、作業員・既存物に接触する",null,null,"振り回す際は、事前に周囲確認し、人払いを行う"]
[103020,"長尺物を振り回す際、作業員・既存物に接触する",null,null,"ｶﾗｰｺｰﾝによる立ち入り禁止措置を行う"]
[103020,"重機と作業員が接触する",null,null,"重機と作業員の区分けを行う"]
[103020,"重機と作業員が接触する",null,null,"声掛け合図の徹底"]
[103020,"重機と作業員が接触する",null,null,"ｶﾗｰｺｰﾝによる立ち入り禁止措置を行う"]
[103020,"重機と作業員が接触する",null,null,"重機ＯＰの死角に入らない"]
[103020,"重機と作業員が接触する",null,null,"グーパー運動を実施する"]
[104010,"誘導時、躓いて転倒する",null,null,"あわてず落ち着いて移動する"]
[104010,"誘導時、躓いて転倒する",null,null,"近道行為を禁止する"]
[104010,"誘導時、段差に躓いて転倒する",null,null,"床段差に足をのせない"]
[104010,"誘導時、段差に躓いて転倒する",null,null,"あわてず落ち着いて移動する"]
[104010,"工事車輛の搬出入時、第三者と接触する",null,null,"第三者優先で誘導を行う"]
[104010,"工事車輛の搬出入時、第三者と接触する",null,null,"第三者から見える場所で合図する"]
[104010,"工事車輛の搬出入時、第三者と接触する",null,null,"声掛け合図の徹底"]
[104010,"工事車輛の搬出入時、第三者と接触する",null,null,"ｶﾗｰｺｰﾝによる立ち入り禁止措置を行う"]
[104010,"工事車輛の搬出入時、第三者と接触する",null,null,"第三者の死角に入らない場所で誘導を行う"]
[104010,"誘導時、第三者と作業員が接触する",null,null,"ｶﾗｰｺｰﾝによる立ち入り禁止措置を行う"]
[104010,"誘導時、第三者と作業員が接触する",null,null,"第三者から見える場所で合図する"]
[104010,"誘導時、第三者と作業員が接触する",null,null,"声掛け合図の徹底"]
[104010,"誘導時、第三者と作業員が接触する",null,null,"第三者優先で誘導を行う"]
[104010,"誘導時、第三者と作業員が接触する",null,null,"第三者や作業員の死角に入らない場所で誘導を行う"]
[104010,"誘導員が工事車輛に接触する",null,null,"声掛け合図の徹底"]
[104010,"誘導員が工事車輛に接触する",null,null,"運転手の死角に入らない場所で誘導を行う"]
[104010,"誘導員が工事車輛に接触する",null,null,"旗や誘導棒等で目立つように合図を送る"]
[104010,"誘導員が工事車輛に挟まれる",null,null,"声掛け合図の徹底"]
[104010,"誘導員が工事車輛に挟まれる",null,null,"運転手の死角に入らない場所で誘導を行う"]
[104010,"誘導員が工事車輛に挟まれる",null,null,"旗や誘導棒等で目立つように合図を送る"]
[105010,"束ねてあるビニールテープ切断時に、カッターナイフで手を切る",null,null,"刃先の方向に手を置かない"]
[105010,"束ねてあるビニールテープ切断時に、カッターナイフで手を切る",null,null,"無理な姿勢で作業しない"]
[105010,"作業場所移動時、外部足場の階段で足が滑り転倒する",null,null,"階段はあわてて昇降しない"]
[105010,"材料運搬時、躓いて転倒する",null,null,"安全通路を移動する"]
[105010,"材料運搬時、躓いて転倒する",null,null,"近道行為を禁止する"]
[105010,"材料運搬時、段差に躓いて転倒する",null,null,"床段差に足をのせない"]
[105010,"材料運搬時、段差に躓いて転倒する",null,null,"安全通路を移動する"]
[105010,"立馬から転落する",null,null,"物を持って昇降しない"]
[105010,"立馬から転落する",null,null,"開き止めを確認する"]
[105010,"立馬から転落する",null,null,"無理な姿勢で作業しない"]
[105010,"立馬から転落する",null,null,"昇降時は必ず後ろ向きにおりる"]
[105010,"足場使用時、足場から墜落する",null,null,"安全帯を掛けていない状況を作らない"]
[105010,"足場使用時、足場から墜落する",null,null,"無理な姿勢で作業しない"]
[105010,"足場使用時、足場から墜落する",null,null,"足場の始業前点検を実施する"]
[105010,"足場使用時、足場から墜落する",null,null,"作業床の墜落転落防止措置を確認する"]
[105010,"足場使用時、足場から材料等を落下させる",null,null,"無理な姿勢で作業しない"]
[105010,"足場使用時、足場から材料等を落下させる",null,null,"作業下部の人払いを行う"]
[105010,"足場使用時、足場から材料等を落下させる",null,null,"足場上の材料等を整理整頓する"]
[105010,"足場の隙間から墜落する",null,null,"安全帯を掛けていない状況を作らない"]
[105010,"足場の隙間から墜落する",null,null,"無理な姿勢で作業しない"]
[105010,"足場の隙間から墜落する",null,null,"足場の始業前点検を実施する"]
[105010,"足場の隙間から墜落する",null,null,"作業床の墜落転落防止措置の確認する"]
[105010,"足場上で躓いて転倒する",null,null,"足場上の材料等を整理整頓する"]
[105010,"足場上で躓いて転倒する",null,null,"無理な姿勢で作業しない"]
[105010,"足場上で躓いて転倒する",null,null,"安全通路を移動する"]
[105010,"高所作業車使用時、転落する",null,null,"安全帯を必ず使用する"]
[105010,"高所作業車使用時、転落する",null,null,"無理な姿勢で作業しない"]
[105010,"高所作業車使用時、転落する",null,null,"高所作業車の始業前点検を実施する"]
[105010,"高所作業車使用時、転落する",null,null,"作業床を確認する"]
[105010,"分電盤移設時、感電する",null,null,"作業手順を遵守する"]
[105010,"分電盤移設時、感電する",null,null,"ゴム手袋を着装する"]
[105010,"分電盤移設時、感電する",null,null,"電圧を確認する"]
[105010,"分電盤移設時、感電する",null,null,"電源を切って後、移設する"]
[105010,"電源切替時、感電する",null,null,"作業手順を遵守する"]
[105010,"電源切替時、感電する",null,null,"ゴム手袋を着装する"]
[105010,"電源切替時、感電する",null,null,"電圧を確認する"]
[105010,"電源切替時、感電する",null,null,"電源を切った後、作業する"]
[105010,"スラブ上での作業中、スラブ筋に躓いて転倒する",null,null,"スラブ筋上歩行の際、足元を確認し歩行する"]
[105010,"スラブ上での作業中、スラブ筋に躓いて転倒する",null,null,"メッシュロード上を移動する"]
[105010,"重機(ＢＨ)と接触する",null,null,"安全通路を移動する"]
[105010,"重機(ＢＨ)と接触する",null,null,"声掛け合図の徹底"]
[105010,"重機(ＢＨ)と接触する",null,null,"ｶﾗｰｺｰﾝによる立ち入り禁止措置を行う"]
[105010,"重機(ＢＨ)と接触する",null,null,"重機ＯＰの死角に入らない"]
[105010,"重機(ＢＨ)と接触する",null,null,"グーパー運動を実施する"]
[105010,"水銀灯取付時、手を詰める",null,null,"無理な姿勢で作業しない"]
[105010,"水銀灯取付時、手を詰める",null,null,"危険な所に手を入れない"]
[105010,"水銀灯取付時、手を詰める",null,null,"暗い箇所では作業しない(手元の照明を明るくする)"]
[105010,"足場に水銀灯を設置する時に器具を落下させ下部の作業員に当たる",null,null,"器具に落下防止策を施してから取り付ける"]
[105010,"電源投入時に機械・電動工具を点検していた人が負傷する",null,null,"朝礼等で停電、復旧時間を周知する"]
[105010,"電源投入時に機械・電動工具を点検していた人が負傷する",null,null,"電源投入前に機械廻りを確認して投入する"]
[105010,"停電時の点検清掃時に残留電荷により感電する",null,null,"作業接地を確実に取り、放電を確認してから作業する"]
[105010,"樹脂管切断時に、ｶｯﾀ-ﾅｲﾌで指を切る",null,null,"カッターナイフを動かす方向に手を置かない"]
[105010,"樹脂管切断時に、ｶｯﾀ-ﾅｲﾌで指を切る",null,null,"無理な姿勢で作業しない"]
[105010,"樹脂管切断時に、ｶｯﾀ-ﾅｲﾌで指を切る",null,null,"太もも上で切断したり、無理な態勢で作業しない"]
[105010,"配線敷設時、鉄筋の結束線が指に刺さる",null,null,"鉄筋上に不用意に手をつかないようにする"]
[105010,"配線敷設時、鉄筋間に足を挟み転倒する",null,null,"鉄筋上を歩行する際はﾒｯｼｭﾛｰﾄﾞを使用する"]
[105010,"配線接続時に、感電する",null,null,"保護手袋を着装する"]
[105010,"配線接続時に、感電する",null,null,"電圧を確認する"]
[105010,"分電盤取付時に落下させ足を詰める",null,null,"重量物作業は二人で作業をする"]
[105010,"配線結線時に充電部に接触して感電する",null,null,"配線結線の前に必ず検電を実施する"]
[105010,"配線撤去時に誤って活線に接触して感電する",null,null,"撤去作業前には必ずﾌﾞﾚｰｶｰから縁を切り、検電を実施する"]
[105020,"材料運搬時、躓いて転倒する",null,null,"安全通路を移動する"]
[105020,"材料運搬時、躓いて転倒する",null,null,"近道行為を禁止する"]
[105020,"材料運搬時、段差に躓いて転倒する",null,null,"床段差に足をのせない"]
[105020,"材料運搬時、段差に躓いて転倒する",null,null,"安全通路を移動する"]
[105020,"足場使用時、足場から墜落する",null,null,"安全帯を掛けていない状況を作らない"]
[105020,"足場使用時、足場から墜落する",null,null,"無理な姿勢で作業しない"]
[105020,"足場使用時、足場から墜落する",null,null,"足場の始業前点検を実施する"]
[105020,"足場使用時、足場から墜落する",null,null,"作業床の墜落転落防止措置を確認する"]
[105020,"足場使用時、足場から材料等を落下させる",null,null,"無理な姿勢で作業しない"]
[105020,"足場使用時、足場から材料等を落下させる",null,null,"作業下部の人払いを行う"]
[105020,"足場使用時、足場から材料等を落下させる",null,null,"足場上の材料等を整理整頓する"]
[105020,"足場の隙間から墜落する",null,null,"安全帯を掛けていない状況を作らない"]
[105020,"足場の隙間から墜落する",null,null,"無理な姿勢で作業しない"]
[105020,"足場の隙間から墜落する",null,null,"足場の始業前点検を実施する"]
[105020,"足場の隙間から墜落する",null,null,"作業床の墜落転落防止措置の確認する"]
[105020,"足場上で躓いて転倒する",null,null,"足場上の資材等を整理整頓する"]
[105020,"足場上で躓いて転倒する",null,null,"無理な姿勢で作業しない"]
[105020,"足場上で躓いて転倒する",null,null,"安全通路を移動する"]
[105020,"カッターナイフで手を切る",null,null,"カッターナイフを動かす方向に手を置かない"]
[105020,"カッターナイフで手を切る",null,null,"無理な姿勢で作業しない"]
[105020,"ベビーサンダー使用時、手を切る",null,null,"保護手袋を着装する"]
[105020,"ベビーサンダー使用時、手を切る",null,null,"正しい姿勢で作業する"]
[105020,"ベビーサンダー使用時、手を切る",null,null,"保護カバーを使用する"]
[105020,"ベビーサンダー使用時、手を切る",null,null,"工具の始業前点検を実施する"]
[105020,"ベビーサンダー使用時、手を切る",null,null,"切断箇所に手を入れない"]
[105020,"高速カッターで手を切る",null,null,"保護具を着装する"]
[105020,"高速カッターで手を切る",null,null,"正しい姿勢で作業する"]
[105020,"高速カッターで手を切る",null,null,"高速カッターの保護カバーを使用する"]
[105020,"高速カッターで手を切る",null,null,"工具の始業前点検を実施する"]
[105020,"高速カッターで手を切る",null,null,"切断箇所に手を入れない"]
[105020,"重機(ＢＨ)と接触する",null,null,"安全通路を移動する"]
[105020,"重機(ＢＨ)と接触する",null,null,"声掛け合図の徹底"]
[105020,"重機(ＢＨ)と接触する",null,null,"ｶﾗｰｺｰﾝによる立ち入り禁止措置を行う"]
[105020,"重機(ＢＨ)と接触する",null,null,"重機ＯＰの死角に入らない"]
[105020,"重機(ＢＨ)と接触する",null,null,"グーパー運動を実施する"]
[105020,"会所吊り込み時、吊荷が外れ落下する",null,null,"重機使用時の合図の徹底"]
[105020,"会所吊り込み時、吊荷が外れ落下する",null,null,"声掛け合図の徹底"]
[105020,"会所吊り込み時、吊荷が外れ落下する",null,null,"ベルトスリングの始業前点検を実施する"]
[105020,"会所吊り込み時、吊荷が外れ落下する",null,null,"吊荷荷重を確認する"]
[105020,"会所吊り込み時、吊荷が外れ落下する",null,null,"吊荷下の人払いを行う"]
[105020,"重量物を持って腰を痛める",null,null,"膝を使い、物を持ちあげる"]
[105020,"重量物を持って腰を痛める",null,null,"準備体操をしっかり行う"]
[105020,"重量物を持って腰を痛める",null,null,"2人1組で重量物を運ぶ"]
[105020,"長尺配管運搬時に作業員・仕上材と接触する",null,null,"長尺配管は必ず2人で運搬する"]
[105020,"長尺配管運搬時に作業員・仕上材と接触する",null,null,"振り回す際は、事前に周囲確認し、人払いを行う"]
[105020,"長尺配管運搬時に作業員・仕上材と接触する",null,null,"声掛け合図の徹底"]
[105020,"汚水配管撤去時に汚物が目や口に入る",null,null,"撤去前に配管内の洗浄を十分に行い、保護具を着装して撤去する"]
[105020,"配管運搬時に、周囲の人に材料を当ててしまう",null,null,"運搬前、運搬中に、周囲状況を確認し、声掛けをする"]
[105020,"高速ｶｯﾀｰの歯が、抜けてしまい損傷する",null,null,"作業前点検を実施し、異常が無いか確認する"]
[108010,"移動時、躓いて転倒する",null,null,"安全通路を移動する"]
[108010,"移動時、躓いて転倒する",null,null,"近道行為を禁止する"]
[108010,"移動時、段差に躓いて転倒する",null,null,"床段差に足をのせない"]
[108010,"移動時、段差に躓いて転倒する",null,null,"安全通路を移動する"]
[108010,"工事車輛の搬出入時、第三者と接触する",null,null,"誘導員の合図に従う"]
[108010,"工事車輛の搬出入時、第三者と接触する",null,null,"第三者から見える場所で合図する"]
[108010,"工事車輛の搬出入時、第三者と接触する",null,null,"声掛け合図の徹底"]
[108010,"工事車輛の搬出入時、第三者と接触する",null,null,"第三者優先で誘導を行う"]
[108010,"工事車輛の搬出入時、第三者と接触する",null,null,"ｶﾗｰｺｰﾝによる立ち入り禁止措置を行う"]
[108010,"荷卸し時、トレーラー上から転落する",null,null,"スタンション・親綱を使用する"]
[108010,"荷卸し時、トレーラー上から転落する",null,null,"安全帯を使用する"]
[108010,"荷卸し時、トレーラー上から転落する",null,null,"声掛け合図の徹底"]
[108010,"荷卸し時、トレーラー上から転落する",null,null,"無理な姿勢で作業しない"]
[108010,"クレーン使用時、資材を既存物にぶつける",null,null,"クレーン使用時の合図の徹底"]
[108010,"クレーン使用時、資材を既存物にぶつける",null,null,"声掛け合図の徹底"]
[108010,"クレーン使用時、資材を既存物にぶつける",null,null,"既存物近くに材料を置かない"]
[108010,"揚重機が転倒する",null,null,"アウトリガー下の敷き鉄板養生を実施する"]
[108010,"揚重機が転倒する",null,null,"地盤状況を確認する"]
[108010,"揚重機が転倒する",null,null,"足元の敷鉄板養生を確認する"]
[108010,"揚重機が転倒する",null,null,"無線機ＯＰとの合図の徹底"]
[108010,"揚重機組立時、手･足を挟まれる",null,null,"不安定な状態で吊荷を置かない"]
[108010,"揚重機組立時、手･足を挟まれる",null,null,"危険な所に手・足を入れない"]
[108010,"揚重機組立時、手･足を挟まれる",null,null,"荷吊りの際はオペとの合図確認を行う"]
[108010,"揚重機組立時、手･足を挟まれる",null,null,"不安定な状態で吊り上げない"]
[108010,"揚重機組立時、手･足を挟まれる",null,null,"声掛け合図の徹底"]
[108010,"揚重機組立時、手･足を挟まれる",null,null,"介錯ロープを使用する"]
[108010,"ブーム組立時、高所から転落する",null,null,"安全ブロック・安全帯を使用する"]
[108010,"ブーム組立時、高所から転落する",null,null,"無理な姿勢で作業しない"]
[108010,"ブーム解体時、高所から転落する",null,null,"安全ブロック・安全帯を使用する"]
[108010,"ブーム解体時、高所から転落する",null,null,"無理な姿勢で作業しない"]
[108010,"重量物を持って腰を痛める",null,null,"膝を使い、物を持ちあげる"]
[108010,"重量物を持って腰を痛める",null,null,"準備体操をしっかり行う"]
[108010,"重量物を持って腰を痛める",null,null,"2人1組で重量物を運ぶ"]
[109010,"移動時、躓いて転倒する",null,null,"安全通路を移動する"]
[109010,"移動時、躓いて転倒する",null,null,"近道行為を禁止する"]
[109010,"移動時、段差に躓いて転倒する",null,null,"床段差に足をのせない"]
[109010,"移動時、段差に躓いて転倒する",null,null,"安全通路を移動する"]
[109010,"スラブ上での作業中、スラブ筋に躓いて転倒する",null,null,"スラブ筋上歩行の際、足元を確認し歩行する"]
[109010,"スラブ上での作業中、スラブ筋に躓いて転倒する",null,null,"メッシュロード上を移動する"]
[109010,"スラブ上での作業中、スラブ段差に躓いて転倒する",null,null,"スラブ筋上歩行の際、足元を確認し歩行する"]
[109010,"スラブ上での作業中、スラブ段差に躓いて転倒する",null,null,"メッシュロード上を移動する"]
[109010,"溶接部で火傷する",null,null,"保護手袋を着装する"]
[109010,"溶接部で火傷する",null,null,"溶接箇所を触れるかどうか、水等で確認する"]
[109010,"検査時、吊荷が落ちて負傷する",null,null,"クレーン使用時の合図を確認する"]
[109010,"検査時、吊荷が落ちて負傷する",null,null,"吊荷直下には入らない"]
[109010,"検査時、吊荷が落ちて負傷する",null,null,"保護具を着装する"]
[109010,"一輪車での運搬時、躓いて転倒する",null,null,"安全通路を移動する"]
[109010,"一輪車での運搬時、躓いて転倒する",null,null,"近道行為を禁止する"]
[109010,"生コン車と接触する",null,null,"安全通路を移動する"]
[109010,"生コン車と接触する",null,null,"生コン運転手に誘導合図を送る"]
[109010,"エアメーター使用時、指を挟む",null,null,"使用時は手元の確認を行う"]
[109010,"エアメーター使用時、指を挟む",null,null,"無理な姿勢で作業しない"]
[109010,"エアメーター使用時、指を挟む",null,null,"保護手袋を着装する"]
[109010,"スランプコーンを引き上げる際、腰を痛める",null,null,"膝を使い、物を持ちあげる"]
[109010,"スランプコーンを引き上げる際、腰を痛める",null,null,"準備体操をしっかり行う"]
[109010,"スランプコーンを引き上げる際、腰を痛める",null,null,"無理な姿勢で作業しない"]
[110010,"資材荷吊り時アウトリガー下地盤が沈下しユニック車が転倒する",null,null,"敷鉄板並びに専用敷板を確実に敷設する"]
[110010,"資材荷吊り時敷鉄板の角にアウトリガーを設置しユニック車が転倒する",null,null,"アウトリガーが敷鉄板角部にならないように配置する"]
[110010,"資材荷吊り時過過重になりユニック車が転倒する",null,null,"作業計画書を順守する"]
[110010,"敷鉄板を敷き並べ時に下にある石をどけようとして手を入れた際にフックが外れ挟まれる",null,null,"敷鉄板の下に手などを入れない"]
[110010,"敷鉄板を敷き並べ時に下にある石をどけようとして手を入れた際にフックが外れ挟まれる",null,null,"敷鉄板を敷き並べる際には地ならしを確実に行ってから行う"]
[110010,"敷鉄板を敷き並べ時に下にある石をどけようとして手を入れた際にフックが外れ挟まれる",null,null,"敷鉄板を吊上げる際は、外れ止め付きの専用吊り具を使用する"]
[110010,"積込み中の資材の荷崩れで負傷する",null,null,"資材の結束状態を確認する"]
[110010,"積込み中の資材の荷崩れで負傷する",null,null,"安定した置き方で資材を積み込む"]
[110010,"運搬中の資材の荷崩れで負傷する",null,null,"資材の結束状態を確認する"]
[110010,"運搬中の資材の荷崩れで負傷する",null,null,"適切な人数で運搬する"]
[110010,"運搬中の資材の荷崩れで負傷する",null,null,"一度に無理してたくさん運ばない"]
[110010,"資材運搬中に躓き転倒する",null,null,"通路・運搬経路に障害物がないか確認する"]
[110010,"資材運搬中に躓き転倒する",null,null,"適切な人数で運搬する"]
[110010,"資材運搬時、台車に手を挟まれて負傷する",null,null,"台車の車輪の前に手を置かない"]
[110010,"資材運搬時、台車に手を挟まれて負傷する",null,null,"無理な体勢で作業しない"]
[110010,"敷鉄板荷吊り時に玉掛けワイヤーが外れ、敷鉄板で手足を挟む",null,null,"敷鉄板の下に手足を入れない"]
[110010,"敷鉄板荷吊り時に玉掛けワイヤーが外れ、敷鉄板で手足を挟む",null,null,"専用のフックを使用する"]
[110010,"ユニック作業中誤作動にて吊荷が振れて負傷する",null,null,"操作をあわてない"]
[110010,"ユニック作業中誤作動にて吊荷が振れて負傷する",null,null,"荷下ろし作業には合番者を配置する"]
[110010,"ユニック作業中誤作動にて吊荷が振れて負傷する",null,null,"地切りの確認（333運動）"]
[110010,"ハンドリフトを車上から下ろす時に手を挟む",null,null,"車輪の軸部等手を挟む恐れがある所に手を入れない"]
[110010,"ハンドリフトを車上から下ろす時に手を挟む",null,null,"適正な人数で運搬する"]
[110010,"ハンドリフトを車上から下ろす時に手を挟む",null,null,"一度に無理してたくさん運ばない"]
[110010,"重量物運搬時パレットが傾き倒れる",null,null,"適正な人数で運搬する"]
[110010,"重量物運搬時パレットが傾き倒れる",null,null,"通路・運搬経路に障害物がないか確認する"]
[110010,"重量物運搬時パレットが傾き倒れる",null,null,"安全通路を確認する"]
[110010,"重量物運搬時パレットが傾き倒れる",null,null,"一度に無理してたくさん運ばない"]
[110010,"移動時、躓いて転倒する",null,null,"安全通路を移動する"]
[110010,"移動時、躓いて転倒する",null,null,"近道行為を禁止する"]
[110010,"移動時、段差に躓いて転倒する",null,null,"床段差に足をのせない"]
[110010,"移動時、段差に躓いて転倒する",null,null,"安全通路を移動する"]
[110010,"材料荷揚時、吊荷が外れ落下する",null,null,"クレーン使用時の合図の徹底"]
[110010,"材料荷揚時、吊荷が外れ落下する",null,null,"声掛け合図の徹底"]
[110010,"材料荷揚時、吊荷が外れ落下する",null,null,"玉掛けワイヤーの始業前点検を実施する"]
[110010,"材料荷揚時、吊荷が外れ落下する",null,null,"吊荷荷重を確認する"]
[110010,"材料荷揚時、吊荷が外れ落下する",null,null,"吊荷下の人払いを行う"]
[110010,"材料荷揚時、吊荷が外れ落下する",null,null,"地切りの確認をする（333運動）"]
[110010,"荷揚時、玉掛けワイヤーが切れて落下する",null,null,"クレーン使用時の合図の徹底"]
[110010,"荷揚時、玉掛けワイヤーが切れて落下する",null,null,"声掛け合図の徹底"]
[110010,"荷揚時、玉掛けワイヤーが切れて落下する",null,null,"玉掛けワイヤーの始業前点検を実施する"]
[110010,"荷揚時、玉掛けワイヤーが切れて落下する",null,null,"吊荷荷重を確認する"]
[110010,"荷揚時、玉掛けワイヤーが切れて落下する",null,null,"吊荷下の人払いを行う"]
[110010,"フォークリフト移動時、作業員と接触する",null,null,"フォークリフト走行路と作業員の区分けを行う"]
[110010,"フォークリフト移動時、作業員と接触する",null,null,"声掛け合図の徹底"]
[110010,"フォークリフト移動時、作業員と接触する",null,null,"ｶﾗｰｺｰﾝによる立ち入り禁止措置を行う"]
[110010,"フォークリフト移動時、作業員と接触する",null,null,"運転手の死角に入らない"]
[110010,"工事車輛に接触する",null,null,"声掛け合図の徹底"]
[110010,"工事車輛に接触する",null,null,"運転手の死角に入らない場所で誘導を行う"]
[110010,"工事車輛に接触する",null,null,"安全誘導を行う"]
[110010,"荷台から転落する",null,null,"無理な姿勢で作業しない"]
[110010,"荷台から転落する",null,null,"安全帯を必ず使用する"]
[110010,"荷台から転落する",null,null,"昇降設備を設置する"]
[110010,"揚重機が転倒する",null,null,"アウトリガー下の敷き鉄板養生を実施する"]
[110010,"揚重機が転倒する",null,null,"地盤状況を確認する"]
[110010,"揚重機が転倒する",null,null,"足元の敷鉄板養生を確認する"]
[110010,"揚重機が転倒する",null,null,"無線機ＯＰとの合図の徹底"]
[201010,"移動時、躓いて転倒する",null,null,"安全通路を移動する"]
[201010,"移動時、躓いて転倒する",null,null,"近道行為を禁止する"]
[201010,"移動時、段差に躓いて転倒する",null,null,"床段差に足をのせない"]
[201010,"移動時、段差に躓いて転倒する",null,null,"安全通路を移動する"]
[201010,"スラブ上での作業中、スラブ筋に躓いて転倒する",null,null,"スラブ筋上歩行の際、足元を確認し歩行する"]
[201010,"スラブ上での作業中、スラブ筋に躓いて転倒する",null,null,"メッシュロード上を移動する"]
[201010,"スラブ端部・開口部から転落する",null,null,"端部・開口部作業は安全帯を必ず使用し、作業を行う"]
[201010,"スラブ端部・開口部から転落する",null,null,"無理な姿勢で作業しない"]
[201010,"スラブ端部・開口部から転落する",null,null,"昇降設備を使用する"]
[201010,"スラブ端部・開口部から転落する",null,null,"近道行為を禁止する"]
[201010,"スラブ端部・開口部から転落する",null,null,"安全通路を移動する"]
[201010,"墨出し時、吊荷が落ちて負傷する",null,null,"クレーン使用時の合図を確認する"]
[201010,"墨出し時、吊荷が落ちて負傷する",null,null,"吊荷直下には入らない"]
[201010,"重機(ＢＨ)と接触する",null,null,"安全通路を移動する"]
[201010,"重機(ＢＨ)と接触する",null,null,"声掛け合図の徹底"]
[201010,"重機(ＢＨ)と接触する",null,null,"ｶﾗｰｺｰﾝによる立ち入り禁止措置を行う"]
[201010,"重機(ＢＨ)と接触する",null,null,"重機ＯＰの死角に入らない"]
[201010,"重機(ＢＨ)と接触する",null,null,"グーパー運動を実施する"]
[201010,"足場使用時、足場から墜落する",null,null,"安全帯を掛けていない状況を作らない"]
[201010,"足場使用時、足場から墜落する",null,null,"無理な姿勢で作業しない"]
[201010,"足場使用時、足場から墜落する",null,null,"足場の始業前点検を実施する"]
[201010,"足場使用時、足場から墜落する",null,null,"作業床の墜落転落防止措置を確認する"]
[201010,"足場の隙間から墜落する",null,null,"安全帯を掛けていない状況を作らない"]
[201010,"足場の隙間から墜落する",null,null,"無理な姿勢で作業しない"]
[201010,"足場の隙間から墜落する",null,null,"足場の始業前点検を実施する"]
[201010,"足場の隙間から墜落する",null,null,"作業床の墜落転落防止措置の確認する"]
[201010,"足場上で躓いて転倒する",null,null,"足場上の資材等を整理整頓する"]
[201010,"足場上で躓いて転倒する",null,null,"無理な姿勢で作業しない"]
[201010,"足場上で躓いて転倒する",null,null,"安全通路を移動する"]
[201010,"立馬から転落する",null,null,"物を持って昇降しない"]
[201010,"立馬から転落する",null,null,"開き止め確認する"]
[201010,"立馬から転落する",null,null,"無理な姿勢で作業しない"]
[201010,"立馬から転落する",null,null,"昇降時は必ず後ろ向きにおりる"]
[201010,"梁天端から転落する",null,null,"親綱を張り、安全帯を使用する"]
[201010,"梁天端から転落する",null,null,"無理な姿勢で作業しない"]
[201010,"梁天端から転落する",null,null,"危険な箇所には登らない"]
[201010,"梁天端から転落する",null,null,"昇降設備を使用する"]
[202010,"枠組足場解体荷下ろし中、妻手摺の隙間から墜落する",null,null,"安全帯を掛けていない状況を作らない（二丁掛安全帯使用の徹底）"]
[202010,"枠組足場解体荷下ろし中、妻手摺の隙間から墜落する",null,null,"身を乗り出して合図や受け渡しを行わない"]
[202010,"足場の大バラシ時、玉掛けワイヤーに引掛かり足場が倒れる",null,null,"玉掛けワイヤーが足場材に絡まらない位置に移動させてから巻き上げる"]
[202010,"足場の大バラシ時、介錯ロープがワイヤーに引掛かり足場が倒れる",null,null,"介錯ロープが足場材に絡まらない位置に移動させてから巻き上げる"]
[202010,"足場材荷下ろし時不安定な状態で下桟に足を掛けはずれた衝撃で足場から墜落する",null,null,"安全帯が使用できない状況を作らない"]
[202010,"足場材荷下ろし時開口のある状態で下桟に足を掛けはずれた衝撃で足場から墜落する",null,null,"階段部などの開口部は養生し不安定な状態で作業しない"]
[202010,"資材にあたって負傷する",null,null,"資材を投げ渡ししない"]
[202010,"単管パイプとクランプで指を挟む",null,null,"クランプを緩める際は、単管パイプ等がずれ落ちないか確認する"]
[202010,"単管パイプとクランプで指を挟む",null,null,"挟む可能性がある箇所に指を入れない"]
[202010,"単管パイプを受け取る際、バランスを崩して転倒する",null,null,"作業する足元の確認を行う"]
[202010,"単管パイプを受け取る際、バランスを崩して転倒する",null,null,"付近に段差や障害物がないか確認する"]
[202010,"単管パイプを受け取る際、バランスを崩して転倒する",null,null,"資材を受渡す際は必ず声かけを行う"]
[202010,"外壁の控えを取付け時に折り曲げた波板で手を負傷する",null,null,"皮手袋等を使用する"]
[202010,"外壁の控えを取付け時に折り曲げた波板で手を負傷する",null,null,"波板を確実に折り曲げる"]
[202010,"材料運搬時、躓いて転倒する",null,null,"安全通路を移動する"]
[202010,"材料運搬時、躓いて転倒する",null,null,"近道行為を禁止する"]
[202010,"材料運搬時、段差に躓いて転倒する",null,null,"床段差に足をのせない"]
[202010,"材料運搬時、段差に躓いて転倒する",null,null,"安全通路を移動する"]
[202010,"地組み時、他業者と接触する",null,null,"足場組立範囲の区分けを行う"]
[202010,"地組み時、他業者と接触する",null,null,"声掛け合図の徹底"]
[202010,"地組み時、他業者と接触する",null,null,"ｶﾗｰｺｰﾝによる立ち入り禁止措置を行う"]
[202010,"資材荷卸し時、吊荷が外れ落下する",null,null,"クレーン使用時の合図の徹底"]
[202010,"資材荷卸し時、吊荷が外れ落下する",null,null,"声掛け合図の徹底"]
[202010,"資材荷卸し時、吊荷が外れ落下する",null,null,"玉掛けワイヤーの始業前点検を実施する"]
[202010,"資材荷卸し時、吊荷が外れ落下する",null,null,"吊荷荷重を確認する"]
[202010,"資材荷卸し時、吊荷が外れ落下する",null,null,"吊荷下の人払いを行う"]
[202010,"資材荷卸し時、吊荷が外れ落下する",null,null,"地切りの確認をする（333運動）"]
[202010,"足場せり上げ時、足場から墜落する",null,null,"親綱を張り安全帯を使用する"]
[202010,"足場せり上げ時、足場から墜落する",null,null,"無理な姿勢で作業しない"]
[202010,"足場せり上げ時、足場から墜落する",null,null,"足場の始業前点検を実施する"]
[202010,"足場せり上げ時、足場から墜落する",null,null,"作業床の墜落転落防止措置を確認する"]
[202010,"足場解体時、足場から墜落する",null,null,"親綱を張り安全帯を使用する"]
[202010,"足場解体時、足場から墜落する",null,null,"無理な姿勢で作業しない"]
[202010,"足場解体時、足場から墜落する",null,null,"足場の始業前点検を実施する"]
[202010,"足場解体時、足場から墜落する",null,null,"作業床の墜落転落防止措置を確認する"]
[202010,"足場せり上げ時、足場から材料等を落下させる",null,null,"無理な姿勢で作業しない"]
[202010,"足場せり上げ時、足場から材料等を落下させる",null,null,"作業下部の人払いを行う"]
[202010,"足場せり上げ時、足場から材料等を落下させる",null,null,"足場上の材料等を整理整頓する"]
[202010,"足場解体時、足場から材料等を落下させる",null,null,"無理な姿勢で作業しない"]
[202010,"足場解体時、足場から材料等を落下させる",null,null,"作業下部の人払いを行う"]
[202010,"足場解体時、足場から材料等を落下させる",null,null,"保護具を着装する"]
[202010,"足場解体時、足場から材料等を落下させる",null,null,"足場上の材料等を整理整頓する"]
[202010,"足場せり上げ時、既存物、隣接建物に接触する",null,null,"声掛け合図の徹底"]
[202010,"足場せり上げ時、既存物、隣接建物に接触する",null,null,"無理な姿勢で作業しない"]
[202010,"足場せり上げ時、既存物、隣接建物に接触する",null,null,"振り回す際は、事前に周囲確認する"]
[202010,"足場解体時、既存物、隣接建物に接触する",null,null,"声掛け合図の徹底"]
[202010,"足場解体時、既存物、隣接建物に接触する",null,null,"無理な姿勢で作業しない"]
[202010,"足場解体時、既存物、隣接建物に接触する",null,null,"振り回す際は、事前に周囲確認する"]
[202010,"足場の隙間から墜落する",null,null,"安全帯を掛けていない状況を作らない"]
[202010,"足場の隙間から墜落する",null,null,"無理な姿勢で作業しない"]
[202010,"足場の隙間から墜落する",null,null,"足場の始業前点検を実施する"]
[202010,"足場の隙間から墜落する",null,null,"作業床の墜落転落防止措置の確認する"]
[202010,"長尺物を振り回す際、作業員にぶつける",null,null,"声掛け合図の徹底"]
[202010,"長尺物を振り回す際、作業員にぶつける",null,null,"振り回す際は、事前に周囲確認し、人払いを行う"]
[202010,"長尺物を振り回す際、作業員にぶつける",null,null,"ｶﾗｰｺｰﾝによる立ち入り禁止措置を行う"]
[202010,"資材受渡し時、手が滑り、落下する",null,null,"無理な姿勢で作業しない"]
[202010,"資材受渡し時、手が滑り、落下する",null,null,"作業下部の人払いを行う"]
[202010,"資材受渡し時、手が滑り、落下する",null,null,"皮手袋を着装する"]
[202010,"資材受渡し時、手が滑り、落下する",null,null,"声掛け合図の徹底"]
[202020,"ローリング足場が倒れて負傷する",null,null,"荷重が一方向にかからないように注意する"]
[202020,"ローリング足場が倒れて負傷する",null,null,"人を乗せたまま移動しない"]
[202020,"ローリング足場が倒れて負傷する",null,null,"転倒の恐れがある時は控えを設置する"]
[202020,"材料運搬時、躓いて転倒する",null,null,"安全通路を移動する"]
[202020,"材料運搬時、躓いて転倒する",null,null,"近道行為を禁止する"]
[202020,"足場の隙間から墜落する",null,null,"安全帯を掛けていない状況を作らない"]
[202020,"足場の隙間から墜落する",null,null,"無理な姿勢で作業しない"]
[202020,"足場の隙間から墜落する",null,null,"足場の始業前点検を実施する"]
[202020,"足場の隙間から墜落する",null,null,"作業床の墜落転落防止措置の確認する"]
[202020,"足場の隙間から墜落する",null,null,"作業下部の人払いを行う"]
[202020,"足場の隙間から墜落する",null,null,"保護具を着装する"]
[202020,"足場から墜落する",null,null,"安全帯を掛けていない状況を作らない"]
[202020,"足場から墜落する",null,null,"無理な姿勢で作業しない"]
[202020,"足場から墜落する",null,null,"足場の始業前点検を実施する"]
[202020,"足場から墜落する",null,null,"作業床の墜落転落防止措置の確認する"]
[202020,"足場から墜落する",null,null,"保護具を着装する"]
[202020,"足場から資材等を落下させる",null,null,"無理な姿勢で作業しない"]
[202020,"足場から資材等を落下させる",null,null,"作業下部の人払いを行う"]
[202020,"足場から資材等を落下させる",null,null,"ｶﾗｰｺｰﾝによる立ち入り禁止措置を行う"]
[202020,"足場から資材等を落下させる",null,null,"足場上の資材等を整理整頓する"]
[202020,"地組み時、他業者と接触する",null,null,"足場組立範囲の区分けを行う"]
[202020,"地組み時、他業者と接触する",null,null,"声掛け合図の徹底"]
[202020,"地組み時、他業者と接触する",null,null,"ｶﾗｰｺｰﾝによる立ち入り禁止措置を行う"]
[202020,"長尺物を振り回す際、作業員にぶつける",null,null,"声掛け合図の徹底"]
[202020,"長尺物を振り回す際、作業員にぶつける",null,null,"振り回す際は、事前に周囲確認し、人払いを行う"]
[202020,"長尺物を振り回す際、作業員にぶつける",null,null,"ｶﾗｰｺｰﾝによる立ち入り禁止措置を行う"]
[202020,"重機と作業員が接触する",null,null,"重機と作業員の区分けを行う"]
[202020,"重機と作業員が接触する",null,null,"声掛け合図の徹底"]
[202020,"重機と作業員が接触する",null,null,"ｶﾗｰｺｰﾝによる立ち入り禁止措置を行う"]
[202020,"重機と作業員が接触する",null,null,"重機ＯＰの死角に入らない"]
[202020,"重機と作業員が接触する",null,null,"グーパー運動を実施する"]
[202020,"資材受渡し時、手が滑り、落下する",null,null,"無理な姿勢で作業しない"]
[202020,"資材受渡し時、手が滑り、落下する",null,null,"作業下部の人払いを行う"]
[202020,"資材受渡し時、手が滑り、落下する",null,null,"皮手袋を着装する"]
[202020,"資材受渡し時、手が滑り、落下する",null,null,"声掛け合図の徹底"]
[203010,"単管通路足場組立中雨天で足を滑らして足場から墜落する",null,null,"靴底の泥等を落として滑りを防止する"]
[203010,"単管通路足場組立中雨天で足を滑らして足場から墜落する",null,null,"単管パイプ上では作業しない（作業床を確保する）"]
[203010,"単管通路足場組立中雨天で足を滑らして足場から墜落する",null,null,"安全帯が使用できない状況で作業しない（二丁掛安全帯使用の徹底）"]
[203010,"材料運搬時、躓いて転倒する",null,null,"安全通路を移動する"]
[203010,"材料運搬時、躓いて転倒する",null,null,"近道行為を禁止する"]
[203010,"材料運搬時、段差に躓いて転倒する",null,null,"床段差に足をのせない"]
[203010,"材料運搬時、段差に躓いて転倒する",null,null,"安全通路を移動する"]
[203010,"通路足場から身を寄り出した際、墜落する",null,null,"安全帯を掛けていない状況を作らない"]
[203010,"通路足場から身を寄り出した際、墜落する",null,null,"無理な姿勢で作業しない"]
[203010,"通路足場から身を寄り出した際、墜落する",null,null,"足場の始業前点検を実施する"]
[203010,"通路足場から身を寄り出した際、墜落する",null,null,"作業床の墜落転落防止措置を確認する"]
[203010,"資材荷卸し時、吊荷が外れ落下する",null,null,"クレーン使用時の合図の徹底"]
[203010,"資材荷卸し時、吊荷が外れ落下する",null,null,"声掛け合図の徹底"]
[203010,"資材荷卸し時、吊荷が外れ落下する",null,null,"玉掛けワイヤーの始業前点検を実施する"]
[203010,"資材荷卸し時、吊荷が外れ落下する",null,null,"吊荷荷重を確認する"]
[203010,"資材荷卸し時、吊荷が外れ落下する",null,null,"吊荷下の人払いを行う"]
[203010,"資材荷卸し時、吊荷が外れ落下する",null,null,"地切りの確認をする（333運動）"]
[203010,"長尺物を振り回す際、作業員にぶつける",null,null,"声掛け合図の徹底"]
[203010,"長尺物を振り回す際、作業員にぶつける",null,null,"振り回す際は、事前に周囲確認し、人払いを行う"]
[203010,"長尺物を振り回す際、作業員にぶつける",null,null,"ｶﾗｰｺｰﾝによる立ち入り禁止措置を行う"]
[203010,"資材受渡し時、手が滑り、落下する",null,null,"無理な姿勢で作業しない"]
[203010,"資材受渡し時、手が滑り、落下する",null,null,"作業下部の人払いを行う"]
[203010,"資材受渡し時、手が滑り、落下する",null,null,"皮手袋を着装する"]
[203010,"資材受渡し時、手が滑り、落下する",null,null,"声掛け合図の徹底"]
[203010,"足場板を固定する際、足場板の天ビンにより墜落する",null,null,"安全帯を掛けていない状況を作らない"]
[203010,"足場板を固定する際、足場板の天ビンにより墜落する",null,null,"無理な姿勢で作業しない"]
[203010,"足場板を固定する際、足場板の天ビンにより墜落する",null,null,"2人1組で作業を行う"]
[203020,"資材荷下ろし時に落下し、人にあたる",null,null,"荷渡し時の際は必ず声を掛け合うこと"]
[203020,"資材荷下ろし時に落下し、人にあたる",null,null,"荷卸しする資材が部分的に落下しないか確認して作業にかかる"]
[203020,"資材荷下ろし時に落下し、人にあたる",null,null,"下に人がいないか確認する"]
[203020,"足場使用時、足場から墜落する",null,null,"安全帯を掛けていない状況を作らない"]
[203020,"足場使用時、足場から墜落する",null,null,"無理な姿勢で作業しない"]
[203020,"足場使用時、足場から墜落する",null,null,"足場の始業前点検を実施する"]
[203020,"足場使用時、足場から墜落する",null,null,"作業床の墜落転落防止措置を確認する"]
[203020,"長尺物を振り回す際、作業員にぶつける",null,null,"声掛け合図の徹底"]
[203020,"長尺物を振り回す際、作業員にぶつける",null,null,"振り回す際は、事前に周囲確認し、人払いを行う"]
[203020,"長尺物を振り回す際、作業員にぶつける",null,null,"ｶﾗｰｺｰﾝによる立入禁止措置を行う"]
[203020,"資材受渡し時、手が滑り、落下する",null,null,"無理な姿勢で作業しない"]
[203020,"資材受渡し時、手が滑り、落下する",null,null,"作業下部の人払いを行う"]
[203020,"資材受渡し時、手が滑り、落下する",null,null,"皮手袋を着装する"]
[203020,"資材受渡し時、手が滑り、落下する",null,null,"声掛け合図の徹底"]
[203020,"梁天端から転落する",null,null,"親綱を使って、安全帯を使用する"]
[203020,"梁天端から転落する",null,null,"無理な姿勢で作業しない"]
[203020,"梁天端から転落する",null,null,"危険な箇所には登らない"]
[203020,"足場板を固定する際、足場板の天ビンにより墜落する",null,null,"安全帯を掛けていない状況を作らない"]
[203020,"足場板を固定する際、足場板の天ビンにより墜落する",null,null,"無理な姿勢で作業しない"]
[203020,"足場板を固定する際、足場板の天ビンにより墜落する",null,null,"2人1組で作業を行う"]
[203020,"差筋で足を切る",null,null,"安全通路を確保し、歩行する"]
[203020,"差筋で足を切る",null,null,"差筋ｷｬｯﾌﾟを取り付ける"]
[203020,"差筋で足を切る",null,null,"服装の乱れを確認する"]
[203030,"ライトステップ移設中、脚が閉じて手を挟む",null,null,"開き止めを確認する"]
[203030,"足場上移動中、墜落する",null,null,"安全帯を掛けていない状況を作らない"]
[203030,"足場上移動中、墜落する",null,null,"無理な姿勢で作業しない"]
[203030,"足場上移動中、墜落する",null,null,"開口部が無いか確認する"]
[203030,"長尺物を振り回す際、作業員にぶつける",null,null,"声掛け合図の徹底"]
[203030,"長尺物を振り回す際、作業員にぶつける",null,null,"振り回す際は、事前に周囲確認し、人払いを行う"]
[203030,"資材受渡し時、手が滑り、落下する",null,null,"無理な姿勢で作業しない"]
[203030,"資材受渡し時、手が滑り、落下する",null,null,"作業下部の人払いを行う"]
[203030,"資材受渡し時、手が滑り、落下する",null,null,"皮手袋を着装する"]
[203030,"資材受渡し時、手が滑り、落下する",null,null,"声掛け合図の徹底"]
[203030,"足場板を固定する際、足場板の天ビンにより墜落する",null,null,"安全帯を掛けていない状況を作らない"]
[203030,"足場板を固定する際、足場板の天ビンにより墜落する",null,null,"無理な姿勢で作業しない"]
[203030,"足場板を固定する際、足場板の天ビンにより墜落する",null,null,"2人1組で作業を行う"]
[203030,"つりチェーンの外れにより、部材が落下する",null,null,"チェーンフックのかかりを確認する"]
[203030,"つりチェーンの外れにより、部材が落下する",null,null,"つりチェーン以外のものを使用しない"]
[203030,"つりチェーンの外れにより、部材が落下する",null,null,"無理な姿勢で作業しない"]
[203030,"手摺取付け時、墜落する",null,null,"無理な姿勢で作業しない"]
[203030,"手摺取付け時、墜落する",null,null,"安全帯を掛けていない状況を作らない"]
[203030,"梁上移動時、工具等が落下する",null,null,"無理な姿勢で作業しない"]
[203030,"梁上移動時、工具等が落下する",null,null,"足元を常に確認する"]
[203030,"梁上移動時、工具等が落下する",null,null,"紐付き工具を使用する"]
[204010,"単管一本の上でシート紐を結束時、誤って墜落する",null,null,"単管パイプ上では作業しない（作業床を確保する）"]
[204010,"単管一本の上でシート紐を結束時、誤って墜落する",null,null,"安全帯が使用できない状況で作業しない（二丁掛安全帯使用の徹底）"]
[204010,"シートが落下して人に当たる",null,null,"落下させないように仮固定してから外部に出す"]
[204010,"シートが落下して電線他に引っ掛かる",null,null,"落下させないように仮固定してから外部に出す"]
[204010,"高所作業車使用時、身を寄り出して墜落する",null,null,"安全帯を掛けていない状況を作らない"]
[204010,"高所作業車使用時、身を寄り出して墜落する",null,null,"無理な姿勢で作業しない"]
[204010,"高所作業車使用時、身を寄り出して墜落する",null,null,"高所作業車の始業前点検を実施する"]
[204010,"足場から墜落する",null,null,"安全帯を掛けていない状況を作らない"]
[204010,"足場から墜落する",null,null,"無理な姿勢で作業しない"]
[204010,"足場から墜落する",null,null,"足場の始業前点検を実施する"]
[204010,"足場から墜落する",null,null,"作業床の墜落転落防止措置の確認する"]
[204010,"足場から墜落する",null,null,"保護具を着装する"]
[204010,"足場から資材等を落下させる",null,null,"無理な姿勢で作業しない"]
[204010,"足場から資材等を落下させる",null,null,"作業下部の人払いを行う"]
[204010,"足場から資材等を落下させる",null,null,"ｶﾗｰｺｰﾝによる立ち入り禁止措置を行う"]
[204010,"足場から資材等を落下させる",null,null,"足場上の資材等を整理整頓する"]
[204010,"シートヒモを近隣家屋の屋根に落す",null,null,"シートヒモはPP袋に入れて移動する"]
[204010,"シートヒモを近隣家屋の屋根に落す",null,null,"無理な姿勢で作業しない"]
[205010,"後ろ向きに掃き掃除中コーナー部の足場の隙間から墜落する",null,null,"後ろ向きでの作業は行わない"]
[205010,"足場の隙間から墜落する",null,null,"足場は危険箇所が無いか使用前に点検・確認する"]
[205010,"資材運搬時物が落下して負傷する",null,null,"上下作業で資材を荷揚げ、荷下ろしの際は必ず声を掛け合う"]
[205010,"資材運搬時物が落下して負傷する",null,null,"不安定な状態の上に物を置かない"]
[205010,"資材運搬時物が落下して負傷する",null,null,"下に人がいないか確認する"]
[205010,"後進ダンプにひかれて負傷する",null,null,"必ず安全通路を通行する"]
[205010,"後進ダンプにひかれて負傷する",null,null,"車両と歩行者の区分けの徹底"]
[205010,"後進ダンプにひかれて負傷する",null,null,"カラーコーン・バーによる立入禁止措置の徹底"]
[205010,"後進ダンプにひかれて負傷する",null,null,"後進時運転手はサイドミラーだけでなく、自分の目で後方確認を行う。"]
[205010,"スクレイパー刃の取替時に手を切る",null,null,"無理な姿勢で作業しない"]
[205010,"スクレイパー刃の取替時に手を切る",null,null,"刃先の方向に手を置かない"]
[205010,"重量物運搬時インターロッキングに躓いて足の上に落下する",null,null,"適正な人数で運搬する"]
[205010,"重量物運搬時インターロッキングに躓いて足の上に落下する",null,null,"床に段差がないかを確認する"]
[205010,"移動時、躓いて転倒する",null,null,"安全通路を移動する"]
[205010,"移動時、躓いて転倒する",null,null,"近道行為を禁止する"]
[205010,"移動時、段差に躓いて転倒する",null,null,"床段差に足をのせない"]
[205010,"移動時、段差に躓いて転倒する",null,null,"安全通路を移動する"]
[205010,"スラブ端部・開口部から転落する",null,null,"端部・開口部作業は安全帯を必ず使用し、作業を行う"]
[205010,"スラブ端部・開口部から転落する",null,null,"無理な姿勢で作業しない"]
[205010,"スラブ端部・開口部から転落する",null,null,"昇降設備を使用する"]
[205010,"スラブ端部・開口部から転落する",null,null,"近道行為を禁止する"]
[205010,"スラブ端部・開口部から転落する",null,null,"安全通路を移動する"]
[205010,"移動時、吊荷が落ちて負傷する",null,null,"吊荷直下には入らない"]
[205010,"移動時、吊荷が落ちて負傷する",null,null,"クレーン使用時の合図を確認する"]
[205010,"廻りの重機(ＢＨ)と接触する",null,null,"安全通路を移動する"]
[205010,"廻りの重機(ＢＨ)と接触する",null,null,"声掛け合図の徹底"]
[205010,"廻りの重機(ＢＨ)と接触する",null,null,"ｶﾗｰｺｰﾝによる立ち入り禁止措置を行う"]
[205010,"廻りの重機(ＢＨ)と接触する",null,null,"重機ＯＰの死角に入らない"]
[205010,"廻りの重機(ＢＨ)と接触する",null,null,"グーパー運動を実施する"]
[205010,"足場使用時、足場から墜落する",null,null,"安全帯を掛けていない状況を作らない"]
[205010,"足場使用時、足場から墜落する",null,null,"無理な姿勢で作業しない"]
[205010,"足場使用時、足場から墜落する",null,null,"足場の始業前点検を実施する"]
[205010,"足場使用時、足場から墜落する",null,null,"作業床の墜落転落防止措置を確認する"]
[205010,"足場の隙間から墜落する",null,null,"安全帯を掛けていない状況を作らない"]
[205010,"足場の隙間から墜落する",null,null,"無理な姿勢で作業しない"]
[205010,"足場の隙間から墜落する",null,null,"足場の始業前点検を実施する"]
[205010,"足場の隙間から墜落する",null,null,"作業床の墜落転落防止措置の確認する"]
[205010,"足場上で躓いて転倒する",null,null,"足場上の資材等を整理整頓する"]
[205010,"足場上で躓いて転倒する",null,null,"無理な姿勢で作業しない"]
[205010,"足場上で躓いて転倒する",null,null,"安全通路を移動する"]
[205010,"立馬から転落する",null,null,"物を持って昇降しない"]
[205010,"立馬から転落する",null,null,"開き止めを確認する"]
[205010,"立馬から転落する",null,null,"無理な姿勢で作業しない"]
[205010,"立馬から転落する",null,null,"昇降時は必ず後ろ向きにおりる"]
[205010,"重量物を持って腰を痛める",null,null,"膝を使い、物を持ちあげる"]
[205010,"重量物を持って腰を痛める",null,null,"準備体操をしっかり行う"]
[205010,"重量物を持って腰を痛める",null,null,"2人1組で重量物を運ぶ"]
[205010,"足場清掃時、足場からガラ等を落下させる",null,null,"無理な姿勢で作業しない"]
[205010,"足場清掃時、足場からガラ等を落下させる",null,null,"作業下部の人払いを行う"]
[205010,"資材片付け時、資材で手を挟む",null,null,"不安定な状態で資材を持ち上げない"]
[205010,"資材片付け時、資材で手を挟む",null,null,"危険な所に手を入れない"]
[205010,"ピット内昇降時、足を滑らせ墜落する",null,null,"昇降時、上下・頭上・足元を確認する"]
[205010,"ピット内清掃時、ピット内で酸欠になる",null,null,"送風機を使用する"]
[205010,"ピット内清掃時、ピット内で酸欠になる",null,null,"一人作業はしない"]
[205010,"ピット内清掃時、ピット内で酸欠になる",null,null,"ピットに入る際は酸素濃度を測定する"]
[205010,"ピット内清掃時、ピット内で酸欠になる",null,null,"監視人を配置する"]
[205010,"ピット内清掃時、ピット内で酸欠になる",null,null,"特別教育を受けて作業する"]
[205020,"移動時、躓いて転倒する",null,null,"安全通路を移動する"]
[205020,"移動時、躓いて転倒する",null,null,"近道行為を禁止する"]
[205020,"移動時、段差に躓いて転倒する",null,null,"床段差に足をのせない"]
[205020,"移動時、段差に躓いて転倒する",null,null,"安全通路を移動する"]
[205020,"刃物で手を切る",null,null,"刃物を動かす方向に手を置かない"]
[205020,"刃物で手を切る",null,null,"無理な姿勢で作業しない"]
[205020,"刃物で手を切る",null,null,"刃の出し入れを確認する"]
[205020,"カッターナイフで手を切る",null,null,"カッターナイフを動かす方向に手を置かない"]
[205020,"カッターナイフで手を切る",null,null,"無理な姿勢で作業しない"]
[205020,"カッターナイフで手を切る",null,null,"刃の出し入れを確認する"]
[205020,"足場使用時、足場から墜落する",null,null,"安全帯を掛けていない状況を作らない"]
[205020,"足場使用時、足場から墜落する",null,null,"無理な姿勢で作業しない"]
[205020,"足場使用時、足場から墜落する",null,null,"足場の始業前点検を実施する"]
[205020,"足場使用時、足場から墜落する",null,null,"作業床の墜落転落防止措置を確認する"]
[205020,"足場の隙間から墜落する",null,null,"安全帯を掛けていない状況を作らない"]
[205020,"足場の隙間から墜落する",null,null,"無理な姿勢で作業しない"]
[205020,"足場の隙間から墜落する",null,null,"足場の始業前点検を実施する"]
[205020,"足場の隙間から墜落する",null,null,"作業床の墜落転落防止措置の確認する"]
[205020,"足場上で躓いて転倒する",null,null,"足場上の資材等を整理整頓する"]
[205020,"足場上で躓いて転倒する",null,null,"無理な姿勢で作業しない"]
[205020,"足場上で躓いて転倒する",null,null,"安全通路を移動する"]
[205020,"立馬から転落する",null,null,"物を持って昇降しない"]
[205020,"立馬から転落する",null,null,"開き止めを確認する"]
[205020,"立馬から転落する",null,null,"無理な姿勢で作業しない"]
[205020,"立馬から転落する",null,null,"昇降時は必ず後ろ向きにおりる"]
[205020,"スラブ端部や開口部から転落する",null,null,"端部・開口部作業は必ず安全帯を使用する"]
[205020,"スラブ端部や開口部から転落する",null,null,"無理な姿勢で作業しない"]
[205020,"スラブ端部や開口部から転落する",null,null,"昇降設備を使用する"]
[205020,"スラブ端部や開口部から転落する",null,null,"近道行為を禁止する"]
[205020,"スラブ端部や開口部から転落する",null,null,"安全通路を移動する"]
[206010,"クレーンで荷吊り時、荷が振れて落下する",null,null,"吊荷直下に人を立ち入らせない"]
[206010,"クレーンで荷吊り時、荷が振れて落下する",null,null,"作業場所の確保"]
[206010,"クレーンで荷吊り時、荷が振れて落下する",null,null,"作業手順の整備・確認・順守"]
[206010,"クレーンで荷吊り時、荷が振れて落下する",null,null,"地切りの確認（333運動）"]
[206010,"ガス切断時アセチレンガスが漏れ、火事になる",null,null,"石鹸水を用意してホースの穴の点検を行う"]
[206010,"ガス切断時アセチレンガスが漏れ、火事になる",null,null,"バルブやその他の金具に破損がないか点検する"]
[206010,"ガス切断時アセチレンガスが漏れ、火事になる",null,null,"火気使用届願いの内容を確実に行う"]
[206010,"ガス切断時アセチレンガスが漏れ、火事になる",null,null,"火の粉の付近にボンベや可燃物を置かない"]
[206010,"ガス切断時アセチレンガスが漏れ、火事になる",null,null,"消火器を必ず用意する"]
[206010,"移動時、躓いて転倒する",null,null,"安全通路を移動する"]
[206010,"移動時、躓いて転倒する",null,null,"近道行為を禁止する"]
[206010,"移動時、段差に躓いて転倒する",null,null,"床段差に足をのせない"]
[206010,"移動時、段差に躓いて転倒する",null,null,"安全通路を移動する"]
[206010,"搬入車輛に接触する",null,null,"車輛運行スペースを確保する"]
[206010,"搬入車輛に接触する",null,null,"声掛け合図の徹底"]
[206010,"搬入車輛に接触する",null,null,"ｶﾗｰｺｰﾝによる立ち入り禁止措置を行う"]
[206010,"搬入車輛に接触する",null,null,"車輛と歩行者の区分けを行う"]
[206010,"工事車輛の搬出入時、第三者と接触する",null,null,"誘導員の合図に従う"]
[206010,"工事車輛の搬出入時、第三者と接触する",null,null,"第三者から見える場所で合図する"]
[206010,"工事車輛の搬出入時、第三者と接触する",null,null,"声掛け合図の徹底"]
[206010,"工事車輛の搬出入時、第三者と接触する",null,null,"第三者優先で誘導を行う"]
[206010,"構台を仮置きする際、手を挟む",null,null,"不安定な状態で構台を置かない"]
[206010,"構台を仮置きする際、手を挟む",null,null,"危険な所に手を入れない"]
[206010,"構台を仮置きする際、手を挟む",null,null,"荷吊りの際はオペとの合図確認を行う"]
[206010,"構台を仮置きする際、手を挟む",null,null,"不安定な状態で構台を吊り上げない"]
[206010,"クレーン使用時、吊荷が外れ落下する",null,null,"クレーン使用時の合図の徹底"]
[206010,"クレーン使用時、吊荷が外れ落下する",null,null,"声掛け合図の徹底"]
[206010,"クレーン使用時、吊荷が外れ落下する",null,null,"専用吊り具の始業前点検を実施する"]
[206010,"クレーン使用時、吊荷が外れ落下する",null,null,"吊荷荷重を確認する"]
[206010,"クレーン使用時、吊荷が外れ落下する",null,null,"吊荷下の人払いを行う"]
[206010,"クレーン使用時、吊荷が外れ落下する",null,null,"地切りの確認をする（333運動）"]
[206010,"クレーン使用時、吊荷が外れ落下する",null,null,"専用吊り具を使用する"]
[206010,"クレーン使用時、玉掛けワイヤーが切れ、吊荷が落下する",null,null,"玉掛けワイヤーの始業前点検を実施する"]
[206010,"クレーン使用時、玉掛けワイヤーが切れ、吊荷が落下する",null,null,"声掛け合図の徹底"]
[206010,"クレーン使用時、玉掛けワイヤーが切れ、吊荷が落下する",null,null,"吊荷下の人払いを行う"]
[206010,"クレーン使用時、玉掛けワイヤーが切れ、吊荷が落下する",null,null,"吊荷荷重を確認する"]
[206010,"構台架設時、吊荷が振れて手を挟む",null,null,"不安定な状態で構台を吊り上げない"]
[206010,"構台架設時、吊荷が振れて手を挟む",null,null,"危険な所に手を入れない"]
[206010,"構台架設時、吊荷が振れて手を挟む",null,null,"荷吊りの際はオペとの合図確認を行う"]
[206010,"構台架設時、梁から墜落する",null,null,"安全帯を掛けていない状況を作らない"]
[206010,"構台架設時、梁から墜落する",null,null,"安全帯を使用し、足元を確認して歩行する"]
[206010,"構台架設時、梁から墜落する",null,null,"不安全行動を禁止する"]
[206010,"構台架設時、梁から墜落する",null,null,"近道行為を禁止する"]
[206010,"構台架設時、手が滑り工具類が落下する",null,null,"無理な姿勢で作業しない"]
[206010,"構台架設時、手が滑り工具類が落下する",null,null,"作業下部の人払いを行う"]
[206010,"構台架設時、手が滑り工具類が落下する",null,null,"工具袋を使用する"]
[206010,"溶接時、火花が飛散する",null,null,"火の粉の付近に可燃物を置かない"]
[206010,"溶接時、火花が飛散する",null,null,"消火器・消火バケツを設置する"]
[206010,"溶接時、火花が飛散する",null,null,"火気使用時の下部の人払いを行う"]
[206010,"鋼材切断時、火傷する",null,null,"消火器・消火バケツを設置する"]
[206010,"鋼材切断時、火傷する",null,null,"火気使用時の下部の人払いを行う"]
[206010,"鋼材切断時、火傷する",null,null,"保護具を着装する"]
[206010,"鋼材切断時、火傷する",null,null,"切断箇所に手足を近づけない"]
[206010,"構台解体時、吊荷が振れて手を挟む",null,null,"不安定な状態で構台を吊り上げない"]
[206010,"構台解体時、吊荷が振れて手を挟む",null,null,"危険な所に手を入れない"]
[206010,"構台解体時、吊荷が振れて手を挟む",null,null,"荷吊りの際はオペとの合図確認を行う"]
[206010,"構台解体時、梁から墜落する",null,null,"安全帯を掛けていない状況を作らない"]
[206010,"構台解体時、梁から墜落する",null,null,"安全帯を使用し、足元を確認して歩行する"]
[206010,"構台解体時、梁から墜落する",null,null,"不安全行動を禁止する"]
[206010,"構台解体時、梁から墜落する",null,null,"近道行為を禁止する"]
[206010,"構台解体時、手が滑り工具類が落下する",null,null,"無理な姿勢で作業しない"]
[206010,"構台解体時、手が滑り工具類が落下する",null,null,"作業下部の人払いを行う"]
[206010,"構台解体時、手が滑り工具類が落下する",null,null,"工具袋を使用する"]
[301010,"敷鉄板吊り込み時に、玉掛けワイヤーがはずれて落下する",null,null,"吊治具、玉掛けワイヤーは専用のものを使用する"]
[301010,"敷鉄板吊り込み時に、玉掛けワイヤーがはずれて落下する",null,null,"介錯者は鉄板の下に手などを入れない"]
[301010,"敷鉄板吊り込み時に、玉掛けワイヤーがはずれて落下する",null,null,"介錯者は鉄板で重機オペから死角に入らない"]
[301010,"敷鉄板を不安定な状態（ﾊﾞｯｸﾌｫｰの爪）で保持しはずれて人にあたる",null,null,"立ち入り禁止区域に入らない"]
[301010,"敷鉄板を不安定な状態で保持しはずれて人にあたる",null,null,"敷鉄板を吊り上げる際は、外れ止め付き専用吊り具を使用する"]
[301010,"ダンプ車荷台上から急発進され反動で転落する",null,null,"荷台に人がいないかを確認してから発進する"]
[301010,"ダンプ車荷台上から急発進され反動で転落する",null,null,"荷台にいる事を運転手に告げ完了合図を送る事を事前に打合せしておく"]
[301010,"ガラを運搬中、床段差部で一輪車を持上げて腰を痛める",null,null,"無理な体勢で物を持上げない"]
[301010,"ガラを運搬中、床段差部で一輪車を持上げて腰を痛める",null,null,"段差部はスロープを設置する等の通路を確保する"]
[301010,"砕石敷均し中、後進してきたダンプにひかれる",null,null,"立入禁止箇所を周知し、全員がその認識のもと作業にあたる"]
[301010,"砕石敷均し中、後進してきたダンプにひかれる",null,null,"後進作業は行わない"]
[301010,"生コンバケツをクレーンにて吊り土砂を降ろす時に反動で手を挟む",null,null,"一気に解放せず徐々に様子を見ながら土砂を搬出する"]
[301010,"生コンバケツをクレーンにて吊り土砂を降ろす時に反動で手を挟む",null,null,"玉掛けは有資格者が行い、声かけの実施を行う"]
[301010,"敷鉄板敷き込み時、足を滑らせて転倒する",null,null,"敷鉄板上ではあわてないで作業する"]
[301010,"敷鉄板敷き込み時、足を滑らせて転倒する",null,null,"後ろ向きで作業しなければならない時は必ず背後を確認する"]
[301010,"敷鉄板敷き込み時、足を滑らせて転倒する",null,null,"滑りやすい所がないか確認する"]
[301010,"資材等を持ち上げようとして腰を痛める",null,null,"無理な姿勢で持ち上げない"]
[301010,"資材等を持ち上げようとして腰を痛める",null,null,"膝を使い、物を持ち上げる"]
[301010,"重機使用時に誤って旋回レバーに触れ、作業員と接触する",null,null,"重機作業範囲内立入禁止"]
[301010,"工事車輛の搬出入時、第三者と接触する",null,null,"誘導員の合図に従う"]
[301010,"工事車輛の搬出入時、第三者と接触する",null,null,"第三者から見える場所で合図する"]
[301010,"工事車輛の搬出入時、第三者と接触する",null,null,"声掛け合図の徹底"]
[301010,"工事車輛の搬出入時、第三者と接触する",null,null,"第三者優先で誘導を行う"]
[301010,"ダンプ後退時、バックホーと接触する",null,null,"声掛け合図の徹底"]
[301010,"ダンプ後退時、バックホーと接触する",null,null,"安全誘導の合図をする"]
[301010,"ダンプ後退時、バックホーと接触する",null,null,"後退時運転手はｻｲﾄﾞﾐﾗｰだけでなく、自分の目で後方を確認する"]
[301010,"搬出車輛が作業員と接触する",null,null,"声掛け合図の徹底"]
[301010,"搬出車輛が作業員と接触する",null,null,"安全誘導の合図をする"]
[301010,"搬出車輛が作業員と接触する",null,null,"法定速度を遵守する"]
[301010,"搬出車輛が作業員と接触する",null,null,"搬出入車輛と作業員の通路の区分けを行う"]
[301010,"重機(ＢＨ)と作業員が接触する",null,null,"重機と作業員の区分けを行う"]
[301010,"重機(ＢＨ)と作業員が接触する",null,null,"声掛け合図の徹底"]
[301010,"重機(ＢＨ)と作業員が接触する",null,null,"ｶﾗｰｺｰﾝによる立ち入り禁止措置を行う"]
[301010,"重機(ＢＨ)と作業員が接触する",null,null,"重機ＯＰの死角に入らない"]
[301010,"重機(ＢＨ)と作業員が接触する",null,null,"グーパー運動を実施する"]
[301010,"法面(土砂)が崩壊する",null,null,"法面養生を行う"]
[301010,"法面(土砂)が崩壊する",null,null,"法面状況を確認する"]
[301010,"地山が崩壊する",null,null,"ﾌﾞﾙｰｼｰﾄで養生を行う"]
[301010,"地山が崩壊する",null,null,"地山状況を確認する"]
[301010,"残土が近隣家屋に流れる",null,null,"近隣家屋との離隔距離を確認する"]
[301010,"残土が近隣家屋に流れる",null,null,"重機ＯＰや手元は周囲の安全確認を行う"]
[301010,"残土が近隣家屋に流れる",null,null,"土が流れない様、ﾌﾞﾙｰｼｰﾄ､ﾍﾞﾆｱ等で養生する"]
[301010,"材料運搬時、躓いて転倒する",null,null,"安全通路を移動する"]
[301010,"材料運搬時、躓いて転倒する",null,null,"近道行為を禁止する"]
[301010,"材料運搬時、段差に躓いて転倒する",null,null,"床段差に足をのせない"]
[301010,"材料運搬時、段差に躓いて転倒する",null,null,"安全通路を移動する"]
[301010,"地山・開口部から転落する",null,null,"端部・開口部作業は安全帯を必ず使用する"]
[301010,"地山・開口部から転落する",null,null,"無理な姿勢で作業しない"]
[301010,"地山・開口部から転落する",null,null,"昇降設備を使用する"]
[301010,"地山・開口部から転落する",null,null,"近道行為を禁止する"]
[301010,"地山・開口部から転落する",null,null,"安全通路を移動する"]
[301010,"敷鉄板で手を挟む",null,null,"敷き鉄板の下に手を入れない"]
[301010,"敷鉄板で手を挟む",null,null,"敷き鉄板を吊り上げる際は、専用吊り具を使用する"]
[301010,"敷鉄板で手を挟む",null,null,"吊り具の始業前点検を実施する"]
[301010,"敷鉄板で手を挟む",null,null,"声掛け合図の徹底"]
[301010,"ピット内昇降時、足を滑らせ墜落する",null,null,"安全ブロックを使用する"]
[301010,"ピット内昇降時、足を滑らせ墜落する",null,null,"昇降時、上下・頭上・足元を確認する"]
[301010,"不安定な状態で電動丸のこで指を切る",null,null,"電動工具の始業前点検を実施する"]
[301010,"不安定な状態で電動丸のこで指を切る",null,null,"丸のこの保護カバーの使用する"]
[301010,"不安定な状態で電動丸のこで指を切る",null,null,"無理な姿勢で作業しない"]
[301010,"雨天時、丸のこを使用して感電する",null,null,"ゴム手袋を使用する"]
[301010,"雨天時、丸のこを使用して感電する",null,null,"雨がかかる場所では使用しない"]
[301010,"雨天時、丸のこを使用して感電する",null,null,"丸のこの始業前点検を実施する"]
[301010,"雨天時、電動工具を使用して漏電する",null,null,"雨がかかる場所では使用しない"]
[301010,"雨天時、電動工具を使用して漏電する",null,null,"コンセントは雨が掛らない様、養生する"]
[301010,"雨天時、電動工具を使用して漏電する",null,null,"電動工具の始業前点検を実施する"]
[301010,"誤ってハンマーで指を叩く",null,null,"使用時は手元の確認を行う"]
[301010,"誤ってハンマーで指を叩く",null,null,"暗い箇所では使用しない(手元の照明を明るくする)"]
[301010,"誤ってハンマーで指を叩く",null,null,"保護手袋を着装する"]
[301020,"クレーンで荷吊り時、荷崩れを起こし手を挟む",null,null,"地切りの確認（333運動）を行う"]
[301020,"クレーンで荷吊り時、荷崩れを起こし手を挟む",null,null,"不安定な状態で吊上げない"]
[301020,"クレーンで荷吊り時、荷崩れを起こし手を挟む",null,null,"他者が吊り作業中は作業を中断し待機する（近づいて無理に作業しない）"]
[301020,"鋼矢板吊込作業時、ﾗｼﾞｺﾝｼｬｯｸﾙが玉掛けワイヤーごとはずれて落下し接触する",null,null,"玉掛けワイヤーは一本吊で使用しない"]
[301020,"鋼矢板吊込作業時、ﾗｼﾞｺﾝｼｬｯｸﾙが玉掛けワイヤーごとはずれて落下し接触する",null,null,"ﾗｼﾞｺﾝ操作で取外しを行う時は移動完了するまで目を離さない"]
[301020,"重機移動時に敷鉄板で足を挟む",null,null,"危険な所に足を入れない"]
[301020,"重機移動時に敷鉄板で足を挟む",null,null,"重機作業範囲内立入禁止"]
[301020,"重機移動時に敷鉄板で足を挟む",null,null,"敷鉄板に段差・浮きがないか、敷鉄板が動かないかを確認する"]
[301020,"鉄骨を仮置きする際、手を挟む",null,null,"不安定な状態で鋼材を置かない"]
[301020,"鉄骨を仮置きする際、手を挟む",null,null,"危険な所に手を入れない"]
[301020,"鉄骨を仮置きする際、手を挟む",null,null,"荷吊りの際はオペとの合図確認を行う"]
[301020,"鉄骨を仮置きする際、手を挟む",null,null,"不安定な状態で鋼材を吊り上げない"]
[301020,"搬入車輛に接触する",null,null,"車輛運行スペースを確保する"]
[301020,"搬入車輛に接触する",null,null,"声掛け合図の徹底"]
[301020,"搬入車輛に接触する",null,null,"ｶﾗｰｺｰﾝによる立ち入り禁止措置を行う"]
[301020,"搬入車輛に接触する",null,null,"車輛と歩行者の区分けを行う"]
[301020,"工事車輛の搬出入時、第三者と接触する",null,null,"誘導員の合図に従う"]
[301020,"工事車輛の搬出入時、第三者と接触する",null,null,"第三者から見える場所で合図する"]
[301020,"工事車輛の搬出入時、第三者と接触する",null,null,"声掛け合図の徹底"]
[301020,"工事車輛の搬出入時、第三者と接触する",null,null,"第三者優先で誘導を行う"]
[301020,"建方時、吊荷が外れ落下する",null,null,"クレーン使用時の合図の徹底"]
[301020,"建方時、吊荷が外れ落下する",null,null,"声掛け合図の徹底"]
[301020,"建方時、吊荷が外れ落下する",null,null,"専用吊り具の始業前点検を実施する"]
[301020,"建方時、吊荷が外れ落下する",null,null,"吊荷荷重を確認する"]
[301020,"建方時、吊荷が外れ落下する",null,null,"吊荷下の人払いを行う"]
[301020,"建方時、吊荷が外れ落下する",null,null,"地切りの確認をする（333運動）"]
[301020,"建方時、吊荷が外れ落下する",null,null,"専用吊り具を使用する"]
[301020,"重機と作業員が接触する",null,null,"重機と作業員の区分けを行う"]
[301020,"重機と作業員が接触する",null,null,"声掛け合図の徹底"]
[301020,"重機と作業員が接触する",null,null,"ｶﾗｰｺｰﾝによる立ち入り禁止措置を行う"]
[301020,"重機と作業員が接触する",null,null,"重機の死角に入らない"]
[301020,"削孔時に重機が転倒する",null,null,"アウトリガー下の敷き鉄板養生を実施する"]
[301020,"削孔時に重機が転倒する",null,null,"吊荷荷重を確認する"]
[301020,"削孔時に重機が転倒する",null,null,"声掛け合図の徹底"]
[301020,"削孔時に重機が転倒する",null,null,"地盤状況を確認する"]
[301020,"建方時、玉掛けワイヤーが切れ、吊荷が落下する",null,null,"玉掛けワイヤーの始業前点検を実施する"]
[301020,"建方時、玉掛けワイヤーが切れ、吊荷が落下する",null,null,"声掛け合図の徹底"]
[301020,"建方時、玉掛けワイヤーが切れ、吊荷が落下する",null,null,"吊荷下の人払いを行う"]
[301020,"建方時、玉掛けワイヤーが切れ、吊荷が落下する",null,null,"吊荷荷重を確認する"]
[301020,"建方時、玉掛けワイヤーが切れ、吊荷が落下する",null,null,"専用吊り具を使用する"]
[301020,"山留め架設時、吊荷が振れて手を挟む",null,null,"不安定な状態で鋼材を吊り上げない"]
[301020,"山留め架設時、吊荷が振れて手を挟む",null,null,"危険な所に手を入れない"]
[301020,"山留め架設時、吊荷が振れて手を挟む",null,null,"荷吊りの際はオペとの合図確認を行う"]
[301020,"鋼材切断時、火傷する",null,null,"消火器・消火バケツを設置する"]
[301020,"鋼材切断時、火傷する",null,null,"火気使用時の下部の人払いを行う"]
[301020,"鋼材切断時、火傷する",null,null,"保護具を着装する"]
[301020,"鋼材切断時、火傷する",null,null,"切断箇所に手を近づけない"]
[301020,"シートパイルを倒す際、手を挟む",null,null,"不安定な状態で鋼材を吊り上げない"]
[301020,"シートパイルを倒す際、手を挟む",null,null,"危険な所に手を入れない"]
[301020,"シートパイルを倒す際、手を挟む",null,null,"荷吊りの際はオペとの合図確認を行う"]
[301020,"シートパイルを倒す際、手を挟む",null,null,"声掛け合図の徹底"]
[301030,"移動時、躓いて転倒する",null,null,"安全通路を移動する"]
[301030,"移動時、躓いて転倒する",null,null,"近道行為を禁止する"]
[301030,"移動時、段差に躓いて転倒する",null,null,"床段差に足をのせない"]
[301030,"移動時、段差に躓いて転倒する",null,null,"安全通路を移動する"]
[301030,"搬入車輛に接触する",null,null,"車輛運行スペースを確保する"]
[301030,"搬入車輛に接触する",null,null,"声掛け合図の徹底"]
[301030,"搬入車輛に接触する",null,null,"ｶﾗｰｺｰﾝによる立ち入り禁止措置を行う"]
[301030,"搬入車輛に接触する",null,null,"車輛と歩行者の区分けを行う"]
[301030,"工事車輛の搬出入時、第三者と接触する",null,null,"誘導員の合図に従う"]
[301030,"工事車輛の搬出入時、第三者と接触する",null,null,"第三者から見える場所で合図する"]
[301030,"工事車輛の搬出入時、第三者と接触する",null,null,"声掛け合図の徹底"]
[301030,"工事車輛の搬出入時、第三者と接触する",null,null,"第三者優先で誘導を行う"]
[301030,"鋼材を仮置きする際、手を挟む",null,null,"不安定な状態で鋼材を置かない"]
[301030,"鋼材を仮置きする際、手を挟む",null,null,"危険な所に手を入れない"]
[301030,"鋼材を仮置きする際、手を挟む",null,null,"荷吊りの際はオペとの合図確認を行う"]
[301030,"鋼材を仮置きする際、手を挟む",null,null,"不安定な状態で鋼材を吊り上げない"]
[301030,"クレーン使用時、吊荷が外れ落下する",null,null,"クレーン使用時の合図の徹底"]
[301030,"クレーン使用時、吊荷が外れ落下する",null,null,"声掛け合図の徹底"]
[301030,"クレーン使用時、吊荷が外れ落下する",null,null,"専用吊り具の始業前点検を実施する"]
[301030,"クレーン使用時、吊荷が外れ落下する",null,null,"吊荷荷重を確認する"]
[301030,"クレーン使用時、吊荷が外れ落下する",null,null,"吊荷下の人払いを行う"]
[301030,"クレーン使用時、吊荷が外れ落下する",null,null,"地切りの確認をする（333運動）"]
[301030,"クレーン使用時、吊荷が外れ落下する",null,null,"専用吊り具を使用する"]
[301030,"クレーン使用時、玉掛けワイヤーが切れ、吊荷が落下する",null,null,"玉掛けワイヤーの始業前点検を実施する"]
[301030,"クレーン使用時、玉掛けワイヤーが切れ、吊荷が落下する",null,null,"声掛け合図の徹底"]
[301030,"クレーン使用時、玉掛けワイヤーが切れ、吊荷が落下する",null,null,"吊荷下の人払いを行う"]
[301030,"クレーン使用時、玉掛けワイヤーが切れ、吊荷が落下する",null,null,"吊荷荷重を確認する"]
[301030,"切梁架設時、吊荷が振れて手を挟む",null,null,"不安定な状態で構台を吊り上げない"]
[301030,"切梁架設時、吊荷が振れて手を挟む",null,null,"危険な所に手を入れない"]
[301030,"切梁架設時、吊荷が振れて手を挟む",null,null,"荷吊りの際はオペとの合図確認を行う"]
[301030,"切梁架設時、梁から墜落する",null,null,"安全帯を掛けていない状況を作らない"]
[301030,"切梁架設時、梁から墜落する",null,null,"安全帯を使用し、足元を確認して歩行する"]
[301030,"切梁架設時、梁から墜落する",null,null,"不安全行動を禁止する"]
[301030,"切梁架設時、梁から墜落する",null,null,"近道行為を禁止する"]
[301030,"切梁架設時、手が滑り工具類が落下する",null,null,"無理な姿勢で作業しない"]
[301030,"切梁架設時、手が滑り工具類が落下する",null,null,"作業下部の人払いを行う"]
[301030,"切梁架設時、手が滑り工具類が落下する",null,null,"工具袋を使用する"]
[301030,"溶接時、火花が飛散する",null,null,"火の粉の付近に可燃物を置かない"]
[301030,"溶接時、火花が飛散する",null,null,"消火器・消火バケツを設置する"]
[301030,"溶接時、火花が飛散する",null,null,"火気使用時の下部の人払いを行う"]
[301030,"鋼材切断時、火傷する",null,null,"消火器・消火バケツを設置する"]
[301030,"鋼材切断時、火傷する",null,null,"火気使用時の下部の人払いを行う"]
[301030,"鋼材切断時、火傷する",null,null,"保護具を着装する"]
[301030,"鋼材切断時、火傷する",null,null,"切断箇所に手足を近づけない"]
[301030,"切梁解体時、吊荷が振れて手を挟む",null,null,"不安定な状態で構台を吊り上げない"]
[301030,"切梁解体時、吊荷が振れて手を挟む",null,null,"危険な所に手を入れない"]
[301030,"切梁解体時、吊荷が振れて手を挟む",null,null,"荷吊りの際はオペとの合図確認を行う"]
[301030,"切梁解体時、梁から墜落する",null,null,"安全帯を掛けていない状況を作らない"]
[301030,"切梁解体時、梁から墜落する",null,null,"安全帯を使用し、足元を確認して歩行する"]
[301030,"切梁解体時、梁から墜落する",null,null,"不安全行動を禁止する"]
[301030,"切梁解体時、梁から墜落する",null,null,"近道行為を禁止する"]
[301030,"切梁解体時、手が滑り工具類が落下する",null,null,"無理な姿勢で作業しない"]
[301030,"切梁解体時、手が滑り工具類が落下する",null,null,"作業下部の人払いを行う"]
[301030,"切梁解体時、手が滑り工具類が落下する",null,null,"工具袋を使用する"]
[302010,"インパクトドライバー使用時、指を巻き込まれて負傷する",null,null,"使用時は十分に手元の確認を行う"]
[302010,"インパクトドライバー使用時、指を巻き込まれて負傷する",null,null,"点検・整備時は電源を切る"]
[302010,"インパクトドライバー使用時、指を巻き込まれて負傷する",null,null,"仮置きの際もむやみに危険な場所に手を当てない"]
[302010,"杭周廻りのぬかるみに足をとられ、転倒する",null,null,"足元の状況を確かめて移動する"]
[302010,"クレーンで荷吊り時、荷が振れて手を挟む",null,null,"危険な所に手を入れない"]
[302010,"クレーンで荷吊り時、荷が振れて手を挟む",null,null,"不安定な状態で吊上げない"]
[302010,"クレーンで荷吊り時、荷が振れて手を挟む",null,null,"地切りの確認（333運動）"]
[302010,"荷吊り中、吊りフックから外れ敷鉄板で手を挟む",null,null,"敷鉄板の下に手を入れない"]
[302010,"荷吊り中、吊りフックから外れ敷鉄板で手を挟む",null,null,"敷鉄板が荷振れ中に専用吊治具を外そうとはしない"]
[302010,"玉掛け作業時、吊り治具が体に当たり負傷する",null,null,"吊荷の直下に人を立ち入らせない"]
[302010,"玉掛け作業時、吊り治具が体に当たり負傷する",null,null,"声の掛合いの徹底で、人に物が当たらないように注意する"]
[302010,"玉掛け作業時、吊り治具が体に当たり負傷する",null,null,"不安定な状態で吊上げない"]
[302010,"玉掛け作業時、吊り治具が体に当たり負傷する",null,null,"地切りの確認（333運動）"]
[302010,"ホース先端よりセメントミルクが飛び出し顔にかかる",null,null,"保護メガネの着装"]
[302010,"ホース先端よりセメントミルクが飛び出し顔にかかる",null,null,"ホースの先端に顔を近づけない"]
[302010,"工事車輛の搬出入時、第三者と接触する",null,null,"誘導員の合図に従う"]
[302010,"工事車輛の搬出入時、第三者と接触する",null,null,"第三者から見える場所で合図する"]
[302010,"工事車輛の搬出入時、第三者と接触する",null,null,"声掛け合図の徹底"]
[302010,"工事車輛の搬出入時、第三者と接触する",null,null,"第三者優先で誘導を行う"]
[302010,"資材荷卸し時、吊荷が振れて接触する",null,null,"不安定な状態で資材を吊り上げない"]
[302010,"資材荷卸し時、吊荷が振れて接触する",null,null,"声掛け合図の徹底"]
[302010,"資材荷卸し時、吊荷が振れて接触する",null,null,"荷吊りの際はオペとの合図確認を行う"]
[302010,"資材荷卸し時、吊荷が振れて接触する",null,null,"介錯ロープを使用する"]
[302010,"資材荷卸し時、吊荷が外れ落下する",null,null,"クレーン使用時の合図の徹底"]
[302010,"資材荷卸し時、吊荷が外れ落下する",null,null,"声掛け合図の徹底"]
[302010,"資材荷卸し時、吊荷が外れ落下する",null,null,"玉掛けワイヤーの始業前点検を実施する"]
[302010,"資材荷卸し時、吊荷が外れ落下する",null,null,"吊荷荷重を確認する"]
[302010,"資材荷卸し時、吊荷が外れ落下する",null,null,"吊荷下の人払いを行う"]
[302010,"資材荷卸し時、吊荷が外れ落下する",null,null,"地切りの確認をする（333運動）"]
[302010,"荷卸し時、トレーラー上から転落する",null,null,"スタンション・親綱を使用する"]
[302010,"荷卸し時、トレーラー上から転落する",null,null,"安全帯を使用する"]
[302010,"荷卸し時、トレーラー上から転落する",null,null,"声掛け合図の徹底"]
[302010,"荷卸し時、トレーラー上から転落する",null,null,"無理な姿勢で作業しない"]
[302010,"資材積込み時、荷崩れして挟まれる",null,null,"不安定な状態で資材を積み込まない"]
[302010,"資材積込み時、荷崩れして挟まれる",null,null,"声掛け合図の徹底"]
[302010,"資材積込み時、荷崩れして挟まれる",null,null,"積込み手順を厳守する"]
[302010,"資材積込み時、荷崩れして挟まれる",null,null,"危険な所に手・足を入れない"]
[302010,"ダンプ後退時、バックホーと接触する",null,null,"声掛け合図の徹底"]
[302010,"ダンプ後退時、バックホーと接触する",null,null,"安全誘導の合図をする"]
[302010,"ダンプ後退時、バックホーと接触する",null,null,"後退時運転手はｻｲﾄﾞﾐﾗｰだけでなく、自分の目で後方を確認する"]
[302010,"搬出車輛が作業員と接触する",null,null,"声掛け合図の徹底"]
[302010,"搬出車輛が作業員と接触する",null,null,"安全誘導の合図をする"]
[302010,"搬出車輛が作業員と接触する",null,null,"搬出入車輛と作業員の通路の区分けを行う"]
[302010,"搬出車輛が作業員と接触する",null,null,"後退時運転手はｻｲﾄﾞﾐﾗｰだけでなく、自分の目で後方を確認する"]
[302010,"重機組立時、手･足を挟まれる",null,null,"不安定な状態で吊荷を置かない"]
[302010,"重機組立時、手･足を挟まれる",null,null,"危険な所に手・足を入れない"]
[302010,"重機組立時、手･足を挟まれる",null,null,"荷吊りの際はオペとの合図確認を行う"]
[302010,"重機組立時、手･足を挟まれる",null,null,"不安定な状態で吊り上げない"]
[302010,"重機組立時、手･足を挟まれる",null,null,"声掛け合図の徹底"]
[302010,"重機組立時、手･足を挟まれる",null,null,"介錯ロープを使用する"]
[302010,"オーガー取付時、リーダーの間に手･足を挟む",null,null,"不安定な状態で資材を吊り上げない"]
[302010,"オーガー取付時、リーダーの間に手･足を挟む",null,null,"声掛け合図の徹底"]
[302010,"オーガー取付時、リーダーの間に手･足を挟む",null,null,"荷吊りの際はオペとの合図確認を行う"]
[302010,"オーガー取付時、リーダーの間に手･足を挟む",null,null,"重機ＯＰの死角に入らない"]
[302010,"ロッド組立時、高所から転落する",null,null,"安全ブロック・安全帯を使用する"]
[302010,"ロッド組立時、高所から転落する",null,null,"無理な姿勢で作業しない"]
[302010,"杭打ち機と作業員が接触する",null,null,"重機と作業員の区分けを行う"]
[302010,"杭打ち機と作業員が接触する",null,null,"声掛け合図の徹底"]
[302010,"杭打ち機と作業員が接触する",null,null,"ｶﾗｰｺｰﾝによる立ち入り禁止措置を行う"]
[302010,"杭打ち機と作業員が接触する",null,null,"重機ＯＰの死角に入らない"]
[302010,"杭打ち機と作業員が接触する",null,null,"グーパー運動を実施する"]
[302010,"バックホーと作業員が接触する",null,null,"重機と作業員の区分けを行う"]
[302010,"バックホーと作業員が接触する",null,null,"声掛け合図の徹底"]
[302010,"バックホーと作業員が接触する",null,null,"ｶﾗｰｺｰﾝによる立ち入り禁止措置を行う"]
[302010,"バックホーと作業員が接触する",null,null,"重機の死角に入らない"]
[302010,"バックホーと作業員が接触する",null,null,"ＢＨのバック走行は行わない"]
[302010,"バックホーと作業員が接触する",null,null,"グーパー運動を実施する"]
[302010,"杭ジョイント溶接時、火傷する",null,null,"消火器・消火バケツを設置する"]
[302010,"杭ジョイント溶接時、火傷する",null,null,"無理な姿勢で作業しない"]
[302010,"杭ジョイント溶接時、火傷する",null,null,"保護具を着装する"]
[302010,"杭ジョイント溶接時、火傷する",null,null,"溶接箇所に手を近づけない"]
[302010,"杭打ち機が転倒する",null,null,"アウトリガー下の敷鉄板養生を実施する"]
[302010,"杭打ち機が転倒する",null,null,"吊荷荷重を確認する"]
[302010,"杭打ち機が転倒する",null,null,"声掛け合図の徹底"]
[302010,"杭打ち機が転倒する",null,null,"地盤状況を確認する"]
[302010,"杭打ち機が転倒する",null,null,"足元の敷鉄板養生を確認する"]
[302010,"杭打設後、杭穴に落ちる",null,null,"杭打設後の穴は速やかに埋戻しする"]
[302010,"杭打設後、杭穴に落ちる",null,null,"ｶﾗｰｺｰﾝによる立入禁止措置を行う"]
[302010,"杭ジョイント時、下杭と上杭の間に指を挟む",null,null,"声掛け合図の徹底"]
[302010,"杭ジョイント時、下杭と上杭の間に指を挟む",null,null,"危険な所に手を入れない"]
[302010,"杭ジョイント時、下杭と上杭の間に指を挟む",null,null,"荷吊りの際はオペとの合図確認を行う"]
[302010,"杭ジョイント時、下杭と上杭の間に指を挟む",null,null,"不安定な状態で吊り上げない"]
[302010,"杭ジョイント時、下杭と上杭の間に指を挟む",null,null,"介錯ロープを使用する"]
[302010,"杭ジョイント時、下杭と上杭の間に指を挟む",null,null,"重機ＯＰの死角に入らない"]
[302010,"杭吊込み時、既存物や作業員に接触する",null,null,"声掛け合図の徹底"]
[302010,"杭吊込み時、既存物や作業員に接触する",null,null,"荷吊りの際はオペとの合図確認を行う"]
[302010,"杭吊込み時、既存物や作業員に接触する",null,null,"不安定な状態で吊り上げない"]
[302010,"杭吊込み時、既存物や作業員に接触する",null,null,"重機ＯＰや手元は周囲の安全確認を行う"]
[302010,"スタッド溶接時、火花が飛散する",null,null,"火の粉の付近に可燃物を置かない"]
[302010,"スタッド溶接時、火花が飛散する",null,null,"消火器・消火バケツを設置する"]
[302010,"スタッド溶接時、火花が飛散する",null,null,"無理な姿勢で作業しない"]
[302010,"スタッド溶接時、火花が飛散する",null,null,"保護具を着装する"]
[302010,"スタッド溶接時、火花が飛散する",null,null,"ｶﾗｰｺｰﾝによる立ち入り禁止措置を行う"]
[302010,"ベビーサンダー使用時、目に鉄粉が入る",null,null,"保護メガネを着装する"]
[302010,"ベビーサンダー使用時、目に鉄粉が入る",null,null,"無理な姿勢で作業しない"]
[302010,"ベビーサンダー使用時、目に鉄粉が入る",null,null,"保護カバーを使用する"]
[302010,"スタッド溶接時、火傷する",null,null,"消火器・消火バケツを設置する"]
[302010,"スタッド溶接時、火傷する",null,null,"保護具を着装する"]
[302010,"スタッド溶接時、火傷する",null,null,"溶断箇所に手を近づけない"]
[302010,"キャプタイヤーに躓き転倒する",null,null,"安全通路を移動する"]
[302010,"キャプタイヤーに躓き転倒する",null,null,"キャプタイヤーの整理整線を行う"]
[401010,"一輪車運搬時に作業床から転落する",null,null,"近道行為の禁止"]
[401010,"一輪車運搬時に作業床から転落する",null,null,"転落しそうな所は通らない"]
[401010,"一輪車運搬時に作業床から転落する",null,null,"作業床は確実に固定する"]
[401010,"一輪車運搬時に作業床から転落する",null,null,"安定した通路を設置し通行する"]
[401010,"一輪車運搬時に作業床から転落する",null,null,"転落しそうな所には手摺を設置する"]
[401010,"一輪車運搬時に作業床から転落する",null,null,"段差や開口がないか確認する"]
[401010,"昇降設備を使用せずに墜落する",null,null,"近道行為の禁止"]
[401010,"物を取ろうと足場に足を掛け滑って転落する",null,null,"省略行為の禁止"]
[401010,"釜場に足をとられて転倒する",null,null,"特に釜場（段差）周囲ではあわてず作業する"]
[401010,"釜場に足をとられて転倒する",null,null,"開口部養生（開口蓋・手摺）の設置を確認して作業する"]
[401010,"釜場に足をとられて転倒する",null,null,"釜場（吹き出し）部分の打設手順を確認する"]
[401010,"打設後鉄筋水洗い時に足を乗せたサポートが外れて転倒する",null,null,"資材の安定性を確かめる"]
[401010,"打設後鉄筋水洗い時に足を乗せたサポートが外れて転倒する",null,null,"不用意に資材に足をかけない"]
[401010,"一輪車での運搬時、躓いて転倒する",null,null,"安全通路を移動する"]
[401010,"一輪車での運搬時、躓いて転倒する",null,null,"近道行為を禁止する"]
[401010,"一輪車での運搬時、段差に躓いて転倒する",null,null,"床段差に足をのせない"]
[401010,"一輪車での運搬時、段差に躓いて転倒する",null,null,"安全通路を移動する"]
[401010,"足場の隙間から墜落する",null,null,"安全帯を掛けていない状況を作らない"]
[401010,"足場の隙間から墜落する",null,null,"無理な姿勢で作業しない"]
[401010,"足場の隙間から墜落する",null,null,"足場の始業前点検を実施する"]
[401010,"足場の隙間から墜落する",null,null,"作業床の墜落転落防止措置の確認する"]
[401010,"足場上で躓いて転倒する",null,null,"頭上・足元を確認して歩行する"]
[401010,"足場上で躓いて転倒する",null,null,"無理な姿勢で作業しない"]
[401010,"梁天端から転落する",null,null,"親綱を張り、安全帯を使用する"]
[401010,"梁天端から転落する",null,null,"無理な姿勢で作業しない"]
[401010,"梁天端から転落する",null,null,"危険な箇所には登らない"]
[401010,"梁天端から転落する",null,null,"昇降設備を使用する"]
[401010,"スラブ上で躓いて転倒する",null,null,"メッシュロード上を移動する"]
[401010,"スラブ上で躓いて転倒する",null,null,"スラブ筋上歩行の際、足元を確認し歩行する"]
[401010,"コンクリート打設中、ホースに接触し転倒する",null,null,"ホースの筒先に立たない"]
[401010,"コンクリート打設中、ホースに接触し転倒する",null,null,"声掛け合図の徹底"]
[401010,"コンクリート打設中、スラブ筋に躓き転倒する",null,null,"スラブ筋上歩行の際、足元を確認し歩行する"]
[401010,"コンクリート打設中、スラブ筋に躓き転倒する",null,null,"メッシュロード上を移動する"]
[401010,"コンクリートを外部に飛散させる",null,null,"無理な姿勢で作業しない"]
[401010,"コンクリートを外部に飛散させる",null,null,"作業下部の人払いを行う"]
[401020,"ポンプ車のブームを合図なく動かしバランスを崩して転倒する",null,null,"合図・声かけを行いブームを動かす"]
[401020,"ポンプ車のブームを合図なく動かしバランスを崩して転倒する",null,null,"勝手な操作は行わない"]
[401020,"スラブ筋上でバランスを崩して転倒する",null,null,"作業通路を明確にしメッシュロードを敷設する"]
[401020,"スラブ筋上でバランスを崩して転倒する",null,null,"メッシュロード等の安定した箇所で作業を行う"]
[401020,"手足にコンクリートが触れてただれる",null,null,"体にコンクリートが直接触れた際はすぐに洗う"]
[401020,"手足にコンクリートが触れてただれる",null,null,"手袋、メガネ、マスク等、保護具を使用する"]
[401020,"工事車輛の搬出入時、第三者と接触する",null,null,"誘導員の合図に従う"]
[401020,"工事車輛の搬出入時、第三者と接触する",null,null,"第三者から見える場所で合図する"]
[401020,"工事車輛の搬出入時、第三者と接触する",null,null,"声掛け合図の徹底"]
[401020,"工事車輛の搬出入時、第三者と接触する",null,null,"第三者優先で誘導を行う"]
[401020,"足場の隙間から墜落する",null,null,"安全帯を掛けていない状況を作らない"]
[401020,"足場の隙間から墜落する",null,null,"無理な体勢で作業しない"]
[401020,"足場の隙間から墜落する",null,null,"足場の始業前点検を実施する"]
[401020,"足場の隙間から墜落する",null,null,"作業床の墜落転落防止措置の確認する"]
[401020,"足場上で躓いて転倒する",null,null,"頭上・足元を確認して歩行する"]
[401020,"足場上で躓いて転倒する",null,null,"無理な姿勢で作業しない"]
[401020,"梁天端から転落する",null,null,"親綱を張り、安全帯を使用する"]
[401020,"梁天端から転落する",null,null,"無理な姿勢で作業しない"]
[401020,"梁天端から転落する",null,null,"危険な箇所には登らない"]
[401020,"梁天端から転落する",null,null,"昇降設備を使用する"]
[401020,"スラブ上で躓いて転倒する",null,null,"メッシュロード上を移動する"]
[401020,"スラブ上で躓いて転倒する",null,null,"スラブ筋上歩行の際、足元を確認し歩行する"]
[401020,"コンクリート打設中、スラブ筋に躓き転倒する",null,null,"スラブ筋上歩行の際、足元を確認し歩行する"]
[401020,"コンクリート打設中、スラブ筋に躓き転倒する",null,null,"メッシュロード上を移動する"]
[401020,"コンクリートを外部に飛散させる",null,null,"無理な姿勢で作業しない"]
[401020,"コンクリートを外部に飛散させる",null,null,"作業下部の人払いを行う"]
[401020,"コンクリートを外部に飛散させる",null,null,"あて板を使用する"]
[401020,"コンクリート打設中、ホースが暴れて接触し転倒する",null,null,"ホースの筒先を手や足で固定する"]
[401020,"コンクリート打設中、ホースが暴れて接触し転倒する",null,null,"保護手袋を着装する"]
[401020,"コンクリート打設中、ホースが暴れて接触し転倒する",null,null,"無線機ＯＰとの合図の徹底"]
[401020,"コンクリート打設中、ホースが暴れて接触し転倒する",null,null,"作業周辺の人払いを行う"]
[401020,"ブームをたたむ時、手を挟む",null,null,"ブームをたたむ際はオペとの合図確認を行う"]
[401020,"ブームをたたむ時、手を挟む",null,null,"危険な所に手を入れない"]
[401020,"ブームをたたむ時、手を挟む",null,null,"無理な姿勢で作業しない"]
[401020,"ブームをたたむ時、手を挟む",null,null,"声掛け合図の徹底"]
[401020,"ブームをたたむ時、荷台から転落する",null,null,"安全帯を必ず使用する"]
[401020,"ブームをたたむ時、荷台から転落する",null,null,"無理な姿勢で作業しない"]
[401020,"ブームをたたむ時、荷台から転落する",null,null,"昇降設備を使用する"]
[401020,"圧送車が転倒する",null,null,"アウトリガー下の敷き鉄板養生を実施する"]
[401020,"圧送車が転倒する",null,null,"地盤状況を確認する"]
[401020,"圧送車が転倒する",null,null,"足元の敷鉄板養生を確認する"]
[401020,"圧送車が転倒する",null,null,"無線機ＯＰとの合図の徹底"]
[402010,"結束バンド切断時に鋼管が崩れて負傷する",null,null,"切断前に鋼管が荷崩れを起こさないかを確認する"]
[402010,"結束バンド切断時に鋼管が崩れて負傷する",null,null,"安定した作業床で切断する"]
[402010,"地山・開口部から転落する",null,null,"端部・開口部作業は安全帯を必ず使用する"]
[402010,"地山・開口部から転落する",null,null,"無理な姿勢で作業しない"]
[402010,"地山・開口部から転落する",null,null,"昇降設備を使用する"]
[402010,"地山・開口部から転落する",null,null,"近道行為を禁止する"]
[402010,"地山・開口部から転落する",null,null,"安全通路を移動する"]
[402010,"重機(ＢＨ)と作業員が接触する",null,null,"重機と作業員の区分けを行う"]
[402010,"重機(ＢＨ)と作業員が接触する",null,null,"声掛け合図の徹底"]
[402010,"重機(ＢＨ)と作業員が接触する",null,null,"ｶﾗｰｺｰﾝによる立ち入り禁止措置を行う"]
[402010,"重機(ＢＨ)と作業員が接触する",null,null,"重機ＯＰの死角に入らない"]
[402010,"重機(ＢＨ)と作業員が接触する",null,null,"グーパー運動を実施する"]
[402010,"梁天端から転落する",null,null,"親綱を張り、安全帯を使用する"]
[402010,"梁天端から転落する",null,null,"無理な姿勢で作業しない"]
[402010,"梁天端から転落する",null,null,"危険な箇所には登らない"]
[402010,"梁天端から転落する",null,null,"昇降設備を使用する"]
[402010,"通路足場昇降時、足を滑らせ転落する",null,null,"安全ブロックを使用する"]
[402010,"通路足場昇降時、足を滑らせ転落する",null,null,"昇降時、上下・頭上・足元を確認する"]
[402010,"ピット内昇降時に足を滑らせ転落する",null,null,"安全ブロックを使用する"]
[402010,"ピット内昇降時に足を滑らせ転落する",null,null,"昇降時、上下・頭上・足元を確認する"]
[402010,"材料荷卸し時、吊荷が外れ落下する",null,null,"クレーン使用時の合図の徹底"]
[402010,"材料荷卸し時、吊荷が外れ落下する",null,null,"声掛け合図の徹底"]
[402010,"材料荷卸し時、吊荷が外れ落下する",null,null,"玉掛けワイヤーの始業前点検を実施する"]
[402010,"材料荷卸し時、吊荷が外れ落下する",null,null,"吊荷荷重を確認する"]
[402010,"材料荷卸し時、吊荷が外れ落下する",null,null,"吊荷下の人払いを行う"]
[402010,"材料荷卸し時、吊荷が外れ落下する",null,null,"地切りの確認をする（333運動）"]
[402010,"クレーン使用時、資材を既存物にぶつける",null,null,"クレーン使用時の合図の徹底"]
[402010,"クレーン使用時、資材を既存物にぶつける",null,null,"声掛け合図の徹底"]
[402010,"クレーン使用時、資材を既存物にぶつける",null,null,"既存物近くに材料を置かない"]
[402010,"通路足場から身を寄り出した際、墜落する",null,null,"安全帯を必ず使用する"]
[402010,"通路足場から身を寄り出した際、墜落する",null,null,"無理な姿勢で作業しない"]
[402010,"通路足場から身を寄り出した際、墜落する",null,null,"足場の始業前点検を実施する"]
[402010,"通路足場から身を寄り出した際、墜落する",null,null,"作業床の墜落転落防止措置を確認する"]
[402010,"材料を仮置きする際、手を挟む",null,null,"不安定な状態で材料を置かない"]
[402010,"材料を仮置きする際、手を挟む",null,null,"危険な所に手を入れない"]
[402010,"材料を仮置きする際、手を挟む",null,null,"荷吊りの際はオペとの合図確認を徹底する"]
[402010,"材料を仮置きする際、手を挟む",null,null,"不安定な状態で材料を吊り上げない"]
[402010,"不安定な状態で電動丸のこで指を切る",null,null,"電動工具の始業前点検を実施する"]
[402010,"不安定な状態で電動丸のこで指を切る",null,null,"丸のこの保護カバーの使用する"]
[402010,"不安定な状態で電動丸のこで指を切る",null,null,"無理な姿勢で作業しない"]
[402010,"通路足場上で躓いて転倒する",null,null,"通路足場上の材料等を整理整頓する"]
[402010,"通路足場上で躓いて転倒する",null,null,"無理な姿勢で作業しない"]
[402010,"通路足場上で躓いて転倒する",null,null,"安全通路を移動する"]
[402010,"はね出しスラブ端部から転落する",null,null,"親綱を張り、安全帯を使用する"]
[402010,"はね出しスラブ端部から転落する",null,null,"無理な姿勢で作業しない"]
[402010,"はね出しスラブ端部から転落する",null,null,"後ろ向きで進まない"]
[402020,"立馬上で作業中突風にあおられ材料と共に転落する",null,null,"無理な体勢で作業しない"]
[402020,"立馬上で作業中突風にあおられ材料と共に転落する",null,null,"強風に耐えられるか自分の限界を知る"]
[402020,"立馬上で作業中突風にあおられ材料と共に転落する",null,null,"強風時には無理に作業しない（作業を中止する）"]
[402020,"立馬上で作業中突風にあおられ材料と共に転落する",null,null,"突風が来ても対応できる大きさと姿勢を確保し作業を行う"]
[402020,"立馬上で作業中突風にあおられ材料と共に転落する",null,null,"安全帯を掛けていない状況を作らない"]
[402020,"パイプサポートが倒れて負傷する",null,null,"作業周辺にある際は締付状態を確認する"]
[402020,"パイプサポートが倒れて負傷する",null,null,"パイプサポートは立てかけておかない"]
[402020,"充電式丸のこ使用時（やむなく使用時）刃がはねて負傷する",null,null,"正しい作業姿勢を確保し無理な切断を行わない"]
[402020,"充電式丸のこ使用時（やむなく使用時）刃がはねて負傷する",null,null,"丸のこの刃に手を近づけない"]
[402020,"充電式丸のこ使用時（やむなく使用時）刃がはねて負傷する",null,null,"適正な作業台を使用する"]
[402020,"充電式丸のこ使用時（やむなく使用時）刃がはねて負傷する",null,null,"「丸のこ取扱い」に関する作業手順書を周知し、安全な取り扱い方法を徹底させる"]
[402020,"打ち損じた釘が目にあたる",null,null,"保護メガネの着装"]
[402020,"打ち損じた釘が目にあたる",null,null,"無理な体勢で作業しない"]
[402020,"布板昇降ハッチの蓋が閉まり手を詰める",null,null,"昇降ハッチの蓋のロックがかかっているかを昇降時に必ず確認する"]
[402020,"布板昇降ハッチの蓋が閉まり手を詰める",null,null,"自動ロックがかからない場合は表示を行い注意を促す"]
[402020,"布板昇降ハッチの蓋が閉まり手を詰める",null,null,"昇降時はあわてず、ゆっくりと行動する"]
[402020,"布板昇降ハッチの蓋が閉まり手を詰める",null,null,"ハッチの可動部や挟まれるおそれのある場所に手足を置かない"]
[402020,"丸のこ使用時わき見をして負傷する",null,null,"正しい作業姿勢を確保する"]
[402020,"丸のこ使用時わき見をして負傷する",null,null,"わき見をしない"]
[402020,"丸のこ使用時わき見をして負傷する",null,null,"丸のこの刃に手を近づけない"]
[402020,"振り上げたハンマーが目にあたる",null,null,"叩く箇所をしっかりと確認する"]
[402020,"振り上げたハンマーが目にあたる",null,null,"無理な体勢で作業しない"]
[402020,"釘打ち機が暴発し手を負傷する",null,null,"釘打ち機使用時は常にガンの先を確認する"]
[402020,"釘打ち機が暴発し手を負傷する",null,null,"打込み方向に手を入れない"]
[402020,"釘打ち機が暴発し手を負傷する",null,null,"点検･整備の際は、電源を切りエアを抜く"]
[402020,"手摺壁に足をかける際、足が滑り転倒する",null,null,"壁等に不用意に手足を掛けない"]
[402020,"不安定な状態で電動丸のこで指を切る",null,null,"電動工具の始業前点検を実施する"]
[402020,"不安定な状態で電動丸のこで指を切る",null,null,"丸のこの保護カバーの使用する"]
[402020,"不安定な状態で電動丸のこで指を切る",null,null,"無理な姿勢で作業しない"]
[402020,"材料を仮置きする際、手を挟まれる",null,null,"不安定な状態で材料を置かない"]
[402020,"材料を仮置きする際、手を挟まれる",null,null,"危険な所に手を入れない"]
[402020,"材料を仮置きする際、手を挟まれる",null,null,"荷吊りの際はオペとの合図確認を徹底する"]
[402020,"材料を仮置きする際、手を挟まれる",null,null,"不安定な状態で材料を吊り上げない"]
[402020,"材料荷卸し時、吊荷が外れ落下する",null,null,"クレーン使用時の合図の徹底"]
[402020,"材料荷卸し時、吊荷が外れ落下する",null,null,"声掛け合図の徹底"]
[402020,"材料荷卸し時、吊荷が外れ落下する",null,null,"玉掛けワイヤーの始業前点検を実施する"]
[402020,"材料荷卸し時、吊荷が外れ落下する",null,null,"吊荷荷重を確認する"]
[402020,"材料荷卸し時、吊荷が外れ落下する",null,null,"吊荷下の人払いを行う"]
[402020,"材料荷卸し時、吊荷が外れ落下する",null,null,"地切りの確認をする（333運動）"]
[402020,"型枠建込み時、足場から墜落する",null,null,"親綱を張り、安全帯を使用する"]
[402020,"型枠建込み時、足場から墜落する",null,null,"無理な姿勢で作業しない"]
[402020,"型枠建込み時、足場から墜落する",null,null,"足場の始業前点検を実施する"]
[402020,"型枠建込み時、足場から墜落する",null,null,"作業床の墜落転落防止措置を確認する"]
[402020,"足場から材料等を落下させる",null,null,"無理な姿勢で作業しない"]
[402020,"足場から材料等を落下させる",null,null,"作業下部の人払いを行う"]
[402020,"足場から材料等を落下させる",null,null,"足場上の材料等を整理整頓する"]
[402020,"足場の隙間から墜落する",null,null,"安全帯を掛けていない状況を作らない"]
[402020,"足場の隙間から墜落する",null,null,"無理な姿勢で作業しない"]
[402020,"足場の隙間から墜落する",null,null,"足場の始業前点検を実施する"]
[402020,"足場の隙間から墜落する",null,null,"作業床の墜落転落防止措置の確認する"]
[402020,"足場の隙間から墜落する",null,null,"作業下部の人払いを行う"]
[402020,"足場の隙間から墜落する",null,null,"保護具を着装する"]
[402020,"型枠建込み時、立馬から転落する",null,null,"物を持って昇降しない"]
[402020,"型枠建込み時、立馬から転落する",null,null,"開き止めを確認する"]
[402020,"型枠建込み時、立馬から転落する",null,null,"無理な姿勢で作業しない"]
[402020,"型枠建込み時、立馬から転落する",null,null,"昇降時は必ず後ろ向きにおりる"]
[402020,"荷上げで開口部から墜落する",null,null,"開口部養生蓋を設置する"]
[402020,"荷上げで開口部から墜落する",null,null,"養生蓋は不必要時には必ず閉める"]
[402030,"支保工足場上移動中、足場の隙間から墜落する",null,null,"足場の作業前点検を確実に行う"]
[402030,"支保工足場上移動中、足場の隙間に足を突っ込む",null,null,"後ろ向きに移動しない"]
[402030,"パイプサポートが倒れて負傷する",null,null,"作業周辺にある際は締付状態を確認する"]
[402030,"パイプサポートが倒れて負傷する",null,null,"パイプサポートは立てかけておかない"]
[402030,"充電式丸のこ使用時（やむなく使用時）刃がはねて負傷する",null,null,"正しい作業姿勢を確保し無理な切断を行わない"]
[402030,"充電式丸のこ使用時（やむなく使用時）刃がはねて負傷する",null,null,"丸のこの刃に手を近づけない"]
[402030,"充電式丸のこ使用時（やむなく使用時）刃がはねて負傷する",null,null,"適正な作業台を使用する"]
[402030,"充電式丸のこ使用時（やむなく使用時）刃がはねて負傷する",null,null,"「丸のこ取扱い」に関する作業手順書を周知し、安全な取り扱い方法を徹底させる"]
[402030,"釘打ち機使用時誤って操作し負傷する",null,null,"釘打ち機を人に向けて使用しない"]
[402030,"釘打ち機使用時誤って操作し負傷する",null,null,"発射口の前に手を入れない"]
[402030,"足場の中桟に足を掛け作業中、中桟が外れて転落する",null,null,"安全帯がかけられない状況で作業しない"]
[402030,"足場の中桟に足を掛け作業中、中桟が外れて転落する",null,null,"足場の始業前点検の実施"]
[402030,"足場の中桟に足を掛け作業中、中桟が外れて転落する",null,null,"中桟や手すりに足を掛けない"]
[402030,"梁型枠をクレーンにて架設の時、ワイヤーがはずれて落下する",null,null,"吊荷直下に人を立ちいらせない"]
[402030,"梁型枠をクレーンにて架設の時、ワイヤーがはずれて落下する",null,null,"地切りの確認（333運動）"]
[402030,"高所作業車移動時に開口部の養生蓋に引っ掛かって転倒する",null,null,"作業通路の確認をする"]
[402030,"高所作業車移動時に開口部の養生蓋に引っ掛かって転倒する",null,null,"段差部に乗り上げないこと"]
[402030,"不安定な状態で電動丸のこで指を切る",null,null,"電動工具の始業前点検を実施する"]
[402030,"不安定な状態で電動丸のこで指を切る",null,null,"丸のこの保護カバーの使用する"]
[402030,"不安定な状態で電動丸のこで指を切る",null,null,"無理な姿勢で作業しない"]
[402030,"材料を仮置きする際、手を挟まれる",null,null,"不安定な状態で材料を置かない"]
[402030,"材料を仮置きする際、手を挟まれる",null,null,"危険な所に手を入れない"]
[402030,"材料を仮置きする際、手を挟まれる",null,null,"荷吊りの際はオペとの合図確認を徹底する"]
[402030,"材料を仮置きする際、手を挟まれる",null,null,"不安定な状態で材料を吊り上げない"]
[402030,"材料荷卸し時、吊荷が外れ落下する",null,null,"クレーン使用時の合図の徹底"]
[402030,"材料荷卸し時、吊荷が外れ落下する",null,null,"声掛け合図の徹底"]
[402030,"材料荷卸し時、吊荷が外れ落下する",null,null,"玉掛けワイヤーの始業前点検を実施する"]
[402030,"材料荷卸し時、吊荷が外れ落下する",null,null,"吊荷荷重を確認する"]
[402030,"材料荷卸し時、吊荷が外れ落下する",null,null,"吊荷下の人払いを行う"]
[402030,"材料荷卸し時、吊荷が外れ落下する",null,null,"地切りの確認をする（333運動）"]
[402030,"型枠建込み時、足場から墜落する",null,null,"安全帯を掛けていない状況を作らない"]
[402030,"型枠建込み時、足場から墜落する",null,null,"無理な姿勢で作業しない"]
[402030,"型枠建込み時、足場から墜落する",null,null,"足場の始業前点検を実施する"]
[402030,"型枠建込み時、足場から墜落する",null,null,"作業床の墜落転落防止措置を確認する"]
[402030,"型枠建込み時、足場から墜落する",null,null,"親綱を張り、安全帯を使用する"]
[402030,"足場から資材等を落下させる",null,null,"無理な姿勢で作業しない"]
[402030,"足場から資材等を落下させる",null,null,"作業下部の人払いを行う"]
[402030,"足場から資材等を落下させる",null,null,"足場上の資材等を整理整頓する"]
[402030,"足場の隙間から墜落する",null,null,"安全帯を掛けていない状況を作らない"]
[402030,"足場の隙間から墜落する",null,null,"無理な姿勢で作業しない"]
[402030,"足場の隙間から墜落する",null,null,"足場の始業前点検を実施する"]
[402030,"足場の隙間から墜落する",null,null,"作業床の墜落転落防止措置の確認する"]
[402030,"足場の隙間から墜落する",null,null,"作業下部の人払いを行う"]
[402030,"足場の隙間から墜落する",null,null,"保護具を着装する"]
[402030,"梁型枠建込み時、立馬から転落する",null,null,"物を持って昇降しない"]
[402030,"梁型枠建込み時、立馬から転落する",null,null,"開き止めを確認する"]
[402030,"梁型枠建込み時、立馬から転落する",null,null,"無理な姿勢で作業しない"]
[402030,"梁型枠建込み時、立馬から転落する",null,null,"昇降時は必ず後ろ向きにおりる"]
[402030,"梁底・スラブ端部から墜落する",null,null,"親綱を張り、安全帯を使用する"]
[402030,"梁底・スラブ端部から墜落する",null,null,"無理な姿勢で作業しない"]
[402030,"梁底・スラブ端部から墜落する",null,null,"作業下部の人払いを行う"]
[402030,"梁底・スラブ端部から墜落する",null,null,"声掛け合図の徹底"]
[402030,"梁底・スラブ端部から墜落する",null,null,"立ち入り禁止措置・表示を行う"]
[402030,"梁底・スラブ端部から墜落する",null,null,"後ろ向きで進まない"]
[402030,"荷上げで開口部から墜落する",null,null,"開口部養生蓋を設置する"]
[402030,"荷上げで開口部から墜落する",null,null,"養生蓋は不要時には必ず閉める"]
[402040,"持出しスラブ端部から転落する",null,null,"親綱を張り、安全帯を使用する"]
[402040,"持出しスラブ端部から転落する",null,null,"無理な姿勢で作業しない"]
[402040,"持出しスラブ端部から転落する",null,null,"後ろ向きで進まない"]
[402040,"持出しスラブ端部から転落する",null,null,"立ち入り禁止措置・表示を行う"]
[402040,"足場の隙間から墜落する",null,null,"安全帯を掛けていない状況を作らない"]
[402040,"足場の隙間から墜落する",null,null,"無理な姿勢で作業しない"]
[402040,"足場の隙間から墜落する",null,null,"足場の始業前点検を実施する"]
[402040,"足場の隙間から墜落する",null,null,"作業床の墜落転落防止措置の確認する"]
[402040,"足場の隙間から墜落する",null,null,"作業下部の人払いを行う"]
[402040,"足場の隙間から墜落する",null,null,"保護具を着装する"]
[402050,"移動中梁上からバランスを崩して転落する",null,null,"作業手順書で作業手順を確認し作業を行う"]
[402050,"移動中梁上からバランスを崩して転落する",null,null,"安全帯が使用できない状況で移動しない"]
[402050,"パイプサポートが倒れて負傷する",null,null,"作業周辺にある際は締付状態を確認する"]
[402050,"パイプサポートが倒れて負傷する",null,null,"パイプサポートは立てかけておかない"]
[402050,"充電式丸のこ使用時（やむなく使用時）刃がはねて負傷する",null,null,"正しい作業姿勢を確保し無理な切断を行わない"]
[402050,"充電式丸のこ使用時（やむなく使用時）刃がはねて負傷する",null,null,"丸のこの刃に手を近づけない"]
[402050,"充電式丸のこ使用時（やむなく使用時）刃がはねて負傷する",null,null,"適正な作業台を使用する"]
[402050,"充電式丸のこ使用時（やむなく使用時）刃がはねて負傷する",null,null,"「丸のこ取扱い」に関する作業手順書を周知し、安全な取り扱い方法を徹底させる"]
[402050,"ﾊﾟｲﾌﾟｻﾎﾟｰﾄ受け渡し時上部サポートが抜けて負傷する",null,null,"ピンが抜けないかどうかをよく確認する"]
[402050,"ﾊﾟｲﾌﾟｻﾎﾟｰﾄ受け渡し時上部サポートが抜けて負傷する",null,null,"声掛けを行いながら手渡す"]
[402050,"小払し中、型枠材の釘が手に刺さる",null,null,"釘の位置をよく確認する"]
[402050,"バール使用時誤って手にあたる",null,null,"バールの動く方向には手足を置かない"]
[402050,"バール使用時誤って手にあたる",null,null,"無理な体勢で作業しない"]
[402050,"大形型枠脱型時クレーンで吊上げた際に落下し負傷する",null,null,"吊荷の直下に人を立ちいらせない"]
[402050,"大形型枠脱型時クレーンで吊上げた際に落下し負傷する",null,null,"吊上げ前に落下物がないかを確認する"]
[402050,"大形型枠脱型時クレーンで吊上げた際に落下し負傷する",null,null,"声の掛合いの徹底で、人に物が当たらないように注意する"]
[402050,"金物くさび取外し時、はねて目にあたり負傷する",null,null,"正しい作業姿勢を確保する"]
[402050,"金物くさび取外し時、はねて目にあたり負傷する",null,null,"はねる向きに顔を近づけない"]
[402050,"鋼管荷渡し時、手を挟む",null,null,"荷渡し時には声を掛け合って受け渡す"]
[402050,"鋼管荷渡し時、手を挟む",null,null,"無理な体勢で作業しない"]
[402050,"地中梁を乗り越える時に手足を負傷する",null,null,"近道行為をしない"]
[402050,"地中梁を乗り越える時に手足を負傷する",null,null,"昇降設備の完全使用"]
[402050,"資材運搬時、型枠が滑り落ち足を負傷する",null,null,"一度に無理してたくさん運ばない"]
[402050,"地山・開口部から転落する",null,null,"安全帯を掛けていない状況を作らない"]
[402050,"地山・開口部から転落する",null,null,"無理な姿勢で作業しない"]
[402050,"地山・開口部から転落する",null,null,"昇降設備を使用する"]
[402050,"地山・開口部から転落する",null,null,"近道行為を禁止する"]
[402050,"地山・開口部から転落する",null,null,"安全通路を移動する"]
[402050,"地山・開口部から転落する",null,null,"端部・開口部作業は安全帯を必ず使用する"]
[402050,"梁天端から転落する",null,null,"親綱を張り、安全帯を使用する"]
[402050,"梁天端から転落する",null,null,"無理な姿勢で作業しない"]
[402050,"梁天端から転落する",null,null,"危険な箇所には登らない"]
[402050,"梁天端から転落する",null,null,"昇降設備を使用する"]
[402050,"通路足場昇降時、足を滑らせ転落する",null,null,"安全ブロックを使用する"]
[402050,"通路足場昇降時、足を滑らせ転落する",null,null,"昇降時、上下・頭上・足元を確認する"]
[402050,"ピット内昇降時、足を滑らせ墜落する",null,null,"安全ブロックを使用する"]
[402050,"ピット内昇降時、足を滑らせ墜落する",null,null,"昇降時、上下・頭上・足元を確認する"]
[402050,"ピット内で酸欠する",null,null,"送風機を使用する"]
[402050,"ピット内で酸欠する",null,null,"一人作業はしない"]
[402050,"ピット内で酸欠する",null,null,"酸素濃度測定機器を設置する"]
[402050,"ピット内で酸欠する",null,null,"監視人を配置する"]
[402050,"ピット内で酸欠する",null,null,"特別教育を受けて作業する"]
[402050,"材料搬出時、吊荷が外れ落下する",null,null,"クレーン使用時の合図の徹底"]
[402050,"材料搬出時、吊荷が外れ落下する",null,null,"声掛け合図の徹底"]
[402050,"材料搬出時、吊荷が外れ落下する",null,null,"玉掛けワイヤーの始業前点検を実施する"]
[402050,"材料搬出時、吊荷が外れ落下する",null,null,"吊荷荷重を確認する"]
[402050,"材料搬出時、吊荷が外れ落下する",null,null,"吊荷下の人払いを行う"]
[402050,"材料搬出時、吊荷が外れ落下する",null,null,"地切りの確認をする（333運動）"]
[402050,"クレーン使用時、資材を既存物にぶつける",null,null,"クレーン使用時の合図の徹底"]
[402050,"クレーン使用時、資材を既存物にぶつける",null,null,"声掛け合図の徹底"]
[402050,"クレーン使用時、資材を既存物にぶつける",null,null,"既存物近くに材料を置かない"]
[402050,"足場から身を寄り出した際、墜落する",null,null,"安全帯を掛けていない状況を作らない"]
[402050,"足場から身を寄り出した際、墜落する",null,null,"無理な姿勢で作業しない"]
[402050,"足場から身を寄り出した際、墜落する",null,null,"足場の始業前点検を実施する"]
[402050,"足場から身を寄り出した際、墜落する",null,null,"作業床の墜落転落防止措置を確認する"]
[402050,"通路足場上で躓いて転倒する",null,null,"通路足場上の材料等を整理整頓する"]
[402050,"通路足場上で躓いて転倒する",null,null,"無理な姿勢で作業しない"]
[402050,"通路足場上で躓いて転倒する",null,null,"安全通路を移動する"]
[402050,"釘を踏み抜いて足の裏を怪我する",null,null,"解体材の整理整頓を行う"]
[402050,"釘を踏み抜いて足の裏を怪我する",null,null,"安全靴の着装"]
[402050,"釘を踏み抜いて足の裏を怪我する",null,null,"照明設備を整え、手元足元を明るくする"]
[402050,"型枠解体時、型枠との間に指・手を挟む",null,null,"危険な所に手を入れない"]
[402050,"型枠解体時、型枠との間に指・手を挟む",null,null,"無理な姿勢で作業しない"]
[402050,"荷上げ開口部から転落する",null,null,"養生蓋の上には乗らない"]
[402050,"荷上げ開口部から転落する",null,null,"養生蓋は不要時には必ず閉める"]
[402050,"足場の隙間から墜落する",null,null,"安全帯を掛けていない状況を作らない"]
[402050,"足場の隙間から墜落する",null,null,"無理な姿勢で作業しない"]
[402050,"足場の隙間から墜落する",null,null,"足場の始業前点検を実施する"]
[402050,"足場の隙間から墜落する",null,null,"作業床の墜落転落防止措置の確認する"]
[402050,"足場の隙間から墜落する",null,null,"作業下部の人払いを行う"]
[402050,"足場の隙間から墜落する",null,null,"保護具を着装する"]
[402050,"立馬から転落する",null,null,"物を持って昇降しない"]
[402050,"立馬から転落する",null,null,"開き止めを確認する"]
[402050,"立馬から転落する",null,null,"無理な姿勢で作業しない"]
[402050,"立馬から転落する",null,null,"昇降時は必ず後ろ向きにおりる"]
[402050,"外壁解体時、誤って型枠を落下させる",null,null,"無理な姿勢で作業しない"]
[402050,"外壁解体時、誤って型枠を落下させる",null,null,"作業下部の人払いを行う"]
[402050,"外壁解体時、誤って型枠を落下させる",null,null,"足場上の資材等を整理整頓する"]
[402060,"支保工が解体された持出しｽﾗﾌﾞ型枠に乗り墜落する",null,null,"解体前に立ち入り禁止の措置を行う"]
[402060,"支保工が解体された持出しｽﾗﾌﾞ型枠に乗り墜落する",null,null,"開口端部に手すりがあるか等作業前点検を確実に行う"]
[402060,"パイプサポートが倒れて負傷する",null,null,"作業周辺にある際は締付状態を確認する"]
[402060,"パイプサポートが倒れて負傷する",null,null,"パイプサポートは立てかけておかない"]
[402060,"充電式丸のこ使用時（やむなく使用時）刃がはねて負傷する",null,null,"正しい作業姿勢を確保し無理な切断を行わない"]
[402060,"充電式丸のこ使用時（やむなく使用時）刃がはねて負傷する",null,null,"丸のこの刃に手を近づけない"]
[402060,"充電式丸のこ使用時（やむなく使用時）刃がはねて負傷する",null,null,"適正な作業台を使用する"]
[402060,"充電式丸のこ使用時（やむなく使用時）刃がはねて負傷する",null,null,"「丸のこ取扱い」に関する作業手順書を周知し、安全な取り扱い方法を徹底させる"]
[402060,"スラブ底解体時、足場の根がらみ単管で足を滑らせ転倒する",null,null,"近道行為をしない"]
[402060,"型枠解体時、目にゴミが入る",null,null,"保護メガネの着装する"]
[402060,"パイプサポートを緩めた時、根太材が落下して負傷する",null,null,"型枠支保工解体中の表示を行い、スラブ下等に人が立ち入らないようにする"]
[402060,"パイプサポートを緩めた時、根太材が落下して負傷する",null,null,"緩めた時に急に落下しないか根太材の状況を確認する"]
[402060,"パイプサポートを緩めた時、根太材が落下して負傷する",null,null,"声の掛合いの徹底で、人に物が当たらないように注意する"]
[402060,"梁天端から転落する",null,null,"親綱を張り、安全帯を使用する"]
[402060,"梁天端から転落する",null,null,"無理な姿勢で作業しない"]
[402060,"梁天端から転落する",null,null,"危険な箇所には登らない"]
[402060,"梁天端から転落する",null,null,"昇降設備を使用する"]
[402060,"通路足場昇降時、足を滑らせ転落する",null,null,"安全ブロックを使用する"]
[402060,"通路足場昇降時、足を滑らせ転落する",null,null,"昇降時、上下・頭上・足元を確認する"]
[402060,"ピット内昇降時、足を滑らせ墜落する",null,null,"昇降時、上下・頭上・足元を確認する"]
[402060,"ピット内で酸欠になる",null,null,"送風機を使用する"]
[402060,"ピット内で酸欠になる",null,null,"一人作業はしない"]
[402060,"ピット内で酸欠になる",null,null,"ピットに入る際は酸素濃度を測定する"]
[402060,"ピット内で酸欠になる",null,null,"監視人を配置する"]
[402060,"ピット内で酸欠になる",null,null,"特別教育を受けて作業する"]
[402060,"材料搬出時、吊荷が外れ落下する",null,null,"クレーン使用時の合図の徹底"]
[402060,"材料搬出時、吊荷が外れ落下する",null,null,"声掛け合図の徹底"]
[402060,"材料搬出時、吊荷が外れ落下する",null,null,"玉掛けワイヤーの始業前点検を実施する"]
[402060,"材料搬出時、吊荷が外れ落下する",null,null,"吊荷荷重を確認する"]
[402060,"材料搬出時、吊荷が外れ落下する",null,null,"吊荷下の人払いを行う"]
[402060,"材料搬出時、吊荷が外れ落下する",null,null,"地切りの確認をする（333運動）"]
[402060,"クレーン使用時、資材を既存物にぶつける",null,null,"クレーン使用時の合図の徹底"]
[402060,"クレーン使用時、資材を既存物にぶつける",null,null,"声掛け合図の徹底"]
[402060,"クレーン使用時、資材を既存物にぶつける",null,null,"既存物近くに材料を置かない"]
[402060,"足場から身を寄り出した際、墜落する",null,null,"安全帯を掛けていない状況を作らない"]
[402060,"足場から身を寄り出した際、墜落する",null,null,"無理な姿勢で作業しない"]
[402060,"足場から身を寄り出した際、墜落する",null,null,"足場の始業前点検を実施する"]
[402060,"足場から身を寄り出した際、墜落する",null,null,"作業床の墜落転落防止措置を確認する"]
[402060,"釘を踏み抜いて足の裏を怪我する",null,null,"解体材の整理整頓を行う"]
[402060,"釘を踏み抜いて足の裏を怪我する",null,null,"安全靴の着装"]
[402060,"釘を踏み抜いて足の裏を怪我する",null,null,"照明設備を整え、手元足元を明るくする"]
[402060,"型枠解体時、型枠との間に指・手を挟む",null,null,"危険な所に手を入れない"]
[402060,"型枠解体時、型枠との間に指・手を挟む",null,null,"無理な姿勢で作業しない"]
[402060,"荷上げ開口部から転落する",null,null,"養生蓋の上には乗らない"]
[402060,"荷上げ開口部から転落する",null,null,"養生蓋は不必要時には必ず閉める"]
[402060,"足場の隙間から墜落する",null,null,"安全帯を掛けていない状況を作らない"]
[402060,"足場の隙間から墜落する",null,null,"無理な姿勢で作業しない"]
[402060,"足場の隙間から墜落する",null,null,"足場の始業前点検を実施する"]
[402060,"足場の隙間から墜落する",null,null,"作業床の墜落転落防止措置の確認する"]
[402060,"足場の隙間から墜落する",null,null,"作業下部の人払いを行う"]
[402060,"足場の隙間から墜落する",null,null,"保護具を着装する"]
[402060,"立馬から転落する",null,null,"物を持って昇降しない"]
[402060,"立馬から転落する",null,null,"開き止めを確認する"]
[402060,"立馬から転落する",null,null,"無理な姿勢で作業しない"]
[402060,"立馬から転落する",null,null,"昇降時は必ず後ろ向きにおりる"]
[402060,"持出ｽﾗﾌﾞ解体時、誤って型枠を落下させる",null,null,"無理な姿勢で作業しない"]
[402060,"持出ｽﾗﾌﾞ解体時、誤って型枠を落下させる",null,null,"作業下部の人払いを行う"]
[402060,"持出ｽﾗﾌﾞ解体時、誤って型枠を落下させる",null,null,"保護手袋を着装する"]
[402060,"持出ｽﾗﾌﾞ解体時、誤って型枠を落下させる",null,null,"足場上の材料・工具を整理整頓する"]
[402060,"梁底･ｽﾗﾌﾞ解体時、鋼管・型枠が頭に当たる",null,null,"作業手順を遵守する"]
[402060,"梁底･ｽﾗﾌﾞ解体時、鋼管・型枠が頭に当たる",null,null,"保護帽を着装する"]
[402060,"梁底･ｽﾗﾌﾞ解体時、鋼管・型枠が頭に当たる",null,null,"無理な姿勢で作業しない"]
[402060,"梁底･ｽﾗﾌﾞ解体時、鋼管・型枠が頭に当たる",null,null,"作業周辺の人払いを行う"]
[402070,"丸のこ使用時目にゴミが入る",null,null,"保護メガネを着装する"]
[402070,"端太角荷下ろし時、足場で手を挟む",null,null,"無理な姿勢で作業しない"]
[402070,"材料運搬時、段差に躓いて転倒する",null,null,"床段差に足をのせない"]
[402070,"材料運搬時、段差に躓いて転倒する",null,null,"安全通路を移動する"]
[402070,"差筋で足を切る",null,null,"安全通路を確保し、歩行する"]
[402070,"差筋で足を切る",null,null,"差筋ｷｬｯﾌﾟを取り付ける"]
[402070,"差筋で足を切る",null,null,"服装の乱れを確認する"]
[402070,"長尺物を振り回す際、作業員にぶつける",null,null,"2人1組で材料を運ぶ"]
[402070,"長尺物を振り回す際、作業員にぶつける",null,null,"振り回す際は、事前に周囲確認し、人払いを行う"]
[402070,"長尺物を振り回す際、作業員にぶつける",null,null,"声掛け合図の徹底"]
[402070,"コンクリート打設中、ホースに接触し転倒する",null,null,"ホースの筒先に立たない"]
[402070,"コンクリート打設中、ホースに接触し転倒する",null,null,"声掛け合図の徹底"]
[402070,"生コン車と接触する",null,null,"安全通路を移動する"]
[402070,"生コン車と接触する",null,null,"生コン運転手に合図を送る"]
[402070,"雨天時、丸のこを使用して感電する",null,null,"ゴム手袋を使用する"]
[402070,"雨天時、丸のこを使用して感電する",null,null,"雨がかかる場所では使用しない"]
[402070,"雨天時、丸のこを使用して感電する",null,null,"丸のこの始業前点検を実施する"]
[402070,"雨天時、電動工具を使用して漏電する",null,null,"雨がかかる場所では使用しない"]
[402070,"雨天時、電動工具を使用して漏電する",null,null,"コンセントは雨が掛らない様、養生する"]
[402070,"雨天時、電動工具を使用して漏電する",null,null,"電動工具の始業前点検を実施する"]
[402070,"誤ってハンマーで指を叩く",null,null,"使用時は手元の確認を行う"]
[402070,"誤ってハンマーで指を叩く",null,null,"暗い箇所では使用しない(手元の照明を明るくする)"]
[402070,"誤ってハンマーで指を叩く",null,null,"保護手袋を着装する"]
[402070,"手鋸で手や指を切る",null,null,"手鋸を動かす方向に手や指を置かない"]
[402070,"手鋸で手や指を切る",null,null,"無理な姿勢で作業しない"]
[402070,"手鋸で手や指を切る",null,null,"保護手袋を着装する"]
[403010,"地中梁上でバランスを崩し墜落する",null,null,"安全帯を掛けていない状況を作らない"]
[403010,"地中梁上でバランスを崩し墜落する",null,null,"無理な姿勢で作業しない"]
[403010,"地中梁上でバランスを崩し墜落する",null,null,"安全設備の整備されていない梁上では作業しない"]
[403010,"足場板端部（跳ね出し部）に乗った時、反対側端部が持ち上がり転落する",null,null,"足場の始業前点検を実施する"]
[403010,"足場板端部（跳ね出し部）に乗った時、反対側端部が持ち上がり転落する",null,null,"足場の跳ね出し部に乗らない"]
[403010,"足場板端部（跳ね出し部）に乗った時、反対側端部が持ち上がり転落する",null,null,"安全帯が使用できない状況で作業しない"]
[403010,"足場板端部（跳ね出し部）に乗った時、反対側端部が持ち上がり転落する",null,null,"跳ね出し長さが適切でない場合足場を使用しない"]
[403010,"鉄筋受渡し時に梁筋にて手を詰める",null,null,"鉄筋運搬時には声かけ合図を徹底する"]
[403010,"運搬時に鉄筋と接触して負傷する",null,null,"鉄筋運搬時には声かけ合図を徹底する"]
[403010,"地組した鉄筋が倒れて人に当たり負傷する",null,null,"十分な作業場所を確保する"]
[403010,"地組した鉄筋が倒れて人に当たり負傷する",null,null,"架台の強度に問題がないか確認する"]
[403010,"地組した鉄筋が倒れて人に当たり負傷する",null,null,"地組する鉄筋の重量・バランスを確認する"]
[403010,"梁筋を仮固定していた結束線が切れ、足の上に落ちる",null,null,"仮固定でも確実に固定する"]
[403010,"梁天端から転落する",null,null,"親綱を張り、安全帯を使用する"]
[403010,"梁天端から転落する",null,null,"無理な姿勢で作業しない"]
[403010,"梁天端から転落する",null,null,"危険な箇所には登らない"]
[403010,"梁天端から転落する",null,null,"昇降設備を使用する"]
[403010,"地山・開口部から転落する",null,null,"端部・開口部作業は安全帯を必ず使用する"]
[403010,"地山・開口部から転落する",null,null,"無理な姿勢で作業しない"]
[403010,"地山・開口部から転落する",null,null,"昇降設備を使用する"]
[403010,"地山・開口部から転落する",null,null,"近道行為を禁止する"]
[403010,"地山・開口部から転落する",null,null,"安全通路を移動する"]
[403010,"通路足場昇降時、足を滑らせ転落する",null,null,"安全ブロックを使用する"]
[403010,"通路足場昇降時、足を滑らせ転落する",null,null,"昇降時、上下・頭上・足元を確認する"]
[403010,"通路足場上で躓いて転倒する",null,null,"通路足場上の材料等を整理整頓する"]
[403010,"通路足場上で躓いて転倒する",null,null,"無理な姿勢で作業しない"]
[403010,"通路足場上で躓いて転倒する",null,null,"安全通路を移動する"]
[403020,"立馬から壁筋に片足を掛け作業中転落する",null,null,"養生蓋等の確認（設置した立馬の足元確認）"]
[403020,"立馬から壁筋に片足を掛け作業中転落する",null,null,"無理な体勢で作業しないようにこまめに移動する"]
[403020,"立馬から壁筋に片足を掛け作業中転落する",null,null,"手掛かり棒を全箇所伸ばす"]
[403020,"仮置き鉄筋に足を乗せて滑り、立馬から転落する",null,null,"無理な体勢で作業しない"]
[403020,"仮置き鉄筋に足を乗せて滑り、立馬から転落する",null,null,"資材を足場上に放置しない"]
[403020,"上部に束ねていたフープ筋が自重でずれて手を挟む",null,null,"ずれる恐れのある時はしっかりと結束して作業を行う"]
[403020,"上部に束ねていたフープ筋が自重でずれて手を挟む",null,null,"危険な所に手を入れない"]
[403020,"立馬から転落する",null,null,"物を持って昇降しない"]
[403020,"立馬から転落する",null,null,"開き止めを確認する"]
[403020,"立馬から転落する",null,null,"無理な姿勢で作業しない"]
[403020,"立馬から転落する",null,null,"昇降時は必ず後ろ向きにおりる"]
[403020,"足場使用時、足場から墜落する",null,null,"安全帯を使用する"]
[403020,"足場使用時、足場から墜落する",null,null,"無理な姿勢で作業しない"]
[403020,"足場使用時、足場から墜落する",null,null,"足場の始業前点検を実施する"]
[403020,"足場使用時、足場から墜落する",null,null,"作業床の墜落転落防止措置を確認する"]
[403020,"鉄筋を束で持つ際、指を詰める",null,null,"保護手袋を使用する"]
[403020,"鉄筋を束で持つ際、指を詰める",null,null,"2人1組で材料を運ぶ"]
[403020,"足場の隙間から墜落する",null,null,"安全帯を掛けていない状況を作らない"]
[403020,"足場の隙間から墜落する",null,null,"無理な姿勢で作業しない"]
[403020,"足場の隙間から墜落する",null,null,"足場の始業前点検を実施する"]
[403020,"足場の隙間から墜落する",null,null,"作業床の墜落転落防止措置の確認する"]
[403020,"足場の隙間から墜落する",null,null,"作業下部の人払いを行う"]
[403020,"足場の隙間から墜落する",null,null,"保護具を着装する"]
[403030,"地組架台が倒れて、鉄筋と接触する",null,null,"地組架台の傾き・転倒防止を確認する"]
[403030,"地組架台が倒れて、鉄筋と接触する",null,null,"バランスの確認を行い、転倒の恐れがある場合は控えを設置する"]
[403030,"地組架台が倒れて、鉄筋と接触する",null,null,"作業にあった適正な架台を設置する"]
[403030,"スラブ（ﾃﾞｯｷ）上梁筋をまたごうとして転倒する",null,null,"近道行為の禁止"]
[403030,"スラブ（ﾃﾞｯｷ）上梁筋をまたごうとして転倒する",null,null,"作業通路を明確にして渡りを設置する"]
[403030,"スラブ上で躓いて、転倒する",null,null,"組立中の鉄筋に不用意に乗らない"]
[403030,"スラブ上で躓いて、転倒する",null,null,"スラブ筋施工後はメッシュロードを敷設し、その上を移動する"]
[403030,"スラブ上で躓いて、転倒する",null,null,"不要資材の片づけを行う"]
[403030,"スラブより突き出た差し筋を踏み抜き負傷する",null,null,"差し筋の上部を通行しない"]
[403030,"スラブより突き出た差し筋を踏み抜き負傷する",null,null,"気付いた不具合を放置しない"]
[403030,"スラブより突き出た差し筋を踏み抜き負傷する",null,null,"差し筋施工後は注意喚起のためキャップを取り付ける"]
[403030,"梁型枠を跨ぐ時に足を滑らせ梁底に転落する",null,null,"近道行為の禁止"]
[403030,"梁型枠を跨ぐ時に足を滑らせ梁底に転落する",null,null,"作業通路を明確にし、渡りを設置する。"]
[403030,"配筋中梁筋にて指を挟む",null,null,"皮手袋を使用する"]
[403030,"配筋中梁筋にて指を挟む",null,null,"危険な所に手を入れない"]
[403030,"配筋中梁筋にて指を挟む",null,null,"指を挟まないよう声かけ合図の徹底"]
[403030,"スラブ上での作業中、スラブ筋に躓いて転倒する",null,null,"スラブ筋上歩行の際、足元を確認し歩行する"]
[403030,"スラブ上での作業中、スラブ段差に躓いて転倒する",null,null,"スラブ筋上歩行の際、足元を確認し歩行する"]
[403030,"長尺物を振り回す際、作業員にぶつける",null,null,"2人1組で材料を運ぶ"]
[403030,"長尺物を振り回す際、作業員にぶつける",null,null,"振り回す際は、事前に周囲確認し、人払いを行う"]
[403030,"長尺物を振り回す際、作業員にぶつける",null,null,"声掛け合図の徹底"]
[403030,"鉄筋を束で持つ際、指を詰める",null,null,"保護手袋を使用する"]
[403030,"鉄筋を束で持つ際、指を詰める",null,null,"2人1組で材料を運ぶ"]
[403030,"電動結束機使用時、手や指を詰める",null,null,"保護手袋を使用する"]
[403030,"電動結束機使用時、手や指を詰める",null,null,"作業床を確認する"]
[403030,"電動結束機使用時、手や指を詰める",null,null,"無理な姿勢で作業しない"]
[403030,"電動結束機使用時、手や指を詰める",null,null,"電動工具の始業前点検を実施する"]
[403030,"鉄筋を担いでいる際、資材に躓いて転倒する",null,null,"資材の整理・整頓を行う"]
[403030,"鉄筋を担いでいる際、資材に躓いて転倒する",null,null,"作業通路を確保し、歩行する"]
[403030,"差筋で足を切る",null,null,"安全通路を確保し、歩行する"]
[403030,"差筋で足を切る",null,null,"差筋ｷｬｯﾌﾟを取り付ける"]
[403030,"差筋で足を切る",null,null,"服装の乱れを確認する"]
[403040,"工具で手を挟む",null,null,"危険な箇所に手を入れない"]
[403040,"工具で手を挟む",null,null,"無理な体勢で作業しない"]
[403040,"クレーン使用時、資材を既存物にぶつける",null,null,"クレーン使用時の合図の徹底"]
[403040,"クレーン使用時、資材を既存物にぶつける",null,null,"声掛け合図の徹底"]
[403040,"クレーン使用時、資材を既存物にぶつける",null,null,"既存物近くに材料を置かない"]
[403040,"クレーン使用時、吊荷が落下する",null,null,"クレーン使用時の合図の徹底"]
[403040,"クレーン使用時、吊荷が落下する",null,null,"声掛け合図の徹底"]
[403040,"クレーン使用時、吊荷が落下する",null,null,"玉掛けワイヤーの始業前点検を実施する"]
[403040,"クレーン使用時、吊荷が落下する",null,null,"吊荷荷重の確認する"]
[403040,"クレーン使用時、吊荷が落下する",null,null,"吊荷の下の人払い徹底"]
[403040,"クレーン使用時、吊荷が落下する",null,null,"地切りの確認（333運動）"]
[403040,"足場使用時、足場から資材等を落下させる",null,null,"無理な姿勢で作業しない"]
[403040,"足場使用時、足場から資材等を落下させる",null,null,"作業下部の人払いを行う"]
[403040,"足場使用時、足場から資材等を落下させる",null,null,"足場上の資材等を整理整頓する"]
[403050,"溶接治具運搬時、足場に手をぶつけて負傷する",null,null,"安全通路を確認し、運搬方法を決定する"]
[403050,"溶接治具運搬時、足場に手をぶつけて負傷する",null,null,"狭い通路は両手で物を持って移動しない"]
[403050,"溶接治具運搬時、足場に手をぶつけて負傷する",null,null,"通路幅が90cmない場合は肩にかける等して注意する"]
[403050,"地中梁圧接中、移動時に転落する",null,null,"近道行為の禁止"]
[403050,"地中梁圧接中、移動時に転落する",null,null,"安全設備の整備されていない梁上は通行しない"]
[403050,"地中梁圧接中、移動時に転落する",null,null,"足場板が正しく結束されているかを確認する"]
[403050,"壁の差筋をまたぎ転倒する",null,null,"近道行為の禁止"]
[403050,"壁の差筋をまたぎ転倒する",null,null,"安全通路を使用する"]
[403050,"梁底移動中足が滑り転倒する",null,null,"安全通路を使用する"]
[403050,"材料運搬時、段差に躓いて転倒する",null,null,"床段差に足をのせない"]
[403050,"材料運搬時、段差に躓いて転倒する",null,null,"安全通路を移動する"]
[403050,"溶接時、火傷する",null,null,"消火器・消火バケツを設置する"]
[403050,"溶接時、火傷する",null,null,"火気使用時の人払いを行う"]
[403050,"溶接時、火傷する",null,null,"保護手袋を着装する"]
[403050,"溶接時、火傷する",null,null,"溶接箇所に手を近づけない"]
[403050,"溶接時、火花が飛散し火災が発生する",null,null,"火の粉の付近に可燃物を置かない"]
[403050,"溶接時、火花が飛散し火災が発生する",null,null,"消火器・消火バケツを設置する"]
[403050,"溶接時、火花が飛散し火災が発生する",null,null,"火気使用時の人払いを行う"]
[403050,"溶接時、火花が飛散し火災が発生する",null,null,"梁底の型枠に養生ｼｰﾄを敷く"]
[403050,"溶接時、火花が飛散し火災が発生する",null,null,"型枠を予め水で湿す"]
[403050,"鉄筋との間に手・指を挟む",null,null,"保護手袋を使用する"]
[403050,"鉄筋との間に手・指を挟む",null,null,"無理な姿勢で作業しない"]
[403050,"鉄筋との間に手・指を挟む",null,null,"危険な所に手を入れない"]
[403050,"グラインダー使用時、目に鉄粉が入る",null,null,"保護メガネを着装する"]
[403050,"グラインダー使用時、目に鉄粉が入る",null,null,"無理な姿勢で作業しない"]
[403050,"グラインダー使用時、目に鉄粉が入る",null,null,"保護カバーを使用する"]
[403050,"チップソー使用時、目に鉄粉が入る",null,null,"保護メガネを着装する"]
[403050,"チップソー使用時、目に鉄粉が入る",null,null,"無理な姿勢で作業しない"]
[403050,"チップソー使用時、目に鉄粉が入る",null,null,"保護具を着装する"]
[403050,"地山・開口部から転落する",null,null,"端部・開口部作業は安全帯を必ず使用する"]
[403050,"地山・開口部から転落する",null,null,"無理な姿勢で作業しない"]
[403050,"地山・開口部から転落する",null,null,"昇降設備を使用する"]
[403050,"地山・開口部から転落する",null,null,"近道行為を禁止する"]
[403050,"地山・開口部から転落する",null,null,"安全通路を移動する"]
[403060,"材料運搬時、段差に躓いて転倒する",null,null,"床段差に足をのせない"]
[403060,"材料運搬時、段差に躓いて転倒する",null,null,"安全通路を移動する"]
[403060,"鉄筋との間に手・指を挟む",null,null,"保護手袋を使用する"]
[403060,"鉄筋との間に手・指を挟む",null,null,"無理な姿勢で作業しない"]
[403060,"鉄筋との間に手・指を挟む",null,null,"危険な所に手を入れない"]
[403060,"鉄筋とカプラーとの間に指を挟む",null,null,"保護手袋を使用する"]
[403060,"鉄筋とカプラーとの間に指を挟む",null,null,"無理な姿勢で作業しない"]
[403060,"鉄筋とカプラーとの間に指を挟む",null,null,"危険な所に手を入れない"]
[403060,"グラウト材注入する際、グラウト材が目に入る",null,null,"保護メガネを着装する"]
[403060,"グラウト材注入する際、グラウト材が目に入る",null,null,"無理な姿勢で作業しない"]
[403060,"地山・開口部から転落する",null,null,"端部・開口部作業は安全帯を必ず使用する"]
[403060,"地山・開口部から転落する",null,null,"無理な姿勢で作業しない"]
[403060,"地山・開口部から転落する",null,null,"昇降設備を使用する"]
[403060,"地山・開口部から転落する",null,null,"近道行為を禁止する"]
[403060,"地山・開口部から転落する",null,null,"安全通路を移動する"]
[404010,"鉄骨地組中（スタンション親綱設置）梁上から踏み外して転落する",null,null,"近道行為の禁止"]
[404010,"鉄骨地組中（スタンション親綱設置）梁上から踏み外して転落する",null,null,"作業手順の整備・確認・順守"]
[404010,"鉄骨地組中（スタンション親綱設置）梁上から踏み外して転落する",null,null,"鉄骨等の材料の上に乗らない"]
[404010,"搬入車輛に挟まれる",null,null,"車輛運行スペースを確保する"]
[404010,"搬入車輛に挟まれる",null,null,"声掛け合図の徹底"]
[404010,"搬入車輛に挟まれる",null,null,"ｶﾗｰｺｰﾝによる立ち入り禁止措置を行う"]
[404010,"搬入車輛に挟まれる",null,null,"車輛と歩行者の区分けを行う"]
[404010,"鉄骨を仮置きする際、手を挟まれる",null,null,"不安定な状態で鋼材を置かない"]
[404010,"鉄骨を仮置きする際、手を挟まれる",null,null,"危険な所に手を入れない"]
[404010,"鉄骨を仮置きする際、手を挟まれる",null,null,"荷吊りの際はオペとの合図確認を行う"]
[404010,"鉄骨を仮置きする際、手を挟まれる",null,null,"不安定な状態で鋼材を吊り上げない"]
[404020,"吊荷が強風であおられる",null,null,"強風時は作業を中断する"]
[404020,"建方中に梁上から墜落する",null,null,"吊荷を介錯しながら梁上を移動しない"]
[404020,"建方中に梁上から墜落する",null,null,"安定した状態で吊荷を介錯する"]
[404020,"建方中に梁上から墜落する",null,null,"安全帯が使用できない状況で作業しない（二丁掛安全帯使用の徹底）"]
[404020,"建方時、吊荷が外れ落下する",null,null,"クレーン使用時の合図の徹底"]
[404020,"建方時、吊荷が外れ落下する",null,null,"声掛け合図の徹底"]
[404020,"建方時、吊荷が外れ落下する",null,null,"玉掛けワイヤーの始業前点検を実施する"]
[404020,"建方時、吊荷が外れ落下する",null,null,"吊荷荷重を確認する"]
[404020,"建方時、吊荷が外れ落下する",null,null,"吊荷下の人払いを行う"]
[404020,"建方時、吊荷が外れ落下する",null,null,"地切りの確認をする（333運動）"]
[404020,"建方時、吊荷が外れ落下する",null,null,"専用吊り具を使用する"]
[404020,"梁上歩行中、バランスを崩して転落する",null,null,"安全帯を掛けていない状況を作らない"]
[404020,"梁上歩行中、バランスを崩して転落する",null,null,"安全帯を使用し、足元を確認して歩行する"]
[404020,"梁上歩行中、バランスを崩して転落する",null,null,"不安全行動を禁止する"]
[404020,"梁上歩行中、バランスを崩して転落する",null,null,"近道行為を禁止する"]
[404020,"胴縁取付時、端部から転落する",null,null,"安全帯を掛けていない状況を作らない"]
[404020,"胴縁取付時、端部から転落する",null,null,"無理な姿勢で作業しない"]
[404020,"建方時、手を詰める",null,null,"クレーン使用時の合図の徹底"]
[404020,"建方時、手を詰める",null,null,"声掛け合図の徹底"]
[404020,"建方時、手を詰める",null,null,"危険な所に手を入れない"]
[404020,"建方時、手を詰める",null,null,"無理な姿勢で作業しない"]
[404020,"長尺物を振り回す際、作業員にぶつける",null,null,"2人1組で材料を運ぶ"]
[404020,"長尺物を振り回す際、作業員にぶつける",null,null,"振り回す際は、事前に周囲目視確認し、人払いを行う"]
[404020,"長尺物を振り回す際、作業員にぶつける",null,null,"声掛け合図の徹底"]
[404030,"鉄骨建入治具での使用時に、定められた以外の使用をして負傷する",null,null,"定められた使用方法に基づき建ち直しを行う（ボルトの取替、くさび等をかまさない）"]
[404030,"シャーレンチ運搬時バランスを崩して転倒する",null,null,"材料運搬時は特に足元に気を付け転倒防止に努める"]
[404030,"鉄骨建ち直し用フックに躓き転倒する",null,null,"建ち直し用フックは明示する"]
[404030,"鉄骨建ち直し用フックに躓き転倒する",null,null,"近道行為の禁止"]
[404030,"ﾎﾞﾙﾄ締め時、梁から墜落する",null,null,"無理な姿勢で作業しない"]
[404030,"ﾎﾞﾙﾄ締め時、梁から墜落する",null,null,"安全帯を掛けていない状況を作らない"]
[404030,"ﾎﾞﾙﾄ締め時、手が滑り工具類が落下する",null,null,"無理な姿勢で作業しない"]
[404030,"ﾎﾞﾙﾄ締め時、手が滑り工具類が落下する",null,null,"作業下部の人払いを行う"]
[404030,"ﾎﾞﾙﾄ締め時、手が滑り工具類が落下する",null,null,"工具袋を使用する"]
[404030,"高所作業車使用時、転落する",null,null,"安全帯を必ず使用する"]
[404030,"高所作業車使用時、転落する",null,null,"無理な姿勢で作業しない"]
[404030,"高所作業車使用時、転落する",null,null,"高所作業車の始業前点検を実施する"]
[404030,"高所作業車使用時、転落する",null,null,"作業床を確認する"]
[404030,"錆止め塗装中、足場から転落する",null,null,"安全帯を必ず使用する"]
[404030,"錆止め塗装中、足場から転落する",null,null,"無理な姿勢で作業しない"]
[404030,"錆止め塗装中、足場から転落する",null,null,"足場の始業前点検を実施する"]
[404030,"錆止め塗装中、足場から転落する",null,null,"作業床の墜落転落防止措置を確認する"]
[404040,"ﾃﾞｯｷﾌﾟﾚｰﾄを仮置きする際、手を挟まれる",null,null,"不安定な状態でﾃﾞｯｷﾌﾟﾚｰﾄを置かない"]
[404040,"ﾃﾞｯｷﾌﾟﾚｰﾄを仮置きする際、手を挟まれる",null,null,"危険な所に手を入れない"]
[404040,"ﾃﾞｯｷﾌﾟﾚｰﾄを仮置きする際、手を挟まれる",null,null,"荷吊りの際はオペとの合図確認を徹底する"]
[404040,"ﾃﾞｯｷﾌﾟﾚｰﾄを仮置きする際、手を挟まれる",null,null,"不安定な状態でﾃﾞｯｷﾌﾟﾚｰﾄを吊り上げない"]
[404040,"ﾃﾞｯｷﾌﾟﾚｰﾄ取込み時、吊荷が外れ落下する",null,null,"クレーン使用時の合図の徹底"]
[404040,"ﾃﾞｯｷﾌﾟﾚｰﾄ取込み時、吊荷が外れ落下する",null,null,"声掛け合図の徹底"]
[404040,"ﾃﾞｯｷﾌﾟﾚｰﾄ取込み時、吊荷が外れ落下する",null,null,"玉掛けワイヤーの始業前点検を実施する"]
[404040,"ﾃﾞｯｷﾌﾟﾚｰﾄ取込み時、吊荷が外れ落下する",null,null,"吊荷荷重を確認する"]
[404040,"ﾃﾞｯｷﾌﾟﾚｰﾄ取込み時、吊荷が外れ落下する",null,null,"吊荷の下の人払いを行う"]
[404040,"ﾃﾞｯｷﾌﾟﾚｰﾄ取込み時、吊荷が外れ落下する",null,null,"地切りを確認する（333運動）"]
[404050,"デッキ端部で安全帯を掛けようとして足を滑らせ墜落する",null,null,"端部に接近する前に安全帯を掛ける"]
[404050,"デッキ端部で安全帯を掛けようとして足を滑らせ墜落する",null,null,"親綱の設置位置か適正か作業前に確認する"]
[404050,"デッキが鉄骨から外れて落下する",null,null,"デッキの掛かり代を確実に確認する"]
[404050,"デッキが鉄骨から外れて落下する",null,null,"落下養生水平ネットを確認してから作業を行う"]
[404050,"安全帯掛け替え中バランスを崩して墜落する",null,null,"安全帯が使用できない状況で作業しない（二丁掛安全帯使用の徹底）"]
[404050,"安全帯掛け替え中バランスを崩して墜落する",null,null,"養生水平ネットの確認後に作業を行う"]
[404050,"仮敷きのデッキプレートを歩行中転落する",null,null,"決められた通路以外通行しない"]
[404050,"仮敷きのデッキプレートを歩行中転落する",null,null,"養生水平ネットを確認後に作業を行う（水平ネットの取外し時期を誤らない）"]
[404050,"仮敷きのデッキプレートを歩行中転落する",null,null,"仮敷き部の立ち入り禁止措置及び明示が行われているか確認する"]
[404050,"ﾃﾞｯｷ取付(溶接)時、火傷する",null,null,"消火器・消火バケツを設置する"]
[404050,"ﾃﾞｯｷ取付(溶接)時、火傷する",null,null,"火気使用時の下部の人払いを行う"]
[404050,"ﾃﾞｯｷ取付(溶接)時、火傷する",null,null,"保護具を着装する"]
[404050,"ﾃﾞｯｷ取付(溶接)時、火傷する",null,null,"無理な姿勢で作業しない"]
[404050,"ﾃﾞｯｷ取付(溶接)時、火傷する",null,null,"溶接箇所に手を近づけない"]
[404050,"ﾃﾞｯｷ敷込み時、手が滑り、ﾃﾞｯｷを落下させる",null,null,"無理な姿勢で作業しない"]
[404050,"ﾃﾞｯｷ敷込み時、手が滑り、ﾃﾞｯｷを落下させる",null,null,"作業下部の人払いを行う"]
[404050,"ﾃﾞｯｷ敷込み時、手が滑り、ﾃﾞｯｷを落下させる",null,null,"2人1組で材料を運ぶ"]
[404050,"ﾃﾞｯｷ敷込み時、バランスを崩して墜落する",null,null,"声掛け合図の徹底"]
[404050,"ﾃﾞｯｷ敷込み時、バランスを崩して墜落する",null,null,"無理な姿勢で作業しない"]
[404050,"ﾃﾞｯｷ敷込み時、バランスを崩して墜落する",null,null,"安全帯を使用し、足元を確認して歩行する"]
[404050,"ﾃﾞｯｷ敷込み時、バランスを崩して墜落する",null,null,"配線・コード類の整理整線を行う"]
[404050,"ﾃﾞｯｷ敷込み時、手が滑り工具類を落下させる",null,null,"無理な姿勢で作業しない"]
[404050,"ﾃﾞｯｷ敷込み時、手が滑り工具類を落下させる",null,null,"作業下部の人払いを行う"]
[404050,"ﾃﾞｯｷ敷込み時、手が滑り工具類を落下させる",null,null,"工具袋を使用する"]
[404060,"現場溶接時、火傷する",null,null,"消火器・消火バケツを設置する"]
[404060,"現場溶接時、火傷する",null,null,"火気使用時の下部の人払いを行う"]
[404060,"現場溶接時、火傷する",null,null,"保護具を着装する"]
[404060,"現場溶接時、火傷する",null,null,"無理な姿勢で作業しない"]
[404060,"現場溶接時、火傷する",null,null,"溶接箇所に手を近づけない"]
[404060,"現場溶接時、火花が飛散する",null,null,"火の粉の付近に可燃物を置かない"]
[404060,"現場溶接時、火花が飛散する",null,null,"消火器・消火バケツを設置する"]
[404060,"現場溶接時、火花が飛散する",null,null,"火気使用時の下部の人払いを行う"]
[404060,"現場溶接時、火花が飛散する",null,null,"作業周囲を不燃材で養生する"]
[404060,"現場溶接時、火花が飛散する",null,null,"無理な姿勢で作業しない"]
[404070,"スタッド溶接時、火傷する",null,null,"消火器・消火バケツを設置する"]
[404070,"スタッド溶接時、火傷する",null,null,"火気使用時の下部の人払いを行う"]
[404070,"スタッド溶接時、火傷する",null,null,"保護具を着装する"]
[404070,"スタッド溶接時、火傷する",null,null,"溶接箇所に手を近づけない"]
[404070,"スタッド溶接時、火花が飛散する",null,null,"火の粉の付近に可燃物を置かない"]
[404070,"スタッド溶接時、火花が飛散する",null,null,"消火器・消火バケツを設置する"]
[404070,"スタッド溶接時、火花が飛散する",null,null,"火気使用時の下部の人払いを行う"]
[404080,"ローリング足場の手摺が外れて転落する",null,null,"足場の始業前点検の実施"]
[404080,"プラント機械に手を巻き込まれる",null,null,"保護手袋を使用する"]
[404080,"プラント機械に手を巻き込まれる",null,null,"無理な姿勢で作業しない"]
[404080,"プラント機械に手を巻き込まれる",null,null,"危険な所に手を入れない"]
[404080,"プラント機械に手を巻き込まれる",null,null,"非常停止ﾎﾞﾀﾝを使用する"]
[404080,"プラント機械に手を巻き込まれる",null,null,"服装の乱れを確認する"]
[404080,"材料運搬時段差に躓いて転倒する",null,null,"床段差に足をのせない"]
[404080,"材料運搬時段差に躓いて転倒する",null,null,"安全通路を移動する"]
[404080,"高所作業車使用時、身を寄り出して墜落する",null,null,"安全帯を必ず使用する"]
[404080,"高所作業車使用時、身を寄り出して墜落する",null,null,"無理な姿勢で作業しない"]
[404080,"高所作業車使用時、身を寄り出して墜落する",null,null,"高所作業車の始業前点検を実施する"]
[404080,"ﾛｰﾘﾝｸﾞﾀﾜｰ使用時、身を寄り出して墜落する",null,null,"安全帯を必ず使用する"]
[404080,"ﾛｰﾘﾝｸﾞﾀﾜｰ使用時、身を寄り出して墜落する",null,null,"無理な姿勢で作業しない"]
[404080,"ﾛｰﾘﾝｸﾞﾀﾜｰ使用時、身を寄り出して墜落する",null,null,"ﾛｰﾘﾝｸﾞﾀﾜｰの始業前点検を実施する"]
[404080,"足場から身を寄り出した際、墜落する",null,null,"安全帯を掛けていない状況を作らない"]
[404080,"足場から身を寄り出した際、墜落する",null,null,"無理な姿勢で作業しない"]
[404080,"足場から身を寄り出した際、墜落する",null,null,"足場の始業前点検を実施する"]
[404080,"足場から身を寄り出した際、墜落する",null,null,"作業床の墜落転落防止措置を確認する"]
[404080,"足場の隙間から墜落する",null,null,"安全帯を掛けていない状況を作らない"]
[404080,"足場の隙間から墜落する",null,null,"無理な姿勢で作業しない"]
[404080,"足場の隙間から墜落する",null,null,"足場の始業前点検を実施する"]
[404080,"足場の隙間から墜落する",null,null,"作業床の墜落転落防止措置の確認する"]
[404080,"足場の隙間から墜落する",null,null,"作業下部の人払いを行う"]
[404080,"足場の隙間から墜落する",null,null,"保護具を着装する"]
[404080,"立馬から転落する",null,null,"物を持って昇降しない"]
[404080,"立馬から転落する",null,null,"開き止めを確認する"]
[404080,"立馬から転落する",null,null,"無理な姿勢で作業しない"]
[404080,"立馬から転落する",null,null,"昇降時は必ず後ろ向きにおりる"]
[404080,"材料カット時、カッターナイフで手を切る",null,null,"カッターナイフを動かす方向に手を置かない"]
[404080,"材料カット時、カッターナイフで手を切る",null,null,"無理な姿勢で作業しない"]
[404080,"材料カット時、カッターナイフで手を切る",null,null,"刃の出し入れを確認する"]
[405010,"移動時、躓いて転倒する",null,null,"安全通路を移動する"]
[405010,"移動時、躓いて転倒する",null,null,"近道行為を禁止する"]
[405010,"移動時、段差に躓いて転倒する",null,null,"床段差に足をのせない"]
[405010,"移動時、段差に躓いて転倒する",null,null,"安全通路を移動する"]
[405010,"搬入車輛に接触する",null,null,"車輛運行スペースを確保する"]
[405010,"搬入車輛に接触する",null,null,"声掛け合図の徹底"]
[405010,"搬入車輛に接触する",null,null,"ｶﾗｰｺｰﾝによる立ち入り禁止措置を行う"]
[405010,"搬入車輛に接触する",null,null,"車輛と歩行者の区分けを行う"]
[405010,"工事車輛の搬出入時、第三者と接触する",null,null,"誘導員の合図に従う"]
[405010,"工事車輛の搬出入時、第三者と接触する",null,null,"第三者から見える場所で合図する"]
[405010,"工事車輛の搬出入時、第三者と接触する",null,null,"声掛け合図の徹底"]
[405010,"工事車輛の搬出入時、第三者と接触する",null,null,"第三者優先で誘導を行う"]
[405010,"荷卸し時、トレーラー上から転落する",null,null,"スタンション・親綱を使用する"]
[405010,"荷卸し時、トレーラー上から転落する",null,null,"安全帯を必ず使用する"]
[405010,"荷卸し時、トレーラー上から転落する",null,null,"声掛け合図の徹底"]
[405010,"荷卸し時、トレーラー上から転落する",null,null,"無理な姿勢で作業しない"]
[405010,"ＰＣを仮置きする際、手を挟む",null,null,"不安定な状態でＰＣを置かない"]
[405010,"ＰＣを仮置きする際、手を挟む",null,null,"危険な所に手を入れない"]
[405010,"ＰＣを仮置きする際、手を挟む",null,null,"荷吊りの際はオペとの合図確認を行う"]
[405010,"ＰＣを仮置きする際、手を挟む",null,null,"不安定な状態でＰＣを吊り上げない"]
[405010,"クレーン使用時、吊荷が外れ落下する",null,null,"クレーン使用時の合図の徹底"]
[405010,"クレーン使用時、吊荷が外れ落下する",null,null,"声掛け合図の徹底"]
[405010,"クレーン使用時、吊荷が外れ落下する",null,null,"専用吊り具の始業前点検を実施する"]
[405010,"クレーン使用時、吊荷が外れ落下する",null,null,"吊荷荷重を確認する"]
[405010,"クレーン使用時、吊荷が外れ落下する",null,null,"吊荷下の人払いを行う"]
[405010,"クレーン使用時、吊荷が外れ落下する",null,null,"地切りの確認をする（333運動）"]
[405010,"クレーン使用時、吊荷が外れ落下する",null,null,"専用吊り具を使用する"]
[405010,"クレーン使用時、玉掛けワイヤーが切れ、吊荷が落下する",null,null,"玉掛けワイヤーの始業前点検を実施する"]
[405010,"クレーン使用時、玉掛けワイヤーが切れ、吊荷が落下する",null,null,"声掛け合図の徹底"]
[405010,"クレーン使用時、玉掛けワイヤーが切れ、吊荷が落下する",null,null,"吊荷下の人払いを行う"]
[405010,"クレーン使用時、玉掛けワイヤーが切れ、吊荷が落下する",null,null,"吊荷荷重を確認する"]
[405010,"ＰＣ組立時、吊荷が振れて手を挟む",null,null,"不安定な状態で構台を吊り上げない"]
[405010,"ＰＣ組立時、吊荷が振れて手を挟む",null,null,"危険な所に手を入れない"]
[405010,"ＰＣ組立時、吊荷が振れて手を挟む",null,null,"荷吊りの際はオペとの合図確認を行う"]
[405010,"ＰＣ組立時、スラブ端部から墜落する",null,null,"安全帯を掛けていない状況を作らない"]
[405010,"ＰＣ組立時、スラブ端部から墜落する",null,null,"端部作業は安全帯を必ず使用し作業を行う"]
[405010,"ＰＣ組立時、スラブ端部から墜落する",null,null,"不安全行動を禁止する"]
[405010,"ＰＣ組立時、スラブ端部から墜落する",null,null,"近道行為を禁止する"]
[405010,"足場使用時、足場から墜落する",null,null,"安全帯を掛けていない状況を作らない"]
[405010,"足場使用時、足場から墜落する",null,null,"無理な姿勢で作業しない"]
[405010,"足場使用時、足場から墜落する",null,null,"足場の始業前点検を実施する"]
[405010,"足場使用時、足場から墜落する",null,null,"作業床の墜落転落防止措置を確認する"]
[405010,"足場の隙間から墜落する",null,null,"安全帯を掛けていない状況を作らない"]
[405010,"足場の隙間から墜落する",null,null,"無理な姿勢で作業しない"]
[405010,"足場の隙間から墜落する",null,null,"足場の始業前点検を実施する"]
[405010,"足場の隙間から墜落する",null,null,"作業床の墜落転落防止措置の確認する"]
[405010,"足場上で躓いて転倒する",null,null,"足場上の資材等を整理整頓する"]
[405010,"足場上で躓いて転倒する",null,null,"無理な姿勢で作業しない"]
[405010,"足場上で躓いて転倒する",null,null,"安全通路を移動する"]
[405010,"立馬から転落する",null,null,"物を持って昇降しない"]
[405010,"立馬から転落する",null,null,"開き止め確認する"]
[405010,"立馬から転落する",null,null,"無理な姿勢で作業しない"]
[405010,"立馬から転落する",null,null,"昇降時は必ず後ろ向きにおりる"]
[405010,"重量物を持って腰を痛める",null,null,"膝を使い、物を持ちあげる"]
[405010,"重量物を持って腰を痛める",null,null,"準備体操をしっかり行う"]
[405010,"重量物を持って腰を痛める",null,null,"2人1組で重量物を運ぶ"]
[405010,"PC柱・壁が倒れて負傷する",null,null,"作業手順を遵守する"]
[405010,"PC柱・壁が倒れて負傷する",null,null,"固定状況を確認する"]
[405010,"PC柱・壁が倒れて負傷する",null,null,"計画通りに控えを設置する"]
[405020,"移動時、躓いて転倒する",null,null,"安全通路を移動する"]
[405020,"移動時、躓いて転倒する",null,null,"近道行為を禁止する"]
[405020,"移動時、段差に躓いて転倒する",null,null,"床段差に足をのせない"]
[405020,"移動時、段差に躓いて転倒する",null,null,"安全通路を移動する"]
[405020,"搬入車輛に接触する",null,null,"車輛運行スペースを確保する"]
[405020,"搬入車輛に接触する",null,null,"声掛け合図の徹底"]
[405020,"搬入車輛に接触する",null,null,"ｶﾗｰｺｰﾝによる立ち入り禁止措置を行う"]
[405020,"搬入車輛に接触する",null,null,"車輛と歩行者の区分けを行う"]
[405020,"工事車輛の搬出入時、第三者と接触する",null,null,"誘導員の合図に従う"]
[405020,"工事車輛の搬出入時、第三者と接触する",null,null,"第三者から見える場所で合図する"]
[405020,"工事車輛の搬出入時、第三者と接触する",null,null,"声掛け合図の徹底"]
[405020,"工事車輛の搬出入時、第三者と接触する",null,null,"第三者優先で誘導を行う"]
[405020,"荷卸し時、トレーラー上から転落する",null,null,"スタンション・親綱を使用する"]
[405020,"荷卸し時、トレーラー上から転落する",null,null,"安全帯を使用する"]
[405020,"荷卸し時、トレーラー上から転落する",null,null,"声掛け合図の徹底"]
[405020,"荷卸し時、トレーラー上から転落する",null,null,"無理な姿勢で作業しない"]
[405020,"ＰＣを仮置きする際、手を挟む",null,null,"不安定な状態でＰＣを置かない"]
[405020,"ＰＣを仮置きする際、手を挟む",null,null,"危険な所に手を入れない"]
[405020,"ＰＣを仮置きする際、手を挟む",null,null,"荷吊りの際はオペとの合図確認を行う"]
[405020,"ＰＣを仮置きする際、手を挟む",null,null,"不安定な状態でＰＣを吊り上げない"]
[405020,"クレーン使用時、吊荷が外れ落下する",null,null,"クレーン使用時の合図の徹底"]
[405020,"クレーン使用時、吊荷が外れ落下する",null,null,"声掛け合図の徹底"]
[405020,"クレーン使用時、吊荷が外れ落下する",null,null,"専用吊り具の始業前点検を実施する"]
[405020,"クレーン使用時、吊荷が外れ落下する",null,null,"吊荷荷重を確認する"]
[405020,"クレーン使用時、吊荷が外れ落下する",null,null,"吊荷下の人払いを行う"]
[405020,"クレーン使用時、吊荷が外れ落下する",null,null,"地切りの確認をする（333運動）"]
[405020,"クレーン使用時、吊荷が外れ落下する",null,null,"専用吊り具を使用する"]
[405020,"クレーン使用時、玉掛けワイヤーが切れ、吊荷が落下する",null,null,"玉掛けワイヤーの始業前点検を実施する"]
[405020,"クレーン使用時、玉掛けワイヤーが切れ、吊荷が落下する",null,null,"声掛け合図の徹底"]
[405020,"クレーン使用時、玉掛けワイヤーが切れ、吊荷が落下する",null,null,"吊荷下の人払いを行う"]
[405020,"クレーン使用時、玉掛けワイヤーが切れ、吊荷が落下する",null,null,"吊荷荷重を確認する"]
[405020,"ＰＣ組立時、吊荷が振れて手を挟む",null,null,"不安定な状態で構台を吊り上げない"]
[405020,"ＰＣ組立時、吊荷が振れて手を挟む",null,null,"危険な所に手を入れない"]
[405020,"ＰＣ組立時、吊荷が振れて手を挟む",null,null,"荷吊りの際はオペとの合図確認を行う"]
[405020,"ＰＣ組立時、スラブ端部から墜落する",null,null,"安全帯を掛けていない状況を作らない"]
[405020,"ＰＣ組立時、スラブ端部から墜落する",null,null,"端部作業は安全帯を必ず使用し、作業を行う"]
[405020,"ＰＣ組立時、スラブ端部から墜落する",null,null,"不安全行動を禁止する"]
[405020,"ＰＣ組立時、スラブ端部から墜落する",null,null,"後ろ向きで作業しない"]
[405020,"足場使用時、足場から墜落する",null,null,"安全帯を掛けていない状況を作らない"]
[405020,"足場使用時、足場から墜落する",null,null,"無理な姿勢で作業しない"]
[405020,"足場使用時、足場から墜落する",null,null,"足場の始業前点検を実施する"]
[405020,"足場使用時、足場から墜落する",null,null,"作業床の墜落転落防止措置を確認する"]
[405020,"足場の隙間から墜落する",null,null,"安全帯を掛けていない状況を作らない"]
[405020,"足場の隙間から墜落する",null,null,"無理な姿勢で作業しない"]
[405020,"足場の隙間から墜落する",null,null,"足場の始業前点検を実施する"]
[405020,"足場の隙間から墜落する",null,null,"作業床の墜落転落防止措置の確認する"]
[405020,"足場上で躓いて転倒する",null,null,"足場上の資材等を整理整頓する"]
[405020,"足場上で躓いて転倒する",null,null,"無理な姿勢で作業しない"]
[405020,"足場上で躓いて転倒する",null,null,"安全通路を移動する"]
[405020,"重量物を持って腰を痛める",null,null,"膝を使い、物を持ちあげる"]
[405020,"重量物を持って腰を痛める",null,null,"準備体操をしっかり行う"]
[405020,"重量物を持って腰を痛める",null,null,"2人1組で重量物を運ぶ"]
[405020,"スラブ上での作業中、スラブ筋に躓いて転倒する",null,null,"スラブ筋上歩行の際、足元を確認し歩行する"]
[405020,"スラブ上での作業中、スラブ筋に躓いて転倒する",null,null,"メッシュロード上を移動する"]
[405020,"スラブやバルコニーの型枠支保工が崩壊する",null,null,"型枠支保工を計画書通りに設置する"]
[405020,"スラブやバルコニーの型枠支保工が崩壊する",null,null,"作業手順を遵守する"]
[405030,"材料運搬時、躓いて転倒する",null,null,"安全通路を移動する"]
[405030,"材料運搬時、躓いて転倒する",null,null,"近道行為を禁止する"]
[405030,"材料運搬時、段差に躓いて転倒する",null,null,"床段差に足をのせない"]
[405030,"材料運搬時、段差に躓いて転倒する",null,null,"安全通路を移動する"]
[405030,"搬入車輛に接触する",null,null,"車輛運行スペースを確保する"]
[405030,"搬入車輛に接触する",null,null,"声掛け合図の徹底"]
[405030,"搬入車輛に接触する",null,null,"ｶﾗｰｺｰﾝによる立ち入り禁止措置を行う"]
[405030,"搬入車輛に接触する",null,null,"車輛と歩行者の区分けを行う"]
[405030,"工事車輛の搬出入時、第三者と接触する",null,null,"誘導員の合図に従う"]
[405030,"工事車輛の搬出入時、第三者と接触する",null,null,"第三者から見える場所で合図する"]
[405030,"工事車輛の搬出入時、第三者と接触する",null,null,"声掛け合図の徹底"]
[405030,"工事車輛の搬出入時、第三者と接触する",null,null,"第三者優先で誘導を行う"]
[405030,"鋼線を仮置きする際、手を挟む",null,null,"不安定な状態で鋼線を置かない"]
[405030,"鋼線を仮置きする際、手を挟む",null,null,"危険な所に手を入れない"]
[405030,"鋼線を仮置きする際、手を挟む",null,null,"荷吊りの際はオペとの合図確認を行う"]
[405030,"鋼線を仮置きする際、手を挟む",null,null,"不安定な状態で鋼線を吊り上げない"]
[405030,"クレーン使用時、吊荷が外れ落下する",null,null,"クレーン使用時の合図の徹底"]
[405030,"クレーン使用時、吊荷が外れ落下する",null,null,"声掛け合図の徹底"]
[405030,"クレーン使用時、吊荷が外れ落下する",null,null,"専用吊り具の始業前点検を実施する"]
[405030,"クレーン使用時、吊荷が外れ落下する",null,null,"吊荷荷重を確認する"]
[405030,"クレーン使用時、吊荷が外れ落下する",null,null,"吊荷下の人払いを行う"]
[405030,"クレーン使用時、吊荷が外れ落下する",null,null,"地切りの確認をする（333運動）"]
[405030,"クレーン使用時、吊荷が外れ落下する",null,null,"専用吊り具を使用する"]
[405030,"クレーン使用時、玉掛けワイヤーが切れ、吊荷が落下する",null,null,"玉掛けワイヤーの始業前点検を実施する"]
[405030,"クレーン使用時、玉掛けワイヤーが切れ、吊荷が落下する",null,null,"声掛け合図の徹底"]
[405030,"クレーン使用時、玉掛けワイヤーが切れ、吊荷が落下する",null,null,"吊荷下の人払いを行う"]
[405030,"クレーン使用時、玉掛けワイヤーが切れ、吊荷が落下する",null,null,"吊荷荷重を確認する"]
[405030,"鋼線設置時、吊荷が振れて手を挟む",null,null,"不安定な状態で構台を吊り上げない"]
[405030,"鋼線設置時、吊荷が振れて手を挟む",null,null,"危険な所に手を入れない"]
[405030,"鋼線設置時、吊荷が振れて手を挟む",null,null,"荷吊りの際はオペとの合図確認を行う"]
[405030,"鋼線設置時、スラブ端部から墜落する",null,null,"安全帯を掛けていない状況を作らない"]
[405030,"鋼線設置時、スラブ端部から墜落する",null,null,"端部作業は安全帯を必ず使用し作業を行う"]
[405030,"鋼線設置時、スラブ端部から墜落する",null,null,"不安全行動を禁止する"]
[405030,"鋼線設置時、スラブ端部から墜落する",null,null,"後ろ向きで作業しない"]
[405030,"足場使用時、足場から墜落する",null,null,"安全帯を掛けていない状況を作らない"]
[405030,"足場使用時、足場から墜落する",null,null,"無理な姿勢で作業しない"]
[405030,"足場使用時、足場から墜落する",null,null,"足場の始業前点検を実施する"]
[405030,"足場使用時、足場から墜落する",null,null,"作業床の墜落転落防止措置を確認する"]
[405030,"足場の隙間から墜落する",null,null,"安全帯を掛けていない状況を作らない"]
[405030,"足場の隙間から墜落する",null,null,"無理な姿勢で作業しない"]
[405030,"足場の隙間から墜落する",null,null,"足場の始業前点検を実施する"]
[405030,"足場の隙間から墜落する",null,null,"作業床の墜落転落防止措置の確認する"]
[405030,"足場上で躓いて転倒する",null,null,"足場上の資材等を整理整頓する"]
[405030,"足場上で躓いて転倒する",null,null,"無理な姿勢で作業しない"]
[405030,"足場上で躓いて転倒する",null,null,"安全通路を移動する"]
[405030,"重量物を持って腰を痛める",null,null,"膝を使い、物を持ちあげる"]
[405030,"重量物を持って腰を痛める",null,null,"準備体操をしっかり行う"]
[405030,"重量物を持って腰を痛める",null,null,"2人1組で重量物を運ぶ"]
[405030,"スラブ上での作業中、スラブ筋に躓いて転倒する",null,null,"スラブ筋上歩行の際、足元を確認し歩行する"]
[405030,"スラブ上での作業中、スラブ筋に躓いて転倒する",null,null,"メッシュロード上を移動する"]
[405030,"梁天端から転落する",null,null,"親綱を張り、安全帯を使用する"]
[405030,"梁天端から転落する",null,null,"無理な姿勢で作業しない"]
[405030,"梁天端から転落する",null,null,"危険な箇所には登らない"]
[405030,"梁天端から転落する",null,null,"昇降設備を使用する"]
[405030,"緊張器に手を挟む",null,null,"不安定な状態で緊張器を吊らない"]
[405030,"緊張器に手を挟む",null,null,"危険な所に手を入れない"]
[405030,"緊張器に手を挟む",null,null,"荷吊りの際はオペとの合図確認を行う"]
[405030,"緊張器に手を挟む",null,null,"不安定な状態で緊張器を吊り上げない"]
[405030,"緊張時、スラブ端部から墜落する",null,null,"安全帯を掛けていない状況を作らない"]
[405030,"緊張時、スラブ端部から墜落する",null,null,"端部作業は安全帯を必ず使用し作業を行う"]
[405030,"緊張時、スラブ端部から墜落する",null,null,"不安全行動を禁止する"]
[405030,"緊張時、スラブ端部から墜落する",null,null,"近道行為を禁止する"]
[405030,"緊張器がはずれて接触する",null,null,"緊張器の後方で作業しない"]
[405030,"緊張器がはずれて接触する",null,null,"声掛け合図の徹底"]
[405030,"緊張器がはずれて接触する",null,null,"無理な姿勢で作業しない"]
[405030,"余剰鋼線溶断時、火傷する",null,null,"消火器・消火バケツを設置する"]
[405030,"余剰鋼線溶断時、火傷する",null,null,"火気使用時の作業周辺の人払いを行う"]
[405030,"余剰鋼線溶断時、火傷する",null,null,"保護具を着装する"]
[405030,"余剰鋼線溶断時、火傷する",null,null,"無理な姿勢で作業しない"]
[405030,"余剰鋼線溶断時、火傷する",null,null,"溶接箇所に手を近づけない"]
[405030,"余剰鋼線溶断時、火花が飛散する",null,null,"火の粉の付近に可燃物を置かない"]
[405030,"余剰鋼線溶断時、火花が飛散する",null,null,"消火器・消火バケツを設置する"]
[405030,"余剰鋼線溶断時、火花が飛散する",null,null,"火気使用時の作業周辺の人払いを行う"]
[405030,"余剰鋼線溶断時、火花が飛散する",null,null,"作業周囲を不燃材で養生する"]
[405030,"余剰鋼線溶断時、火花が飛散する",null,null,"無理な姿勢で作業しない"]
[501010,"アスロック板吊上げ時アスロック板が折れ手を挟む",null,null,"危険な所に手を入れない"]
[501010,"アスロック板吊上げ時アスロック板が折れ手を挟む",null,null,"不安定な状態で吊上げない"]
[501010,"アスロック板吊上げ時アスロック板が折れ手を挟む",null,null,"(吊上げ)スリングは適切な位置に掛ける"]
[501010,"トラックが急に動き出し荷台から転落する",null,null,"荷台に人がいないかを確認してから発進する　"]
[501010,"トラックが急に動き出し荷台から転落する",null,null,"車止めを設置する　"]
[501010,"材料運搬時、躓いて転倒する",null,null,"安全通路を移動する"]
[501010,"材料運搬時、躓いて転倒する",null,null,"近道行為を禁止する"]
[501010,"工事車輛の搬出入時、第三者と接触する",null,null,"誘導員の合図に従う"]
[501010,"工事車輛の搬出入時、第三者と接触する",null,null,"第三者から見える場所で合図する"]
[501010,"工事車輛の搬出入時、第三者と接触する",null,null,"声掛け合図の徹底"]
[501010,"工事車輛の搬出入時、第三者と接触する",null,null,"第三者優先で誘導を行う"]
[501010,"搬入車輛に挟まれる",null,null,"車輛運行スペースを確保する"]
[501010,"搬入車輛に挟まれる",null,null,"声掛け合図の徹底"]
[501010,"搬入車輛に挟まれる",null,null,"ｶﾗｰｺｰﾝによる立ち入り禁止措置を行う"]
[501010,"搬入車輛に挟まれる",null,null,"車輛と歩行者の区分けを行う"]
[501010,"アングルを仮置きする際、手を挟む",null,null,"不安定な状態で鋼材を置かない"]
[501010,"アングルを仮置きする際、手を挟む",null,null,"危険な所に手を入れない"]
[501010,"アングルを仮置きする際、手を挟む",null,null,"荷吊りの際はオペとの合図確認を行う"]
[501010,"アングルを仮置きする際、手を挟む",null,null,"不安定な状態で鋼材を吊り上げない"]
[501010,"材料搬入時、吊荷が外れて落下する",null,null,"クレーン使用時の合図の徹底"]
[501010,"材料搬入時、吊荷が外れて落下する",null,null,"声掛け合図の徹底"]
[501010,"材料搬入時、吊荷が外れて落下する",null,null,"玉掛けワイヤーの始業前点検を実施する"]
[501010,"材料搬入時、吊荷が外れて落下する",null,null,"吊荷荷重を確認する"]
[501010,"材料搬入時、吊荷が外れて落下する",null,null,"吊荷下の人払いを行う"]
[501010,"材料搬入時、吊荷が外れて落下する",null,null,"地切りの確認をする（333運動）"]
[501010,"材料搬入時、吊荷が外れて落下する",null,null,"専用吊り具を使用する"]
[501010,"材料搬入時、玉掛けワイヤーが切れ、吊荷が落下する",null,null,"玉掛けワイヤーの始業前点検を実施する"]
[501010,"材料搬入時、玉掛けワイヤーが切れ、吊荷が落下する",null,null,"声掛け合図の徹底"]
[501010,"材料搬入時、玉掛けワイヤーが切れ、吊荷が落下する",null,null,"吊荷下の人払いを行う"]
[501010,"材料搬入時、玉掛けワイヤーが切れ、吊荷が落下する",null,null,"吊荷荷重を確認する"]
[501010,"材料搬入時、玉掛けワイヤーが切れ、吊荷が落下する",null,null,"専用吊り具を使用する"]
[501010,"ALC吊り込み時、手を詰める",null,null,"ウィンチ使用時の合図の徹底"]
[501010,"ALC吊り込み時、手を詰める",null,null,"声掛け合図の徹底"]
[501010,"ALC吊り込み時、手を詰める",null,null,"危険な所に手を入れない"]
[501010,"ALC吊り込み時、手を詰める",null,null,"無理な姿勢で作業しない"]
[501010,"ｱﾝｸﾞﾙ取付(溶接)時、火傷する",null,null,"消火器・消火バケツを設置する"]
[501010,"ｱﾝｸﾞﾙ取付(溶接)時、火傷する",null,null,"火気使用時の下部の人払いを行う"]
[501010,"ｱﾝｸﾞﾙ取付(溶接)時、火傷する",null,null,"保護具を着装する"]
[501010,"ｱﾝｸﾞﾙ取付(溶接)時、火傷する",null,null,"無理な姿勢で作業しない"]
[501010,"ｱﾝｸﾞﾙ取付(溶接)時、火傷する",null,null,"溶接箇所に手を近づけない"]
[501010,"ｱﾝｸﾞﾙ取付(溶接)時、火花が飛散し火災になる",null,null,"火の粉の付近に可燃物を置かない"]
[501010,"ｱﾝｸﾞﾙ取付(溶接)時、火花が飛散し火災になる",null,null,"消火器・消火バケツを設置する"]
[501010,"ｱﾝｸﾞﾙ取付(溶接)時、火花が飛散し火災になる",null,null,"火気使用時の下部の人払いを行う"]
[501010,"足場使用時、足場から墜落する",null,null,"安全帯を掛けていない状況を作らない"]
[501010,"足場使用時、足場から墜落する",null,null,"無理な姿勢で作業しない"]
[501010,"足場使用時、足場から墜落する",null,null,"足場の始業前点検を実施する"]
[501010,"足場使用時、足場から墜落する",null,null,"作業床の墜落転落防止措置を確認する"]
[501010,"足場使用時、足場から資材等を落下させる",null,null,"無理な姿勢で作業しない"]
[501010,"足場使用時、足場から資材等を落下させる",null,null,"作業下部の人払いを行う"]
[501010,"足場使用時、足場から資材等を落下させる",null,null,"足場上の資材等を整理整頓する"]
[501010,"足場の隙間から墜落する",null,null,"安全帯を掛けていない状況を作らない"]
[501010,"足場の隙間から墜落する",null,null,"無理な姿勢で作業しない"]
[501010,"足場の隙間から墜落する",null,null,"足場の始業前点検を実施する"]
[501010,"足場の隙間から墜落する",null,null,"作業床の墜落転落防止措置の確認する"]
[501010,"足場上で躓いて転倒する",null,null,"足場上の材料等を整理整頓する"]
[501010,"足場上で躓いて転倒する",null,null,"無理な姿勢で作業しない"]
[501010,"足場上で躓いて転倒する",null,null,"安全通路を移動する"]
[501010,"立馬から転落する",null,null,"物を持って昇降しない"]
[501010,"立馬から転落する",null,null,"開き止めを確認する"]
[501010,"立馬から転落する",null,null,"無理な姿勢で作業しない"]
[501010,"立馬から転落する",null,null,"昇降時は必ず後ろ向きにおりる"]
[501010,"高所作業車使用時、転落する",null,null,"安全帯を必ず使用する"]
[501010,"高所作業車使用時、転落する",null,null,"無理な姿勢で作業しない"]
[501010,"高所作業車使用時、転落する",null,null,"高所作業車の始業前点検を実施する"]
[501010,"高所作業車使用時、転落する",null,null,"作業床を確認する"]
[501010,"高速カッターを使用し、火花が飛散して火災になる",null,null,"消火器を設置する"]
[501010,"高速カッターを使用し、火花が飛散して火災になる",null,null,"工具の始業前点検を実施する"]
[501010,"高速カッターを使用し、火花が飛散して火災になる",null,null,"高速カッターの保護カバーを使用する"]
[501010,"高速カッターを使用し、火花が飛散して火災になる",null,null,"火の粉の付近に可燃物を置かない"]
[501010,"高速カッターで手を切る",null,null,"保護具を着装する"]
[501010,"高速カッターで手を切る",null,null,"正しい姿勢で作業する"]
[501010,"高速カッターで手を切る",null,null,"高速カッターの保護カバーを使用する"]
[501010,"高速カッターで手を切る",null,null,"工具の始業前点検を実施する"]
[501010,"高速カッターで手を切る",null,null,"切断箇所に手を入れない"]
[501010,"材料カット時、電動丸のこで指を切る",null,null,"電動工具の始業前点検を実施する"]
[501010,"材料カット時、電動丸のこで指を切る",null,null,"丸のこの保護カバーを使用する"]
[501010,"材料カット時、電動丸のこで指を切る",null,null,"無理な姿勢で作業しない"]
[501010,"カッターナイフで手を切る",null,null,"カッターナイフを動かす方向に手を置かない"]
[501010,"カッターナイフで手を切る",null,null,"無理な姿勢で作業しない"]
[501010,"ベビーサンダー使用時、誤って手を切る",null,null,"保護手袋を着装する"]
[501010,"ベビーサンダー使用時、誤って手を切る",null,null,"正しい姿勢で作業する"]
[501010,"ベビーサンダー使用時、誤って手を切る",null,null,"保護カバーを使用する"]
[501010,"ベビーサンダー使用時、誤って手を切る",null,null,"工具の始業前点検を実施する"]
[501010,"ベビーサンダー使用時、誤って手を切る",null,null,"切断箇所に手を入れない"]
[501020,"材料運搬時、躓いて転倒する",null,null,"安全通路を移動する"]
[501020,"材料運搬時、躓いて転倒する",null,null,"近道行為を禁止する"]
[501020,"工事車輛の搬出入時、第三者と接触する",null,null,"誘導員の合図に従う"]
[501020,"工事車輛の搬出入時、第三者と接触する",null,null,"第三者から見える場所で合図する"]
[501020,"工事車輛の搬出入時、第三者と接触する",null,null,"声掛け合図の徹底"]
[501020,"工事車輛の搬出入時、第三者と接触する",null,null,"第三者優先で誘導を行う"]
[501020,"材料を仮置きする際、手を挟む",null,null,"不安定な状態で資材を置かない"]
[501020,"材料を仮置きする際、手を挟む",null,null,"危険な所に手を入れない"]
[501020,"材料を仮置きする際、手を挟む",null,null,"荷吊りの際はオペとの合図確認を行う"]
[501020,"材料を仮置きする際、手を挟む",null,null,"不安定な状態で資材を吊り上げない"]
[501020,"足場使用時、足場から墜落する",null,null,"安全帯を掛けていない状況を作らない"]
[501020,"足場使用時、足場から墜落する",null,null,"無理な姿勢で作業しない"]
[501020,"足場使用時、足場から墜落する",null,null,"足場の始業前点検を実施する"]
[501020,"足場使用時、足場から墜落する",null,null,"作業床の墜落転落防止措置を確認する"]
[501020,"足場使用時、足場から材料等を落下させる",null,null,"無理な姿勢で作業しない"]
[501020,"足場使用時、足場から材料等を落下させる",null,null,"作業下部の人払いを行う"]
[501020,"足場使用時、足場から材料等を落下させる",null,null,"足場上の材料等を整理整頓する"]
[501020,"足場の隙間から墜落する",null,null,"安全帯を掛けていない状況を作らない"]
[501020,"足場の隙間から墜落する",null,null,"無理な姿勢で作業しない"]
[501020,"足場の隙間から墜落する",null,null,"足場の始業前点検を実施する"]
[501020,"足場の隙間から墜落する",null,null,"作業床の墜落転落防止措置の確認する"]
[501020,"足場上で躓いて転倒する",null,null,"足場上の材料・工具を整理整頓する"]
[501020,"足場上で躓いて転倒する",null,null,"無理な姿勢で作業しない"]
[501020,"足場上で躓いて転倒する",null,null,"安全通路を移動する"]
[501020,"立馬から転落する",null,null,"物を持って昇降しない"]
[501020,"立馬から転落する",null,null,"開き留めを確認する"]
[501020,"立馬から転落する",null,null,"無理な姿勢で作業しない"]
[501020,"立馬から転落する",null,null,"昇降時は必ず後ろ向きにおりる"]
[501020,"高速カッターを使用し、火花が飛散して火災になる",null,null,"消火器を設置する"]
[501020,"高速カッターを使用し、火花が飛散して火災になる",null,null,"工具の始業前点検を実施する"]
[501020,"高速カッターを使用し、火花が飛散して火災になる",null,null,"高速カッターの保護カバーを使用する"]
[501020,"高速カッターを使用し、火花が飛散して火災になる",null,null,"火の粉の付近に可燃物を置かない"]
[501020,"高速カッターで手を切る",null,null,"保護具を着装する"]
[501020,"高速カッターで手を切る",null,null,"正しい姿勢で作業する"]
[501020,"高速カッターで手を切る",null,null,"高速カッターの保護カバーを使用する"]
[501020,"高速カッターで手を切る",null,null,"工具の始業前点検を実施する"]
[501020,"高速カッターで手を切る",null,null,"切断箇所に手を入れない"]
[501020,"ベビーサンダー使用時、誤って手を切る",null,null,"保護手袋を着装する"]
[501020,"ベビーサンダー使用時、誤って手を切る",null,null,"正しい姿勢で作業する"]
[501020,"ベビーサンダー使用時、誤って手を切る",null,null,"保護カバーを使用する"]
[501020,"ベビーサンダー使用時、誤って手を切る",null,null,"工具の始業前点検を実施する"]
[501020,"ベビーサンダー使用時、誤って手を切る",null,null,"切断箇所に手を入れない"]
[502010,"材料運搬時、躓いて転倒する",null,null,"安全通路を移動する"]
[502010,"材料運搬時、躓いて転倒する",null,null,"近道行為を禁止する"]
[502010,"カッターナイフで手を切る",null,null,"カッターナイフを動かす方向に手を置かない"]
[502010,"カッターナイフで手を切る",null,null,"無理な姿勢で作業しない"]
[502010,"材料搬入時、吊荷が外れ落下する",null,null,"クレーン使用時の合図の徹底"]
[502010,"材料搬入時、吊荷が外れ落下する",null,null,"声掛け合図の徹底"]
[502010,"材料搬入時、吊荷が外れ落下する",null,null,"玉掛けワイヤーの始業前点検を実施する"]
[502010,"材料搬入時、吊荷が外れ落下する",null,null,"吊荷荷重を確認する"]
[502010,"材料搬入時、吊荷が外れ落下する",null,null,"吊荷下の人払いを行う"]
[502010,"材料搬入時、吊荷が外れ落下する",null,null,"地切りの確認をする（333運動）"]
[502010,"アスファルト使用時、火傷する",null,null,"消火器・消火バケツを設置する"]
[502010,"アスファルト使用時、火傷する",null,null,"アスファルト使用時の作業周辺の人払いを行う"]
[502010,"アスファルト使用時、火傷する",null,null,"保護具を着装する"]
[502010,"アスファルト使用時、火傷する",null,null,"アスファルト運搬時はあわてないで作業する"]
[502010,"昇降する際、足場上で躓いて転倒する",null,null,"足場上の材料等を整理整頓する"]
[502010,"昇降する際、足場上で躓いて転倒する",null,null,"無理な姿勢で作業しない"]
[502010,"昇降する際、足場上で躓いて転倒する",null,null,"作業床を確認する"]
[502020,"材料運搬時、躓いて転倒する",null,null,"安全通路を移動する"]
[502020,"材料運搬時、躓いて転倒する",null,null,"近道行為を禁止する"]
[502020,"ハンドミキサー使用時、手や服が巻き込まれる",null,null,"使用時は手元の確認を行う"]
[502020,"ハンドミキサー使用時、手や服が巻き込まれる",null,null,"暗い箇所では使用しない"]
[502020,"ハンドミキサー使用時、手や服が巻き込まれる",null,null,"服装の乱れが無いか確認する"]
[502020,"ハンドミキサー使用時、手や服が巻き込まれる",null,null,"作業場所を確保する"]
[502020,"カッターナイフで手を切る",null,null,"カッターナイフを動かす方向に手を置かない"]
[502020,"カッターナイフで手を切る",null,null,"無理な姿勢で作業しない"]
[502020,"昇降する際、足場上で躓いて転倒する",null,null,"足場上の材料等を整理整頓する"]
[502020,"昇降する際、足場上で躓いて転倒する",null,null,"無理な姿勢で作業しない"]
[502020,"昇降する際、足場上で躓いて転倒する",null,null,"作業床を確認する"]
[502020,"有機溶剤で気分が悪くなる",null,null,"保護マスクを着装する"]
[502020,"有機溶剤で気分が悪くなる",null,null,"換気を良くする"]
[502020,"有機溶剤で気分が悪くなる",null,null,"有機溶剤は決められた場所で保管する"]
[502020,"有機溶剤で気分が悪くなる",null,null,"特別教育を受けて作業する"]
[502030,"材料運搬時、躓いて転倒する",null,null,"安全通路を移動する"]
[502030,"材料運搬時、躓いて転倒する",null,null,"近道行為を禁止する"]
[502030,"ハンドミキサー使用時、手や服が巻き込まれる",null,null,"使用時は手元の確認を行う"]
[502030,"ハンドミキサー使用時、手や服が巻き込まれる",null,null,"暗い箇所では使用しない"]
[502030,"ハンドミキサー使用時、手や服が巻き込まれる",null,null,"服装の乱れが無いか確認する"]
[502030,"ハンドミキサー使用時、手や服が巻き込まれる",null,null,"作業場所を確保する"]
[502030,"カッターナイフで手を切る",null,null,"カッターナイフを動かす方向に手を置かない"]
[502030,"カッターナイフで手を切る",null,null,"無理な姿勢で作業しない"]
[502030,"昇降する際、足場上で躓いて転倒する",null,null,"足場上の材料等を整理整頓する"]
[502030,"昇降する際、足場上で躓いて転倒する",null,null,"無理な姿勢で作業しない"]
[502030,"昇降する際、足場上で躓いて転倒する",null,null,"作業床を確認する"]
[502040,"設備機器に体をぶつけて負傷する",null,null,"保護帽、保護メガネの着装"]
[502040,"設備機器に体をぶつけて負傷する",null,null,"周囲に障害物はないかを確認する"]
[502040,"バックアップ材切断時カッターナイフで手を切る",null,null,"刃先の方向に手を置かない"]
[502040,"バックアップ材切断時カッターナイフで手を切る",null,null,"無理な姿勢で作業しない"]
[502040,"既存シール撤去時カッターナイフで手を切る",null,null,"刃先の方向に手を置かない"]
[502040,"既存シール撤去時カッターナイフで手を切る",null,null,"無理な姿勢で作業しない"]
[502040,"作業終了後、段差で躓き足をひねる",null,null,"足元に段差がないか確認する"]
[502040,"材料運搬時、躓いて転倒する",null,null,"安全通路を移動する"]
[502040,"材料運搬時、躓いて転倒する",null,null,"近道行為を禁止する"]
[502040,"攪拌器使用時、手を巻き込む",null,null,"使用時は手元の確認を行う"]
[502040,"攪拌器使用時、手を巻き込む",null,null,"暗い箇所では使用しない"]
[502040,"攪拌器使用時、手を巻き込む",null,null,"回転部には手を入れない"]
[502040,"カッターナイフで手を切る",null,null,"カッターナイフを動かす方向に手を置かない"]
[502040,"カッターナイフで手を切る",null,null,"無理な姿勢で作業しない"]
[502040,"足場使用時、足場から墜落する",null,null,"安全帯を掛けていない状況を作らない"]
[502040,"足場使用時、足場から墜落する",null,null,"無理な姿勢で作業しない"]
[502040,"足場使用時、足場から墜落する",null,null,"足場の始業前点検を実施する"]
[502040,"足場使用時、足場から墜落する",null,null,"作業床の墜落転落防止措置を確認する"]
[502040,"足場使用時、足場から材料等を落下させる",null,null,"無理な姿勢で作業しない"]
[502040,"足場使用時、足場から材料等を落下させる",null,null,"作業下部の人払いを行う"]
[502040,"足場使用時、足場から材料等を落下させる",null,null,"足場上の材料等を整理整頓する"]
[502040,"足場の隙間から墜落する",null,null,"安全帯を掛けていない状況を作らない"]
[502040,"足場の隙間から墜落する",null,null,"無理な姿勢で作業しない"]
[502040,"足場の隙間から墜落する",null,null,"足場の始業前点検を実施する"]
[502040,"足場の隙間から墜落する",null,null,"作業床の墜落転落防止措置の確認する"]
[502040,"足場上で躓いて転倒する",null,null,"足場上の材料等を整理整頓する"]
[502040,"足場上で躓いて転倒する",null,null,"無理な姿勢で作業しない"]
[502040,"足場上で躓いて転倒する",null,null,"安全通路を移動する"]
[502040,"立馬から転落する",null,null,"物を持って昇降しない"]
[502040,"立馬から転落する",null,null,"開き止めを確認する"]
[502040,"立馬から転落する",null,null,"無理な姿勢で作業しない"]
[502040,"立馬から転落する",null,null,"昇降時は必ず後ろ向きにおりる"]
[502040,"高所作業車使用時、転落する",null,null,"安全帯を必ず使用する"]
[502040,"高所作業車使用時、転落する",null,null,"無理な姿勢で作業しない"]
[502040,"高所作業車使用時、転落する",null,null,"高所作業車の始業前点検を実施する"]
[502040,"高所作業車使用時、転落する",null,null,"作業床を確認する"]
[503010,"材料運搬時、躓いて転倒する",null,null,"安全通路を移動する"]
[503010,"材料運搬時、躓いて転倒する",null,null,"近道行為を禁止する"]
[503010,"ハンドミキサー使用時、手や服が巻き込まれる",null,null,"使用時は手元の確認を行う"]
[503010,"ハンドミキサー使用時、手や服が巻き込まれる",null,null,"暗い箇所では使用しない"]
[503010,"ハンドミキサー使用時、手や服が巻き込まれる",null,null,"服装の乱れが無いか確認する"]
[503010,"ハンドミキサー使用時、手や服が巻き込まれる",null,null,"作業場所を確保する"]
[503010,"カッターナイフで手を切る",null,null,"カッターナイフを動かす方向に手を置かない"]
[503010,"カッターナイフで手を切る",null,null,"無理な姿勢で作業しない"]
[503010,"ベビーサンダー使用時、目に石片が入る",null,null,"保護メガネを着装する"]
[503010,"ベビーサンダー使用時、目に石片が入る",null,null,"無理な姿勢で作業しない"]
[503010,"ベビーサンダー使用時、目に石片が入る",null,null,"保護具を着装する"]
[503010,"ベビーサンダー使用時、目に石片が入る",null,null,"保護カバーを使用する"]
[503010,"ベビーサンダー使用時、誤って手を切る",null,null,"保護手袋を着装する"]
[503010,"ベビーサンダー使用時、誤って手を切る",null,null,"正しい姿勢で作業する"]
[503010,"ベビーサンダー使用時、誤って手を切る",null,null,"保護カバーを使用する"]
[503010,"ベビーサンダー使用時、誤って手を切る",null,null,"工具の始業前点検を実施する"]
[503010,"ベビーサンダー使用時、誤って手を切る",null,null,"切断箇所に手を入れない"]
[503010,"立馬から転落する",null,null,"物を持って昇降しない"]
[503010,"立馬から転落する",null,null,"開き止めを確認する"]
[503010,"立馬から転落する",null,null,"無理な姿勢で作業しない"]
[503010,"立馬から転落する",null,null,"昇降時は必ず後ろ向きにおりる"]
[503010,"足場使用時、足場から墜落する",null,null,"安全帯を掛けていない状況を作らない"]
[503010,"足場使用時、足場から墜落する",null,null,"無理な姿勢で作業しない"]
[503010,"足場使用時、足場から墜落する",null,null,"足場の始業前点検を実施する"]
[503010,"足場使用時、足場から墜落する",null,null,"作業床の墜落転落防止措置を確認する"]
[503010,"足場上で躓いて転倒する",null,null,"足場上の材料等を整理整頓する"]
[503010,"足場上で躓いて転倒する",null,null,"無理な姿勢で作業しない"]
[503010,"足場上で躓いて転倒する",null,null,"作業床を確認する"]
[503010,"足場使用時、足場から資材等を落下させる",null,null,"無理な姿勢で作業しない"]
[503010,"足場使用時、足場から資材等を落下させる",null,null,"作業下部の人払いを行う"]
[503010,"足場使用時、足場から資材等を落下させる",null,null,"足場上の資材等を整理整頓する"]
[504010,"材料運搬時、躓いて転倒する",null,null,"安全通路を移動する"]
[504010,"材料運搬時、躓いて転倒する",null,null,"近道行為を禁止する"]
[504010,"ハンドミキサー使用時、手や服が巻き込まれる",null,null,"使用時は手元の確認を行う"]
[504010,"ハンドミキサー使用時、手や服が巻き込まれる",null,null,"暗い箇所では使用しない"]
[504010,"ハンドミキサー使用時、手や服が巻き込まれる",null,null,"服装の乱れが無いか確認する"]
[504010,"ハンドミキサー使用時、手や服が巻き込まれる",null,null,"作業場所を確保する"]
[504010,"カッターナイフで手を切る",null,null,"カッターナイフを動かす方向に手を置かない"]
[504010,"カッターナイフで手を切る",null,null,"無理な姿勢で作業しない"]
[504010,"ベビーサンダー使用時、目にタイル片が入る",null,null,"保護メガネを着装する"]
[504010,"ベビーサンダー使用時、目にタイル片が入る",null,null,"無理な姿勢で作業しない"]
[504010,"ベビーサンダー使用時、目にタイル片が入る",null,null,"保護具を着装する"]
[504010,"ベビーサンダー使用時、目にタイル片が入る",null,null,"保護カバーを使用する"]
[504010,"ベビーサンダー使用時、誤って手を切る",null,null,"保護手袋を着装する"]
[504010,"ベビーサンダー使用時、誤って手を切る",null,null,"正しい姿勢で作業する"]
[504010,"ベビーサンダー使用時、誤って手を切る",null,null,"保護カバーを使用する"]
[504010,"ベビーサンダー使用時、誤って手を切る",null,null,"工具の始業前点検を実施する"]
[504010,"ベビーサンダー使用時、誤って手を切る",null,null,"切断箇所に手を入れない"]
[504010,"立馬から転落する",null,null,"物を持って昇降しない"]
[504010,"立馬から転落する",null,null,"開き止めを確認する"]
[504010,"立馬から転落する",null,null,"無理な姿勢で作業しない"]
[504010,"立馬から転落する",null,null,"昇降時は必ず後ろ向きにおりる"]
[504010,"足場使用時、足場から墜落する",null,null,"安全帯を掛けていない状況を作らない"]
[504010,"足場使用時、足場から墜落する",null,null,"無理な姿勢で作業しない"]
[504010,"足場使用時、足場から墜落する",null,null,"足場の始業前点検を実施する"]
[504010,"足場使用時、足場から墜落する",null,null,"作業床の墜落転落防止措置を確認する"]
[504010,"足場の隙間から墜落する",null,null,"安全帯を掛けていない状況を作らない"]
[504010,"足場の隙間から墜落する",null,null,"無理な姿勢で作業しない"]
[504010,"足場の隙間から墜落する",null,null,"足場の始業前点検を実施する"]
[504010,"足場の隙間から墜落する",null,null,"作業床の墜落転落防止措置の確認する"]
[504010,"足場上で躓いて転倒する",null,null,"足場上の材料等を整理整頓する"]
[504010,"足場上で躓いて転倒する",null,null,"無理な姿勢で作業しない"]
[504010,"足場上で躓いて転倒する",null,null,"作業床を確認する"]
[504010,"足場使用時、足場から資材等を落下させる",null,null,"無理な姿勢で作業しない"]
[504010,"足場使用時、足場から資材等を落下させる",null,null,"作業下部の人払いを行う"]
[504010,"足場使用時、足場から資材等を落下させる",null,null,"足場上の資材等を整理整頓する"]
[505010,"材料運搬時、躓いて転倒する",null,null,"安全通路を移動する"]
[505010,"材料運搬時、躓いて転倒する",null,null,"近道行為を禁止する"]
[505010,"材料運搬時、段差に躓いて転倒する",null,null,"床段差に足をのせない"]
[505010,"材料運搬時、段差に躓いて転倒する",null,null,"安全通路を移動する"]
[505010,"不安定な状態で電動丸のこで指を切る",null,null,"電動工具の始業前点検を実施する"]
[505010,"不安定な状態で電動丸のこで指を切る",null,null,"丸のこの保護カバーの使用する"]
[505010,"不安定な状態で電動丸のこで指を切る",null,null,"無理な姿勢で作業しない"]
[505010,"カッターナイフで手を切る",null,null,"カッターナイフを動かす方向に手を置かない"]
[505010,"カッターナイフで手を切る",null,null,"無理な姿勢で作業しない"]
[505010,"手鋸で手や指を切る",null,null,"手鋸を動かす方向に手や指を置かない"]
[505010,"手鋸で手や指を切る",null,null,"無理な姿勢で作業しない"]
[505010,"手鋸で手や指を切る",null,null,"保護手袋を着装する"]
[505010,"タッカーで誤って手に打つ",null,null,"無理な姿勢で作業しない"]
[505010,"タッカーで誤って手に打つ",null,null,"電動工具の始業前点検を実施する"]
[505010,"タッカーで誤って手に打つ",null,null,"正しい姿勢で作業する"]
[505010,"タッカーで誤って手に打つ",null,null,"打設箇所に手を入れない"]
[505010,"誤ってハンマーで指を叩く",null,null,"使用時は手元の確認を行う"]
[505010,"誤ってハンマーで指を叩く",null,null,"暗い箇所では使用しない(手元の照明を明るくする)"]
[505010,"誤ってハンマーで指を叩く",null,null,"保護手袋を着装する"]
[505010,"ドリルで削孔時、指を巻き込む",null,null,"無理な姿勢で作業しない"]
[505010,"ドリルで削孔時、指を巻き込む",null,null,"削孔箇所に手を入れない"]
[505010,"ドリルで削孔時、指を巻き込む",null,null,"電動工具の始業前点検を実施する"]
[505010,"立馬から転落する",null,null,"物を持って昇降しない"]
[505010,"立馬から転落する",null,null,"開き止めを確認する"]
[505010,"立馬から転落する",null,null,"無理な姿勢で作業しない"]
[505010,"立馬から転落する",null,null,"昇降時は必ず後ろ向きにおりる"]
[505010,"高所作業車使用時、転落する",null,null,"安全帯を必ず使用する"]
[505010,"高所作業車使用時、転落する",null,null,"無理な姿勢で作業しない"]
[505010,"高所作業車使用時、転落する",null,null,"高所作業車の始業前点検を実施する"]
[505010,"高所作業車使用時、転落する",null,null,"作業床を確認する"]
[506010,"作業場所移動時、仮設階段で足が滑り転倒する",null,null,"作業通路に物を置かない"]
[506010,"作業場所移動時、仮設階段で足が滑り転倒する",null,null,"踏面が単管の仮設階段は特に滑りやすいのであわてて昇降しない"]
[506010,"足場使用時、足場から墜落する",null,null,"安全帯を掛けていない状況を作らない"]
[506010,"足場使用時、足場から墜落する",null,null,"無理な姿勢で作業しない"]
[506010,"足場使用時、足場から墜落する",null,null,"足場の始業前点検を実施する"]
[506010,"足場使用時、足場から墜落する",null,null,"作業床の墜落転落防止措置を確認する"]
[506010,"足場使用時、足場から資材等を落下させる",null,null,"無理な姿勢で作業しない"]
[506010,"足場使用時、足場から資材等を落下させる",null,null,"作業下部の人払いを行う"]
[506010,"足場使用時、足場から資材等を落下させる",null,null,"足場上の資材等を整理整頓する"]
[506010,"足場の隙間から墜落する",null,null,"安全帯を掛けていない状況を作らない"]
[506010,"足場の隙間から墜落する",null,null,"無理な姿勢で作業しない"]
[506010,"足場の隙間から墜落する",null,null,"足場の始業前点検を実施する"]
[506010,"足場の隙間から墜落する",null,null,"作業床の墜落転落防止措置の確認する"]
[506010,"足場上で躓いて転倒する",null,null,"足場上の資材等を整理整頓する"]
[506010,"足場上で躓いて転倒する",null,null,"無理な姿勢で作業しない"]
[506010,"足場上で躓いて転倒する",null,null,"安全通路を移動する"]
[506010,"立馬から転落する",null,null,"物を持って昇降しない"]
[506010,"立馬から転落する",null,null,"開き止めを確認する"]
[506010,"立馬から転落する",null,null,"無理な姿勢で作業しない"]
[506010,"立馬から転落する",null,null,"昇降時は必ず後ろ向きにおりる"]
[506010,"高所作業車使用時、転落する",null,null,"安全帯を必ず使用する"]
[506010,"高所作業車使用時、転落する",null,null,"無理な姿勢で作業しない"]
[506010,"高所作業車使用時、転落する",null,null,"高所作業車の始業前点検を実施する"]
[506010,"高所作業車使用時、転落する",null,null,"作業床を確認する"]
[506020,"ｱﾝｸﾞﾙ取付(溶接)時、火花が飛散し火災になる",null,null,"火の粉の付近に可燃物を置かない"]
[506020,"ｱﾝｸﾞﾙ取付(溶接)時、火花が飛散し火災になる",null,null,"消火器・消火バケツを設置する"]
[506020,"ｱﾝｸﾞﾙ取付(溶接)時、火花が飛散し火災になる",null,null,"火気使用時の下部の人払いを行う"]
[506020,"ｱﾝｸﾞﾙ取付(溶接)時、火傷する",null,null,"消火器・消火バケツを設置する"]
[506020,"ｱﾝｸﾞﾙ取付(溶接)時、火傷する",null,null,"火気使用時の下部の人払いを行う"]
[506020,"ｱﾝｸﾞﾙ取付(溶接)時、火傷する",null,null,"保護具を着装する"]
[506020,"ｱﾝｸﾞﾙ取付(溶接)時、火傷する",null,null,"無理な姿勢で作業しない"]
[506020,"ｱﾝｸﾞﾙ取付(溶接)時、火傷する",null,null,"溶接箇所に手を近づけない"]
[506030,"鋼材材料に指を挟む",null,null,"資材の結束状態を確認する"]
[506030,"鋼材材料に指を挟む",null,null,"不安定な状態で資材を仮置きしない"]
[506030,"敷鉄板段差部で足がはまり負傷する",null,null,"安全通路を確認する"]
[506030,"鉄骨部材をまたごうとした時に足を負傷する",null,null,"鉄骨の上に足をかけない"]
[506030,"鉄骨部材をまたごうとした時に足を負傷する",null,null,"近道行為の禁止"]
[506030,"材料運搬時、躓いて転倒する",null,null,"安全通路を移動する"]
[506030,"材料運搬時、躓いて転倒する",null,null,"近道行為を禁止する"]
[506030,"材料運搬時、段差に躓いて転倒する",null,null,"床段差に足をのせない"]
[506030,"材料運搬時、段差に躓いて転倒する",null,null,"安全通路を移動する"]
[506030,"カッターナイフで手を切る",null,null,"カッターナイフを動かす方向に手を置かない"]
[506030,"カッターナイフで手を切る",null,null,"無理な姿勢で作業しない"]
[506030,"ドリルで削孔時、指を巻き込む",null,null,"無理な姿勢で作業しない"]
[506030,"ドリルで削孔時、指を巻き込む",null,null,"削孔箇所に手を入れない"]
[506030,"ドリルで削孔時、指を巻き込む",null,null,"電動工具の始業前点検を実施する"]
[506030,"高速カッターで手を切る",null,null,"保護具を着装する"]
[506030,"高速カッターで手を切る",null,null,"正しい姿勢で作業する"]
[506030,"高速カッターで手を切る",null,null,"高速カッターの保護カバーを使用する"]
[506030,"高速カッターで手を切る",null,null,"工具の始業前点検を実施する"]
[506030,"高速カッターで手を切る",null,null,"切断箇所に手を入れない"]
[506030,"高速カッターを使用し、火花が飛散して火災になる",null,null,"消火器・消火バケツを設置する"]
[506030,"高速カッターを使用し、火花が飛散して火災になる",null,null,"工具の始業前点検を実施する"]
[506030,"高速カッターを使用し、火花が飛散して火災になる",null,null,"高速カッターの保護カバーを使用する"]
[506030,"高速カッターを使用し、火花が飛散して火災になる",null,null,"火の粉の付近に可燃物を置かない"]
[506030,"ベビーサンダー使用時、誤って手を切る",null,null,"保護手袋を着装する"]
[506030,"ベビーサンダー使用時、誤って手を切る",null,null,"正しい姿勢で作業する"]
[506030,"ベビーサンダー使用時、誤って手を切る",null,null,"保護カバーを使用する"]
[506030,"ベビーサンダー使用時、誤って手を切る",null,null,"工具の始業前点検を実施する"]
[506030,"ベビーサンダー使用時、誤って手を切る",null,null,"切断箇所に手を入れない"]
[506030,"ベビーサンダー使用時、目に鉄粉が入る",null,null,"保護メガネの着装する"]
[506030,"ベビーサンダー使用時、目に鉄粉が入る",null,null,"無理な姿勢で作業しない"]
[506030,"ベビーサンダー使用時、目に鉄粉が入る",null,null,"保護具を着装する"]
[506030,"ベビーサンダー使用時、目に鉄粉が入る",null,null,"保護カバーを使用する"]
[506030,"材料加工時、材料端部で指や手を切る",null,null,"材料端部に手や指を入れない"]
[506030,"材料加工時、材料端部で指や手を切る",null,null,"無理な姿勢で作業しない"]
[506030,"材料加工時、材料端部で指や手を切る",null,null,"保護具を着装する"]
[506030,"材料搬入時、吊荷が外れ落下する",null,null,"クレーン使用時の合図の徹底"]
[506030,"材料搬入時、吊荷が外れ落下する",null,null,"声掛け合図の徹底"]
[506030,"材料搬入時、吊荷が外れ落下する",null,null,"専用吊り具の始業前点検を実施する"]
[506030,"材料搬入時、吊荷が外れ落下する",null,null,"吊荷荷重を確認する"]
[506030,"材料搬入時、吊荷が外れ落下する",null,null,"吊荷下の人払いを行う"]
[506030,"材料搬入時、吊荷が外れ落下する",null,null,"地切りの確認をする（333運動）"]
[506030,"材料搬入時、玉掛けワイヤーが切れ、吊荷が落下する",null,null,"玉掛けワイヤーの始業前点検を実施する"]
[506030,"材料搬入時、玉掛けワイヤーが切れ、吊荷が落下する",null,null,"声掛け合図の徹底"]
[506030,"材料搬入時、玉掛けワイヤーが切れ、吊荷が落下する",null,null,"吊荷下の人払いを行う"]
[506030,"材料搬入時、玉掛けワイヤーが切れ、吊荷が落下する",null,null,"吊荷荷重を確認する"]
[507010,"バルコニー端部で水平ﾈｯﾄを取り外して作業中転落する",null,null,"端部作業は必ず安全帯を使用し作業を行う"]
[507010,"バルコニー端部で水平ﾈｯﾄを取り外して作業中転落する",null,null,"無理な体勢（身を乗り出すような体勢）で作業しない"]
[507010,"ミキサーからモルタルを取り出す時に蓋が開かず無理をして回転体に手を挟まれる",null,null,"異常が発生した時は必ず電源を切る"]
[507010,"ミキサーからモルタルを取り出す時に蓋が開かず無理をして回転体に手を挟まれる",null,null,"ミキサーの回転部に手を入れない"]
[507010,"ミキサーからモルタルを取り出す時に蓋が開かず無理をして回転体に手を挟まれる",null,null,"始業前点検の実施を確実に励行する"]
[507010,"資材結束用バンドを切断する際にカッターナイフで手を切る",null,null,"刃先の方向に手を置かない"]
[507010,"資材結束用バンドを切断する際にカッターナイフで手を切る",null,null,"無理な姿勢で作業しない"]
[507010,"前かがみで物を持ち上げた際、腰を痛める",null,null,"無理な姿勢で持ちあげない"]
[507010,"前かがみで物を持ち上げた際、腰を痛める",null,null,"膝を使い、物を持ち上げる"]
[507010,"ﾊﾞﾙｺﾆｰ手摺補修の際上から物が落下して負傷する",null,null,"上下作業とならないよう確認する"]
[507010,"ﾊﾞﾙｺﾆｰ手摺補修の際上から物が落下して負傷する",null,null,"ネットなどの落下防止設備を確認する"]
[507010,"移動中溝に足を取られて負傷する",null,null,"安全通路を確認し通行する"]
[507010,"移動中溝に足を取られて負傷する",null,null,"養生蓋を設置する"]
[507010,"材料運搬時躓いて転倒する",null,null,"安全通路を移動する"]
[507010,"材料運搬時躓いて転倒する",null,null,"近道行為を禁止する"]
[507010,"材料運搬時段差に躓いて転倒する",null,null,"床段差に足をのせない"]
[507010,"材料運搬時段差に躓いて転倒する",null,null,"安全通路を移動する"]
[507010,"ハンドミキサー使用時、手や服が巻き込まれる",null,null,"使用時は手元の確認を行う"]
[507010,"ハンドミキサー使用時、手や服が巻き込まれる",null,null,"暗い箇所では使用しない"]
[507010,"ハンドミキサー使用時、手や服が巻き込まれる",null,null,"服装の乱れが無いか確認する"]
[507010,"ハンドミキサー使用時、手や服が巻き込まれる",null,null,"作業場所を確保する"]
[507010,"足場上で躓いて転倒する",null,null,"頭上・足元を確認して歩行する"]
[507010,"足場上で躓いて転倒する",null,null,"無理な姿勢で作業しない"]
[507010,"足場の隙間から墜落する",null,null,"安全帯を掛けていない状況を作らない"]
[507010,"足場の隙間から墜落する",null,null,"無理な姿勢で作業しない"]
[507010,"足場の隙間から墜落する",null,null,"足場の始業前点検を実施する"]
[507010,"足場の隙間から墜落する",null,null,"作業床の墜落転落防止措置の確認する"]
[507010,"不安定な状態で電動丸のこで指を切る",null,null,"電動工具の始業前点検を実施する"]
[507010,"不安定な状態で電動丸のこで指を切る",null,null,"丸のこの保護カバーを使用する"]
[507010,"不安定な状態で電動丸のこで指を切る",null,null,"無理な姿勢で作業しない"]
[507010,"ベビーサンダー使用時、誤って手を切る",null,null,"保護手袋を着装する"]
[507010,"ベビーサンダー使用時、誤って手を切る",null,null,"正しい姿勢で作業する"]
[507010,"ベビーサンダー使用時、誤って手を切る",null,null,"保護カバーを使用する"]
[507010,"ベビーサンダー使用時、誤って手を切る",null,null,"工具の始業前点検を実施する"]
[507010,"ベビーサンダー使用時、誤って手を切る",null,null,"切断箇所に手を入れない"]
[507010,"ベビーサンダー使用時、目にコンクリート片が入る",null,null,"保護メガネを着装する"]
[507010,"ベビーサンダー使用時、目にコンクリート片が入る",null,null,"無理な姿勢で作業しない"]
[507010,"ベビーサンダー使用時、目にコンクリート片が入る",null,null,"保護具を着装する"]
[507010,"ベビーサンダー使用時、目にコンクリート片が入る",null,null,"保護カバーを使用する"]
[507010,"ピット内昇降時に足を滑らせ墜落する",null,null,"安全ブロックを使用する"]
[507010,"ピット内昇降時に足を滑らせ墜落する",null,null,"昇降時、上下・頭上・足元を確認する"]
[507010,"高所作業車使用時、身を寄り出して墜落する",null,null,"安全帯を必ず使用する"]
[507010,"高所作業車使用時、身を寄り出して墜落する",null,null,"無理な姿勢で作業しない"]
[507010,"高所作業車使用時、身を寄り出して墜落する",null,null,"高所作業車の始業前点検を実施する"]
[507010,"立馬から転落する",null,null,"物を持って昇降しない"]
[507010,"立馬から転落する",null,null,"開き止めを確認する"]
[507010,"立馬から転落する",null,null,"無理な姿勢で作業しない"]
[507010,"立馬から転落する",null,null,"昇降時は必ず後ろ向きにおりる"]
[507020,"足を滑らせて転倒する",null,null,"近道行為の禁止"]
[507020,"階段に躓き、転倒・転落する",null,null,"無理な姿勢で作業しない"]
[507020,"階段に躓き、転倒・転落する",null,null,"足元確認で昇降する"]
[507020,"スラブ上で躓いて転倒する",null,null,"メッシュロード上を移動する"]
[507020,"スラブ上で躓いて転倒する",null,null,"スラブ筋上歩行の際、足元を確認し歩行する"]
[507020,"コンクリート打設中、ホースに接触し転倒する",null,null,"ホースの筒先に立たない"]
[507020,"コンクリート打設中、ホースに接触し転倒する",null,null,"声掛け合図の徹底"]
[507020,"コンクリート打設中、スラブ筋に躓き転倒する",null,null,"スラブ筋上歩行の際、足元を確認し歩行する"]
[507020,"コンクリート打設中、スラブ筋に躓き転倒する",null,null,"メッシュロード上を移動する"]
[508010,"材料運搬時、躓いて転倒する",null,null,"安全通路を移動する"]
[508010,"材料運搬時、躓いて転倒する",null,null,"近道行為を禁止する"]
[508010,"材料運搬時、段差に躓いて転倒する",null,null,"床段差に足をのせない"]
[508010,"材料運搬時、段差に躓いて転倒する",null,null,"安全通路を移動する"]
[508010,"不安定な状態で電動丸のこで指を切る",null,null,"電動工具の始業前点検を実施する"]
[508010,"不安定な状態で電動丸のこで指を切る",null,null,"丸のこの保護カバーの使用する"]
[508010,"不安定な状態で電動丸のこで指を切る",null,null,"無理な姿勢で作業しない"]
[508010,"カッターナイフで手を切る",null,null,"カッターナイフを動かす方向に手を置かない"]
[508010,"カッターナイフで手を切る",null,null,"無理な姿勢で作業しない"]
[508010,"手鋸で手や指を切る",null,null,"手鋸を動かす方向に手や指を置かない"]
[508010,"手鋸で手や指を切る",null,null,"無理な姿勢で作業しない"]
[508010,"手鋸で手や指を切る",null,null,"保護手袋を着装する"]
[508010,"誤ってハンマーで指を叩く",null,null,"使用時は手元の確認を行う"]
[508010,"誤ってハンマーで指を叩く",null,null,"暗い箇所では使用しない(手元の照明を明るくする)"]
[508010,"誤ってハンマーで指を叩く",null,null,"保護手袋を着装する"]
[508010,"ドリルで削孔時、指を巻き込む",null,null,"無理な姿勢で作業しない"]
[508010,"ドリルで削孔時、指を巻き込む",null,null,"削孔箇所に手を入れない"]
[508010,"ドリルで削孔時、指を巻き込む",null,null,"電動工具の始業前点検を実施する"]
[508010,"立馬から転落する",null,null,"物を持って昇降しない"]
[508010,"立馬から転落する",null,null,"開き止めを確認する"]
[508010,"立馬から転落する",null,null,"無理な姿勢で作業しない"]
[508010,"立馬から転落する",null,null,"昇降時は必ず後ろ向きにおりる"]
[508010,"扉吊り込み時、指を詰める",null,null,"無理な姿勢で作業しない"]
[508010,"扉吊り込み時、指を詰める",null,null,"保護手袋を着装する"]
[509010,"セットハンマーで建入れ調整中、手をたたき負傷する",null,null,"叩く箇所をしっかりと確認する"]
[509010,"材料運搬時、躓いて転倒する",null,null,"安全通路を移動する"]
[509010,"材料運搬時、躓いて転倒する",null,null,"近道行為を禁止する"]
[509010,"材料運搬時、段差に躓いて転倒する",null,null,"床段差に足をのせない"]
[509010,"材料運搬時、段差に躓いて転倒する",null,null,"安全通路を移動する"]
[509010,"カッターナイフで手を切る",null,null,"カッターナイフを動かす方向に手を置かない"]
[509010,"カッターナイフで手を切る",null,null,"無理な姿勢で作業しない"]
[509010,"ドリルで削孔時、指を巻き込む",null,null,"無理な姿勢で作業しない"]
[509010,"ドリルで削孔時、指を巻き込む",null,null,"削孔箇所に手を入れない"]
[509010,"ドリルで削孔時、指を巻き込む",null,null,"電動工具の始業前点検を実施する"]
[509010,"AW吊り込み時、指を詰める",null,null,"無理な姿勢で作業しない"]
[509010,"AW吊り込み時、指を詰める",null,null,"保護手袋を着装する"]
[509010,"溶接時、火花が飛散し火災になる",null,null,"火の粉の付近に可燃物を置かない"]
[509010,"溶接時、火花が飛散し火災になる",null,null,"消火器・消火バケツを設置する"]
[509010,"溶接時、火花が飛散し火災になる",null,null,"火気使用時の作業周囲の人払いを行う"]
[509010,"溶接時、火傷する",null,null,"消火器・消火バケツを設置する"]
[509010,"溶接時、火傷する",null,null,"火気使用時の作業周囲の人払いを行う"]
[509010,"溶接時、火傷する",null,null,"保護具を着装する"]
[509010,"溶接時、火傷する",null,null,"無理な姿勢で作業しない"]
[509010,"溶接時、火傷する",null,null,"溶接箇所に手を近づけない"]
[509010,"ベビーサンダー使用時、誤って手を切る",null,null,"保護手袋を着装する"]
[509010,"ベビーサンダー使用時、誤って手を切る",null,null,"正しい姿勢で作業する"]
[509010,"ベビーサンダー使用時、誤って手を切る",null,null,"保護カバーを使用する"]
[509010,"ベビーサンダー使用時、誤って手を切る",null,null,"工具の始業前点検を実施する"]
[509010,"ベビーサンダー使用時、誤って手を切る",null,null,"切断箇所に手を入れない"]
[509010,"ベビーサンダー使用時、目に鉄粉が入る",null,null,"保護メガネを着装する"]
[509010,"ベビーサンダー使用時、目に鉄粉が入る",null,null,"無理な姿勢で作業しない"]
[509010,"ベビーサンダー使用時、目に鉄粉が入る",null,null,"保護具を着装する"]
[509010,"ベビーサンダー使用時、目に鉄粉が入る",null,null,"保護カバーを使用する"]
[509010,"立馬から転落する",null,null,"物を持って昇降しない"]
[509010,"立馬から転落する",null,null,"開き止めを確認する"]
[509010,"立馬から転落する",null,null,"無理な姿勢で作業しない"]
[509010,"立馬から転落する",null,null,"昇降時は必ず後ろ向きにおりる"]
[509010,"高所作業車使用時、転落する",null,null,"安全帯を必ず使用する"]
[509010,"高所作業車使用時、転落する",null,null,"無理な姿勢で作業しない"]
[509010,"高所作業車使用時、転落する",null,null,"高所作業車の始業前点検を実施する"]
[509010,"高所作業車使用時、転落する",null,null,"作業床を確認する"]
[509010,"足場使用時、足場から墜落する",null,null,"安全帯を掛けていない状況を作らない"]
[509010,"足場使用時、足場から墜落する",null,null,"無理な姿勢で作業しない"]
[509010,"足場使用時、足場から墜落する",null,null,"足場の始業前点検を実施する"]
[509010,"足場使用時、足場から墜落する",null,null,"作業床の墜落転落防止措置を確認する"]
[509010,"足場使用時、足場から資材等を落下させる",null,null,"無理な姿勢で作業しない"]
[509010,"足場使用時、足場から資材等を落下させる",null,null,"作業下部の人払いを行う"]
[509010,"足場使用時、足場から資材等を落下させる",null,null,"足場上の資材等を整理整頓する"]
[509010,"足場の隙間から墜落する",null,null,"安全帯を掛けていない状況を作らない"]
[509010,"足場の隙間から墜落する",null,null,"無理な姿勢で作業しない"]
[509010,"足場の隙間から墜落する",null,null,"足場の始業前点検を実施する"]
[509010,"足場の隙間から墜落する",null,null,"作業床の墜落転落防止措置の確認する"]
[509010,"足場上で躓いて転倒する",null,null,"足場上の材料等を整理整頓する"]
[509010,"足場上で躓いて転倒する",null,null,"無理な姿勢で作業しない"]
[509010,"足場上で躓いて転倒する",null,null,"安全通路を移動する"]
[509020,"取付作業中吊元の後打ちアンカーが抜け、吊り荷が落下して手にあたる",null,null,"吊荷の下に手を入れない"]
[509020,"取付作業中吊元の後打ちアンカーが抜け、吊り荷が落下して手にあたる",null,null,"作業手順の整備・確認・順守"]
[509020,"取付作業中吊元の後打ちアンカーが抜け、吊り荷が落下して手にあたる",null,null,"声かけ合図の徹底"]
[509020,"材料運搬時、躓いて転倒する",null,null,"安全通路を移動する"]
[509020,"材料運搬時、躓いて転倒する",null,null,"近道行為を禁止する"]
[509020,"材料運搬時段差に躓いて転倒する",null,null,"床段差に足をのせない"]
[509020,"材料運搬時段差に躓いて転倒する",null,null,"安全通路を移動する"]
[509020,"カッターナイフで手を切る",null,null,"カッターナイフを動かす方向に手を置かない"]
[509020,"カッターナイフで手を切る",null,null,"無理な姿勢で作業しない"]
[509020,"ドリルで削孔時、指を巻き込む",null,null,"無理な姿勢で作業しない"]
[509020,"ドリルで削孔時、指を巻き込む",null,null,"削孔箇所に手を入れない"]
[509020,"ドリルで削孔時、指を巻き込む",null,null,"電動工具の始業前点検を実施する"]
[509020,"溶接時、火花が飛散し火災になる",null,null,"火の粉の付近に可燃物を置かない"]
[509020,"溶接時、火花が飛散し火災になる",null,null,"消火器・消火バケツを設置する"]
[509020,"溶接時、火花が飛散し火災になる",null,null,"火気使用時の作業周囲の人払いを行う"]
[509020,"溶接時、火傷する",null,null,"消火器・消火バケツを設置する"]
[509020,"溶接時、火傷する",null,null,"火気使用時の作業周囲の人払いを行う"]
[509020,"溶接時、火傷する",null,null,"保護具を着装する"]
[509020,"溶接時、火傷する",null,null,"無理な姿勢で作業しない"]
[509020,"溶接時、火傷する",null,null,"溶接箇所に手を近づけない"]
[509020,"ベビーサンダー使用時、誤って手を切る",null,null,"保護手袋を着装する"]
[509020,"ベビーサンダー使用時、誤って手を切る",null,null,"正しい姿勢で作業する"]
[509020,"ベビーサンダー使用時、誤って手を切る",null,null,"保護カバーを使用する"]
[509020,"ベビーサンダー使用時、誤って手を切る",null,null,"工具の始業前点検を実施する"]
[509020,"ベビーサンダー使用時、誤って手を切る",null,null,"切断箇所に手を入れない"]
[509020,"ベビーサンダー使用時、目に鉄粉が入る",null,null,"保護メガネを着装する"]
[509020,"ベビーサンダー使用時、目に鉄粉が入る",null,null,"無理な姿勢で作業しない"]
[509020,"ベビーサンダー使用時、目に鉄粉が入る",null,null,"保護具を着装する"]
[509020,"ベビーサンダー使用時、目に鉄粉が入る",null,null,"保護カバーを使用する"]
[509020,"立馬から転落する",null,null,"物を持って昇降しない"]
[509020,"立馬から転落する",null,null,"開き止めを確認する"]
[509020,"立馬から転落する",null,null,"無理な姿勢で作業しない"]
[509020,"立馬から転落する",null,null,"昇降時は必ず後ろ向きにおりる"]
[509020,"重量物を持って腰を痛める",null,null,"膝を使い、物を持ちあげる"]
[509020,"重量物を持って腰を痛める",null,null,"準備体操をしっかり行う"]
[509020,"重量物を持って腰を痛める",null,null,"2人1組で重量物を運ぶ"]
[509020,"扉吊り込み時、指を詰める",null,null,"無理な姿勢で作業しない"]
[509020,"扉吊り込み時、指を詰める",null,null,"保護手袋を着装する"]
[509030,"材料運搬時、躓いて転倒する",null,null,"安全通路を移動する"]
[509030,"材料運搬時、躓いて転倒する",null,null,"近道行為を禁止する"]
[509030,"材料運搬時、段差に躓いて転倒する",null,null,"床段差に足をのせない"]
[509030,"材料運搬時、段差に躓いて転倒する",null,null,"安全通路を移動する"]
[509030,"カッターナイフで手を切る",null,null,"カッターナイフを動かす方向に手を置かない"]
[509030,"カッターナイフで手を切る",null,null,"無理な姿勢で作業しない"]
[509030,"ドリルで削孔時、指を巻き込む",null,null,"無理な姿勢で作業しない"]
[509030,"ドリルで削孔時、指を巻き込む",null,null,"削孔箇所に手を入れない"]
[509030,"ドリルで削孔時、指を巻き込む",null,null,"電動工具の始業前点検を実施する"]
[509030,"溶接時、火花が飛散し火災になる",null,null,"火の粉の付近に可燃物を置かない"]
[509030,"溶接時、火花が飛散し火災になる",null,null,"消火器・消火バケツを設置する"]
[509030,"溶接時、火花が飛散し火災になる",null,null,"火気使用時の作業周囲の人払いを行う"]
[509030,"溶接時、火傷する",null,null,"消火器・消火バケツを設置する"]
[509030,"溶接時、火傷する",null,null,"火気使用時の作業周囲の人払いを行う"]
[509030,"溶接時、火傷する",null,null,"保護具を着装する"]
[509030,"溶接時、火傷する",null,null,"無理な姿勢で作業しない"]
[509030,"溶接時、火傷する",null,null,"溶接箇所に手を近づけない"]
[509030,"ベビーサンダー使用時、誤って手を切る",null,null,"保護手袋を着装する"]
[509030,"ベビーサンダー使用時、誤って手を切る",null,null,"正しい姿勢で作業する"]
[509030,"ベビーサンダー使用時、誤って手を切る",null,null,"保護カバーを使用する"]
[509030,"ベビーサンダー使用時、誤って手を切る",null,null,"工具の始業前点検を実施する"]
[509030,"ベビーサンダー使用時、誤って手を切る",null,null,"切断箇所に手を入れない"]
[509030,"ベビーサンダー使用時、目に鉄粉が入る",null,null,"保護メガネを着装する"]
[509030,"ベビーサンダー使用時、目に鉄粉が入る",null,null,"無理な姿勢で作業しない"]
[509030,"ベビーサンダー使用時、目に鉄粉が入る",null,null,"保護具を着装する"]
[509030,"ベビーサンダー使用時、目に鉄粉が入る",null,null,"保護カバーを使用する"]
[509030,"立馬から転落する",null,null,"物を持って昇降しない"]
[509030,"立馬から転落する",null,null,"開き止めを確認する"]
[509030,"立馬から転落する",null,null,"無理な姿勢で作業しない"]
[509030,"立馬から転落する",null,null,"昇降時は必ず後ろ向きにおりる"]
[509030,"高所作業車使用時、転落する",null,null,"安全帯を必ず使用する"]
[509030,"高所作業車使用時、転落する",null,null,"無理な姿勢で作業しない"]
[509030,"高所作業車使用時、転落する",null,null,"高所作業車の始業前点検を実施する"]
[509030,"高所作業車使用時、転落する",null,null,"作業床を確認する"]
[509030,"足場使用時、足場から墜落する",null,null,"安全帯を掛けていない状況を作らない"]
[509030,"足場使用時、足場から墜落する",null,null,"無理な姿勢で作業しない"]
[509030,"足場使用時、足場から墜落する",null,null,"足場の始業前点検を実施する"]
[509030,"足場使用時、足場から墜落する",null,null,"作業床の墜落転落防止措置を確認する"]
[509030,"足場使用時、足場から資材等を落下させる",null,null,"無理な姿勢で作業しない"]
[509030,"足場使用時、足場から資材等を落下させる",null,null,"作業下部の人払いを行う"]
[509030,"足場使用時、足場から資材等を落下させる",null,null,"足場上の資材等を整理整頓する"]
[509030,"足場の隙間から墜落する",null,null,"安全帯を掛けていない状況を作らない"]
[509030,"足場の隙間から墜落する",null,null,"無理な姿勢で作業しない"]
[509030,"足場の隙間から墜落する",null,null,"足場の始業前点検を実施する"]
[509030,"足場の隙間から墜落する",null,null,"作業床の墜落転落防止措置の確認する"]
[509030,"足場上で躓いて転倒する",null,null,"足場上の資材等を整理整頓する"]
[509030,"足場上で躓いて転倒する",null,null,"無理な姿勢で作業しない"]
[509030,"足場上で躓いて転倒する",null,null,"安全通路を移動する"]
[509030,"重量物を持って腰を痛める",null,null,"膝を使い、物を持ちあげる"]
[509030,"重量物を持って腰を痛める",null,null,"準備体操をしっかり行う"]
[509030,"重量物を持って腰を痛める",null,null,"2人1組で重量物を運ぶ"]
[509030,"シャッター吊り込み時、指を詰める",null,null,"無理な姿勢で作業しない"]
[509030,"シャッター吊り込み時、指を詰める",null,null,"保護手袋を着装する"]
[509040,"部材搬入時荷渡しする際に取り損ねて手を負傷する",null,null,"荷渡し時には声を掛け合って受け渡す"]
[509040,"部材搬入時荷渡しする際に取り損ねて手を負傷する",null,null,"適切な人数で搬入を行う"]
[509040,"部材搬入時荷渡しする際に取り損ねて手を負傷する",null,null,"一度に無理してたくさん運ばない"]
[509040,"部材搬入時荷渡しする際に取り損ねて手を負傷する",null,null,"無理な体勢で作業しない"]
[509040,"材料運搬時、躓いて転倒する",null,null,"安全通路を移動する"]
[509040,"材料運搬時、躓いて転倒する",null,null,"近道行為を禁止する"]
[509040,"材料運搬時段差に躓いて転倒する",null,null,"床段差に足をのせない"]
[509040,"材料運搬時段差に躓いて転倒する",null,null,"安全通路を移動する"]
[509040,"カッターナイフで手を切る",null,null,"カッターナイフを動かす方向に手を置かない"]
[509040,"カッターナイフで手を切る",null,null,"無理な姿勢で作業しない"]
[509040,"ドリルで削孔時、指を巻き込む",null,null,"無理な姿勢で作業しない"]
[509040,"ドリルで削孔時、指を巻き込む",null,null,"削孔箇所に手を入れない"]
[509040,"ドリルで削孔時、指を巻き込む",null,null,"電動工具の始業前点検を実施する"]
[509040,"溶接時、火花が飛散し火災になる",null,null,"火の粉の付近に可燃物を置かない"]
[509040,"溶接時、火花が飛散し火災になる",null,null,"消火器・消火バケツを設置する"]
[509040,"溶接時、火花が飛散し火災になる",null,null,"火気使用時の下部の人払いを行う"]
[509040,"溶接時、火傷する",null,null,"消火器・消火バケツを設置する"]
[509040,"溶接時、火傷する",null,null,"火気使用時の下部の人払いを行う"]
[509040,"溶接時、火傷する",null,null,"保護具を着装する"]
[509040,"溶接時、火傷する",null,null,"無理な姿勢で作業しない"]
[509040,"溶接時、火傷する",null,null,"溶接箇所に手を近づけない"]
[509040,"ベビーサンダー使用時、誤って手を切る",null,null,"保護手袋を着装する"]
[509040,"ベビーサンダー使用時、誤って手を切る",null,null,"正しい姿勢で作業する"]
[509040,"ベビーサンダー使用時、誤って手を切る",null,null,"保護カバーを使用する"]
[509040,"ベビーサンダー使用時、誤って手を切る",null,null,"工具の始業前点検を実施する"]
[509040,"ベビーサンダー使用時、誤って手を切る",null,null,"切断箇所に手を入れない"]
[509040,"ベビーサンダー使用時、目に鉄粉が入る",null,null,"保護メガネを着装する"]
[509040,"ベビーサンダー使用時、目に鉄粉が入る",null,null,"無理な姿勢で作業しない"]
[509040,"ベビーサンダー使用時、目に鉄粉が入る",null,null,"保護具を着装する"]
[509040,"ベビーサンダー使用時、目に鉄粉が入る",null,null,"保護カバーを使用する"]
[509040,"立馬から転落する",null,null,"物を持って昇降しない"]
[509040,"立馬から転落する",null,null,"開き止めを確認する"]
[509040,"立馬から転落する",null,null,"無理な姿勢で作業しない"]
[509040,"立馬から転落する",null,null,"昇降時は必ず後ろ向きにおりる"]
[509040,"高所作業車使用時、転落する",null,null,"安全帯を必ず使用する"]
[509040,"高所作業車使用時、転落する",null,null,"無理な姿勢で作業しない"]
[509040,"高所作業車使用時、転落する",null,null,"高所作業車の始業前点検を実施する"]
[509040,"高所作業車使用時、転落する",null,null,"作業床を確認する"]
[509040,"足場使用時、足場から墜落する",null,null,"安全帯を掛けていない状況を作らない"]
[509040,"足場使用時、足場から墜落する",null,null,"無理な姿勢で作業しない"]
[509040,"足場使用時、足場から墜落する",null,null,"足場の始業前点検を実施する"]
[509040,"足場使用時、足場から墜落する",null,null,"作業床の墜落転落防止措置を確認する"]
[509040,"足場使用時、足場から資材等を落下させる",null,null,"無理な姿勢で作業しない"]
[509040,"足場使用時、足場から資材等を落下させる",null,null,"作業下部の人払いを行う"]
[509040,"足場使用時、足場から資材等を落下させる",null,null,"足場上の資材等を整理整頓する"]
[509040,"足場の隙間から墜落する",null,null,"安全帯を掛けていない状況を作らない"]
[509040,"足場の隙間から墜落する",null,null,"無理な姿勢で作業しない"]
[509040,"足場の隙間から墜落する",null,null,"足場の始業前点検を実施する"]
[509040,"足場の隙間から墜落する",null,null,"作業床の墜落転落防止措置の確認する"]
[509040,"足場上で躓いて転倒する",null,null,"足場上の資材等を整理整頓する"]
[509040,"足場上で躓いて転倒する",null,null,"無理な姿勢で作業しない"]
[509040,"足場上で躓いて転倒する",null,null,"安全通路を移動する"]
[509040,"重量物を持って腰を痛める",null,null,"膝を使い、物を持ちあげる"]
[509040,"重量物を持って腰を痛める",null,null,"準備体操をしっかり行う"]
[509040,"重量物を持って腰を痛める",null,null,"2人1組で重量物を運ぶ"]
[509040,"CW組立時、部材に指を詰める",null,null,"無理な姿勢で作業しない"]
[509040,"CW組立時、部材に指を詰める",null,null,"保護手袋を着装する"]
[509040,"CW組立時、部材に指を詰める",null,null,"部材の間に指を入れない"]
[510010,"ガラス切断時にガラスで手を切る",null,null,"刃先の方向に手を置かない"]
[510010,"ガラス切断時にガラスで手を切る",null,null,"無理な姿勢で作業しない"]
[510010,"ガラス切断時にガラスで手を切る",null,null,"保護具を確実に着用する"]
[510010,"材料運搬時、躓いて転倒する",null,null,"安全通路を移動する"]
[510010,"材料運搬時、躓いて転倒する",null,null,"近道行為を禁止する"]
[510010,"ガラスで指を切る",null,null,"皮手袋を使用する"]
[510010,"ガラスで指を切る",null,null,"無理な姿勢でガラスを持たない"]
[510010,"カッターナイフで手を切る",null,null,"カッターナイフを動かす方向に手を置かない"]
[510010,"カッターナイフで手を切る",null,null,"無理な姿勢で作業しない"]
[510010,"ガラス取付時、立馬から転落する",null,null,"物を持って昇降しない"]
[510010,"ガラス取付時、立馬から転落する",null,null,"開き止めを確認する"]
[510010,"ガラス取付時、立馬から転落する",null,null,"無理な姿勢で作業しない"]
[510010,"ガラス取付時、立馬から転落する",null,null,"昇降時は必ず後ろ向きにおりる"]
[510010,"足場使用時、足場から墜落する",null,null,"安全帯を掛けていない状況を作らない"]
[510010,"足場使用時、足場から墜落する",null,null,"無理な姿勢で作業しない"]
[510010,"足場使用時、足場から墜落する",null,null,"足場の始業前点検を実施する"]
[510010,"足場使用時、足場から墜落する",null,null,"作業床の墜落転落防止措置を確認する"]
[510010,"足場使用時、足場から資材等を落下させる",null,null,"無理な姿勢で作業しない"]
[510010,"足場使用時、足場から資材等を落下させる",null,null,"作業下部の人払いを行う"]
[510010,"足場使用時、足場から資材等を落下させる",null,null,"足場上の資材等を整理整頓する"]
[510010,"足場の隙間から墜落する",null,null,"安全帯を掛けていない状況を作らない"]
[510010,"足場の隙間から墜落する",null,null,"無理な姿勢で作業しない"]
[510010,"足場の隙間から墜落する",null,null,"足場の始業前点検を実施する"]
[510010,"足場の隙間から墜落する",null,null,"作業床の墜落転落防止措置の確認する"]
[510010,"足場上で躓いて転倒する",null,null,"足場上の資材等を整理整頓する"]
[510010,"足場上で躓いて転倒する",null,null,"無理な姿勢で作業しない"]
[510010,"足場上で躓いて転倒する",null,null,"安全通路を移動する"]
[511010,"ローリング足場から降りる時に転落する",null,null,"昇降の際、物を持って昇降設備を使用しない"]
[511010,"ローリング足場から降りる時に転落する",null,null,"昇降の際、安全帯を使用する"]
[511010,"ローリング足場から降りる時に転落する",null,null,"昇降の際、昇降設備を使用する"]
[511010,"作業足場の段差から転落する",null,null,"安全帯が使用できない状況で作業しない"]
[511010,"作業足場の段差から転落する",null,null,"足場の始業前点検の実施"]
[511010,"作業足場の段差から転落する",null,null,"開口部養生を事前に申し出る"]
[511010,"材料運搬時、躓いて転倒する",null,null,"安全通路を移動する"]
[511010,"材料運搬時、躓いて転倒する",null,null,"近道行為を禁止する"]
[511010,"ハンドミキサー使用時、手や服が巻き込まれる",null,null,"使用時は十分に手元の確認を行う"]
[511010,"ハンドミキサー使用時、手や服が巻き込まれる",null,null,"暗い箇所では使用しない"]
[511010,"ハンドミキサー使用時、手や服が巻き込まれる",null,null,"服装の乱れが無いか確認する"]
[511010,"ハンドミキサー使用時、手や服が巻き込まれる",null,null,"作業場所を確保する"]
[511010,"ベビーサンダー使用時、手を切る",null,null,"保護具を着装する"]
[511010,"ベビーサンダー使用時、手を切る",null,null,"正しい姿勢で作業する"]
[511010,"ベビーサンダー使用時、手を切る",null,null,"保護カバーを使用する"]
[511010,"スラブ端部から転落する",null,null,"安全帯を掛ける設備があるか確認する"]
[511010,"スラブ端部から転落する",null,null,"安全帯を掛けていない状況を作らない"]
[511010,"スラブ端部から転落する",null,null,"無理な姿勢で作業しない"]
[511010,"カッターナイフで手を切る",null,null,"カッターナイフを動かす方向に手を置かない"]
[511010,"カッターナイフで手を切る",null,null,"無理な姿勢で作業しない"]
[511010,"カワスキで手を切る",null,null,"カワスキを動かす方向に手を置かない"]
[511010,"カワスキで手を切る",null,null,"保護具を着装する"]
[511010,"カワスキで手を切る",null,null,"無理な姿勢で作業しない"]
[511010,"ポリッシャー使用時、粉塵を吸引する",null,null,"防塵マスクを着装する"]
[511010,"ポリッシャー使用時、粉塵を吸引する",null,null,"他業者に影響しないよう作業区画を明示する"]
[511010,"ポリッシャー使用時、コードを巻き込み感電する",null,null,"コードの行先を確認する。"]
[511010,"ポリッシャー使用時、コードを巻き込み感電する",null,null,"安全スイッチの位置を確認する"]
[511010,"ポリッシャー使用時、コードを巻き込み感電する",null,null,"保護手袋を使用する"]
[511010,"下地処理時、刃物で手足を切る",null,null,"刃物を動かす方向に手を置かない"]
[511010,"下地処理時、刃物で手足を切る",null,null,"無理な姿勢で作業しない"]
[511010,"立馬から転落する",null,null,"物を持って昇降しない"]
[511010,"立馬から転落する",null,null,"開き止めを確認する"]
[511010,"立馬から転落する",null,null,"無理な姿勢で作業しない"]
[511010,"立馬から転落する",null,null,"昇降時は必ず後ろ向きにおりる"]
[511010,"高所作業車使用時、転落する",null,null,"安全帯を必ず使用する"]
[511010,"高所作業車使用時、転落する",null,null,"無理な姿勢で作業しない"]
[511010,"高所作業車使用時、転落する",null,null,"高所作業車の始業前点検を実施する"]
[511010,"高所作業車使用時、転落する",null,null,"作業床を確認する"]
[511010,"足場使用時、足場から墜落する",null,null,"安全帯を掛けていない状況を作らない"]
[511010,"足場使用時、足場から墜落する",null,null,"無理な姿勢で作業しない"]
[511010,"足場使用時、足場から墜落する",null,null,"足場の始業前点検を実施する"]
[511010,"足場使用時、足場から墜落する",null,null,"作業床の墜落転落防止措置を確認する"]
[511010,"足場使用時、足場から材料等を落下させる",null,null,"無理な姿勢で作業しない"]
[511010,"足場使用時、足場から材料等を落下させる",null,null,"作業下部の人払いを行う"]
[511010,"足場使用時、足場から材料等を落下させる",null,null,"足場上の材料等を整理整頓する"]
[511010,"足場の隙間から墜落する",null,null,"安全帯を掛けていない状況を作らない"]
[511010,"足場の隙間から墜落する",null,null,"無理な姿勢で作業しない"]
[511010,"足場の隙間から墜落する",null,null,"足場の始業前点検を実施する"]
[511010,"足場の隙間から墜落する",null,null,"作業床の墜落転落防止措置の確認する"]
[511010,"足場上で躓いて転倒する",null,null,"足場上の材料等を整理整頓する"]
[511010,"足場上で躓いて転倒する",null,null,"無理な姿勢で作業しない"]
[511010,"足場上で躓いて転倒する",null,null,"安全通路を移動する"]
[511010,"塗装時、塗料が飛散する",null,null,"養生状況を点検する"]
[511010,"塗装時、塗料が飛散する",null,null,"飛散防止養生を行う"]
[511010,"塗装時、塗料が飛散する",null,null,"無理な姿勢で作業しない"]
[511010,"塗装時、塗料が飛散する",null,null,"使用時は十分に手元の確認を行う"]
[511010,"有機溶剤で気分が悪くなる",null,null,"保護マスクを着装する"]
[511010,"有機溶剤で気分が悪くなる",null,null,"換気を良くする"]
[511010,"有機溶剤で気分が悪くなる",null,null,"有機溶剤は決められた場所で保管する"]
[511010,"有機溶剤で気分が悪くなる",null,null,"特別教育を受けて作業する"]
[511020,"足場上材料運搬時、筋交に資材ごと手をぶつけ負傷する",null,null,"手をぶつけないように一缶ずつ運搬する"]
[511020,"足場上材料運搬時、筋交に資材ごと手をぶつけ負傷する",null,null,"足場上両手に資材を持って移動しない"]
[511020,"材料運搬時、躓いて転倒する",null,null,"安全通路を移動する"]
[511020,"材料運搬時、躓いて転倒する",null,null,"近道行為を禁止する"]
[511020,"カッターナイフで手を切る",null,null,"カッターナイフを動かす方向に手を置かない"]
[511020,"カッターナイフで手を切る",null,null,"無理な姿勢で作業しない"]
[511020,"カワスキで手を切る",null,null,"カワスキを動かす方向に手を置かない"]
[511020,"カワスキで手を切る",null,null,"保護具を着装する"]
[511020,"カワスキで手を切る",null,null,"無理な姿勢で作業しない"]
[511020,"ハンドミキサー使用時、手や服が巻き込まれる",null,null,"使用時は十分に手元の確認を行う"]
[511020,"ハンドミキサー使用時、手や服が巻き込まれる",null,null,"暗い箇所では使用しない"]
[511020,"ハンドミキサー使用時、手や服が巻き込まれる",null,null,"服装の乱れが無いか確認する"]
[511020,"ハンドミキサー使用時、手や服が巻き込まれる",null,null,"作業場所を確保する"]
[511020,"コンプレッサー使用時、手や服が巻き込まれる",null,null,"使用時は十分に手元の確認を行う"]
[511020,"コンプレッサー使用時、手や服が巻き込まれる",null,null,"暗い箇所では使用しない"]
[511020,"コンプレッサー使用時、手や服が巻き込まれる",null,null,"服装の乱れが無いか確認する"]
[511020,"コンプレッサー使用時、手や服が巻き込まれる",null,null,"作業場所を確保する"]
[511020,"立馬から転落する",null,null,"物を持って昇降しない"]
[511020,"立馬から転落する",null,null,"開き止めを確認する"]
[511020,"立馬から転落する",null,null,"無理な姿勢で作業しない"]
[511020,"立馬から転落する",null,null,"昇降時は必ず後ろ向きにおりる"]
[511020,"高所作業車使用時、転落する",null,null,"安全帯を必ず使用する"]
[511020,"高所作業車使用時、転落する",null,null,"無理な姿勢で作業しない"]
[511020,"高所作業車使用時、転落する",null,null,"高所作業車の始業前点検を実施する"]
[511020,"高所作業車使用時、転落する",null,null,"作業床を確認する"]
[511020,"足場使用時、足場から墜落する",null,null,"安全帯を掛けていない状況を作らない"]
[511020,"足場使用時、足場から墜落する",null,null,"無理な姿勢で作業しない"]
[511020,"足場使用時、足場から墜落する",null,null,"足場の始業前点検を実施する"]
[511020,"足場使用時、足場から墜落する",null,null,"作業床の墜落転落防止措置を確認する"]
[511020,"足場使用時、足場から材料等を落下させる",null,null,"無理な姿勢で作業しない"]
[511020,"足場使用時、足場から材料等を落下させる",null,null,"作業下部の人払いを行う"]
[511020,"足場使用時、足場から材料等を落下させる",null,null,"足場上の材料・工具を整理整頓する"]
[511020,"足場の隙間から墜落する",null,null,"安全帯を掛けていない状況を作らない"]
[511020,"足場の隙間から墜落する",null,null,"無理な姿勢で作業しない"]
[511020,"足場の隙間から墜落する",null,null,"足場の始業前点検を実施する"]
[511020,"足場の隙間から墜落する",null,null,"作業床の墜落転落防止措置の確認する"]
[511020,"足場上で躓いて転倒する",null,null,"足場上の材料等を整理整頓する"]
[511020,"足場上で躓いて転倒する",null,null,"無理な姿勢で作業しない"]
[511020,"足場上で躓いて転倒する",null,null,"安全通路を移動する"]
[511020,"スラブ端部から転落する",null,null,"安全帯を掛ける設備があるか確認する"]
[511020,"スラブ端部から転落する",null,null,"安全帯を掛けていない状況を作らない"]
[511020,"スラブ端部から転落する",null,null,"無理な姿勢で作業しない"]
[511020,"吹付時、塗料が飛散する",null,null,"養生状況を点検する"]
[511020,"吹付時、塗料が飛散する",null,null,"飛散防止養生を行う"]
[511020,"吹付時、塗料が飛散する",null,null,"無理な姿勢で作業しない"]
[511020,"吹付時、塗料が飛散する",null,null,"使用時は十分に手元の確認を行う"]
[511020,"有機溶剤で気分が悪くなる",null,null,"保護マスクを着装する"]
[511020,"有機溶剤で気分が悪くなる",null,null,"換気を良くする"]
[511020,"有機溶剤で気分が悪くなる",null,null,"有機溶剤は決められた場所で保管する"]
[511020,"有機溶剤で気分が悪くなる",null,null,"特別教育を受けて作業する"]
[512010,"ハンマードリルに手を巻き込まれる",null,null,"キリ部分に手を添えない"]
[512010,"ハンマードリルに手を巻き込まれる",null,null,"点検・整備時は電源を切る"]
[512010,"ハンマードリルに手を巻き込まれる",null,null,"適正なキリ（キリは先端部のみ）を使用して作業を行う"]
[512010,"後ろ向きで移動した際にカラーコーンで躓き負傷する",null,null,"後ろ向きで作業する時は進行方向を確認する"]
[512010,"高所作業車使用時、転落する",null,null,"安全帯を必ず使用する"]
[512010,"高所作業車使用時、転落する",null,null,"無理な姿勢で作業しない"]
[512010,"高所作業車使用時、転落する",null,null,"高所作業車の始業前点検を実施する"]
[512010,"高所作業車使用時、転落する",null,null,"作業床を確認する"]
[512010,"立馬から転落する",null,null,"物を持って昇降しない"]
[512010,"立馬から転落する",null,null,"開き止めを確認する"]
[512010,"立馬から転落する",null,null,"無理な姿勢で作業しない"]
[512010,"立馬から転落する",null,null,"昇降時は必ず後ろ向きにおりる"]
[512010,"足場使用時、足場から転落する",null,null,"安全帯を掛けていない状況を作らない"]
[512010,"足場使用時、足場から転落する",null,null,"無理な姿勢で作業しない"]
[512010,"足場使用時、足場から転落する",null,null,"足場の始業前点検を実施する"]
[512010,"足場使用時、足場から転落する",null,null,"作業床の墜落転落防止措置の確認する"]
[512010,"ベビーサンダー使用時、手を切る",null,null,"保護手袋を着装する"]
[512010,"ベビーサンダー使用時、手を切る",null,null,"正しい姿勢で作業する"]
[512010,"ベビーサンダー使用時、手を切る",null,null,"保護カバーを使用する"]
[512010,"ベビーサンダー使用時、手を切る",null,null,"工具の始業前点検を実施する"]
[512010,"ベビーサンダー使用時、手を切る",null,null,"切断箇所に手を入れない"]
[512010,"カッターナイフで手を切る",null,null,"カッターナイフを動かす方向に手を置かない"]
[512010,"カッターナイフで手を切る",null,null,"無理な姿勢で作業しない"]
[512010,"高速カッターで手を切る",null,null,"保護具を着装する"]
[512010,"高速カッターで手を切る",null,null,"正しい姿勢で作業する"]
[512010,"高速カッターで手を切る",null,null,"高速カッターの保護カバーを使用する"]
[512010,"高速カッターで手を切る",null,null,"工具の始業前点検を実施する"]
[512010,"高速カッターで手を切る",null,null,"切断箇所に手を入れない"]
[512010,"高速カッターを使用し、火花が飛散して火災になる",null,null,"消火器・消火バケツを設置する"]
[512010,"高速カッターを使用し、火花が飛散して火災になる",null,null,"工具の始業前点検を実施する"]
[512010,"高速カッターを使用し、火花が飛散して火災になる",null,null,"高速カッターの保護カバーを使用する"]
[512010,"高速カッターを使用し、火花が飛散して火災になる",null,null,"火の粉の付近に可燃物を置かない"]
[512010,"足場の隙間から墜落する",null,null,"安全帯を掛けていない状況を作らない"]
[512010,"足場の隙間から墜落する",null,null,"無理な姿勢で作業しない"]
[512010,"足場の隙間から墜落する",null,null,"足場の始業前点検を実施する"]
[512010,"足場の隙間から墜落する",null,null,"作業床の墜落転落防止措置の確認する"]
[512020,"資材運搬時、階段でバランスを崩して転倒する",null,null,"階段昇降時は足元を確認できるようにして資材を運搬する"]
[512020,"資材運搬時、階段でバランスを崩して転倒する",null,null,"無理な体勢で運搬しない"]
[512020,"資材運搬時、階段でバランスを崩して転倒する",null,null,"適切な人数で搬入を行う"]
[512020,"資材運搬時、階段でバランスを崩して転倒する",null,null,"一度に無理してたくさん運ばない"]
[512020,"立馬から転落する",null,null,"物を持って昇降しない"]
[512020,"立馬から転落する",null,null,"開き止めを確認する"]
[512020,"立馬から転落する",null,null,"無理な姿勢で作業しない"]
[512020,"立馬から転落する",null,null,"昇降時は必ず後ろ向きにおりる"]
[512020,"足場使用時、足場から墜落する",null,null,"安全帯を掛けていない状況を作らない"]
[512020,"足場使用時、足場から墜落する",null,null,"無理な姿勢で作業しない"]
[512020,"足場使用時、足場から墜落する",null,null,"足場の始業前点検を実施する"]
[512020,"足場使用時、足場から墜落する",null,null,"作業床の墜落転落防止措置を確認する"]
[512020,"材料運搬時、段差に躓き転倒する",null,null,"資材等の整理・整頓を行う"]
[512020,"材料運搬時、段差に躓き転倒する",null,null,"安全通路を確保し、足元を確認して歩行する"]
[512020,"電動丸のこで指を切る",null,null,"電動工具の始業前点検を実施する"]
[512020,"電動丸のこで指を切る",null,null,"丸のこの保護カバーを使用する"]
[512020,"電動丸のこで指を切る",null,null,"無理な姿勢で作業しない"]
[512020,"カッターナイフで手を切る",null,null,"カッターナイフを動かす方向に手を置かない"]
[512020,"カッターナイフで手を切る",null,null,"無理な姿勢で作業しない"]
[512020,"カッターナイフで手を切る",null,null,"安全定規を使用する"]
[512020,"タッカーで誤って手に打つ",null,null,"無理な姿勢で作業しない"]
[512020,"タッカーで誤って手に打つ",null,null,"電動工具の始業前点検を実施する"]
[512020,"タッカーで誤って手に打つ",null,null,"正しい姿勢で作業する"]
[512020,"タッカーで誤って手に打つ",null,null,"打設箇所に手を入れない"]
[512020,"高所作業車使用時、転落する",null,null,"安全帯を必ず使用する"]
[512020,"高所作業車使用時、転落する",null,null,"無理な姿勢で作業しない"]
[512020,"高所作業車使用時、転落する",null,null,"高所作業車の始業前点検を実施する"]
[512020,"高所作業車使用時、転落する",null,null,"作業床を確認する"]
[512020,"足場の隙間から墜落する",null,null,"安全帯を掛けていない状況を作らない"]
[512020,"足場の隙間から墜落する",null,null,"無理な姿勢で作業しない"]
[512020,"足場の隙間から墜落する",null,null,"足場の始業前点検を実施する"]
[512020,"足場の隙間から墜落する",null,null,"作業床の墜落転落防止措置の確認する"]
[512030,"カッターナイフで誤って手を切る",null,null,"刃先の方向に手を置かない"]
[512030,"カッターナイフで誤って手を切る",null,null,"無理な姿勢で作業しない"]
[512030,"立馬から転落する",null,null,"物を持って昇降しない"]
[512030,"立馬から転落する",null,null,"開き止めを確認する"]
[512030,"立馬から転落する",null,null,"無理な姿勢で作業しない"]
[512030,"立馬から転落する",null,null,"昇降時は必ず後ろ向きにおりる"]
[512030,"カッターナイフで手を切る",null,null,"カッターナイフを動かす方向に手を置かない"]
[512030,"カッターナイフで手を切る",null,null,"無理な姿勢で作業しない"]
[512030,"カッターナイフで手を切る",null,null,"刃の出し入れを確認する"]
[512030,"材料運搬時、段差に躓き転倒する",null,null,"資材の整理・整頓を行う"]
[512030,"材料運搬時、段差に躓き転倒する",null,null,"安全通路を確保し、足元を確認して歩行する"]
[512040,"材料運搬時、段差に躓き転倒する",null,null,"資材の整理・整頓を行う"]
[512040,"材料運搬時、段差に躓き転倒する",null,null,"安全通路を確保し、足元を確認して歩行する"]
[512040,"材料カット時、カッターナイフで手を切る",null,null,"カッターナイフを動かす方向に手を置かない"]
[512040,"材料カット時、カッターナイフで手を切る",null,null,"無理な姿勢で作業しない"]
[512040,"材料カット時、カッターナイフで手を切る",null,null,"刃の出し入れを確認する"]
[512040,"電動丸のこで指を切る",null,null,"電動工具の始業前点検を実施する"]
[512040,"電動丸のこで指を切る",null,null,"丸のこの保護カバーを使用する"]
[512040,"電動丸のこで指を切る",null,null,"無理な姿勢で作業しない"]
[512040,"手鋸で手や指を切る",null,null,"手鋸を動かす方向に手や指を置かない"]
[512040,"手鋸で手や指を切る",null,null,"無理な姿勢で作業しない"]
[512040,"手鋸で手や指を切る",null,null,"保護手袋を着装する"]
[512040,"インパクトドライバー使用時、指を負傷する",null,null,"無理な姿勢で作業しない"]
[512040,"インパクトドライバー使用時、指を負傷する",null,null,"危険な所に手を入れない"]
[512040,"インパクトドライバー使用時、指を負傷する",null,null,"電動工具の始業前点検を実施する"]
[512040,"パネルとの間に手・指を挟む",null,null,"保護手袋を使用する"]
[512040,"パネルとの間に手・指を挟む",null,null,"無理な姿勢で作業しない"]
[512040,"パネルとの間に手・指を挟む",null,null,"危険な所に手を入れない"]
[512050,"材料運搬時、段差に躓き転倒する",null,null,"資材の整理・整頓を行う"]
[512050,"材料運搬時、段差に躓き転倒する",null,null,"安全通路を確保し、足元を確認して歩行する"]
[512050,"材料カット時、カッターナイフで手を切る",null,null,"カッターナイフを動かす方向に手を置かない"]
[512050,"材料カット時、カッターナイフで手を切る",null,null,"無理な姿勢で作業しない"]
[512050,"材料カット時、カッターナイフで手を切る",null,null,"刃の出し入れを確認する"]
[512050,"ジョイント溶接時、火傷する",null,null,"消火器・消火バケツを設置する"]
[512050,"ジョイント溶接時、火傷する",null,null,"保護手袋を着装する"]
[512050,"ジョイント溶接時、火傷する",null,null,"無理な姿勢で作業しない"]
[512050,"ジョイント溶接時、火傷する",null,null,"指先を確認する"]
[512050,"ジョイント溶接時、火傷する",null,null,"溶接箇所に手を入れない"]
[512060,"材料運搬時、段差に躓き転倒する",null,null,"資材の整理・整頓を行う"]
[512060,"材料運搬時、段差に躓き転倒する",null,null,"安全通路を確保し、足元を確認して歩行する"]
[512060,"カッターナイフで手を切る",null,null,"カッターナイフを動かす方向に手を置かない"]
[512060,"カッターナイフで手を切る",null,null,"無理な姿勢で作業しない"]
[512060,"インパクトドライバー使用時、指を負傷する",null,null,"無理な姿勢で作業しない"]
[512060,"インパクトドライバー使用時、指を負傷する",null,null,"危険な所に手を入れない"]
[512060,"インパクトドライバー使用時、指を負傷する",null,null,"電動工具の始業前点検を実施する"]
[512060,"ベビーサンダー使用時、手を切る",null,null,"保護手袋を着装する"]
[512060,"ベビーサンダー使用時、手を切る",null,null,"正しい姿勢で作業する"]
[512060,"ベビーサンダー使用時、手を切る",null,null,"保護カバーを使用する"]
[512060,"ベビーサンダー使用時、手を切る",null,null,"工具の始業前点検を実施する"]
[512060,"ベビーサンダー使用時、手を切る",null,null,"切断箇所に手を入れない"]
[512060,"立馬から転落する",null,null,"物を持って昇降しない"]
[512060,"立馬から転落する",null,null,"開き止めを確認する"]
[512060,"立馬から転落する",null,null,"無理な姿勢で作業しない"]
[512060,"立馬から転落する",null,null,"昇降時は必ず後ろ向きにおりる"]
[512070,"無理な姿勢でﾎｰｽを引っ張り上げようとして足を痛める",null,null,"作業床の墜落転落防止措置（交差筋違・手摺枠等）の確認を行う"]
[512070,"無理な姿勢でﾎｰｽを引っ張り上げようとして足を痛める",null,null,"二人作業で行うなど無理をしない"]
[512070,"足場板の段差で足をひねる",null,null,"床に段差がないかを確認する"]
[512070,"材料運搬時、段差に躓き転倒する",null,null,"資材の整理・整頓を行う"]
[512070,"材料運搬時、段差に躓き転倒する",null,null,"安全通路を確保し、足元を確認して歩行する"]
[512070,"キャプタイヤーに躓き転倒する",null,null,"安全通路を移動する"]
[512070,"キャプタイヤーに躓き転倒する",null,null,"キャプタイヤーの整理整線を行う"]
[512070,"コンプレッサー使用時、手や服が巻き込まれる",null,null,"使用時は十分に手元の確認を行う"]
[512070,"コンプレッサー使用時、手や服が巻き込まれる",null,null,"服装の乱れが無いか確認する"]
[512070,"カッターナイフで手を切る",null,null,"カッターナイフを動かす方向に手を置かない"]
[512070,"カッターナイフで手を切る",null,null,"無理な姿勢で作業しない"]
[512070,"ﾛｰﾘﾝｸﾞﾀﾜｰ使用時、足場から転落する",null,null,"安全帯を必ず使用する"]
[512070,"ﾛｰﾘﾝｸﾞﾀﾜｰ使用時、足場から転落する",null,null,"無理な姿勢で作業しない"]
[512070,"ﾛｰﾘﾝｸﾞﾀﾜｰ使用時、足場から転落する",null,null,"足場の始業前点検を実施する"]
[512070,"ﾛｰﾘﾝｸﾞﾀﾜｰ使用時、足場から転落する",null,null,"作業床の墜落転落防止措置の確認する"]
[512070,"立馬から転落する",null,null,"物を持って昇降しない"]
[512070,"立馬から転落する",null,null,"開き止めを確認する"]
[512070,"立馬から転落する",null,null,"無理な姿勢で作業しない"]
[512070,"立馬から転落する",null,null,"昇降時は必ず後ろ向きにおりる"]
[512070,"他業者が使用する火気により、引火で火災になる",null,null,"立ち入り禁止措置を行う"]
[512070,"他業者が使用する火気により、引火で火災になる",null,null,"消火器・消火バケツを設置する"]
[512070,"他業者が使用する火気により、引火で火災になる",null,null,"立入禁止明示及び作業エリアの区分けを行う"]
[512070,"吹付け時、手元を誤ってウレタンが飛散する",null,null,"養生状況を点検する"]
[512070,"吹付け時、手元を誤ってウレタンが飛散する",null,null,"飛散防止養生を行う"]
[512070,"吹付け時、手元を誤ってウレタンが飛散する",null,null,"無理な姿勢で作業しない"]
[512070,"吹付け時、手元を誤ってウレタンが飛散する",null,null,"使用時は十分に手元の確認を行う"]
[512080,"材料運搬時、躓いて転倒する",null,null,"安全通路を移動する"]
[512080,"材料運搬時、躓いて転倒する",null,null,"近道行為を禁止する"]
[512080,"カッターナイフで手を切る",null,null,"カッターナイフを動かす方向に手を置かない"]
[512080,"カッターナイフで手を切る",null,null,"無理な姿勢で作業しない"]
[512080,"ドリルで削孔時、指を巻き込む",null,null,"無理な姿勢で作業しない"]
[512080,"ドリルで削孔時、指を巻き込む",null,null,"削孔箇所に手を入れない"]
[512080,"ドリルで削孔時、指を巻き込む",null,null,"電動工具の始業前点検を実施する"]
[512080,"材料加工時、材料端部で指や手を切る",null,null,"材料端部に手や指を入れない"]
[512080,"材料加工時、材料端部で指や手を切る",null,null,"無理な姿勢で作業しない"]
[512080,"材料加工時、材料端部で指や手を切る",null,null,"保護具を着装する"]
[512080,"材料搬入時、吊荷が外れ落下する",null,null,"クレーン使用時の合図の徹底"]
[512080,"材料搬入時、吊荷が外れ落下する",null,null,"声掛け合図の徹底"]
[512080,"材料搬入時、吊荷が外れ落下する",null,null,"専用吊り具の始業前点検を実施する"]
[512080,"材料搬入時、吊荷が外れ落下する",null,null,"吊荷荷重を確認する"]
[512080,"材料搬入時、吊荷が外れ落下する",null,null,"吊荷下の人払いを行う"]
[512080,"材料搬入時、吊荷が外れ落下する",null,null,"地切りの確認をする（333運動）"]
[512080,"材料搬入時、玉掛けワイヤーが切れ、吊荷が落下する",null,null,"玉掛けワイヤーの始業前点検を実施する"]
[512080,"材料搬入時、玉掛けワイヤーが切れ、吊荷が落下する",null,null,"声掛け合図の徹底"]
[512080,"材料搬入時、玉掛けワイヤーが切れ、吊荷が落下する",null,null,"吊荷下の人払いを行う"]
[512080,"材料搬入時、玉掛けワイヤーが切れ、吊荷が落下する",null,null,"吊荷荷重を確認する"]
[512080,"溶接時、火花が飛散し火災になる",null,null,"火の粉の付近に可燃物を置かない"]
[512080,"溶接時、火花が飛散し火災になる",null,null,"消火器・消火バケツを設置する"]
[512080,"溶接時、火花が飛散し火災になる",null,null,"火気使用時の下部の人払いを行う"]
[512080,"溶接時、火傷する",null,null,"消火器・消火バケツを設置する"]
[512080,"溶接時、火傷する",null,null,"火気使用時の下部の人払いを行う"]
[512080,"溶接時、火傷する",null,null,"保護具を着装する"]
[512080,"溶接時、火傷する",null,null,"無理な姿勢で作業しない"]
[512080,"溶接時、火傷する",null,null,"溶接箇所に手を近づけない"]
[512080,"ベビーサンダー使用時、誤って手を切る",null,null,"保護手袋を着装する"]
[512080,"ベビーサンダー使用時、誤って手を切る",null,null,"正しい姿勢で作業する"]
[512080,"ベビーサンダー使用時、誤って手を切る",null,null,"保護カバーを使用する"]
[512080,"ベビーサンダー使用時、誤って手を切る",null,null,"工具の始業前点検を実施する"]
[512080,"ベビーサンダー使用時、誤って手を切る",null,null,"切断箇所に手を入れない"]
[512080,"ベビーサンダー使用時、目に鉄粉が入る",null,null,"保護メガネを着装する"]
[512080,"ベビーサンダー使用時、目に鉄粉が入る",null,null,"無理な姿勢で作業しない"]
[512080,"ベビーサンダー使用時、目に鉄粉が入る",null,null,"保護カバーを使用する"]
[512080,"足場使用時、足場から墜落する",null,null,"安全帯を掛けていない状況を作らない"]
[512080,"足場使用時、足場から墜落する",null,null,"無理な姿勢で作業しない"]
[512080,"足場使用時、足場から墜落する",null,null,"足場の始業前点検を実施する"]
[512080,"足場使用時、足場から墜落する",null,null,"作業床の墜落転落防止措置を確認する"]
[512080,"足場使用時、足場から資材等を落下させる",null,null,"無理な姿勢で作業しない"]
[512080,"足場使用時、足場から資材等を落下させる",null,null,"作業下部の人払いを行う"]
[512080,"足場使用時、足場から資材等を落下させる",null,null,"足場上の資材等を整理整頓する"]
[512080,"足場の隙間から墜落する",null,null,"安全帯を掛けていない状況を作らない"]
[512080,"足場の隙間から墜落する",null,null,"無理な姿勢で作業しない"]
[512080,"足場の隙間から墜落する",null,null,"足場の始業前点検を実施する"]
[512080,"足場の隙間から墜落する",null,null,"作業床の墜落転落防止措置の確認する"]
[512080,"足場上で躓いて転倒する",null,null,"足場上の資材等を整理整頓する"]
[512080,"足場上で躓いて転倒する",null,null,"無理な姿勢で作業しない"]
[512080,"足場上で躓いて転倒する",null,null,"安全通路を移動する"]
[512090,"材料運搬時、躓いて転倒する",null,null,"安全通路を移動する"]
[512090,"材料運搬時、躓いて転倒する",null,null,"近道行為を禁止する"]
[512090,"カッターナイフで手を切る",null,null,"カッターナイフを動かす方向に手を置かない"]
[512090,"カッターナイフで手を切る",null,null,"無理な姿勢で作業しない"]
[512090,"ドリルで削孔時、指を巻き込む",null,null,"無理な姿勢で作業しない"]
[512090,"ドリルで削孔時、指を巻き込む",null,null,"削孔箇所に手を入れない"]
[512090,"ドリルで削孔時、指を巻き込む",null,null,"電動工具の始業前点検を実施する"]
[512090,"溶接時、火花が飛散し火災になる",null,null,"火の粉の付近に可燃物を置かない"]
[512090,"溶接時、火花が飛散し火災になる",null,null,"消火器・消火バケツを設置する"]
[512090,"溶接時、火花が飛散し火災になる",null,null,"火気使用時の下部の人払いを行う"]
[512090,"溶接時、火傷する",null,null,"消火器・消火バケツを設置する"]
[512090,"溶接時、火傷する",null,null,"火気使用時の下部の人払いを行う"]
[512090,"溶接時、火傷する",null,null,"保護具を着装する"]
[512090,"溶接時、火傷する",null,null,"無理な姿勢で作業しない"]
[512090,"溶接時、火傷する",null,null,"溶接箇所に手を近づけない"]
[512090,"ベビーサンダー使用時、誤って手を切る",null,null,"保護手袋を着装する"]
[512090,"ベビーサンダー使用時、誤って手を切る",null,null,"正しい姿勢で作業する"]
[512090,"ベビーサンダー使用時、誤って手を切る",null,null,"保護カバーを使用する"]
[512090,"ベビーサンダー使用時、誤って手を切る",null,null,"工具の始業前点検を実施する"]
[512090,"ベビーサンダー使用時、誤って手を切る",null,null,"切断箇所に手を入れない"]
[512090,"ベビーサンダー使用時、目にﾌﾟﾗｽﾁｯｸ片が入る",null,null,"保護メガネを着装する"]
[512090,"ベビーサンダー使用時、目にﾌﾟﾗｽﾁｯｸ片が入る",null,null,"無理な姿勢で作業しない"]
[512090,"ベビーサンダー使用時、目にﾌﾟﾗｽﾁｯｸ片が入る",null,null,"保護カバーを使用する"]
[512090,"高速カッターで手を切る",null,null,"保護手袋を着装する"]
[512090,"高速カッターで手を切る",null,null,"正しい姿勢で作業する"]
[512090,"高速カッターで手を切る",null,null,"高速カッターの保護カバーを使用する"]
[512090,"高速カッターで手を切る",null,null,"工具の始業前点検を実施する"]
[512090,"高速カッターで手を切る",null,null,"回転部には手を入れない"]
[512090,"足場使用時、足場から墜落する",null,null,"安全帯を掛けていない状況を作らない"]
[512090,"足場使用時、足場から墜落する",null,null,"無理な姿勢で作業しない"]
[512090,"足場使用時、足場から墜落する",null,null,"足場の始業前点検を実施する"]
[512090,"足場使用時、足場から墜落する",null,null,"作業床の墜落転落防止措置を確認する"]
[512090,"足場使用時、足場から資材等を落下させる",null,null,"無理な姿勢で作業しない"]
[512090,"足場使用時、足場から資材等を落下させる",null,null,"作業下部の人払いを行う"]
[512090,"足場使用時、足場から資材等を落下させる",null,null,"足場上の資材等を整理整頓する"]
[512090,"足場の隙間から墜落する",null,null,"安全帯を掛けていない状況を作らない"]
[512090,"足場の隙間から墜落する",null,null,"無理な姿勢で作業しない"]
[512090,"足場の隙間から墜落する",null,null,"足場の始業前点検を実施する"]
[512090,"足場の隙間から墜落する",null,null,"作業床の墜落転落防止措置の確認する"]
[512090,"足場上で躓いて転倒する",null,null,"足場上の資材等を整理整頓する"]
[512090,"足場上で躓いて転倒する",null,null,"無理な姿勢で作業しない"]
[512090,"足場上で躓いて転倒する",null,null,"安全通路を移動する"]
[512090,"高所作業車使用時、転落する",null,null,"安全帯を必ず使用する"]
[512090,"高所作業車使用時、転落する",null,null,"無理な姿勢で作業しない"]
[512090,"高所作業車使用時、転落する",null,null,"高所作業車の始業前点検を実施する"]
[512090,"高所作業車使用時、転落する",null,null,"作業床を確認する"]
[512090,"バンドで指を詰める",null,null,"無理な姿勢で作業しない"]
[512090,"バンドで指を詰める",null,null,"危険な所に指を入れない"]
[513010,"インパクトドライバー使用時に、先端部に接触し負傷する",null,null,"削孔箇所に手を入れない"]
[513010,"インパクトドライバー使用時に、先端部に接触し負傷する",null,null,"使用時は十分に手元の確認を行う"]
[513010,"インパクトドライバー使用時に、先端部に接触し負傷する",null,null,"点検・整備時は電源を切る"]
[513010,"インパクトドライバー使用時に、先端部に接触し負傷する",null,null,"仮置きの際もむやみに危険な場所に手を当てない"]
[513010,"材料運搬時、躓いて転倒する",null,null,"安全通路を移動する"]
[513010,"材料運搬時、躓いて転倒する",null,null,"近道行為を禁止する"]
[513010,"カッターナイフで手を切る",null,null,"カッターナイフを動かす方向に手を置かない"]
[513010,"カッターナイフで手を切る",null,null,"無理な姿勢で作業しない"]
[513010,"インパクトドライバー使用時、指を負傷する",null,null,"無理な姿勢で作業しない"]
[513010,"インパクトドライバー使用時、指を負傷する",null,null,"危険な所に手を入れない"]
[513010,"インパクトドライバー使用時、指を負傷する",null,null,"電動工具の始業前点検を実施する"]
[513010,"誤ってハンマーで指を叩く",null,null,"使用時は手元の確認を行う"]
[513010,"誤ってハンマーで指を叩く",null,null,"暗い箇所では使用しない(手元の照明を明るくする)"]
[513010,"誤ってハンマーで指を叩く",null,null,"保護手袋を着装する"]
[513010,"ベビーサンダー使用時、手を切る",null,null,"保護手袋を着装する"]
[513010,"ベビーサンダー使用時、手を切る",null,null,"正しい姿勢で作業する"]
[513010,"ベビーサンダー使用時、手を切る",null,null,"保護カバーを使用する"]
[513010,"ベビーサンダー使用時、手を切る",null,null,"工具の始業前点検を実施する"]
[513010,"ベビーサンダー使用時、手を切る",null,null,"切断箇所に手を入れない"]
[513010,"立馬から転落する",null,null,"物を持って昇降しない"]
[513010,"立馬から転落する",null,null,"開き止めを確認する"]
[513010,"立馬から転落する",null,null,"無理な姿勢で作業しない"]
[513010,"立馬から転落する",null,null,"昇降時は必ず後ろ向きにおりる"]
[514010,"材料運搬時躓いて転倒する",null,null,"安全通路を移動する"]
[514010,"材料運搬時躓いて転倒する",null,null,"近道行為を禁止する"]
[514010,"カッターナイフで手を切る",null,null,"カッターナイフを動かす方向に手を置かない"]
[514010,"カッターナイフで手を切る",null,null,"無理な姿勢で作業しない"]
[514010,"インパクトドライバー使用時、指を負傷する",null,null,"無理な姿勢で作業しない"]
[514010,"インパクトドライバー使用時、指を負傷する",null,null,"危険な所に手を入れない"]
[514010,"インパクトドライバー使用時、指を負傷する",null,null,"電動工具の始業前点検を実施する"]
[514010,"誤ってハンマーで指を叩く",null,null,"使用時は手元の確認を行う"]
[514010,"誤ってハンマーで指を叩く",null,null,"暗い箇所では使用しない(手元の照明を明るくする)"]
[514010,"誤ってハンマーで指を叩く",null,null,"保護手袋を着装する"]
[514010,"ベビーサンダー使用時、手を切る",null,null,"保護手袋を着装する"]
[514010,"ベビーサンダー使用時、手を切る",null,null,"正しい姿勢で作業する"]
[514010,"ベビーサンダー使用時、手を切る",null,null,"保護カバーを使用する"]
[514010,"ベビーサンダー使用時、手を切る",null,null,"工具の始業前点検を実施する"]
[514010,"ベビーサンダー使用時、手を切る",null,null,"切断箇所に手を入れない"]
[514010,"電動丸のこで指を切る",null,null,"電動工具の始業前点検を実施する"]
[514010,"電動丸のこで指を切る",null,null,"丸のこの保護カバーを使用する"]
[514010,"電動丸のこで指を切る",null,null,"無理な姿勢で作業しない"]
[514010,"立馬から転落する",null,null,"物を持って昇降しない"]
[514010,"立馬から転落する",null,null,"開き止めを確認する"]
[514010,"立馬から転落する",null,null,"無理な姿勢で作業しない"]
[514010,"立馬から転落する",null,null,"昇降時は必ず後ろ向きにおりる"]
[601010,"材料運搬時、躓いて転倒する",null,null,"安全通路を移動する"]
[601010,"材料運搬時、躓いて転倒する",null,null,"近道行為を禁止する"]
[601010,"材料運搬時、段差に躓いて転倒する",null,null,"床段差に足をのせない"]
[601010,"材料運搬時、段差に躓いて転倒する",null,null,"安全通路を移動する"]
[601010,"カッターナイフで手を切る",null,null,"カッターナイフを動かす方向に手を置かない"]
[601010,"カッターナイフで手を切る",null,null,"無理な姿勢で作業しない"]
[601010,"ケーブル切断時、刃物で手を切る",null,null,"刃物を動かす方向に手を置かない"]
[601010,"ケーブル切断時、刃物で手を切る",null,null,"無理な姿勢で作業しない"]
[601010,"ケーブル切断時、刃物で手を切る",null,null,"刃の出し入れを確認する"]
[601010,"高所作業車使用時、転落する",null,null,"安全帯を必ず使用する"]
[601010,"高所作業車使用時、転落する",null,null,"無理な姿勢で作業しない"]
[601010,"高所作業車使用時、転落する",null,null,"高所作業車の始業前点検を実施する"]
[601010,"高所作業車使用時、転落する",null,null,"作業床を確認する"]
[601010,"ベビーサンダー使用時、手を切る",null,null,"保護手袋を着装する"]
[601010,"ベビーサンダー使用時、手を切る",null,null,"正しい姿勢で作業する"]
[601010,"ベビーサンダー使用時、手を切る",null,null,"保護カバーを使用する"]
[601010,"ベビーサンダー使用時、手を切る",null,null,"工具の始業前点検を実施する"]
[601010,"ベビーサンダー使用時、手を切る",null,null,"切断箇所に手を入れない"]
[601010,"材料切断時、高速カッターで手を切る",null,null,"保護具を着装する"]
[601010,"材料切断時、高速カッターで手を切る",null,null,"正しい姿勢で作業する"]
[601010,"材料切断時、高速カッターで手を切る",null,null,"高速カッターの保護カバーを使用する"]
[601010,"材料切断時、高速カッターで手を切る",null,null,"工具の始業前点検を実施する"]
[601010,"材料切断時、高速カッターで手を切る",null,null,"切断箇所に手を入れない"]
[601010,"高速カッターを使用し、火花が飛散して火災になる",null,null,"消火器・消火バケツ設置する"]
[601010,"高速カッターを使用し、火花が飛散して火災になる",null,null,"工具の始業前点検を実施する"]
[601010,"高速カッターを使用し、火花が飛散して火災になる",null,null,"高速カッターの保護カバーを使用する"]
[601010,"高速カッターを使用し、火花が飛散して火災になる",null,null,"火の粉の付近に可燃物を置かない"]
[601010,"ドリルで削孔時、指を巻き込む",null,null,"無理な姿勢で作業しない"]
[601010,"ドリルで削孔時、指を巻き込む",null,null,"削孔箇所に手を入れない"]
[601010,"ドリルで削孔時、指を巻き込む",null,null,"電動工具の始業前点検を実施する"]
[601010,"ドリルにて上向きに削孔する際、削孔片が目に入る",null,null,"保護メガネを着装する"]
[601010,"ドリルにて上向きに削孔する際、削孔片が目に入る",null,null,"無理な姿勢で作業しない"]
[601010,"ドリルにて上向きに削孔する際、削孔片が目に入る",null,null,"保護具を着装する"]
[601010,"バンドで指を詰める",null,null,"無理な姿勢で作業しない"]
[601010,"バンドで指を詰める",null,null,"危険な所に指を入れない"]
[601010,"インパクトドライバー使用時、指を負傷する",null,null,"無理な姿勢で作業しない"]
[601010,"インパクトドライバー使用時、指を負傷する",null,null,"危険な所に手を入れない"]
[601010,"インパクトドライバー使用時、指を負傷する",null,null,"電動工具の始業前点検を実施する"]
[601010,"梯子使用時、梯子から転落する",null,null,"物を持って昇降しない"]
[601010,"梯子使用時、梯子から転落する",null,null,"無理な姿勢で作業しない"]
[601010,"梯子使用時、梯子から転落する",null,null,"梯子の固定状況を確認する"]
[601010,"梯子使用時、梯子から転落する",null,null,"2人1組で作業を行う"]
[601010,"床置きラック施工時に躓きラックで脛を強打する",null,null,"施工場所周辺の不要材を除去してから作業する"]
[601010,"EPS内縦ラック施工時に開口から部品を落下させ下階の作業員に当たる",null,null,"開口部の養生を行いながら作業をする"]
[601010,"立馬から転落する",null,null,"物を持って昇降しない"]
[601010,"立馬から転落する",null,null,"開き止めを確認する"]
[601010,"立馬から転落する",null,null,"無理な姿勢で作業しない"]
[601010,"立馬から転落する",null,null,"昇降時は必ず後ろ向きにおりる"]
[601010,"立馬から転落する",null,null,"手掛かり棒を適正に使用し、側面が分かるようにする"]
[601010,"切断小口で切る",null,null,"切断後、小口処理をする（ﾊﾞﾘ取り）"]
[601010,"ラック吊り込み時にバランスを崩し立馬から転落する",null,null,"無理な体勢で作業をしない"]
[601020,"カッターナイフで手を切る",null,null,"刃先の方向に手を置かない"]
[601020,"カッターナイフで手を切る",null,null,"無理な姿勢で作業しない"]
[601020,"高所作業車使用時、物が落下し負傷する",null,null,"上下作業とならないよう確認する"]
[601020,"高所作業車使用時、物が落下し負傷する",null,null,"高所作業車上の物は安定した状態で置く(仮結束等)"]
[601020,"狭小な作業場所で床段差に気づかずに、足をひねる",null,null,"床段差に足をのせない"]
[601020,"狭小な作業場所で床段差に気づかずに、足をひねる",null,null,"付近に段差や障害物がないか確認する"]
[601020,"狭小な作業場所で床段差に気づかずに、足をひねる",null,null,"場内通行時には安全通路を通行する"]
[601020,"材料運搬時、躓いて転倒する",null,null,"安全通路を移動する"]
[601020,"材料運搬時、躓いて転倒する",null,null,"近道行為を禁止する"]
[601020,"材料運搬時、段差に躓いて転倒する",null,null,"床段差に足をのせない"]
[601020,"材料運搬時、段差に躓いて転倒する",null,null,"安全通路を移動する"]
[601020,"ケーブル切断時、刃物で手を切る",null,null,"刃物を動かす方向に手を置かない"]
[601020,"ケーブル切断時、刃物で手を切る",null,null,"無理な姿勢で作業しない"]
[601020,"ケーブル切断時、刃物で手を切る",null,null,"刃の出し入れを確認する"]
[601020,"立馬から転落する",null,null,"物を持って昇降しない"]
[601020,"立馬から転落する",null,null,"開き止めを確認する"]
[601020,"立馬から転落する",null,null,"無理な姿勢で作業しない"]
[601020,"立馬から転落する",null,null,"昇降時は必ず後ろ向きにおりる"]
[601020,"高所作業車使用時、転落する",null,null,"安全帯を必ず使用する"]
[601020,"高所作業車使用時、転落する",null,null,"無理な姿勢で作業しない"]
[601020,"高所作業車使用時、転落する",null,null,"高所作業車の始業前点検を実施する"]
[601020,"高所作業車使用時、転落する",null,null,"作業床を確認する"]
[601020,"ベビーサンダー使用時、手を切る",null,null,"保護手袋を着装する"]
[601020,"ベビーサンダー使用時、手を切る",null,null,"正しい姿勢で作業する"]
[601020,"ベビーサンダー使用時、手を切る",null,null,"保護カバーを使用する"]
[601020,"ベビーサンダー使用時、手を切る",null,null,"工具の始業前点検を実施する"]
[601020,"ベビーサンダー使用時、手を切る",null,null,"切断箇所に手を入れない"]
[601020,"ドリルにて上向きに削孔する際、削孔片が目に入る",null,null,"保護メガネを着装する"]
[601020,"ドリルにて上向きに削孔する際、削孔片が目に入る",null,null,"無理な姿勢で作業しない"]
[601020,"ドリルにて上向きに削孔する際、削孔片が目に入る",null,null,"保護具を着装する"]
[601020,"バンドで指を詰める",null,null,"無理な姿勢で作業しない"]
[601020,"バンドで指を詰める",null,null,"危険な所に指を入れない"]
[601020,"梯子使用時、梯子から転落する",null,null,"物を持って昇降しない"]
[601020,"梯子使用時、梯子から転落する",null,null,"無理な姿勢で作業しない"]
[601020,"梯子使用時、梯子から転落する",null,null,"梯子の固定状況を確認する"]
[601020,"梯子使用時、梯子から転落する",null,null,"2人1組で作業を行う"]
[601020,"インパクトドライバー使用時、指を負傷する",null,null,"無理な姿勢で作業しない"]
[601020,"インパクトドライバー使用時、指を負傷する",null,null,"危険な所に手を入れない"]
[601020,"インパクトドライバー使用時、指を負傷する",null,null,"電動工具の始業前点検を実施する"]
[601020,"幹線ドラム運搬時にドラムが逸走し作業員に接触する",null,null,"運搬時はなるべく平坦で傾斜の少ないルートを選定する"]
[601020,"幹線ドラム運搬時にドラムが逸走し作業員に接触する",null,null,"歯止めを用いてドラムの転がり防止を行う"]
[601020,"配管ベンダー使用時に力が逃げ転倒する",null,null,"ベンダーと配管をしっかり固定してから曲げを行う"]
[601020,"天井先行配線（垂れ下げ）で頭をぶつける",null,null,"通路部分は、最低FL+1800まで配線を垂れ下げない"]
[601020,"樹脂管切断時に、ｶｯﾀ-ﾅｲﾌで指を切る",null,null,"太もも上で切断したり、無理な体勢で作業しない。"]
[601020,"樹脂管切断時に、ｶｯﾀ-ﾅｲﾌで指を切る",null,null,"無理な姿勢で作業しない"]
[601020,"樹脂管切断時に、ｶｯﾀ-ﾅｲﾌで指を切る",null,null,"カッターナイフを動かす方向に手を置かない"]
[601020,"床上の準備中配線に足を取られ挫く",null,null,"安全通路に配線を置かない"]
[601020,"入線時にﾀｲﾐﾝｸﾞが合わずに転倒する",null,null,"作業者同士で声を掛け合う"]
[601020,"配管配線時に吊りﾎﾞﾙﾄ等で手や目を突く",null,null,"作業時は周囲の状況を良く確認する事"]
[601030,"材料運搬時、躓いて転倒する",null,null,"安全通路を移動する"]
[601030,"材料運搬時、躓いて転倒する",null,null,"近道行為を禁止する"]
[601030,"材料運搬時、段差に躓いて転倒する",null,null,"床段差に足をのせない"]
[601030,"材料運搬時、段差に躓いて転倒する",null,null,"安全通路を移動する"]
[601030,"カッターナイフで手を切る",null,null,"カッターナイフを動かす方向に手を置かない"]
[601030,"カッターナイフで手を切る",null,null,"無理な姿勢で作業しない"]
[601030,"ケーブル切断時、刃物で手を切る",null,null,"刃物を動かす方向に手を置かない"]
[601030,"ケーブル切断時、刃物で手を切る",null,null,"無理な姿勢で作業しない"]
[601030,"ケーブル切断時、刃物で手を切る",null,null,"刃の出し入れを確認する"]
[601030,"足場の隙間から墜落する",null,null,"安全帯を掛けていない状況を作らない"]
[601030,"足場の隙間から墜落する",null,null,"無理な姿勢で作業しない"]
[601030,"足場の隙間から墜落する",null,null,"足場の始業前点検を実施する"]
[601030,"足場の隙間から墜落する",null,null,"作業床の墜落転落防止措置の確認する"]
[601030,"足場上で躓いて転倒する",null,null,"足場上の資材等を整理整頓する"]
[601030,"足場上で躓いて転倒する",null,null,"無理な姿勢で作業しない"]
[601030,"足場上で躓いて転倒する",null,null,"安全通路を移動する"]
[601030,"高所作業車使用時、転落する",null,null,"安全帯を必ず使用する"]
[601030,"高所作業車使用時、転落する",null,null,"無理な姿勢で作業しない"]
[601030,"高所作業車使用時、転落する",null,null,"高所作業車の始業前点検を実施する"]
[601030,"高所作業車使用時、転落する",null,null,"作業床を確認する"]
[601030,"インパクトドライバー使用時、指を負傷する",null,null,"無理な姿勢で作業しない"]
[601030,"インパクトドライバー使用時、指を負傷する",null,null,"危険な所に手を入れない"]
[601030,"インパクトドライバー使用時、指を負傷する",null,null,"電動工具の始業前点検を実施する"]
[601030,"受電切替時、感電する",null,null,"作業手順を遵守する"]
[601030,"受電切替時、感電する",null,null,"ゴム手袋を着装する"]
[601030,"受電切替時、感電する",null,null,"電圧を確認する"]
[601030,"受電切替時、感電する",null,null,"電源を切った後、作業する"]
[601030,"梯子使用時、梯子から転落する",null,null,"物を持って昇降しない"]
[601030,"梯子使用時、梯子から転落する",null,null,"無理な姿勢で作業しない"]
[601030,"梯子使用時、梯子から転落する",null,null,"梯子の固定状況を確認する"]
[601030,"梯子使用時、梯子から転落する",null,null,"2人1組で作業を行う"]
[601030,"器具搬入時に器具を持ちすぎて転倒する",null,null,"一度に運搬する数量は前方、足元が確認できる程度の量とする"]
[601030,"器具開封時、エッジ等で指を切る",null,null,"手袋、軍手を装着して作業する"]
[601030,"運搬時に落としてしまう",null,null,"重い物は、２人１組で運搬する"]
[601030,"足場使用時、足場から墜落する",null,null,"安全帯を掛けていない状況を作らない"]
[601030,"足場使用時、足場から墜落する",null,null,"無理な姿勢で作業しない"]
[601030,"足場使用時、足場から墜落する",null,null,"足場の始業前点検を実施する"]
[601030,"足場使用時、足場から墜落する",null,null,"作業床の墜落転落防止措置を確認する"]
[601030,"立馬から転落する",null,null,"物を持って昇降しない"]
[601030,"立馬から転落する",null,null,"開き止めを確認する"]
[601030,"立馬から転落する",null,null,"無理な姿勢で作業しない"]
[601030,"立馬から転落する",null,null,"昇降時は必ず後ろ向きにおりる"]
[601030,"立馬から転落する",null,null,"作業床を整備し無理な体勢で作業を行わない"]
[601040,"材料運搬時、躓いて転倒する",null,null,"安全通路を移動する"]
[601040,"材料運搬時、躓いて転倒する",null,null,"近道行為を禁止する"]
[601040,"材料運搬時、段差に躓いて転倒する",null,null,"床段差に足をのせない"]
[601040,"材料運搬時、段差に躓いて転倒する",null,null,"安全通路を移動する"]
[601040,"吊り込み時、ベルトスリングが切れ、吊荷が落下する",null,null,"ベルトスリングの始業前点検を実施する"]
[601040,"吊り込み時、ベルトスリングが切れ、吊荷が落下する",null,null,"声掛け合図の徹底"]
[601040,"吊り込み時、ベルトスリングが切れ、吊荷が落下する",null,null,"吊荷下の人払いを行う"]
[601040,"吊り込み時、ベルトスリングが切れ、吊荷が落下する",null,null,"吊荷荷重を確認する"]
[601040,"搬入車輛に接触する",null,null,"後退時運転手はｻｲﾄﾞﾐﾗｰだけでなく、自分の目で後方を確認する"]
[601040,"搬入車輛に接触する",null,null,"声掛け合図の徹底"]
[601040,"搬入車輛に接触する",null,null,"ｶﾗｰｺｰﾝによる立ち入り禁止措置を行う"]
[601040,"搬入車輛に接触する",null,null,"車輛と歩行者の区分けを行う"]
[601040,"受電切替時、感電する",null,null,"作業手順を遵守する"]
[601040,"受電切替時、感電する",null,null,"ゴム手袋を着装する"]
[601040,"受電切替時、感電する",null,null,"電圧を確認する"]
[601040,"受電切替時、感電する",null,null,"電源を切った後、作業する"]
[601040,"カッターナイフで手を切る",null,null,"カッターナイフを動かす方向に手を置かない"]
[601040,"カッターナイフで手を切る",null,null,"無理な姿勢で作業しない"]
[601040,"ケーブル切断時、刃物で手を切る",null,null,"刃物を動かす方向に手を置かない"]
[601040,"ケーブル切断時、刃物で手を切る",null,null,"無理な姿勢で作業しない"]
[601040,"ケーブル切断時、刃物で手を切る",null,null,"刃の出し入れを確認する"]
[601040,"重量物を持って腰を痛める",null,null,"膝を使い、物を持ちあげる"]
[601040,"重量物を持って腰を痛める",null,null,"準備体操をしっかり行う"]
[601040,"重量物を持って腰を痛める",null,null,"2人1組で重量物を運ぶ"]
[601040,"結線作業時に機械基礎上から転落する",null,null,"安定した足場を作業場所前に設置する"]
[601040,"停電時の点検清掃時に残留電荷により感電する",null,null,"作業接地を確実に取り、放電を確認してから作業する"]
[601040,"盤の建込み時に、倒れてしまう",null,null,"重量を確認の上、人員配置をする"]
[601040,"キュービクル吊り込み時、ワイヤーが外れ落下する",null,null,"クレーン使用時の合図の徹底"]
[601040,"キュービクル吊り込み時、ワイヤーが外れ落下する",null,null,"声掛け合図の徹底"]
[601040,"キュービクル吊り込み時、ワイヤーが外れ落下する",null,null,"玉掛けワイヤーの始業前点検を実施する"]
[601040,"キュービクル吊り込み時、ワイヤーが外れ落下する",null,null,"吊荷荷重を確認する"]
[601040,"キュービクル吊り込み時、ワイヤーが外れ落下する",null,null,"吊荷下の人払いを行う"]
[601040,"キュービクル吊り込み時、ワイヤーが外れ落下する",null,null,"重量に似合うワイヤーを選定する"]
[601040,"キュービクル・盤据付時、手や指を詰める",null,null,"不安定な状態でキュービクル・盤を置かない"]
[601040,"キュービクル・盤据付時、手や指を詰める",null,null,"危険な所に手を入れない"]
[601040,"キュービクル・盤据付時、手や指を詰める",null,null,"作業手順を遵守する"]
[601040,"キュービクル・盤据付時、手や指を詰める",null,null,"作業者同士で声を掛け合う"]
[601040,"搬入時に第三者と接触する",null,null,"誘導員の指示に従い行動する"]
[601040,"搬入車両の誘導が不十分で接触して他者と接触する",null,null,"機械搬入時は事前にﾙｰﾄ等を打合せして誘導員を配置する"]
[601050,"材料運搬時、躓いて転倒する",null,null,"安全通路を移動する"]
[601050,"材料運搬時、躓いて転倒する",null,null,"近道行為を禁止する"]
[601050,"材料運搬時、段差に躓いて転倒する",null,null,"床段差に足をのせない"]
[601050,"材料運搬時、段差に躓いて転倒する",null,null,"安全通路を移動する"]
[601050,"カッターナイフで手を切る",null,null,"カッターナイフを動かす方向に手を置かない"]
[601050,"カッターナイフで手を切る",null,null,"無理な姿勢で作業しない"]
[601050,"ケーブル切断時、刃物で手を切る",null,null,"刃物を動かす方向に手を置かない"]
[601050,"ケーブル切断時、刃物で手を切る",null,null,"無理な姿勢で作業しない"]
[601050,"ケーブル切断時、刃物で手を切る",null,null,"刃の出し入れを確認する"]
[601050,"重機(ＢＨ)と作業員が接触する",null,null,"重機と作業員の区分けを行う"]
[601050,"重機(ＢＨ)と作業員が接触する",null,null,"声掛け合図の徹底"]
[601050,"重機(ＢＨ)と作業員が接触する",null,null,"ｶﾗｰｺｰﾝによる立ち入り禁止措置を行う"]
[601050,"重機(ＢＨ)と作業員が接触する",null,null,"重機ＯＰの死角に入らない"]
[601050,"重機(ＢＨ)と作業員が接触する",null,null,"グーパー運動を実施する"]
[601050,"地山・開口部から転落する",null,null,"端部・開口部作業は安全帯を必ず使用する"]
[601050,"地山・開口部から転落する",null,null,"無理な姿勢で作業しない"]
[601050,"地山・開口部から転落する",null,null,"昇降設備を使用する"]
[601050,"地山・開口部から転落する",null,null,"近道行為を禁止する"]
[601050,"地山・開口部から転落する",null,null,"安全通路を移動する"]
[601050,"溶接時、火傷する",null,null,"消火器・消火バケツを設置する"]
[601050,"溶接時、火傷する",null,null,"火気使用時の人払いを行う"]
[601050,"溶接時、火傷する",null,null,"保護手袋を着装する"]
[601050,"溶接時、火傷する",null,null,"溶接箇所に手を近づけない"]
[601050,"スラブ上での作業中、スラブ筋に躓いて転倒する",null,null,"スラブ筋上歩行の際、足元を確認し歩行する"]
[601050,"スラブ上での作業中、スラブ筋に躓いて転倒する",null,null,"メッシュロード上を移動する"]
[601050,"スラブ上での作業中、スラブ段差に躓いて転倒する",null,null,"スラブ筋上歩行の際、足元を確認し歩行する"]
[601050,"スラブ上での作業中、スラブ段差に躓いて転倒する",null,null,"メッシュロード上を移動する"]
[601050,"作業中、吊荷が落ちて負傷する",null,null,"吊荷直下には入らない"]
[601050,"インパクトドライバー使用時、指を負傷する",null,null,"無理な姿勢で作業しない"]
[601050,"インパクトドライバー使用時、指を負傷する",null,null,"危険な所に手を入れない"]
[601050,"インパクトドライバー使用時、指を負傷する",null,null,"電動工具の始業前点検を実施する"]
[601050,"測定器配線に他職の作業員が躓き転倒する",null,null,"測定時は配線が躓くようなルートとしない"]
[601050,"避雷導体敷設時に高所から転落する",null,null,"安全帯を使用して無理のない姿勢且つ安定した作業床で作業する"]
[601050,"溶接時に、火花が飛び散り火事になる",null,null,"消火器・消火バケツを設置する"]
[601050,"溶接時に、火花が飛び散り火事になる",null,null,"火花養生を行う"]
[601050,"突針建て方時、強風で煽られる",null,null,"強風時は、作業をしない"]
[601060,"材料運搬時、躓いて転倒する",null,null,"安全通路を移動する"]
[601060,"材料運搬時、躓いて転倒する",null,null,"近道行為を禁止する"]
[601060,"材料運搬時、段差に躓いて転倒する",null,null,"床段差に足をのせない"]
[601060,"材料運搬時、段差に躓いて転倒する",null,null,"安全通路を移動する"]
[601060,"カッターナイフで手を切る",null,null,"カッターナイフを動かす方向に手を置かない"]
[601060,"カッターナイフで手を切る",null,null,"無理な姿勢で作業しない"]
[601060,"配管切断時、刃物で手を切る",null,null,"刃物を動かす方向に手を置かない"]
[601060,"配管切断時、刃物で手を切る",null,null,"無理な姿勢で作業しない"]
[601060,"配管切断時、刃物で手を切る",null,null,"刃の出し入れを確認する"]
[601060,"地山・開口部から転落する",null,null,"端部・開口部作業は安全帯を必ず使用し、作業を行う"]
[601060,"地山・開口部から転落する",null,null,"無理な姿勢で作業しない"]
[601060,"地山・開口部から転落する",null,null,"昇降設備を使用する"]
[601060,"地山・開口部から転落する",null,null,"近道行為を禁止する"]
[601060,"地山・開口部から転落する",null,null,"安全通路を移動する"]
[601060,"搬入車輛に接触する",null,null,"後退時運転手はｻｲﾄﾞﾐﾗｰだけでなく、自分の目で後方を確認する"]
[601060,"搬入車輛に接触する",null,null,"声掛け合図の徹底"]
[601060,"搬入車輛に接触する",null,null,"ｶﾗｰｺｰﾝによる立ち入り禁止措置を行う"]
[601060,"搬入車輛に接触する",null,null,"車輛と歩行者の区分けを行う"]
[601060,"工事車輛の搬出入時、第三者と接触する",null,null,"誘導員の合図に従う"]
[601060,"工事車輛の搬出入時、第三者と接触する",null,null,"第三者から見える場所で合図する"]
[601060,"工事車輛の搬出入時、第三者と接触する",null,null,"声掛け合図の徹底"]
[601060,"工事車輛の搬出入時、第三者と接触する",null,null,"第三者優先で誘導を行う"]
[601060,"重量物を持って腰を痛める",null,null,"膝を使い、物を持ちあげる"]
[601060,"重量物を持って腰を痛める",null,null,"準備体操をしっかり行う"]
[601060,"重量物を持って腰を痛める",null,null,"2人1組で重量物を運ぶ"]
[601060,"ハンドホール吊込み時、吊荷が外れ落下する",null,null,"重機使用時の合図の徹底"]
[601060,"ハンドホール吊込み時、吊荷が外れ落下する",null,null,"声掛け合図の徹底"]
[601060,"ハンドホール吊込み時、吊荷が外れ落下する",null,null,"ベルトスリングの始業前点検を実施する"]
[601060,"ハンドホール吊込み時、吊荷が外れ落下する",null,null,"吊荷荷重を確認する"]
[601060,"ハンドホール吊込み時、吊荷が外れ落下する",null,null,"吊荷下の人払いを行う"]
[601060,"FEP管敷設時に管が跳ねかえり顔面に接触する",null,null,"FEP管を確実に固定しながら作業する"]
[601060,"ハンドホール設置時、手や指を詰める",null,null,"不安定な状態でハンドホールを置かない"]
[601060,"ハンドホール設置時、手や指を詰める",null,null,"危険な所に手を入れない"]
[601060,"ハンドホール設置時、手や指を詰める",null,null,"作業手順を遵守する"]
[601060,"ハンドホール設置時、手や指を詰める",null,null,"オペーレーターと十分に合図を取りながら作業する"]
[601060,"重機(ＢＨ)と作業員が接触する",null,null,"重機と作業員の区分けを行う"]
[601060,"重機(ＢＨ)と作業員が接触する",null,null,"声掛け合図の徹底"]
[601060,"重機(ＢＨ)と作業員が接触する",null,null,"ｶﾗｰｺｰﾝによる立ち入り禁止措置を行う"]
[601060,"重機(ＢＨ)と作業員が接触する",null,null,"重機ＯＰの死角に入らない"]
[601060,"重機(ＢＨ)と作業員が接触する",null,null,"グーパー運動を実施する"]
[601060,"重機(ＢＨ)と作業員が接触する",null,null,"合図者を決め、旋回は合図者の指示でする"]
[601060,"地盤が崩壊する",null,null,"地山を確認し、必要なら土留めをする"]
[601060,"重機を使っての作業の時に重機に人がはさまれる",null,null,"声を掛け合図しながら作業をする。"]
[601060,"FRP切断時に工具で指を切る",null,null,"太もも上で切断したり、無理な態勢で作業しない。"]
[601070,"材料運搬時、躓いて転倒する",null,null,"安全通路を移動する"]
[601070,"材料運搬時、躓いて転倒する",null,null,"近道行為を禁止する"]
[601070,"スラブ上での作業中、スラブ筋に躓いて転倒する",null,null,"スラブ筋上歩行の際、足元を確認し歩行する"]
[601070,"スラブ上での作業中、スラブ筋に躓いて転倒する",null,null,"メッシュロード上を移動する"]
[601070,"スラブ上での作業中、スラブ段差に躓いて転倒する",null,null,"スラブ筋上歩行の際、足元を確認し歩行する"]
[601070,"スラブ上での作業中、スラブ段差に躓いて転倒する",null,null,"メッシュロード上を移動する"]
[601070,"CD管切断時、刃物で手を切る",null,null,"刃物を動かす方向に手を置かない"]
[601070,"CD管切断時、刃物で手を切る",null,null,"無理な姿勢で作業しない"]
[601070,"CD管切断時、刃物で手を切る",null,null,"刃の出し入れを確認する"]
[601070,"誤ってハンマーで指を叩く",null,null,"使用時は手元の確認を行う"]
[601070,"誤ってハンマーで指を叩く",null,null,"暗い箇所では使用しない(手元の照明を明るくする)"]
[601070,"誤ってハンマーで指を叩く",null,null,"保護手袋を着装する"]
[601070,"作業中、吊荷が落ちて負傷する",null,null,"吊荷直下には入らない"]
[601070,"スラブ端部・開口部から転落する",null,null,"端部・開口部作業は安全帯を必ず使用し、作業を行う"]
[601070,"スラブ端部・開口部から転落する",null,null,"無理な姿勢で作業しない"]
[601070,"スラブ端部・開口部から転落する",null,null,"昇降設備を使用する"]
[601070,"スラブ端部・開口部から転落する",null,null,"近道行為を禁止する"]
[601070,"スラブ端部・開口部から転落する",null,null,"安全通路を移動する"]
[601070,"スラブ端部・開口部から転落する",null,null,"後ろ向きで移動しない"]
[601070,"配管敷設時、鉄筋の結束線が指に刺さる",null,null,"鉄筋上に不用意に手をつかないようにする"]
[601070,"配管敷設時、鉄筋間に足を挟み転倒する",null,null,"鉄筋上を歩行時にﾒｯｼｭﾛｰﾄﾞを使用する"]
[601070,"材料運搬時、段差に躓いて転倒する",null,null,"床段差に足をのせない"]
[601070,"材料運搬時、段差に躓いて転倒する",null,null,"安全通路を移動する"]
[601070,"材料運搬時、段差に躓いて転倒する",null,null,"両手に材料は持たないようにする"]
[601070,"樹脂管切断時に、ｶｯﾀ-ﾅｲﾌで指を切る",null,null,"太もも上で切断したり、無理な態勢で作業しない"]
[601070,"樹脂管切断時に、ｶｯﾀ-ﾅｲﾌで指を切る",null,null,"ナイフの前に指を出さない"]
[601080,"材料運搬時、躓いて転倒する",null,null,"安全通路を移動する"]
[601080,"材料運搬時、躓いて転倒する",null,null,"近道行為を禁止する"]
[601080,"材料運搬時、段差に躓いて転倒する",null,null,"床段差に足をのせない"]
[601080,"材料運搬時、段差に躓いて転倒する",null,null,"安全通路を移動する"]
[601080,"スラブ上での作業中、スラブ筋に躓いて転倒する",null,null,"スラブ筋上歩行の際、足元を確認し歩行する"]
[601080,"スラブ上での作業中、スラブ筋に躓いて転倒する",null,null,"メッシュロード上を移動する"]
[601080,"スラブ上での作業中、スラブ段差に躓いて転倒する",null,null,"スラブ筋上歩行の際、足元を確認し歩行する"]
[601080,"スラブ上での作業中、スラブ段差に躓いて転倒する",null,null,"メッシュロード上を移動する"]
[601080,"スリーブ切断時、刃物で手を切る",null,null,"刃物を動かす方向に手を置かない"]
[601080,"スリーブ切断時、刃物で手を切る",null,null,"無理な姿勢で作業しない"]
[601080,"スリーブ切断時、刃物で手を切る",null,null,"刃の出し入れを確認する"]
[601080,"作業中、吊荷が落ちて負傷する",null,null,"吊荷直下には入らない"]
[601080,"スラブ端部・開口部から転落する",null,null,"端部・開口部作業は安全帯を必ず使用し、作業を行う"]
[601080,"スラブ端部・開口部から転落する",null,null,"無理な姿勢で作業しない"]
[601080,"スラブ端部・開口部から転落する",null,null,"昇降設備を使用する"]
[601080,"スラブ端部・開口部から転落する",null,null,"近道行為を禁止する"]
[601080,"スラブ端部・開口部から転落する",null,null,"安全通路を移動する"]
[601080,"スラブ端部・開口部から転落する",null,null,"後ろ向きで移動しない"]
[601080,"移動時にスラブ型枠上で滑り転倒する",null,null,"雨や露による濡れがないか確認する"]
[601080,"移動時にスラブ型枠上で滑り転倒する",null,null,"足元を確認して通行する"]
[601080,"墨出し時に施工中の型枠に足を掛けて転落する",null,null,"施工中の型枠などの踏込み禁止場所を確認する"]
[601080,"ｲﾝｻｰﾄ打設時に、ハンマーで手を叩く",null,null,"使用時は手元の確認を行う"]
[601080,"ｲﾝｻｰﾄ打設時に、ハンマーで手を叩く",null,null,"暗い箇所では使用しない(手元の照明を明るくする)"]
[601080,"ｲﾝｻｰﾄ打設時に、ハンマーで手を叩く",null,null,"保護手袋を着装する"]
[601080,"ｽﾘｰﾌﾞ小口で指を切る",null,null,"素手での作業は行わない"]
[601080,"ｽﾘｰﾌﾞ小口で指を切る",null,null,"保護手袋を着装する"]
[601080,"ﾃﾞｯｷ溶断時に養生が不十分で周囲に引火する",null,null,"ﾃﾞｯｷ溶断時は防炎ｼｰﾄ等で十分に養生する"]
[601080,"配管敷設時、鉄筋の結束線が指に刺さる",null,null,"鉄筋上に不用意に手をつかないようにする"]
[601080,"配管敷設時、鉄筋間に足を挟み転倒する",null,null,"鉄筋上を歩行時にﾒｯｼｭﾛｰﾄﾞを使用する"]
[601080,"紙ボイド撤去時に開口からバールを落とす",null,null,"作業部下部の立入禁止措置を行う"]
[601090,"送電後、操作を誤って感電する",null,null,"保護手袋を着装する"]
[601090,"送電後、操作を誤って感電する",null,null,"作業手順を遵守する"]
[601090,"送電後、操作を誤って感電する",null,null,"電圧を確認する"]
[601090,"耐圧試験実施時に他職の作業員が近づき感電する",null,null,"試験時は立入禁止表示を行う"]
[601090,"送電後に関係者以外が操作を行い感電する",null,null,"送電後は関係者以外操作禁止表示を行う"]
[601100,"立馬から転落する",null,null,"物を持って昇降しない"]
[601100,"立馬から転落する",null,null,"開き止めを確認する"]
[601100,"立馬から転落する",null,null,"無理な姿勢で作業しない"]
[601100,"立馬から転落する",null,null,"昇降時は必ず後ろ向きにおりる"]
[601100,"高所作業車使用時、転落する",null,null,"安全帯を必ず使用する"]
[601100,"高所作業車使用時、転落する",null,null,"無理な姿勢で作業しない"]
[601100,"高所作業車使用時、転落する",null,null,"高所作業車の始業前点検を実施する"]
[601100,"高所作業車使用時、転落する",null,null,"作業床を確認する"]
[601100,"ケーブル切断時、刃物で手を切る",null,null,"刃物を動かす方向に手を置かない"]
[601100,"ケーブル切断時、刃物で手を切る",null,null,"無理な姿勢で作業しない"]
[601100,"ケーブル切断時、刃物で手を切る",null,null,"刃の出し入れを確認する"]
[601100,"梯子使用時、梯子から転落する",null,null,"物を持って昇降しない"]
[601100,"梯子使用時、梯子から転落する",null,null,"無理な姿勢で作業しない"]
[601100,"梯子使用時、梯子から転落する",null,null,"梯子の固定状況を確認する"]
[601100,"梯子使用時、梯子から転落する",null,null,"2人1組で作業を行う"]
[601100,"照明器具撤去時、感電する",null,null,"配線ルートを確認する"]
[601100,"照明器具撤去時、感電する",null,null,"保護手袋を着装する"]
[601100,"照明器具撤去時、感電する",null,null,"撤去する前に、電圧を確認する"]
[601100,"照明撤去作業時、蛍光管を破損して破片でけがをする",null,null,"蛍光管は必ず両手で持ち、周囲の物に当てないようにする"]
[601100,"幹線撤去作業時、撤去途中の幹線が脱落し指を詰める",null,null,"長尺の幹線を撤去する際は小刻みに切断しながら撤去する"]
[601110,"床開口部から転落する",null,null,"ハンドホールの蓋は不必要時には必ず閉める"]
[601110,"床開口部から転落する",null,null,"開口部には開口部養生蓋を設置する"]
[601110,"床開口部から転落する",null,null,"開口部廻りでは、他の段差・開口等を注意して歩行する"]
[601110,"作業中、吊荷が落ちて負傷する",null,null,"吊荷直下には入らない"]
[601110,"高所作業車使用時、転落する",null,null,"安全帯を必ず使用する"]
[601110,"高所作業車使用時、転落する",null,null,"無理な姿勢で作業しない"]
[601110,"高所作業車使用時、転落する",null,null,"高所作業車の始業前点検を実施する"]
[601110,"高所作業車使用時、転落する",null,null,"作業床を確認する"]
[601110,"足場使用時、足場から墜落する",null,null,"安全帯を掛けていない状況を作らない"]
[601110,"足場使用時、足場から墜落する",null,null,"無理な姿勢で作業しない"]
[601110,"足場使用時、足場から墜落する",null,null,"足場の始業前点検を実施する"]
[601110,"足場使用時、足場から墜落する",null,null,"作業床の墜落転落防止措置を確認する"]
[601110,"足場の隙間から墜落する",null,null,"安全帯を掛けていない状況を作らない"]
[601110,"足場の隙間から墜落する",null,null,"無理な姿勢で作業しない"]
[601110,"足場の隙間から墜落する",null,null,"足場の始業前点検を実施する"]
[601110,"足場の隙間から墜落する",null,null,"作業床の墜落転落防止措置の確認する"]
[601110,"足場上で躓いて転倒する",null,null,"足場上の資材等を整理整頓する"]
[601110,"足場上で躓いて転倒する",null,null,"無理な姿勢で作業しない"]
[601110,"足場上で躓いて転倒する",null,null,"安全通路を移動する"]
[601110,"現場巡回時に段差に躓き転倒する",null,null,"歩行時は余所見や後ろ歩きをしないようにする"]
[601110,"既設調査時に無理な姿勢で天井内を見ようとして立馬から転落する",null,null,"支障となる荷物は移動してから立馬を設置する"]
[601110,"長尺物を振り回す際、作業員・仕上材に接触する",null,null,"2人1組で材料を運ぶ"]
[601110,"長尺物を振り回す際、作業員・仕上材に接触する",null,null,"振り回す際は、事前に周囲確認し、人払いを行う"]
[601110,"長尺物を振り回す際、作業員・仕上材に接触する",null,null,"声掛け合図の徹底"]
[601110,"ﾛｰﾘﾝｸﾞ足場上で足を滑らせて転落する",null,null,"ﾛｰﾘﾝｸﾞ足場上での作業時は安全帯を確実に使用する"]
[601110,"高所作業車移動時に梁や突起物に挟まれる",null,null,"高所作業車の移動時は足元だけでなく頭上にも注意する"]
[601110,"作業床から転落する",null,null,"安全帯をどこでも取れる設備を設置する"]
[601110,"工具使用方法を誤ったために指を怪我する",null,null,"工具使用時は適正な使用方法を守り、手元に注意して作業する"]
[601110,"玉掛けが適正に出来ておらず、吊り荷が落下する",null,null,"玉掛けﾜｲﾔｰの点検および地切り確認を確実に実施する"]
[601110,"揚重機のｱｳﾄﾘｶﾞｰ引出が不足しており、重機が転倒する",null,null,"揚重作業前に作業計画書を確認して適正に揚重機を使用する"]
[602010,"曲がり修正時に吊りボルトがはずれて顔面に当たる",null,null,"天井インサートにボルトが確実に入っているか確認する"]
[602010,"曲がり修正時に吊りボルトがはずれて顔面に当たる",null,null,"保護メガネの着装"]
[602010,"材料運搬時、躓いて転倒する",null,null,"安全通路を移動する"]
[602010,"材料運搬時、躓いて転倒する",null,null,"近道行為を禁止する"]
[602010,"材料運搬時、段差に躓いて転倒する",null,null,"床段差に足をのせない"]
[602010,"材料運搬時、段差に躓いて転倒する",null,null,"安全通路を移動する"]
[602010,"カッターナイフで手を切る",null,null,"カッターナイフを動かす方向に手を置かない"]
[602010,"カッターナイフで手を切る",null,null,"無理な姿勢で作業しない"]
[602010,"ベビーサンダー使用時、誤って手を切る",null,null,"保護手袋を着装する"]
[602010,"ベビーサンダー使用時、誤って手を切る",null,null,"正しい姿勢で作業する"]
[602010,"ベビーサンダー使用時、誤って手を切る",null,null,"保護カバーを使用する"]
[602010,"ベビーサンダー使用時、誤って手を切る",null,null,"工具の始業前点検を実施する"]
[602010,"ベビーサンダー使用時、誤って手を切る",null,null,"切断箇所に手を入れない"]
[602010,"ドリルで削孔時、指を巻き込む",null,null,"無理な姿勢で作業しない"]
[602010,"ドリルで削孔時、指を巻き込む",null,null,"削孔箇所に手を入れない"]
[602010,"ドリルで削孔時、指を巻き込む",null,null,"電動工具の始業前点検を実施する"]
[602010,"ドリルにて上向きに削孔する際、削孔片が目に入る",null,null,"保護メガネを着装する"]
[602010,"ドリルにて上向きに削孔する際、削孔片が目に入る",null,null,"無理な姿勢で作業しない"]
[602010,"ドリルにて上向きに削孔する際、削孔片が目に入る",null,null,"保護具を着装する"]
[602010,"材料切断時、高速カッターで手を切る",null,null,"保護具を着装する"]
[602010,"材料切断時、高速カッターで手を切る",null,null,"正しい姿勢で作業する"]
[602010,"材料切断時、高速カッターで手を切る",null,null,"高速カッターの保護カバーを使用する"]
[602010,"材料切断時、高速カッターで手を切る",null,null,"工具の始業前点検を実施する"]
[602010,"材料切断時、高速カッターで手を切る",null,null,"切断箇所に手を入れない"]
[602010,"立馬から転落する",null,null,"物を持って昇降しない"]
[602010,"立馬から転落する",null,null,"開き止めを確認する"]
[602010,"立馬から転落する",null,null,"無理な姿勢で作業しない"]
[602010,"立馬から転落する",null,null,"昇降時は必ず後ろ向きにおりる"]
[602010,"高所作業車使用時、転落する",null,null,"安全帯を必ず使用する"]
[602010,"高所作業車使用時、転落する",null,null,"無理な姿勢で作業しない"]
[602010,"高所作業車使用時、転落する",null,null,"高所作業車の始業前点検を実施する"]
[602010,"高所作業車使用時、転落する",null,null,"作業床を確認する"]
[602010,"足場使用時、足場から墜落する",null,null,"安全帯を掛けていない状況を作らない"]
[602010,"足場使用時、足場から墜落する",null,null,"無理な姿勢で作業しない"]
[602010,"足場使用時、足場から墜落する",null,null,"足場の始業前点検を実施する"]
[602010,"足場使用時、足場から墜落する",null,null,"作業床の墜落転落防止措置を確認する"]
[602010,"足場の隙間から墜落する",null,null,"安全帯を掛けていない状況を作らない"]
[602010,"足場の隙間から墜落する",null,null,"無理な姿勢で作業しない"]
[602010,"足場の隙間から墜落する",null,null,"足場の始業前点検を実施する"]
[602010,"足場の隙間から墜落する",null,null,"作業床の墜落転落防止措置の確認する"]
[602010,"足場上で躓いて転倒する",null,null,"足場上の資材等を整理整頓する"]
[602010,"足場上で躓いて転倒する",null,null,"無理な姿勢で作業しない"]
[602010,"足場上で躓いて転倒する",null,null,"安全通路を移動する"]
[602010,"バンドで指を詰める",null,null,"無理な姿勢で作業しない"]
[602010,"バンドで指を詰める",null,null,"危険な所に指を入れない"]
[602010,"インパクトドライバー使用時、指を負傷する",null,null,"無理な姿勢で作業しない"]
[602010,"インパクトドライバー使用時、指を負傷する",null,null,"危険な所に手を入れない"]
[602010,"インパクトドライバー使用時、指を負傷する",null,null,"電動工具の始業前点検を実施する"]
[602010,"吊りダクト上部の接続作業時に、ダクトに体重を掛けてしまいダクトと共に脱落する",null,null,"ダクトには体重を掛けない"]
[602010,"ガス銃で誤って手を打ってしまう",null,null,"ガス銃使用時は確実に狙いを定めて打つ"]
[602010,"先行吊りボルトでけがをする",null,null,"作業用エリアの先行吊りボルトが分かるよう明示をする"]
[602010,"高所作業車操作時に構造材に挟まれる",null,null,"周囲状況を確認してから操作する"]
[602010,"長尺配管運搬時に作業員・仕上材と接触する",null,null,"長尺配管は必ず2人で運搬する"]
[602010,"配管時に吊りﾎﾞﾙﾄ等で手や目を突く",null,null,"作業時は周囲の状況を良く確認する"]
[602020,"材料運搬時、躓いて転倒する",null,null,"安全通路を移動する"]
[602020,"材料運搬時、躓いて転倒する",null,null,"近道行為を禁止する"]
[602020,"材料運搬時、段差に躓いて転倒する",null,null,"床段差に足をのせない"]
[602020,"材料運搬時、段差に躓いて転倒する",null,null,"安全通路を移動する"]
[602020,"カッターナイフで手を切る",null,null,"カッターナイフを動かす方向に手を置かない"]
[602020,"カッターナイフで手を切る",null,null,"無理な姿勢で作業しない"]
[602020,"ベビーサンダー使用時、誤って手を切る",null,null,"保護手袋を着装する"]
[602020,"ベビーサンダー使用時、誤って手を切る",null,null,"正しい姿勢で作業する"]
[602020,"ベビーサンダー使用時、誤って手を切る",null,null,"保護カバーを使用する"]
[602020,"ベビーサンダー使用時、誤って手を切る",null,null,"工具の始業前点検を実施する"]
[602020,"ベビーサンダー使用時、誤って手を切る",null,null,"切断箇所に手を入れない"]
[602020,"ドリルで削孔時、指を巻き込む",null,null,"無理な姿勢で作業しない"]
[602020,"ドリルで削孔時、指を巻き込む",null,null,"削孔箇所に手を入れない"]
[602020,"ドリルで削孔時、指を巻き込む",null,null,"電動工具の始業前点検を実施する"]
[602020,"ドリルにて上向きに削孔する際、削孔片が目に入る",null,null,"保護メガネを着装する"]
[602020,"ドリルにて上向きに削孔する際、削孔片が目に入る",null,null,"無理な姿勢で作業しない"]
[602020,"ドリルにて上向きに削孔する際、削孔片が目に入る",null,null,"保護具を着装する"]
[602020,"材料切断時、高速カッターで手を切る",null,null,"保護具を着装する"]
[602020,"材料切断時、高速カッターで手を切る",null,null,"正しい姿勢で作業する"]
[602020,"材料切断時、高速カッターで手を切る",null,null,"高速カッターの保護カバーを使用する"]
[602020,"材料切断時、高速カッターで手を切る",null,null,"工具の始業前点検を実施する"]
[602020,"材料切断時、高速カッターで手を切る",null,null,"切断箇所に手を入れない"]
[602020,"立馬から転落する",null,null,"物を持って昇降しない"]
[602020,"立馬から転落する",null,null,"開き止めを確認する"]
[602020,"立馬から転落する",null,null,"無理な姿勢で作業しない"]
[602020,"立馬から転落する",null,null,"昇降時は必ず後ろ向きにおりる"]
[602020,"高所作業車使用時、転落する",null,null,"安全帯を必ず使用する"]
[602020,"高所作業車使用時、転落する",null,null,"無理な姿勢で作業しない"]
[602020,"高所作業車使用時、転落する",null,null,"高所作業車の始業前点検を実施する"]
[602020,"高所作業車使用時、転落する",null,null,"作業床を確認する"]
[602020,"足場使用時、足場から墜落する",null,null,"安全帯を掛けていない状況を作らない"]
[602020,"足場使用時、足場から墜落する",null,null,"無理な姿勢で作業しない"]
[602020,"足場使用時、足場から墜落する",null,null,"足場の始業前点検を実施する"]
[602020,"足場使用時、足場から墜落する",null,null,"作業床の墜落転落防止措置を確認する"]
[602020,"足場の隙間から墜落する",null,null,"安全帯を掛けていない状況を作らない"]
[602020,"足場の隙間から墜落する",null,null,"無理な姿勢で作業しない"]
[602020,"足場の隙間から墜落する",null,null,"足場の始業前点検を実施する"]
[602020,"足場の隙間から墜落する",null,null,"作業床の墜落転落防止措置の確認する"]
[602020,"足場上で躓いて転倒する",null,null,"足場上の資材等を整理整頓する"]
[602020,"足場上で躓いて転倒する",null,null,"無理な姿勢で作業しない"]
[602020,"足場上で躓いて転倒する",null,null,"安全通路を移動する"]
[602020,"溶接時、火花が飛散し火災になる",null,null,"火の粉の付近に可燃物を置かない"]
[602020,"溶接時、火花が飛散し火災になる",null,null,"消火器・消火バケツを設置する"]
[602020,"溶接時、火花が飛散し火災になる",null,null,"火気使用時の作業周囲の人払いを行う"]
[602020,"バンドで指を詰める",null,null,"無理な姿勢で作業しない"]
[602020,"バンドで指を詰める",null,null,"危険な所に指を入れない"]
[602020,"インパクトドライバー使用時、指を負傷する",null,null,"無理な姿勢で作業しない"]
[602020,"インパクトドライバー使用時、指を負傷する",null,null,"危険な所に手を入れない"]
[602020,"インパクトドライバー使用時、指を負傷する",null,null,"電動工具の始業前点検を実施する"]
[602020,"冷媒配管溶接時、溶接直後の配管に触れて火傷する",null,null,"溶接した配管は速やかに冷却し、それまで触れないようにする"]
[602020,"冷媒配管溶接時、溶接直後の配管に触れて火傷する",null,null,"保護手袋を着装する"]
[602020,"冷媒配管溶接時、溶接直後の配管に触れて火傷する",null,null,"消火器・消火バケツを設置する"]
[602020,"冷媒配管溶接時、溶接直後の配管に触れて火傷する",null,null,"火気使用時の作業周囲の人払いを行う"]
[602020,"冷媒配管溶接時、溶接直後の配管に触れて火傷する",null,null,"溶接箇所に手を近づけない"]
[602020,"冷媒配管溶接時、溶接直後の配管に触れて火傷する",null,null,"無理な姿勢で作業しない"]
[602020,"冷媒管溶接時に、溶接光で目を焼いてしまう",null,null,"遮光用の保護メガネを着装する"]
[602020,"配管切断断面で、指を切る",null,null,"小口を処理する"]
[602020,"配管時に吊りﾎﾞﾙﾄ等で手や目を突く",null,null,"作業時は周囲の状況を良く確認する"]
[602030,"重量機器運搬時に機器が転倒し挟まれる",null,null,"作業床の強度等の確認を行う"]
[602030,"重量機器運搬時に機器が転倒し挟まれる",null,null,"重量機器の重心を確認し、必要な転倒防止措置を行う"]
[602030,"重量機器設置時にバランスを崩し転倒する",null,null,"支持材の固定点検・支持材の適正な使用をする"]
[602030,"材料運搬時、躓いて転倒する",null,null,"安全通路を移動する"]
[602030,"材料運搬時、躓いて転倒する",null,null,"近道行為を禁止する"]
[602030,"材料運搬時、段差に躓いて転倒する",null,null,"床段差に足をのせない"]
[602030,"材料運搬時、段差に躓いて転倒する",null,null,"安全通路を移動する"]
[602030,"吊り込み時、ベルトスリングが切れ、吊荷が落下する",null,null,"ベルトスリングの始業前点検を実施する"]
[602030,"吊り込み時、ベルトスリングが切れ、吊荷が落下する",null,null,"声掛け合図の徹底"]
[602030,"吊り込み時、ベルトスリングが切れ、吊荷が落下する",null,null,"吊荷下の人払いを行う"]
[602030,"吊り込み時、ベルトスリングが切れ、吊荷が落下する",null,null,"吊荷荷重を確認する"]
[602030,"搬入車輛に接触する",null,null,"後退時運転手はｻｲﾄﾞﾐﾗｰだけでなく、自分の目で後方を確認する"]
[602030,"搬入車輛に接触する",null,null,"声掛け合図の徹底"]
[602030,"搬入車輛に接触する",null,null,"ｶﾗｰｺｰﾝによる立ち入り禁止措置を行う"]
[602030,"搬入車輛に接触する",null,null,"車輛と歩行者の区分けを行う"]
[602030,"カッターナイフで手を切る",null,null,"カッターナイフを動かす方向に手を置かない"]
[602030,"カッターナイフで手を切る",null,null,"無理な姿勢で作業しない"]
[602030,"機器据付時、手や指を詰める",null,null,"不安定な状態で機器を置かない"]
[602030,"機器据付時、手や指を詰める",null,null,"危険な所に手を入れない"]
[602030,"機器据付時、手や指を詰める",null,null,"作業手順を遵守する"]
[602030,"ベビーサンダー使用時、誤って手を切る",null,null,"保護手袋を着装する"]
[602030,"ベビーサンダー使用時、誤って手を切る",null,null,"正しい姿勢で作業する"]
[602030,"ベビーサンダー使用時、誤って手を切る",null,null,"保護カバーを使用する"]
[602030,"ベビーサンダー使用時、誤って手を切る",null,null,"工具の始業前点検を実施する"]
[602030,"ベビーサンダー使用時、誤って手を切る",null,null,"切断箇所に手を入れない"]
[602030,"ドリルで削孔時、指を巻き込む",null,null,"無理な姿勢で作業しない"]
[602030,"ドリルで削孔時、指を巻き込む",null,null,"削孔箇所に手を入れない"]
[602030,"ドリルで削孔時、指を巻き込む",null,null,"電動工具の始業前点検を実施する"]
[602030,"立馬から転落する",null,null,"物を持って昇降しない"]
[602030,"立馬から転落する",null,null,"開き止めを確認する"]
[602030,"立馬から転落する",null,null,"無理な姿勢で作業しない"]
[602030,"立馬から転落する",null,null,"昇降時は必ず後ろ向きにおりる"]
[602030,"重量物を持って腰を痛める",null,null,"膝を使い、物を持ちあげる"]
[602030,"重量物を持って腰を痛める",null,null,"準備体操をしっかり行う"]
[602030,"重量物を持って腰を痛める",null,null,"2人1組で重量物を運ぶ"]
[602030,"天吊り機器吊り込み時にジャッキが転倒し挟まれる",null,null,"ジャッキ据付場所が平坦であることを確認してから作業する"]
[602030,"大型機器搬入の荷ほどき時にトラックから転落する",null,null,"予め立馬を準備し、安定した足場で荷ほどきを行う"]
[602030,"アンカーボルトで躓く",null,null,"ｱﾝｶｰﾎﾞﾙﾄに目立つように注意明示する"]
[602030,"据付時に手を滑らせ物を落とす",null,null,"人数配分を適正に行う"]
[602030,"機器吊り込み時同僚とのタイミングが合わす機器を落とす",null,null,"作業手順を確認し声を掛け合い作業する"]
[602030,"機器吊り込み時、吊荷が外れ落下する",null,null,"クレーン使用時の合図の徹底"]
[602030,"機器吊り込み時、吊荷が外れ落下する",null,null,"声掛け合図の徹底"]
[602030,"機器吊り込み時、吊荷が外れ落下する",null,null,"吊り具の始業前点検を実施する"]
[602030,"機器吊り込み時、吊荷が外れ落下する",null,null,"吊荷荷重を確認する"]
[602030,"機器吊り込み時、吊荷が外れ落下する",null,null,"吊荷下の人払いを行う"]
[602030,"機器吊り込み時、吊荷が外れ落下する",null,null,"地切りを確認する"]
[602030,"揚重機のｱｳﾄﾘｶﾞｰ引出が不足しており、重機が転倒する",null,null,"揚重作業前に作業計画書を確認して適正に揚重機を使用する"]
[602030,"不安定な状態で機械を据え付けようとして機械が転倒する",null,null,"機械据付前には据付場所周囲を十分に確認する"]
[602030,"搬入車両の誘導が不十分で接触して他者と接触する",null,null,"機械搬入時は事前にﾙｰﾄ等を打合せして誘導員を配置する"]
[602040,"材料運搬時、躓いて転倒する",null,null,"安全通路を移動する"]
[602040,"材料運搬時、躓いて転倒する",null,null,"近道行為を禁止する"]
[602040,"材料運搬時、段差に躓いて転倒する",null,null,"床段差に足をのせない"]
[602040,"材料運搬時、段差に躓いて転倒する",null,null,"安全通路を移動する"]
[602040,"ベビーサンダー使用時、誤って手を切る",null,null,"保護手袋を着装する"]
[602040,"ベビーサンダー使用時、誤って手を切る",null,null,"正しい姿勢で作業する"]
[602040,"ベビーサンダー使用時、誤って手を切る",null,null,"保護カバーを使用する"]
[602040,"ベビーサンダー使用時、誤って手を切る",null,null,"工具の始業前点検を実施する"]
[602040,"ベビーサンダー使用時、誤って手を切る",null,null,"切断箇所に手を入れない"]
[602040,"ドリルで削孔時、指を巻き込む",null,null,"無理な姿勢で作業しない"]
[602040,"ドリルで削孔時、指を巻き込む",null,null,"削孔箇所に手を入れない"]
[602040,"ドリルで削孔時、指を巻き込む",null,null,"電動工具の始業前点検を実施する"]
[602040,"ドリルにて上向きに削孔する際、削孔片が目に入る",null,null,"保護メガネを着装する"]
[602040,"ドリルにて上向きに削孔する際、削孔片が目に入る",null,null,"無理な姿勢で作業しない"]
[602040,"ドリルにて上向きに削孔する際、削孔片が目に入る",null,null,"保護具を着装する"]
[602040,"材料切断時、高速カッターで手を切る",null,null,"保護具を着装する"]
[602040,"材料切断時、高速カッターで手を切る",null,null,"正しい姿勢で作業する"]
[602040,"材料切断時、高速カッターで手を切る",null,null,"高速カッターの保護カバーを使用する"]
[602040,"材料切断時、高速カッターで手を切る",null,null,"工具の始業前点検を実施する"]
[602040,"材料切断時、高速カッターで手を切る",null,null,"切断箇所に手を入れない"]
[602040,"立馬から転落する",null,null,"物を持って昇降しない"]
[602040,"立馬から転落する",null,null,"開き止めを確認する"]
[602040,"立馬から転落する",null,null,"無理な姿勢で作業しない"]
[602040,"立馬から転落する",null,null,"昇降時は必ず後ろ向きにおりる"]
[602040,"高所作業車使用時、転落する",null,null,"安全帯を必ず使用する"]
[602040,"高所作業車使用時、転落する",null,null,"無理な姿勢で作業しない"]
[602040,"高所作業車使用時、転落する",null,null,"高所作業車の始業前点検を実施する"]
[602040,"高所作業車使用時、転落する",null,null,"作業床を確認する"]
[602040,"足場の隙間から墜落する",null,null,"安全帯を掛けていない状況を作らない"]
[602040,"足場の隙間から墜落する",null,null,"無理な姿勢で作業しない"]
[602040,"足場の隙間から墜落する",null,null,"足場の始業前点検を実施する"]
[602040,"足場の隙間から墜落する",null,null,"作業床の墜落転落防止措置の確認する"]
[602040,"足場上で躓いて転倒する",null,null,"足場上の資材等を整理整頓する"]
[602040,"足場上で躓いて転倒する",null,null,"無理な姿勢で作業しない"]
[602040,"足場上で躓いて転倒する",null,null,"安全通路を移動する"]
[602040,"バンドで指を詰める",null,null,"無理な姿勢で作業しない"]
[602040,"バンドで指を詰める",null,null,"危険な所に指を入れない"]
[602040,"インパクトドライバー使用時、指を負傷する",null,null,"無理な姿勢で作業しない"]
[602040,"インパクトドライバー使用時、指を負傷する",null,null,"危険な所に手を入れない"]
[602040,"インパクトドライバー使用時、指を負傷する",null,null,"電動工具の始業前点検を実施する"]
[602040,"足場使用時、足場から墜落する",null,null,"安全帯を掛けていない状況を作らない"]
[602040,"足場使用時、足場から墜落する",null,null,"無理な姿勢で作業しない"]
[602040,"足場使用時、足場から墜落する",null,null,"足場の始業前点検を実施する"]
[602040,"足場使用時、足場から墜落する",null,null,"作業床の墜落転落防止措置を確認する"]
[602040,"配管ベンダー使用時に力が逃げ転倒する",null,null,"ベンダーと配管をしっかり固定してから曲げを行う"]
[602040,"樹脂管切断時に、ｶｯﾀ-ﾅｲﾌで指を切る",null,null,"太もも上で切断したり、無理な体勢で作業しない。"]
[602040,"樹脂管切断時に、ｶｯﾀ-ﾅｲﾌで指を切る",null,null,"カッターナイフを動かす方向に手を置かない"]
[602040,"樹脂管切断時に、ｶｯﾀ-ﾅｲﾌで指を切る",null,null,"無理な姿勢で作業しない"]
[602040,"配管配線時に吊りﾎﾞﾙﾄ等で手や目を突く",null,null,"作業時は周囲の状況を良く確認する事"]
[602050,"空調の冷媒配管切断時に残りのガスが噴き出し顔にあたる",null,null,"保護メガネ、保護マスクの使用を徹底する"]
[602050,"空調の冷媒配管切断時に残りのガスが噴き出し顔にあたる",null,null,"ガス抜きが完了したかを確認する"]
[602050,"現場内移動中コンクリート釘を踏み抜く",null,null,"安全通路を確認する"]
[602050,"現場内移動中コンクリート釘を踏み抜く",null,null,"安全通路上に障害物・残置物がないか確認する"]
[602050,"材料運搬時、躓いて転倒する",null,null,"安全通路を移動する"]
[602050,"材料運搬時、躓いて転倒する",null,null,"近道行為を禁止する"]
[602050,"材料運搬時、段差に躓いて転倒する",null,null,"床段差に足をのせない"]
[602050,"材料運搬時、段差に躓いて転倒する",null,null,"安全通路を移動する"]
[602050,"カッターナイフで手を切る",null,null,"カッターナイフを動かす方向に手を置かない"]
[602050,"カッターナイフで手を切る",null,null,"無理な姿勢で作業しない"]
[602050,"ベビーサンダー使用時、誤って手を切る",null,null,"保護手袋を着装する"]
[602050,"ベビーサンダー使用時、誤って手を切る",null,null,"正しい姿勢で作業する"]
[602050,"ベビーサンダー使用時、誤って手を切る",null,null,"保護カバーを使用する"]
[602050,"ベビーサンダー使用時、誤って手を切る",null,null,"工具の始業前点検を実施する"]
[602050,"ベビーサンダー使用時、誤って手を切る",null,null,"切断箇所に手を入れない"]
[602050,"ドリルで削孔時、指を巻き込む",null,null,"無理な姿勢で作業しない"]
[602050,"ドリルで削孔時、指を巻き込む",null,null,"削孔箇所に手を入れない"]
[602050,"ドリルで削孔時、指を巻き込む",null,null,"電動工具の始業前点検を実施する"]
[602050,"ドリルにて上向きに削孔する際、削孔片が目に入る",null,null,"保護メガネを着装する"]
[602050,"ドリルにて上向きに削孔する際、削孔片が目に入る",null,null,"無理な姿勢で作業しない"]
[602050,"ドリルにて上向きに削孔する際、削孔片が目に入る",null,null,"保護具を着装する"]
[602050,"材料切断時、高速カッターで手を切る",null,null,"保護具を着装する"]
[602050,"材料切断時、高速カッターで手を切る",null,null,"正しい姿勢で作業する"]
[602050,"材料切断時、高速カッターで手を切る",null,null,"高速カッターの保護カバーを使用する"]
[602050,"材料切断時、高速カッターで手を切る",null,null,"工具の始業前点検を実施する"]
[602050,"材料切断時、高速カッターで手を切る",null,null,"切断箇所に手を入れない"]
[602050,"立馬から転落する",null,null,"物を持って昇降しない"]
[602050,"立馬から転落する",null,null,"開き止めを確認する"]
[602050,"立馬から転落する",null,null,"無理な姿勢で作業しない"]
[602050,"立馬から転落する",null,null,"昇降時は必ず後ろ向きにおりる"]
[602050,"高所作業車使用時、転落する",null,null,"安全帯を必ず使用する"]
[602050,"高所作業車使用時、転落する",null,null,"無理な姿勢で作業しない"]
[602050,"高所作業車使用時、転落する",null,null,"高所作業車の始業前点検を実施する"]
[602050,"高所作業車使用時、転落する",null,null,"作業床を確認する"]
[602050,"バンドで指を詰める",null,null,"無理な姿勢で作業しない"]
[602050,"バンドで指を詰める",null,null,"危険な所に指を入れない"]
[602050,"インパクトドライバー使用時、指を負傷する",null,null,"無理な姿勢で作業しない"]
[602050,"インパクトドライバー使用時、指を負傷する",null,null,"危険な所に手を入れない"]
[602050,"インパクトドライバー使用時、指を負傷する",null,null,"電動工具の始業前点検を実施する"]
[602050,"配管上部の接続作業時に、配管に体重を掛けてしまい足を滑らせ転落する",null,null,"配管上に乗らない様に、作業床を設置する"]
[602050,"転がし配管のサドル固定用ｽﾞﾝｷﾞﾘで足を踏み抜く",null,null,"足元を確認して歩行する"]
[602050,"糊付け作業時、気分が悪くなる",null,null,"換気を十分良くとる"]
[602050,"長尺配管運搬時に作業員・仕上材と接触する",null,null,"長尺配管は必ず2人で運搬する"]
[602050,"配管時に吊りﾎﾞﾙﾄ等で手や目を突く",null,null,"作業時は周囲の状況を良く確認する"]
[602060,"材料運搬時、躓いて転倒する",null,null,"安全通路を移動する"]
[602060,"材料運搬時、躓いて転倒する",null,null,"近道行為を禁止する"]
[602060,"材料運搬時、段差に躓いて転倒する",null,null,"床段差に足をのせない"]
[602060,"材料運搬時、段差に躓いて転倒する",null,null,"安全通路を移動する"]
[602060,"ピット内昇降時に足を滑らせ墜落する",null,null,"昇降時、上下・頭上・足元を確認する"]
[602060,"床下開口部から転落する",null,null,"養生蓋の上には乗らない"]
[602060,"床下開口部から転落する",null,null,"養生蓋は不必要時には必ず閉める"]
[602060,"カッターナイフで手を切る",null,null,"カッターナイフを動かす方向に手を置かない"]
[602060,"カッターナイフで手を切る",null,null,"無理な姿勢で作業しない"]
[602060,"ベビーサンダー使用時、誤って手を切る",null,null,"保護手袋を着装する"]
[602060,"ベビーサンダー使用時、誤って手を切る",null,null,"正しい姿勢で作業する"]
[602060,"ベビーサンダー使用時、誤って手を切る",null,null,"保護カバーを使用する"]
[602060,"ベビーサンダー使用時、誤って手を切る",null,null,"工具の始業前点検を実施する"]
[602060,"ベビーサンダー使用時、誤って手を切る",null,null,"切断箇所に手を入れない"]
[602060,"溶接時、火花が飛散し火災になる",null,null,"火の粉の付近に可燃物を置かない"]
[602060,"溶接時、火花が飛散し火災になる",null,null,"消火器・消火バケツを設置する"]
[602060,"溶接時、火花が飛散し火災になる",null,null,"火気使用時の作業周囲の人払いを行う"]
[602060,"溶接時、火傷する",null,null,"消火器・消火バケツを設置する"]
[602060,"溶接時、火傷する",null,null,"火気使用時の作業周囲の人払いを行う"]
[602060,"溶接時、火傷する",null,null,"保護具を着装する"]
[602060,"溶接時、火傷する",null,null,"無理な姿勢で作業しない"]
[602060,"溶接時、火傷する",null,null,"溶接箇所に手を近づけない"]
[602060,"ドリルで削孔時、指を巻き込む",null,null,"無理な姿勢で作業しない"]
[602060,"ドリルで削孔時、指を巻き込む",null,null,"削孔箇所に手を入れない"]
[602060,"ドリルで削孔時、指を巻き込む",null,null,"電動工具の始業前点検を実施する"]
[602060,"ドリルにて上向きに削孔する際、削孔片が目に入る",null,null,"保護メガネを着装する"]
[602060,"ドリルにて上向きに削孔する際、削孔片が目に入る",null,null,"無理な姿勢で作業しない"]
[602060,"ドリルにて上向きに削孔する際、削孔片が目に入る",null,null,"保護具を着装する"]
[602060,"バンドで指を詰める",null,null,"無理な姿勢で作業しない"]
[602060,"バンドで指を詰める",null,null,"危険な所に指を入れない"]
[602060,"電動工具を使用して漏電する",null,null,"コード類を水に浸けない"]
[602060,"電動工具を使用して漏電する",null,null,"コンセントは水が掛らない様、養生する"]
[602060,"電動工具を使用して漏電する",null,null,"電動工具の始業前点検を実施する"]
[602060,"インパクトドライバー使用時、指を負傷する",null,null,"無理な姿勢で作業しない"]
[602060,"インパクトドライバー使用時、指を負傷する",null,null,"危険な所に手を入れない"]
[602060,"インパクトドライバー使用時、指を負傷する",null,null,"電動工具の始業前点検を実施する"]
[602060,"ピット内移動時に中腰になり腰を痛める",null,null,"作業前、作業中の合間に十分に体をほぐす"]
[602060,"ピット内作業時に酸素欠乏症になる",null,null,"送風機を使用する"]
[602060,"ピット内作業時に酸素欠乏症になる",null,null,"2人1組で作業する"]
[602060,"ピット内作業時に酸素欠乏症になる",null,null,"ピットに入る際は酸素濃度を測定する"]
[602060,"ピット内作業時に酸素欠乏症になる",null,null,"監視人を配置する"]
[602060,"ピット内作業時に酸素欠乏症になる",null,null,"特別教育を受けて作業する"]
[602060,"配管時に吊りﾎﾞﾙﾄ等で手や目を突く",null,null,"作業時は周囲の状況を良く確認する"]
[602070,"角ﾀﾞｸﾄのﾌﾗﾝｼﾞ部に足を乗せて、滑らせ転倒する",null,null,"不安全行動を禁止する"]
[602070,"角ﾀﾞｸﾄのﾌﾗﾝｼﾞ部に足を乗せて、滑らせ転倒する",null,null,"無理な体勢で作業しない"]
[602070,"角ﾀﾞｸﾄのﾌﾗﾝｼﾞ部に足を乗せて、滑らせ転倒する",null,null,"事前計画を確実に行う"]
[602070,"角ﾀﾞｸﾄのﾌﾗﾝｼﾞ部に足を乗せて、滑らせ転倒する",null,null,"足場が必要な状況であれば、一旦作業を中止し足場を設置する"]
[602070,"角ﾀﾞｸﾄのﾌﾗﾝｼﾞ部に足を乗せて、滑らせ転倒する",null,null,"作業床の確認を行う"]
[602070,"材料運搬時、躓いて転倒する",null,null,"安全通路を移動する"]
[602070,"材料運搬時、躓いて転倒する",null,null,"近道行為を禁止する"]
[602070,"材料運搬時、段差に躓いて転倒する",null,null,"床段差に足をのせない"]
[602070,"材料運搬時、段差に躓いて転倒する",null,null,"安全通路を移動する"]
[602070,"材料切断時、ベビーサンダー使用し、手を切る",null,null,"保護手袋を着装する"]
[602070,"材料切断時、ベビーサンダー使用し、手を切る",null,null,"正しい姿勢で作業する"]
[602070,"材料切断時、ベビーサンダー使用し、手を切る",null,null,"保護カバーを使用する"]
[602070,"材料切断時、ベビーサンダー使用し、手を切る",null,null,"工具の始業前点検を実施する"]
[602070,"材料切断時、ベビーサンダー使用し、手を切る",null,null,"切断箇所に手を入れない"]
[602070,"立馬から転落する",null,null,"物を持って昇降しない"]
[602070,"立馬から転落する",null,null,"開き止めを確認する"]
[602070,"立馬から転落する",null,null,"無理な姿勢で作業しない"]
[602070,"立馬から転落する",null,null,"昇降時は必ず後ろ向きにおりる"]
[602070,"高所作業車使用時、転落する",null,null,"安全帯を必ず使用する"]
[602070,"高所作業車使用時、転落する",null,null,"無理な姿勢で作業しない"]
[602070,"高所作業車使用時、転落する",null,null,"高所作業車の始業前点検を実施する"]
[602070,"高所作業車使用時、転落する",null,null,"作業床を確認する"]
[602070,"足場使用時、足場から墜落する",null,null,"安全帯を掛けていない状況を作らない"]
[602070,"足場使用時、足場から墜落する",null,null,"無理な姿勢で作業しない"]
[602070,"足場使用時、足場から墜落する",null,null,"足場の始業前点検を実施する"]
[602070,"足場使用時、足場から墜落する",null,null,"作業床の墜落転落防止措置を確認する"]
[602070,"足場の隙間から墜落する",null,null,"安全帯を掛けていない状況を作らない"]
[602070,"足場の隙間から墜落する",null,null,"無理な姿勢で作業しない"]
[602070,"足場の隙間から墜落する",null,null,"足場の始業前点検を実施する"]
[602070,"足場の隙間から墜落する",null,null,"作業床の墜落転落防止措置の確認する"]
[602070,"足場上で躓いて転倒する",null,null,"足場上の資材等を整理整頓する"]
[602070,"足場上で躓いて転倒する",null,null,"無理な姿勢で作業しない"]
[602070,"足場上で躓いて転倒する",null,null,"安全通路を移動する"]
[602070,"バンドで指を詰める",null,null,"無理な姿勢で作業しない"]
[602070,"バンドで指を詰める",null,null,"危険な所に指を入れない"]
[602070,"インパクトドライバー使用時、指を負傷する",null,null,"無理な姿勢で作業しない"]
[602070,"インパクトドライバー使用時、指を負傷する",null,null,"危険な所に手を入れない"]
[602070,"インパクトドライバー使用時、指を負傷する",null,null,"電動工具の始業前点検を実施する"]
[602070,"床に放置された保温ピンを踏み抜く",null,null,"作業後の片づけ時に忘れがないか確認する"]
[602070,"ラッキング材のエッジで手を切る",null,null,"保護手袋を着装する"]
[602070,"グラスウールが喉にささる",null,null,"保護マスクを着装する"]
[602070,"切断時、カッターナイフで指を切る",null,null,"カッターナイフを動かす方向に指を置かない"]
[602070,"切断時、カッターナイフで指を切る",null,null,"無理な姿勢で作業しない"]
[602070,"切断時、カッターナイフで指を切る",null,null,"太もも上で切断したり、無理な体勢で作業しない。"]
[602080,"両手に荷物を持ったまま敷鉄板上を歩行し躓いて転倒する",null,null,"敷鉄板上歩行の際は段差等がないかを確認する"]
[602080,"材料運搬時、躓いて転倒する",null,null,"安全通路を移動する"]
[602080,"材料運搬時、躓いて転倒する",null,null,"近道行為を禁止する"]
[602080,"材料運搬時、段差に躓いて転倒する",null,null,"床段差に足をのせない"]
[602080,"材料運搬時、段差に躓いて転倒する",null,null,"安全通路を移動する"]
[602080,"スラブ上での作業中、スラブ筋に躓いて転倒する",null,null,"スラブ筋上歩行の際、足元を確認し歩行する"]
[602080,"スラブ上での作業中、スラブ筋に躓いて転倒する",null,null,"メッシュロード上を移動する"]
[602080,"スラブ上での作業中、スラブ段差に躓いて転倒する",null,null,"スラブ筋上歩行の際、足元を確認し歩行する"]
[602080,"スラブ上での作業中、スラブ段差に躓いて転倒する",null,null,"メッシュロード上を移動する"]
[602080,"作業中、吊荷が落ちて負傷する",null,null,"吊荷直下には入らない"]
[602080,"材料切断時、ベビーサンダー使用し、手を切る",null,null,"保護手袋を着装する"]
[602080,"材料切断時、ベビーサンダー使用し、手を切る",null,null,"正しい姿勢で作業する"]
[602080,"材料切断時、ベビーサンダー使用し、手を切る",null,null,"保護カバーを使用する"]
[602080,"材料切断時、ベビーサンダー使用し、手を切る",null,null,"工具の始業前点検を実施する"]
[602080,"材料切断時、ベビーサンダー使用し、手を切る",null,null,"切断箇所に手を入れない"]
[602080,"材料切断時、高速カッターで手を切る",null,null,"保護具を着装する"]
[602080,"材料切断時、高速カッターで手を切る",null,null,"正しい姿勢で作業する"]
[602080,"材料切断時、高速カッターで手を切る",null,null,"高速カッターの保護カバーを使用する"]
[602080,"材料切断時、高速カッターで手を切る",null,null,"工具の始業前点検を実施する"]
[602080,"材料切断時、高速カッターで手を切る",null,null,"切断箇所に手を入れない"]
[602080,"スラブ端部・開口部から転落する",null,null,"端部・開口部作業は安全帯を必ず使用し、作業を行う"]
[602080,"スラブ端部・開口部から転落する",null,null,"無理な姿勢で作業しない"]
[602080,"スラブ端部・開口部から転落する",null,null,"昇降設備を使用する"]
[602080,"スラブ端部・開口部から転落する",null,null,"近道行為を禁止する"]
[602080,"スラブ端部・開口部から転落する",null,null,"安全通路を移動する"]
[602080,"スラブ端部・開口部から転落する",null,null,"後ろ向きで移動しない"]
[602080,"移動時にスラブ型枠上で滑り転倒する",null,null,"雨や露による濡れがないか確認する"]
[602080,"移動時にスラブ型枠上で滑り転倒する",null,null,"足元を確認して通行する"]
[602080,"墨出し時に施工中の型枠に足を掛けて転落する",null,null,"施工中の型枠などの踏込み禁止場所を確認する"]
[602080,"ｲﾝｻｰﾄ打設時に、ハンマーで手を叩く",null,null,"使用時は手元の確認を行う"]
[602080,"ｲﾝｻｰﾄ打設時に、ハンマーで手を叩く",null,null,"暗い箇所では使用しない(手元の照明を明るくする)"]
[602080,"ｲﾝｻｰﾄ打設時に、ハンマーで手を叩く",null,null,"保護手袋を着装する"]
[602080,"ｽﾘｰﾌﾞ小口で指を切る",null,null,"素手での作業は行わない"]
[602080,"ｽﾘｰﾌﾞ小口で指を切る",null,null,"保護手袋を着装する"]
[602080,"ﾃﾞｯｷ溶断時に養生が不十分で周囲に引火する",null,null,"ﾃﾞｯｷ溶断時は防炎ｼｰﾄ等で十分に養生する"]
[602080,"配管敷設時、鉄筋の結束線が指に刺さる",null,null,"鉄筋上に不用意に手をつかないようにする"]
[602080,"配管敷設時、鉄筋間に足を挟み転倒する",null,null,"鉄筋上を歩行時にﾒｯｼｭﾛｰﾄﾞを使用する"]
[602080,"紙ボイド撤去時に開口からバールを落とす",null,null,"作業下部の立入禁止措置を行う"]
[602090,"送電後、操作を誤って感電する",null,null,"保護手袋を着装する"]
[602090,"送電後、操作を誤って感電する",null,null,"作業手順を遵守する"]
[602090,"送電後、操作を誤って感電する",null,null,"電圧を確認する"]
[602090,"試運転確認時、立馬から転落する",null,null,"物を持って昇降しない"]
[602090,"試運転確認時、立馬から転落する",null,null,"開き止めを確認する"]
[602090,"試運転確認時、立馬から転落する",null,null,"無理な姿勢で作業しない"]
[602090,"試運転確認時、立馬から転落する",null,null,"昇降時は必ず後ろ向きにおりる"]
[602090,"試運転確認時、高所作業車から転落する",null,null,"安全帯を必ず使用する"]
[602090,"試運転確認時、高所作業車から転落する",null,null,"無理な姿勢で作業しない"]
[602090,"試運転確認時、高所作業車から転落する",null,null,"高所作業車の始業前点検を実施する"]
[602090,"試運転確認時、高所作業車から転落する",null,null,"作業床を確認する"]
[602090,"GHP運転時に高温部に接触し火傷する",null,null,"GHPの運転は点検口を確実に閉じてから行う"]
[602090,"ファン運転時にベルトに巻き込まれる",null,null,"ベルト回転部の位置を事前に視認してから運転する"]
[602100,"空調機撤去時、立馬から転落する",null,null,"物を持って昇降しない"]
[602100,"空調機撤去時、立馬から転落する",null,null,"開き止めを確認する"]
[602100,"空調機撤去時、立馬から転落する",null,null,"無理な姿勢で作業しない"]
[602100,"空調機撤去時、立馬から転落する",null,null,"昇降時は必ず後ろ向きにおりる"]
[602100,"空調機撤去時、高所作業車から転落する",null,null,"安全帯を必ず使用する"]
[602100,"空調機撤去時、高所作業車から転落する",null,null,"無理な姿勢で作業しない"]
[602100,"空調機撤去時、高所作業車から転落する",null,null,"高所作業車の始業前点検を実施する"]
[602100,"空調機撤去時、高所作業車から転落する",null,null,"作業床を確認する"]
[602100,"ケーブル切断時、刃物で手を切る",null,null,"刃物を動かす方向に手を置かない"]
[602100,"ケーブル切断時、刃物で手を切る",null,null,"無理な姿勢で作業しない"]
[602100,"ケーブル切断時、刃物で手を切る",null,null,"刃の出し入れを確認する"]
[602100,"配管切断時、セーバーソーを使用し、手を切る",null,null,"保護手袋を着装する"]
[602100,"配管切断時、セーバーソーを使用し、手を切る",null,null,"正しい姿勢で作業する"]
[602100,"配管切断時、セーバーソーを使用し、手を切る",null,null,"切断箇所に手を入れない"]
[602100,"配管切断時、セーバーソーを使用し、手を切る",null,null,"工具の始業前点検を実施する"]
[602100,"ダクト撤去時、飛散したロックウールを吸い込んでしまう",null,null,"保護具を着装し、必要に応じて封じ込めながら作業する"]
[602100,"冷媒管撤去時、誤った配管を切断してしまいガスを放出してしまう",null,null,"配管系統を確認し回収の終わった管から撤去する"]
[602110,"作業中、吊荷が落ちて負傷する",null,null,"吊荷直下には入らない"]
[602110,"長尺物を振り回す際、作業員にぶつける",null,null,"2人1組で材料を運ぶ"]
[602110,"長尺物を振り回す際、作業員にぶつける",null,null,"振り回す際は、事前に周囲確認し、人払いを行う"]
[602110,"長尺物を振り回す際、作業員にぶつける",null,null,"声掛け合図の徹底"]
[602110,"高所作業車使用時、転落する",null,null,"安全帯を必ず使用する"]
[602110,"高所作業車使用時、転落する",null,null,"無理な姿勢で作業しない"]
[602110,"高所作業車使用時、転落する",null,null,"高所作業車の始業前点検を実施する"]
[602110,"高所作業車使用時、転落する",null,null,"作業床を確認する"]
[602110,"足場使用時、足場から墜落する",null,null,"安全帯を掛けていない状況を作らない"]
[602110,"足場使用時、足場から墜落する",null,null,"無理な姿勢で作業しない"]
[602110,"足場使用時、足場から墜落する",null,null,"足場の始業前点検を実施する"]
[602110,"足場使用時、足場から墜落する",null,null,"作業床の墜落転落防止措置を確認する"]
[602110,"足場の隙間から墜落する",null,null,"安全帯を掛けていない状況を作らない"]
[602110,"足場の隙間から墜落する",null,null,"無理な姿勢で作業しない"]
[602110,"足場の隙間から墜落する",null,null,"足場の始業前点検を実施する"]
[602110,"足場の隙間から墜落する",null,null,"作業床の墜落転落防止措置の確認する"]
[602110,"足場上で躓いて転倒する",null,null,"足場上の資材等を整理整頓する"]
[602110,"足場上で躓いて転倒する",null,null,"無理な姿勢で作業しない"]
[602110,"足場上で躓いて転倒する",null,null,"安全通路を移動する"]
[602110,"現場巡回時に開口部から転落する",null,null,"歩行時は余所見や後ろ歩きをしないようにする"]
[602110,"現場巡回時に開口部から転落する",null,null,"開口部作業は安全帯を必ず使用し、作業を行う"]
[602110,"現場巡回時に開口部から転落する",null,null,"無理な姿勢で作業しない"]
[602110,"現場巡回時に開口部から転落する",null,null,"昇降設備を使用する"]
[602110,"現場巡回時に開口部から転落する",null,null,"近道行為を禁止する"]
[602110,"現場巡回時に開口部から転落する",null,null,"安全通路を移動する"]
[602110,"既設調査時に天井内に入り、天井ごと落ちてしまう",null,null,"強度に不安のある天井には荷を掛けない"]
[602110,"同一作業場で作業が集中して他職と接触しけがをする",null,null,"近接作業となる場合は声を掛けて確認を取る"]
[602110,"溶接作業中、周囲に引火し火災になる",null,null,"作業場所に消火器・消火バケツを設置する"]
[602110,"溶接作業中、周囲に引火し火災になる",null,null,"火の粉の付近に可燃物を置かない"]
[602110,"溶接作業中、周囲に引火し火災になる",null,null,"火気使用時の作業周囲の人払いを行う"]
[603010,"材料運搬時、躓いて転倒する",null,null,"安全通路を移動する"]
[603010,"材料運搬時、躓いて転倒する",null,null,"近道行為を禁止する"]
[603010,"材料運搬時、段差に躓いて転倒する",null,null,"床段差に足をのせない"]
[603010,"材料運搬時、段差に躓いて転倒する",null,null,"安全通路を移動する"]
[603010,"スラブ上での作業中、スラブ筋に躓いて転倒する",null,null,"スラブ筋上歩行の際、足元を確認し歩行する"]
[603010,"スラブ上での作業中、スラブ筋に躓いて転倒する",null,null,"メッシュロード上を移動する"]
[603010,"スラブ上での作業中、スラブ段差に躓いて転倒する",null,null,"スラブ筋上歩行の際、足元を確認し歩行する"]
[603010,"スラブ上での作業中、スラブ段差に躓いて転倒する",null,null,"メッシュロード上を移動する"]
[603010,"作業中、吊荷が落ちて負傷する",null,null,"吊荷直下には入らない"]
[603010,"材料切断時、ベビーサンダー使用し、手を切る",null,null,"保護手袋を着装する"]
[603010,"材料切断時、ベビーサンダー使用し、手を切る",null,null,"正しい姿勢で作業する"]
[603010,"材料切断時、ベビーサンダー使用し、手を切る",null,null,"保護カバーを使用する"]
[603010,"材料切断時、ベビーサンダー使用し、手を切る",null,null,"工具の始業前点検を実施する"]
[603010,"材料切断時、ベビーサンダー使用し、手を切る",null,null,"切断箇所に手を入れない"]
[603010,"材料切断時、高速カッターで手を切る",null,null,"保護具を着装する"]
[603010,"材料切断時、高速カッターで手を切る",null,null,"正しい姿勢で作業する"]
[603010,"材料切断時、高速カッターで手を切る",null,null,"高速カッターの保護カバーを使用する"]
[603010,"材料切断時、高速カッターで手を切る",null,null,"工具の始業前点検を実施する"]
[603010,"材料切断時、高速カッターで手を切る",null,null,"切断箇所に手を入れない"]
[603010,"スラブ端部・開口部から転落する",null,null,"端部・開口部作業は安全帯を必ず使用し、作業を行う"]
[603010,"スラブ端部・開口部から転落する",null,null,"無理な姿勢で作業しない"]
[603010,"スラブ端部・開口部から転落する",null,null,"昇降設備を使用する"]
[603010,"スラブ端部・開口部から転落する",null,null,"近道行為を禁止する"]
[603010,"スラブ端部・開口部から転落する",null,null,"安全通路を移動する"]
[603010,"スラブ端部・開口部から転落する",null,null,"後ろ向きで移動しない"]
[603010,"紙ボイド撤去時に開口からバールを落とす",null,null,"作業下部の立入禁止措置を行う"]
[603010,"移動時にスラブ型枠上で滑り転倒する",null,null,"雨や露による濡れがないか確認する"]
[603010,"移動時にスラブ型枠上で滑り転倒する",null,null,"足元を確認して通行する"]
[603010,"墨出し時に施工中の型枠に足を掛けて転落する",null,null,"施工中の型枠などの踏込み禁止場所を確認する"]
[603010,"ｲﾝｻｰﾄ打設時に、ハンマーで手を叩く",null,null,"使用時は手元の確認を行う"]
[603010,"ｲﾝｻｰﾄ打設時に、ハンマーで手を叩く",null,null,"暗い箇所では使用しない(手元の照明を明るくする)"]
[603010,"ｲﾝｻｰﾄ打設時に、ハンマーで手を叩く",null,null,"保護手袋を着装する"]
[603010,"ｽﾘｰﾌﾞ小口で指を切る",null,null,"素手での作業は行わない"]
[603010,"ｽﾘｰﾌﾞ小口で指を切る",null,null,"保護手袋を着装する"]
[603010,"ﾃﾞｯｷ溶断時に養生が不十分で周囲に引火する",null,null,"ﾃﾞｯｷ溶断時は防炎ｼｰﾄ等で十分に養生する"]
[603010,"配管敷設時、鉄筋の結束線が指に刺さる",null,null,"鉄筋上に不用意に手をつかないようにする"]
[603010,"配管敷設時、鉄筋間に足を挟み転倒する",null,null,"鉄筋上を歩行時にメッシュロードを使用する"]
[603020,"材料運搬時、躓いて転倒する",null,null,"安全通路を移動する"]
[603020,"材料運搬時、躓いて転倒する",null,null,"近道行為を禁止する"]
[603020,"材料運搬時、段差に躓いて転倒する",null,null,"床段差に足をのせない"]
[603020,"材料運搬時、段差に躓いて転倒する",null,null,"安全通路を移動する"]
[603020,"カッターナイフで手を切る",null,null,"カッターナイフを動かす方向に手を置かない"]
[603020,"カッターナイフで手を切る",null,null,"無理な姿勢で作業しない"]
[603020,"ベビーサンダー使用時、誤って手を切る",null,null,"保護手袋を着装する"]
[603020,"ベビーサンダー使用時、誤って手を切る",null,null,"正しい姿勢で作業する"]
[603020,"ベビーサンダー使用時、誤って手を切る",null,null,"保護カバーを使用する"]
[603020,"ベビーサンダー使用時、誤って手を切る",null,null,"工具の始業前点検を実施する"]
[603020,"ベビーサンダー使用時、誤って手を切る",null,null,"切断箇所に手を入れない"]
[603020,"ドリルで削孔時、指を巻き込む",null,null,"無理な姿勢で作業しない"]
[603020,"ドリルで削孔時、指を巻き込む",null,null,"削孔箇所に手を入れない"]
[603020,"ドリルで削孔時、指を巻き込む",null,null,"電動工具の始業前点検を実施する"]
[603020,"ドリルにて上向きに削孔する際、削孔片が目に入る",null,null,"保護メガネを着装する"]
[603020,"ドリルにて上向きに削孔する際、削孔片が目に入る",null,null,"無理な姿勢で作業しない"]
[603020,"ドリルにて上向きに削孔する際、削孔片が目に入る",null,null,"保護具を着装する"]
[603020,"材料切断時、高速カッターで手を切る",null,null,"保護具を着装する"]
[603020,"材料切断時、高速カッターで手を切る",null,null,"正しい姿勢で作業する"]
[603020,"材料切断時、高速カッターで手を切る",null,null,"高速カッターの保護カバーを使用する"]
[603020,"材料切断時、高速カッターで手を切る",null,null,"工具の始業前点検を実施する"]
[603020,"材料切断時、高速カッターで手を切る",null,null,"切断箇所に手を入れない"]
[603020,"立馬から転落する",null,null,"物を持って昇降しない"]
[603020,"立馬から転落する",null,null,"開き止めを確認する"]
[603020,"立馬から転落する",null,null,"無理な姿勢で作業しない"]
[603020,"立馬から転落する",null,null,"昇降時は必ず後ろ向きにおりる"]
[603020,"高所作業車使用時、転落する",null,null,"安全帯を必ず使用する"]
[603020,"高所作業車使用時、転落する",null,null,"無理な姿勢で作業しない"]
[603020,"高所作業車使用時、転落する",null,null,"高所作業車の始業前点検を実施する"]
[603020,"高所作業車使用時、転落する",null,null,"作業床を確認する"]
[603020,"足場使用時、足場から墜落する",null,null,"安全帯を掛けていない状況を作らない"]
[603020,"足場使用時、足場から墜落する",null,null,"無理な姿勢で作業しない"]
[603020,"足場使用時、足場から墜落する",null,null,"足場の始業前点検を実施する"]
[603020,"足場使用時、足場から墜落する",null,null,"作業床の墜落転落防止措置を確認する"]
[603020,"足場の隙間から墜落する",null,null,"安全帯を掛けていない状況を作らない"]
[603020,"足場の隙間から墜落する",null,null,"無理な姿勢で作業しない"]
[603020,"足場の隙間から墜落する",null,null,"足場の始業前点検を実施する"]
[603020,"足場の隙間から墜落する",null,null,"作業床の墜落転落防止措置の確認する"]
[603020,"足場上で躓いて転倒する",null,null,"足場上の資材等を整理整頓する"]
[603020,"足場上で躓いて転倒する",null,null,"無理な姿勢で作業しない"]
[603020,"足場上で躓いて転倒する",null,null,"安全通路を移動する"]
[603020,"バンドで指を詰める",null,null,"無理な姿勢で作業しない"]
[603020,"バンドで指を詰める",null,null,"危険な所に指を入れない"]
[603020,"誤ってハンマーで指を叩く",null,null,"使用時は手元の確認を行う"]
[603020,"誤ってハンマーで指を叩く",null,null,"暗い箇所では使用しない(手元の照明を明るくする)"]
[603020,"誤ってハンマーで指を叩く",null,null,"保護手袋を着装する"]
[603020,"塩ビ鋸で手や指を切る",null,null,"手鋸を動かす方向に手や指を置かない"]
[603020,"塩ビ鋸で手や指を切る",null,null,"無理な姿勢で作業しない"]
[603020,"塩ビ鋸で手や指を切る",null,null,"保護手袋を着装する"]
[603020,"インパクトドライバー使用時、指を負傷する",null,null,"無理な姿勢で作業しない"]
[603020,"インパクトドライバー使用時、指を負傷する",null,null,"危険な所に手を入れない"]
[603020,"インパクトドライバー使用時、指を負傷する",null,null,"電動工具の始業前点検を実施する"]
[603020,"会所吊り込み時、吊荷が外れ落下する",null,null,"重機使用時の合図の徹底"]
[603020,"会所吊り込み時、吊荷が外れ落下する",null,null,"声掛け合図の徹底"]
[603020,"会所吊り込み時、吊荷が外れ落下する",null,null,"ベルトスリングの始業前点検を実施する"]
[603020,"会所吊り込み時、吊荷が外れ落下する",null,null,"吊荷荷重を確認する"]
[603020,"会所吊り込み時、吊荷が外れ落下する",null,null,"吊荷下の人払いを行う"]
[603020,"掘方に材料を運搬する際に脚をくじく",null,null,"掘方に降りるルートを固定し、踏み固めておく"]
[603020,"境界近辺の掘削時に埋設配管を引っかける",null,null,"外周部は特に慎重に掘るまたは手掘りする"]
[603020,"配管運搬時に、第三者と接触する",null,null,"運搬時には、周囲を確認する"]
[603020,"水分摂取不足により熱中症になる",null,null,"早めに休憩をとり、塩分水分を摂取する"]
[603020,"重機(ＢＨ)と作業員が接触する",null,null,"重機と作業員の区分けを行う"]
[603020,"重機(ＢＨ)と作業員が接触する",null,null,"声掛け合図の徹底"]
[603020,"重機(ＢＨ)と作業員が接触する",null,null,"ｶﾗｰｺｰﾝによる立ち入り禁止措置を行う"]
[603020,"重機(ＢＨ)と作業員が接触する",null,null,"重機ＯＰの死角に入らない"]
[603020,"重機(ＢＨ)と作業員が接触する",null,null,"グーパー運動を実施する"]
[603020,"重機(ＢＨ)と作業員が接触する",null,null,"合図者を配置し作業を行う"]
[603020,"長尺配管運搬時に作業員・仕上材と接触する",null,null,"長尺配管は必ず2人で運搬する"]
[603030,"立馬から立馬へ移動中に脚元がずれ床スリーブ穴に落ち、バランスを崩して転落する",null,null,"養生蓋等を確認する（設置した立馬の足元確認）"]
[603030,"立馬から立馬へ移動中に脚元がずれ床スリーブ穴に落ち、バランスを崩して転落する",null,null,"立馬使用の作業標準を順守する"]
[603030,"立馬から立馬へ移動中に脚元がずれ床スリーブ穴に落ち、バランスを崩して転落する",null,null,"立馬から他の立馬に乗り移らない"]
[603030,"立馬から立馬へ移動中に脚元がずれ床スリーブ穴に落ち、バランスを崩して転落する",null,null,"外した養生蓋は必ず復旧する"]
[603030,"材料運搬時、躓いて転倒する",null,null,"安全通路を移動する"]
[603030,"材料運搬時、躓いて転倒する",null,null,"近道行為を禁止する"]
[603030,"材料運搬時、段差に躓いて転倒する",null,null,"床段差に足をのせない"]
[603030,"材料運搬時、段差に躓いて転倒する",null,null,"安全通路を移動する"]
[603030,"カッターナイフで手を切る",null,null,"カッターナイフを動かす方向に手を置かない"]
[603030,"カッターナイフで手を切る",null,null,"無理な姿勢で作業しない"]
[603030,"ベビーサンダー使用時、誤って手を切る",null,null,"保護手袋を着装する"]
[603030,"ベビーサンダー使用時、誤って手を切る",null,null,"正しい姿勢で作業する"]
[603030,"ベビーサンダー使用時、誤って手を切る",null,null,"保護カバーを使用する"]
[603030,"ベビーサンダー使用時、誤って手を切る",null,null,"工具の始業前点検を実施する"]
[603030,"ベビーサンダー使用時、誤って手を切る",null,null,"切断箇所に手を入れない"]
[603030,"ドリルで削孔時、指を巻き込む",null,null,"無理な姿勢で作業しない"]
[603030,"ドリルで削孔時、指を巻き込む",null,null,"削孔箇所に手を入れない"]
[603030,"ドリルで削孔時、指を巻き込む",null,null,"電動工具の始業前点検を実施する"]
[603030,"ドリルにて上向きに削孔する際、削孔片が目に入る",null,null,"保護メガネを着装する"]
[603030,"ドリルにて上向きに削孔する際、削孔片が目に入る",null,null,"無理な姿勢で作業しない"]
[603030,"ドリルにて上向きに削孔する際、削孔片が目に入る",null,null,"保護具を着装する"]
[603030,"材料切断時、高速カッターで手を切る",null,null,"保護具を着装する"]
[603030,"材料切断時、高速カッターで手を切る",null,null,"正しい姿勢で作業する"]
[603030,"材料切断時、高速カッターで手を切る",null,null,"高速カッターの保護カバーを使用する"]
[603030,"材料切断時、高速カッターで手を切る",null,null,"工具の始業前点検を実施する"]
[603030,"材料切断時、高速カッターで手を切る",null,null,"切断箇所に手を入れない"]
[603030,"立馬から転落する",null,null,"物を持って昇降しない"]
[603030,"立馬から転落する",null,null,"開き止めを確認する"]
[603030,"立馬から転落する",null,null,"無理な姿勢で作業しない"]
[603030,"立馬から転落する",null,null,"昇降時は必ず後ろ向きにおりる"]
[603030,"高所作業車使用時、転落する",null,null,"安全帯を必ず使用する"]
[603030,"高所作業車使用時、転落する",null,null,"無理な姿勢で作業しない"]
[603030,"高所作業車使用時、転落する",null,null,"高所作業車の始業前点検を実施する"]
[603030,"高所作業車使用時、転落する",null,null,"作業床を確認する"]
[603030,"バンドで指を詰める",null,null,"無理な姿勢で作業しない"]
[603030,"バンドで指を詰める",null,null,"危険な所に指を入れない"]
[603030,"誤ってハンマーで指を叩く",null,null,"使用時は手元の確認を行う"]
[603030,"誤ってハンマーで指を叩く",null,null,"暗い箇所では使用しない(手元の照明を明るくする)"]
[603030,"誤ってハンマーで指を叩く",null,null,"保護手袋を着装する"]
[603030,"塩ビ鋸で手や指を切る",null,null,"手鋸を動かす方向に手や指を置かない"]
[603030,"塩ビ鋸で手や指を切る",null,null,"無理な姿勢で作業しない"]
[603030,"塩ビ鋸で手や指を切る",null,null,"保護手袋を着装する"]
[603030,"インパクトドライバー使用時、指を負傷する",null,null,"無理な姿勢で作業しない"]
[603030,"インパクトドライバー使用時、指を負傷する",null,null,"危険な所に手を入れない"]
[603030,"インパクトドライバー使用時、指を負傷する",null,null,"電動工具の始業前点検を実施する"]
[603030,"竪排水管施工時、耐火二層管の中身だけ抜けて足を挟む",null,null,"内部の塩ビ管も小口を抑えて抜け落ちないようにする"]
[603030,"長尺配管を切断する際に他職が躓き転倒する",null,null,"配管加工場は安全通路を確保して設営する"]
[603030,"糊付け作業時、気分が悪くなる",null,null,"換気を十分良くとる"]
[603030,"長尺配管運搬時に作業員・仕上材と接触する",null,null,"長尺配管は必ず2人で運搬する"]
[603030,"配管時に吊りﾎﾞﾙﾄ等で手や目を突く",null,null,"作業時は周囲の状況を良く確認する"]
[603040,"材料運搬時、躓いて転倒する",null,null,"安全通路を移動する"]
[603040,"材料運搬時、躓いて転倒する",null,null,"近道行為を禁止する"]
[603040,"材料運搬時、段差に躓いて転倒する",null,null,"床段差に足をのせない"]
[603040,"材料運搬時、段差に躓いて転倒する",null,null,"安全通路を移動する"]
[603040,"ピット内昇降時に足を滑らせ墜落する",null,null,"安全ブロックを使用する"]
[603040,"ピット内昇降時に足を滑らせ墜落する",null,null,"昇降時、上下・頭上・足元を確認する"]
[603040,"ピット内作業時に酸素欠乏症になる",null,null,"送風機を使用する"]
[603040,"ピット内作業時に酸素欠乏症になる",null,null,"2人1組で作業する"]
[603040,"ピット内作業時に酸素欠乏症になる",null,null,"ピットに入る際は酸素濃度を測定する"]
[603040,"ピット内作業時に酸素欠乏症になる",null,null,"監視人を配置する"]
[603040,"ピット内作業時に酸素欠乏症になる",null,null,"特別教育を受けて作業する"]
[603040,"床下開口部から転落する",null,null,"養生蓋の上には乗らない"]
[603040,"床下開口部から転落する",null,null,"養生蓋は不必要時には必ず閉める"]
[603040,"カッターナイフで手を切る",null,null,"カッターナイフを動かす方向に手を置かない"]
[603040,"カッターナイフで手を切る",null,null,"無理な姿勢で作業しない"]
[603040,"ベビーサンダー使用時、誤って手を切る",null,null,"保護手袋を着装する"]
[603040,"ベビーサンダー使用時、誤って手を切る",null,null,"正しい姿勢で作業する"]
[603040,"ベビーサンダー使用時、誤って手を切る",null,null,"保護カバーを使用する"]
[603040,"ベビーサンダー使用時、誤って手を切る",null,null,"工具の始業前点検を実施する"]
[603040,"ベビーサンダー使用時、誤って手を切る",null,null,"切断箇所に手を入れない"]
[603040,"溶接時、火花が飛散し火災になる",null,null,"火の粉の付近に可燃物を置かない"]
[603040,"溶接時、火花が飛散し火災になる",null,null,"消火器・消火バケツを設置する"]
[603040,"溶接時、火花が飛散し火災になる",null,null,"火気使用時の作業周囲の人払いを行う"]
[603040,"溶接時、火傷する",null,null,"消火器・消火バケツを設置する"]
[603040,"溶接時、火傷する",null,null,"火気使用時の作業周囲の人払いを行う"]
[603040,"溶接時、火傷する",null,null,"保護具を着装する"]
[603040,"溶接時、火傷する",null,null,"無理な姿勢で作業しない"]
[603040,"溶接時、火傷する",null,null,"溶接箇所に手を近づけない"]
[603040,"ドリルで削孔時、指を巻き込む",null,null,"無理な姿勢で作業しない"]
[603040,"ドリルで削孔時、指を巻き込む",null,null,"削孔箇所に手を入れない"]
[603040,"ドリルで削孔時、指を巻き込む",null,null,"電動工具の始業前点検を実施する"]
[603040,"ドリルにて上向きに削孔する際、削孔片が目に入る",null,null,"保護メガネの着装する"]
[603040,"ドリルにて上向きに削孔する際、削孔片が目に入る",null,null,"無理な姿勢で作業しない"]
[603040,"ドリルにて上向きに削孔する際、削孔片が目に入る",null,null,"保護具を着装する"]
[603040,"バンドで指を詰める",null,null,"無理な姿勢で作業しない"]
[603040,"バンドで指を詰める",null,null,"危険な所に指を入れない"]
[603040,"電動工具を使用して漏電する",null,null,"水溜りがある場所では使用しない"]
[603040,"電動工具を使用して漏電する",null,null,"コンセントは水が掛らない様、養生する"]
[603040,"電動工具を使用して漏電する",null,null,"電動工具の始業前点検を実施する"]
[603040,"誤ってハンマーで指を叩く",null,null,"使用時は手元の確認を行う"]
[603040,"誤ってハンマーで指を叩く",null,null,"暗い箇所では使用しない(手元の照明を明るくする)"]
[603040,"誤ってハンマーで指を叩く",null,null,"保護手袋を着装する"]
[603040,"塩ビ鋸で手や指を切る",null,null,"手鋸を動かす方向に手や指を置かない"]
[603040,"塩ビ鋸で手や指を切る",null,null,"無理な姿勢で作業しない"]
[603040,"塩ビ鋸で手や指を切る",null,null,"保護手袋を着装する"]
[603040,"インパクトドライバー使用時、指を負傷する",null,null,"無理な姿勢で作業しない"]
[603040,"インパクトドライバー使用時、指を負傷する",null,null,"危険な所に手を入れない"]
[603040,"インパクトドライバー使用時、指を負傷する",null,null,"電動工具の始業前点検を実施する"]
[603040,"ピット内のたまり水が跳ねて目に入る",null,null,"保護メガネを着装する"]
[603040,"梁型や支持材に頭や顔をぶつける",null,null,"作業照度を確保してから作業する"]
[603040,"配管時に吊りﾎﾞﾙﾄ等で手や目を突く",null,null,"作業時は周囲の状況を良く確認する"]
[603050,"材料運搬時、躓いて転倒する",null,null,"安全通路を移動する"]
[603050,"材料運搬時、躓いて転倒する",null,null,"近道行為を禁止する"]
[603050,"材料運搬時、段差に躓いて転倒する",null,null,"床段差に足をのせない"]
[603050,"材料運搬時、段差に躓いて転倒する",null,null,"安全通路を移動する"]
[603050,"吊り込み時、ベルトスリングが切れ、吊荷が落下する",null,null,"ベルトスリングの始業前点検を実施する"]
[603050,"吊り込み時、ベルトスリングが切れ、吊荷が落下する",null,null,"声掛け合図の徹底"]
[603050,"吊り込み時、ベルトスリングが切れ、吊荷が落下する",null,null,"吊荷下の人払いを行う"]
[603050,"吊り込み時、ベルトスリングが切れ、吊荷が落下する",null,null,"吊荷荷重を確認する"]
[603050,"カッターナイフで手を切る",null,null,"カッターナイフを動かす方向に手を置かない"]
[603050,"カッターナイフで手を切る",null,null,"無理な姿勢で作業しない"]
[603050,"機器据付時、手や指を詰める",null,null,"不安定な状態で機器を置かない"]
[603050,"機器据付時、手や指を詰める",null,null,"危険な所に手を入れない"]
[603050,"機器据付時、手や指を詰める",null,null,"作業手順を遵守する"]
[603050,"ベビーサンダー使用時、誤って手を切る",null,null,"保護手袋を着装する"]
[603050,"ベビーサンダー使用時、誤って手を切る",null,null,"正しい姿勢で作業する"]
[603050,"ベビーサンダー使用時、誤って手を切る",null,null,"保護カバーを使用する"]
[603050,"ベビーサンダー使用時、誤って手を切る",null,null,"工具の始業前点検を実施する"]
[603050,"ベビーサンダー使用時、誤って手を切る",null,null,"切断箇所に手を入れない"]
[603050,"ドリルで削孔時、指を巻き込む",null,null,"無理な姿勢で作業しない"]
[603050,"ドリルで削孔時、指を巻き込む",null,null,"削孔箇所に手を入れない"]
[603050,"ドリルで削孔時、指を巻き込む",null,null,"電動工具の始業前点検を実施する"]
[603050,"立馬から転落する",null,null,"物を持って昇降しない"]
[603050,"立馬から転落する",null,null,"開き止めを確認する"]
[603050,"立馬から転落する",null,null,"無理な姿勢で作業しない"]
[603050,"立馬から転落する",null,null,"昇降時は必ず後ろ向きにおりる"]
[603050,"重量物を持って腰を痛める",null,null,"膝を使い、物を持ちあげる"]
[603050,"重量物を持って腰を痛める",null,null,"準備体操をしっかり行う"]
[603050,"重量物を持って腰を痛める",null,null,"2人1組で重量物を運ぶ"]
[603050,"受水槽天端から転落する",null,null,"安全帯を掛けられる設備を設けてから作業する"]
[603050,"アンカー打設時に粉じんが目に入る",null,null,"保護メガネを着装する"]
[603050,"アンカーボルトで躓く",null,null,"ｱﾝｶｰﾎﾞﾙﾄに目立つように注意明示する"]
[603050,"据付時に手を滑らせ物を落とす",null,null,"人数配分を適正に行う"]
[603050,"機器吊り込み時、吊荷が外れ落下する",null,null,"クレーン使用時の合図の徹底"]
[603050,"機器吊り込み時、吊荷が外れ落下する",null,null,"声掛け合図の徹底"]
[603050,"機器吊り込み時、吊荷が外れ落下する",null,null,"吊り具の始業前点検を実施する"]
[603050,"機器吊り込み時、吊荷が外れ落下する",null,null,"吊荷荷重を確認する"]
[603050,"機器吊り込み時、吊荷が外れ落下する",null,null,"吊荷下の人払いを行う"]
[603050,"機器吊り込み時、吊荷が外れ落下する",null,null,"地切りを確認する"]
[603050,"揚重機のｱｳﾄﾘｶﾞｰ引出が不足しており、重機が転倒する",null,null,"揚重作業前に作業計画書を確認して適正に揚重機を使用する"]
[603050,"不安定な状態で機械を据え付けようとして機械が転倒する",null,null,"機械据付前には据付場所周囲を十分に確認する"]
[603050,"搬入車輛に接触する",null,null,"後退時運転手はｻｲﾄﾞﾐﾗｰだけでなく、自分の目で後方を確認する"]
[603050,"搬入車輛に接触する",null,null,"声掛け合図の徹底"]
[603050,"搬入車輛に接触する",null,null,"ｶﾗｰｺｰﾝによる立ち入り禁止措置を行う"]
[603050,"搬入車輛に接触する",null,null,"車輛と歩行者の区分けを行う"]
[603050,"搬入車輛に接触する",null,null,"機械搬入時は事前にﾙｰﾄ等を打合せして誘導員を配置する"]
[603060,"材料運搬時、躓いて転倒する",null,null,"安全通路を移動する"]
[603060,"材料運搬時、躓いて転倒する",null,null,"近道行為を禁止する"]
[603060,"材料運搬時、段差に躓いて転倒する",null,null,"床段差に足をのせない"]
[603060,"材料運搬時、段差に躓いて転倒する",null,null,"安全通路を移動する"]
[603060,"材料切断時、ベビーサンダー使用し、手を切る",null,null,"保護手袋を着装する"]
[603060,"材料切断時、ベビーサンダー使用し、手を切る",null,null,"正しい姿勢で作業する"]
[603060,"材料切断時、ベビーサンダー使用し、手を切る",null,null,"保護カバーを使用する"]
[603060,"材料切断時、ベビーサンダー使用し、手を切る",null,null,"工具の始業前点検を実施する"]
[603060,"材料切断時、ベビーサンダー使用し、手を切る",null,null,"切断箇所に手を入れない"]
[603060,"立馬から転落する",null,null,"物を持って昇降しない"]
[603060,"立馬から転落する",null,null,"開き止めを確認する"]
[603060,"立馬から転落する",null,null,"無理な姿勢で作業しない"]
[603060,"立馬から転落する",null,null,"昇降時は必ず後ろ向きにおりる"]
[603060,"高所作業車使用時、転落する",null,null,"安全帯を必ず使用する"]
[603060,"高所作業車使用時、転落する",null,null,"無理な姿勢で作業しない"]
[603060,"高所作業車使用時、転落する",null,null,"高所作業車の始業前点検を実施する"]
[603060,"高所作業車使用時、転落する",null,null,"作業床を確認する"]
[603060,"足場使用時、足場から墜落する",null,null,"安全帯を掛けていない状況を作らない"]
[603060,"足場使用時、足場から墜落する",null,null,"無理な姿勢で作業しない"]
[603060,"足場使用時、足場から墜落する",null,null,"足場の始業前点検を実施する"]
[603060,"足場使用時、足場から墜落する",null,null,"作業床の墜落転落防止措置を確認する"]
[603060,"足場の隙間から墜落する",null,null,"安全帯を掛けていない状況を作らない"]
[603060,"足場の隙間から墜落する",null,null,"無理な姿勢で作業しない"]
[603060,"足場の隙間から墜落する",null,null,"足場の始業前点検を実施する"]
[603060,"足場の隙間から墜落する",null,null,"作業床の墜落転落防止措置の確認する"]
[603060,"足場上で躓いて転倒する",null,null,"足場上の資材等を整理整頓する"]
[603060,"足場上で躓いて転倒する",null,null,"無理な姿勢で作業しない"]
[603060,"足場上で躓いて転倒する",null,null,"安全通路を移動する"]
[603060,"バンドで指を詰める",null,null,"無理な姿勢で作業しない"]
[603060,"バンドで指を詰める",null,null,"危険な所に指を入れない"]
[603060,"インパクトドライバー使用時、指を負傷する",null,null,"無理な姿勢で作業しない"]
[603060,"インパクトドライバー使用時、指を負傷する",null,null,"危険な所に手を入れない"]
[603060,"インパクトドライバー使用時、指を負傷する",null,null,"電動工具の始業前点検を実施する"]
[603060,"保温材加工時に裁ちばさみで指を切断する",null,null,"手元を良く確認して作業する"]
[603060,"狭所での作業時に支持材で目を突く",null,null,"作業場所内外に危険性がないか確認してから作業する"]
[603060,"グラスウールが喉にささる",null,null,"保護マスクを着装する"]
[603060,"裁断時、ｶｯﾀｰﾅｲﾌで指を切る",null,null,"カッターナイフを動かす方向に手を置かない"]
[603060,"裁断時、ｶｯﾀｰﾅｲﾌで指を切る",null,null,"無理な姿勢で作業しない"]
[603060,"裁断時、ｶｯﾀｰﾅｲﾌで指を切る",null,null,"安定した作業台で作業する"]
[603070,"試運転確認時、立馬から転落する",null,null,"物を持って昇降しない"]
[603070,"試運転確認時、立馬から転落する",null,null,"開き止めを確認する"]
[603070,"試運転確認時、立馬から転落する",null,null,"無理な姿勢で作業しない"]
[603070,"試運転確認時、立馬から転落する",null,null,"昇降時は必ず後ろ向きにおりる"]
[603070,"給湯循環の試験時に吹出した高温の湯で火傷する",null,null,"作業手順の確認と、逃し弁の位置を確認し近づかない"]
[603070,"屋内消火栓放水試験時にホースが抜けて水撃を受ける",null,null,"ホース等が確実に接続されていることを確認する"]
[603080,"温水機撤去時、立馬から転落する",null,null,"物を持って昇降しない"]
[603080,"温水機撤去時、立馬から転落する",null,null,"開き止めを確認する"]
[603080,"温水機撤去時、立馬から転落する",null,null,"無理な姿勢で作業しない"]
[603080,"温水機撤去時、立馬から転落する",null,null,"昇降時は必ず後ろ向きにおりる"]
[603080,"配管切断時、刃物で手を切る",null,null,"刃物を動かす方向に手を置かない"]
[603080,"配管切断時、刃物で手を切る",null,null,"無理な姿勢で作業しない"]
[603080,"配管切断時、刃物で手を切る",null,null,"刃の出し入れを確認する"]
[603080,"配管切断時、セーバーソーを使用し、手を切る",null,null,"保護手袋を着装する"]
[603080,"配管切断時、セーバーソーを使用し、手を切る",null,null,"正しい姿勢で作業する"]
[603080,"配管切断時、セーバーソーを使用し、手を切る",null,null,"切断箇所に手を入れない"]
[603080,"配管切断時、セーバーソーを使用し、手を切る",null,null,"工具の始業前点検を実施する"]
[603080,"鋼管等をサンダーで切断する際に火の粉が既存仕上げに引火して火災となる",null,null,"火花養生の徹底と残火確認を十分に行う"]
[603080,"既存配管をセーバーソーで切断する際に刃が折れて飛散する",null,null,"工具使用前の点検を十分に行う"]
[603090,"作業中、吊荷が落ちて負傷する",null,null,"吊荷直下には入らない"]
[603090,"長尺物を振り回す際、作業員にぶつける",null,null,"2人1組で材料を運ぶ"]
[603090,"長尺物を振り回す際、作業員にぶつける",null,null,"振り回す際は、事前に周囲確認し、人払いを行う"]
[603090,"長尺物を振り回す際、作業員にぶつける",null,null,"声掛け合図の徹底"]
[603090,"高所作業車使用時、転落する",null,null,"安全帯を必ず使用する"]
[603090,"高所作業車使用時、転落する",null,null,"無理な姿勢で作業しない"]
[603090,"高所作業車使用時、転落する",null,null,"高所作業車の始業前点検を実施する"]
[603090,"高所作業車使用時、転落する",null,null,"作業床を確認する"]
[603090,"足場使用時、足場から墜落する",null,null,"安全帯を掛けていない状況を作らない"]
[603090,"足場使用時、足場から墜落する",null,null,"無理な姿勢で作業しない"]
[603090,"足場使用時、足場から墜落する",null,null,"足場の始業前点検を実施する"]
[603090,"足場使用時、足場から墜落する",null,null,"作業床の墜落転落防止措置を確認する"]
[603090,"足場の隙間から墜落する",null,null,"安全帯を掛けていない状況を作らない"]
[603090,"足場の隙間から墜落する",null,null,"無理な姿勢で作業しない"]
[603090,"足場の隙間から墜落する",null,null,"足場の始業前点検を実施する"]
[603090,"足場の隙間から墜落する",null,null,"作業床の墜落転落防止措置の確認する"]
[603090,"足場上で躓いて転倒する",null,null,"足場上の資材等を整理整頓する"]
[603090,"足場上で躓いて転倒する",null,null,"無理な姿勢で作業しない"]
[603090,"足場上で躓いて転倒する",null,null,"安全通路を移動する"]
[603090,"マンホールを閉める際、指を挟む",null,null,"無理な姿勢で作業しない"]
[603090,"マンホールを閉める際、指を挟む",null,null,"危険な所に手を入れない"]
[603090,"マンホールを閉める際、指を挟む",null,null,"マンホールを閉める際、声掛け合図をする"]
[603090,"事務所からの移動時に交通事故にあう",null,null,"道の端を歩き、第三者に注意する"]
[604010,"材料運搬時、躓いて転倒する",null,null,"安全通路を移動する"]
[604010,"材料運搬時、躓いて転倒する",null,null,"近道行為を禁止する"]
[604010,"材料運搬時、段差に躓いて転倒する",null,null,"床段差に足をのせない"]
[604010,"材料運搬時、段差に躓いて転倒する",null,null,"安全通路を移動する"]
[604010,"カッターナイフで手を切る",null,null,"カッターナイフを動かす方向に手を置かない"]
[604010,"カッターナイフで手を切る",null,null,"無理な姿勢で作業しない"]
[604010,"重機(ＢＨ)と作業員が接触する",null,null,"重機と作業員の区分けを行う"]
[604010,"重機(ＢＨ)と作業員が接触する",null,null,"声掛け合図の徹底"]
[604010,"重機(ＢＨ)と作業員が接触する",null,null,"ｶﾗｰｺｰﾝによる立ち入り禁止措置を行う"]
[604010,"重機(ＢＨ)と作業員が接触する",null,null,"重機ＯＰの死角に入らない"]
[604010,"重機(ＢＨ)と作業員が接触する",null,null,"グーパー運動を実施する"]
[604010,"地山・開口部から転落する",null,null,"端部・開口部作業は安全帯を必ず使用し、作業を行う"]
[604010,"地山・開口部から転落する",null,null,"無理な姿勢で作業しない"]
[604010,"地山・開口部から転落する",null,null,"昇降設備を使用する"]
[604010,"地山・開口部から転落する",null,null,"近道行為を禁止する"]
[604010,"地山・開口部から転落する",null,null,"安全通路を移動する"]
[604010,"インサート打込み時、誤ってハンマーで指を叩く",null,null,"使用時は手元の確認を行う"]
[604010,"インサート打込み時、誤ってハンマーで指を叩く",null,null,"暗い箇所では使用しない(手元の照明を明るくする)"]
[604010,"インサート打込み時、誤ってハンマーで指を叩く",null,null,"保護手袋を着装する"]
[604010,"インサート打込み作業中、吊荷が落ちて負傷する",null,null,"吊荷直下には入らない"]
[604010,"ベビーサンダー使用時、誤って手を切る",null,null,"保護手袋を着装する"]
[604010,"ベビーサンダー使用時、誤って手を切る",null,null,"正しい姿勢で作業する"]
[604010,"ベビーサンダー使用時、誤って手を切る",null,null,"保護カバーを使用する"]
[604010,"ベビーサンダー使用時、誤って手を切る",null,null,"工具の始業前点検を実施する"]
[604010,"ベビーサンダー使用時、誤って手を切る",null,null,"切断箇所に手を入れない"]
[604010,"ドリルで削孔時、指を巻き込む",null,null,"無理な姿勢で作業しない"]
[604010,"ドリルで削孔時、指を巻き込む",null,null,"削孔箇所に手を入れない"]
[604010,"ドリルで削孔時、指を巻き込む",null,null,"電動工具の始業前点検を実施する"]
[604010,"ドリルにて上向きに削孔する際、削孔片が目に入る",null,null,"保護メガネを着装する"]
[604010,"ドリルにて上向きに削孔する際、削孔片が目に入る",null,null,"無理な姿勢で作業しない"]
[604010,"ドリルにて上向きに削孔する際、削孔片が目に入る",null,null,"保護具を着装する"]
[604010,"立馬から転落する",null,null,"物を持って昇降しない"]
[604010,"立馬から転落する",null,null,"開き止めを確認する"]
[604010,"立馬から転落する",null,null,"無理な姿勢で作業しない"]
[604010,"立馬から転落する",null,null,"昇降時は必ず後ろ向きにおりる"]
[604010,"高所作業車使用時、転落する",null,null,"安全帯を必ず使用する"]
[604010,"高所作業車使用時、転落する",null,null,"無理な姿勢で作業しない"]
[604010,"高所作業車使用時、転落する",null,null,"高所作業車の始業前点検を実施する"]
[604010,"高所作業車使用時、転落する",null,null,"作業床を確認する"]
[604010,"バンドで指を詰める",null,null,"無理な姿勢で作業しない"]
[604010,"バンドで指を詰める",null,null,"危険な所に指を入れない"]
[604010,"材料切断時、高速カッターで手を切る",null,null,"保護具を着装する"]
[604010,"材料切断時、高速カッターで手を切る",null,null,"正しい姿勢で作業する"]
[604010,"材料切断時、高速カッターで手を切る",null,null,"高速カッターの保護カバーを使用する"]
[604010,"材料切断時、高速カッターで手を切る",null,null,"工具の始業前点検を実施する"]
[604010,"材料切断時、高速カッターで手を切る",null,null,"切断箇所に手を入れない"]
[604010,"材料切断時、火花が飛散し火災になる",null,null,"火の粉の付近に可燃物を置かない"]
[604010,"材料切断時、火花が飛散し火災になる",null,null,"消火器・消火バケツを設置する"]
[604010,"材料切断時、火花が飛散し火災になる",null,null,"火気使用時の作業周囲の人払いを行う"]
[604010,"ピット内昇降時に足を滑らせ墜落する",null,null,"昇降時、上下・頭上・足元を確認する"]
[604010,"ピット内で酸欠する",null,null,"送風機を使用する"]
[604010,"ピット内で酸欠する",null,null,"一人作業はしない"]
[604010,"ピット内で酸欠する",null,null,"ピットに入る際は酸素濃度を測定する"]
[604010,"ピット内で酸欠する",null,null,"監視人を配置する"]
[604010,"ピット内で酸欠する",null,null,"特別教育を受けて作業する"]
[605010,"材料運搬時、躓いて転倒する",null,null,"安全通路を移動する"]
[605010,"材料運搬時、躓いて転倒する",null,null,"近道行為を禁止する"]
[605010,"材料運搬時、段差に躓いて転倒する",null,null,"床段差に足をのせない"]
[605010,"材料運搬時、段差に躓いて転倒する",null,null,"安全通路を移動する"]
[605010,"搬入車輛に接触する",null,null,"後退時運転手はｻｲﾄﾞﾐﾗｰだけでなく、自分の目で後方を確認する"]
[605010,"搬入車輛に接触する",null,null,"声掛け合図の徹底"]
[605010,"搬入車輛に接触する",null,null,"ｶﾗｰｺｰﾝによる立ち入り禁止措置を行う"]
[605010,"搬入車輛に接触する",null,null,"車輛と歩行者の区分けを行う"]
[605010,"材料切断時、ベビーサンダー使用し、手を切る",null,null,"保護手袋を着装する"]
[605010,"材料切断時、ベビーサンダー使用し、手を切る",null,null,"正しい姿勢で作業する"]
[605010,"材料切断時、ベビーサンダー使用し、手を切る",null,null,"保護カバーを使用する"]
[605010,"材料切断時、ベビーサンダー使用し、手を切る",null,null,"工具の始業前点検を実施する"]
[605010,"材料切断時、ベビーサンダー使用し、手を切る",null,null,"切断箇所に手を入れない"]
[605010,"カッターナイフで手を切る",null,null,"カッターナイフを動かす方向に手を置かない"]
[605010,"カッターナイフで手を切る",null,null,"無理な姿勢で作業しない"]
[605010,"ドリルで削孔時、指を巻き込む",null,null,"無理な姿勢で作業しない"]
[605010,"ドリルで削孔時、指を巻き込む",null,null,"削孔箇所に手を入れない"]
[605010,"ドリルで削孔時、指を巻き込む",null,null,"電動工具の始業前点検を実施する"]
[605010,"ドリルにて上向きに削孔する際、削孔片が目に入る",null,null,"保護メガネの着装する"]
[605010,"ドリルにて上向きに削孔する際、削孔片が目に入る",null,null,"無理な姿勢で作業しない"]
[605010,"ドリルにて上向きに削孔する際、削孔片が目に入る",null,null,"保護具を着装する"]
[605010,"ドリルにて上向きに削孔する際、削孔片が目に入る",null,null,"保護カバーを使用する"]
[605010,"足場使用時、足場から墜落する",null,null,"安全帯を掛けていない状況を作らない"]
[605010,"足場使用時、足場から墜落する",null,null,"無理な姿勢で作業しない"]
[605010,"足場使用時、足場から墜落する",null,null,"足場の始業前点検を実施する"]
[605010,"足場使用時、足場から墜落する",null,null,"作業床の墜落転落防止措置を確認する"]
[605010,"開口部から転落する",null,null,"開口部作業は安全帯を必ず使用し、作業を行う"]
[605010,"開口部から転落する",null,null,"無理な姿勢で作業しない"]
[605010,"開口部から転落する",null,null,"昇降設備を使用する"]
[605010,"開口部から転落する",null,null,"近道行為を禁止する"]
[605010,"開口部から転落する",null,null,"安全通路を移動する"]
[605010,"開口部から転落する",null,null,"後ろ向きで移動しない"]
[605010,"重量物を持って腰を痛める",null,null,"膝を使い、物を持ちあげる"]
[605010,"重量物を持って腰を痛める",null,null,"準備体操をしっかり行う"]
[605010,"重量物を持って腰を痛める",null,null,"2人1組で重量物を運ぶ"]
[605010,"溶接時、火花が飛散し火災になる",null,null,"火の粉の付近に可燃物を置かない"]
[605010,"溶接時、火花が飛散し火災になる",null,null,"消火器・消火バケツを設置する"]
[605010,"溶接時、火花が飛散し火災になる",null,null,"火気使用時の作業周囲の人払いを行う"]
[605010,"溶接時、火傷する",null,null,"消火器・消火バケツを設置する"]
[605010,"溶接時、火傷する",null,null,"火気使用時の作業周囲の人払いを行う"]
[605010,"溶接時、火傷する",null,null,"保護具を着装する"]
[605010,"溶接時、火傷する",null,null,"無理な姿勢で作業しない"]
[605010,"溶接時、火傷する",null,null,"溶接箇所に手を近づけない"]
[605010,"機器設置時、手や指を詰める",null,null,"不安定な状態で機器を置かない"]
[605010,"機器設置時、手や指を詰める",null,null,"危険な所に手を入れない"]
[605010,"機器設置時、手や指を詰める",null,null,"作業手順を遵守する"]
[605010,"パネル組立時、手や指を詰める",null,null,"不安定な状態でパネルを置かない"]
[605010,"パネル組立時、手や指を詰める",null,null,"危険な所に手を入れない"]
[605010,"パネル組立時、手や指を詰める",null,null,"作業手順を遵守する"]
[605010,"パネル組立時、手や指を詰める",null,null,"暗い箇所では使用しない(手元の照明を明るくする)"]
[605010,"レール組立時、手や指を詰める",null,null,"不安定な状態で機器を置かない"]
[605010,"レール組立時、手や指を詰める",null,null,"危険な所に手を入れない"]
[605010,"レール組立時、手や指を詰める",null,null,"作業手順を遵守する"]
[605010,"レール組立時、手や指を詰める",null,null,"暗い箇所では使用しない(手元の照明を明るくする)"]
[605010,"レール組立時、仮設ゴンドラから転落する",null,null,"高所作業は安全帯を必ず使用し、作業を行う"]
[605010,"レール組立時、仮設ゴンドラから転落する",null,null,"作業手順を遵守する"]
[605010,"レール組立時、仮設ゴンドラから転落する",null,null,"1人作業は行わない"]
[605010,"ウェイトに手や指を詰める",null,null,"不安定な状態でウェイトを置かない"]
[605010,"ウェイトに手や指を詰める",null,null,"危険な所に手や指を入れない"]
[605010,"ウェイトに手や指を詰める",null,null,"作業手順を遵守する"]
[605010,"ウェイトに手や指を詰める",null,null,"暗い箇所では使用しない(手元の照明を明るくする)"]
[605020,"材料運搬時、躓いて転倒する",null,null,"安全通路を移動する"]
[605020,"材料運搬時、躓いて転倒する",null,null,"近道行為を禁止する"]
[605020,"材料運搬時、段差に躓いて転倒する",null,null,"床段差に足をのせない"]
[605020,"材料運搬時、段差に躓いて転倒する",null,null,"安全通路を移動する"]
[605020,"搬入車輛に接触する",null,null,"後退時運転手はｻｲﾄﾞﾐﾗｰだけでなく、自分の目で後方を確認する"]
[605020,"搬入車輛に接触する",null,null,"声掛け合図の徹底"]
[605020,"搬入車輛に接触する",null,null,"ｶﾗｰｺｰﾝによる立ち入り禁止措置を行う"]
[605020,"搬入車輛に接触する",null,null,"車輛と歩行者の区分けを行う"]
[605020,"材料切断時、ベビーサンダー使用し、手を切る",null,null,"保護手袋を着装する"]
[605020,"材料切断時、ベビーサンダー使用し、手を切る",null,null,"正しい姿勢で作業する"]
[605020,"材料切断時、ベビーサンダー使用し、手を切る",null,null,"保護カバーを使用する"]
[605020,"材料切断時、ベビーサンダー使用し、手を切る",null,null,"工具の始業前点検を実施する"]
[605020,"材料切断時、ベビーサンダー使用し、手を切る",null,null,"切断箇所に手を入れない"]
[605020,"カッターナイフで手を切る",null,null,"カッターナイフを動かす方向に手を置かない"]
[605020,"カッターナイフで手を切る",null,null,"無理な姿勢で作業しない"]
[605020,"ドリルで削孔時、指を巻き込む",null,null,"無理な姿勢で作業しない"]
[605020,"ドリルで削孔時、指を巻き込む",null,null,"削孔箇所に手を入れない"]
[605020,"ドリルで削孔時、指を巻き込む",null,null,"電動工具の始業前点検を実施する"]
[605020,"開口部から転落する",null,null,"開口部作業は安全帯を必ず使用し、作業を行う"]
[605020,"開口部から転落する",null,null,"無理な姿勢で作業しない"]
[605020,"開口部から転落する",null,null,"昇降設備を使用する"]
[605020,"開口部から転落する",null,null,"近道行為を禁止する"]
[605020,"開口部から転落する",null,null,"安全通路を移動する"]
[605020,"開口部から転落する",null,null,"後ろ向きで移動しない"]
[605020,"重量物を持って腰を痛める",null,null,"膝を使い、物を持ちあげる"]
[605020,"重量物を持って腰を痛める",null,null,"準備体操をしっかり行う"]
[605020,"重量物を持って腰を痛める",null,null,"2人1組で重量物を運ぶ"]
[605020,"溶接時、火花が飛散し火災になる",null,null,"火の粉の付近に可燃物を置かない"]
[605020,"溶接時、火花が飛散し火災になる",null,null,"消火器・消火バケツを設置する"]
[605020,"溶接時、火花が飛散し火災になる",null,null,"火気使用時の作業周囲の人払いを行う"]
[605020,"溶接時、火傷する",null,null,"消火器・消火バケツを設置する"]
[605020,"溶接時、火傷する",null,null,"火気使用時の作業周囲の人払いを行う"]
[605020,"溶接時、火傷する",null,null,"保護具を着装する"]
[605020,"溶接時、火傷する",null,null,"無理な姿勢で作業しない"]
[605020,"溶接時、火傷する",null,null,"溶接箇所に手を近づけない"]
[605020,"ステップ取付時、手や指を詰める",null,null,"不安定な状態で機器を置かない"]
[605020,"ステップ取付時、手や指を詰める",null,null,"危険な所に手を入れない"]
[605020,"ステップ取付時、手や指を詰める",null,null,"作業手順を遵守する"]
[605020,"トラス吊り込み時、ワイヤーが切れ、吊荷が落下する",null,null,"玉掛けワイヤーの始業前点検を実施する"]
[605020,"トラス吊り込み時、ワイヤーが切れ、吊荷が落下する",null,null,"声掛け合図の徹底"]
[605020,"トラス吊り込み時、ワイヤーが切れ、吊荷が落下する",null,null,"吊荷下の人払いを行う"]
[605020,"トラス吊り込み時、ワイヤーが切れ、吊荷が落下する",null,null,"吊荷荷重を確認する"]
[605020,"サイドパネル取付時、指を詰める",null,null,"不安定な状態で機器を置かない"]
[605020,"サイドパネル取付時、指を詰める",null,null,"危険な所に指を入れない"]
[605020,"サイドパネル取付時、指を詰める",null,null,"作業手順を遵守する"]
[605030,"材料運搬時、躓いて転倒する",null,null,"安全通路を移動する"]
[605030,"材料運搬時、躓いて転倒する",null,null,"近道行為を禁止する"]
[605030,"材料運搬時、段差に躓いて転倒する",null,null,"床段差に足をのせない"]
[605030,"材料運搬時、段差に躓いて転倒する",null,null,"安全通路を移動する"]
[605030,"搬入車輛に接触する",null,null,"後退時運転手はｻｲﾄﾞﾐﾗｰだけでなく、自分の目で後方を確認する"]
[605030,"搬入車輛に接触する",null,null,"声掛け合図の徹底"]
[605030,"搬入車輛に接触する",null,null,"ｶﾗｰｺｰﾝによる立ち入り禁止措置を行う"]
[605030,"搬入車輛に接触する",null,null,"車輛と歩行者の区分けを行う"]
[605030,"材料切断時、ベビーサンダー使用し、手を切る",null,null,"保護手袋を着装する"]
[605030,"材料切断時、ベビーサンダー使用し、手を切る",null,null,"正しい姿勢で作業する"]
[605030,"材料切断時、ベビーサンダー使用し、手を切る",null,null,"保護カバーを使用する"]
[605030,"材料切断時、ベビーサンダー使用し、手を切る",null,null,"工具の始業前点検を実施する"]
[605030,"材料切断時、ベビーサンダー使用し、手を切る",null,null,"切断箇所に手を入れない"]
[605030,"カッターナイフで手を切る",null,null,"カッターナイフを動かす方向に手を置かない"]
[605030,"カッターナイフで手を切る",null,null,"無理な姿勢で作業しない"]
[605030,"ドリルで削孔時、指を巻き込む",null,null,"無理な姿勢で作業しない"]
[605030,"ドリルで削孔時、指を巻き込む",null,null,"削孔箇所に手を入れない"]
[605030,"ドリルで削孔時、指を巻き込む",null,null,"電動工具の始業前点検を実施する"]
[605030,"開口部から転落する",null,null,"開口部作業は安全帯を必ず使用し、作業を行う"]
[605030,"開口部から転落する",null,null,"無理な姿勢で作業しない"]
[605030,"開口部から転落する",null,null,"昇降設備を使用する"]
[605030,"開口部から転落する",null,null,"近道行為を禁止する"]
[605030,"開口部から転落する",null,null,"安全通路を移動する"]
[605030,"開口部から転落する",null,null,"後ろ向きで移動しない"]
[605030,"重量物を持って腰を痛める",null,null,"膝を使い、物を持ちあげる"]
[605030,"重量物を持って腰を痛める",null,null,"準備体操をしっかり行う"]
[605030,"重量物を持って腰を痛める",null,null,"2人1組で重量物を運ぶ"]
[605030,"溶接時、火花が飛散し火災になる",null,null,"火の粉の付近に可燃物を置かない"]
[605030,"溶接時、火花が飛散し火災になる",null,null,"消火器・消火バケツを設置する"]
[605030,"溶接時、火花が飛散し火災になる",null,null,"火気使用時の作業周囲の人払いを行う"]
[605030,"溶接時、火傷する",null,null,"消火器・消火バケツを設置する"]
[605030,"溶接時、火傷する",null,null,"火気使用時の作業周囲の人払いを行う"]
[605030,"溶接時、火傷する",null,null,"保護具を着装する"]
[605030,"溶接時、火傷する",null,null,"無理な姿勢で作業しない"]
[605030,"溶接時、火傷する",null,null,"溶接箇所に手を近づけない"]
[605030,"機器設置時、手や指を詰める",null,null,"不安定な状態で機器を置かない"]
[605030,"機器設置時、手や指を詰める",null,null,"危険な所に手を入れない"]
[605030,"機器設置時、手や指を詰める",null,null,"作業手順を遵守する"]
[605030,"パレット組立時、手や指を詰める",null,null,"不安定な状態でパレットを置かない"]
[605030,"パレット組立時、手や指を詰める",null,null,"危険な所に手を入れない"]
[605030,"パレット組立時、手や指を詰める",null,null,"作業手順を遵守する"]
[605030,"レール組立時、手や指を詰める",null,null,"不安定な状態で機器を置かない"]
[605030,"レール組立時、手や指を詰める",null,null,"危険な所に手を入れない"]
[605030,"レール組立時、手や指を詰める",null,null,"作業手順を遵守する"]
[605030,"資材吊り込み時、吊荷が外れ落下する",null,null,"クレーン使用時の合図の徹底"]
[605030,"資材吊り込み時、吊荷が外れ落下する",null,null,"声掛け合図の徹底"]
[605030,"資材吊り込み時、吊荷が外れ落下する",null,null,"ベルトスリングの始業前点検を実施する"]
[605030,"資材吊り込み時、吊荷が外れ落下する",null,null,"吊荷荷重を確認する"]
[605030,"資材吊り込み時、吊荷が外れ落下する",null,null,"吊荷下の人払いを行う"]
[605030,"吊り込み時、ベルトスリングが切れ、吊荷が落下する",null,null,"ベルトスリングの始業前点検を実施する"]
[605030,"吊り込み時、ベルトスリングが切れ、吊荷が落下する",null,null,"声掛け合図の徹底"]
[605030,"吊り込み時、ベルトスリングが切れ、吊荷が落下する",null,null,"吊荷下の人払いを行う"]
[605030,"吊り込み時、ベルトスリングが切れ、吊荷が落下する",null,null,"吊荷荷重を確認する"]
[605030,"試運転時、パレットに身体を挟む",null,null,"パレット昇降時、声掛け合図の徹底"]
[605030,"試運転時、パレットに身体を挟む",null,null,"無理な姿勢で作業しない"]
[605030,"試運転時、パレットに身体を挟む",null,null,"作業手順を遵守する"]
[701010,"工事車輛の搬出入時、第三者と接触する",null,null,"誘導員の合図に従う"]
[701010,"工事車輛の搬出入時、第三者と接触する",null,null,"第三者から見える場所で合図する"]
[701010,"工事車輛の搬出入時、第三者と接触する",null,null,"声掛け合図の徹底"]
[701010,"工事車輛の搬出入時、第三者と接触する",null,null,"第三者優先で誘導を行う"]
[701010,"ダンプ後退時、バックホーと接触する",null,null,"声掛け合図の徹底"]
[701010,"ダンプ後退時、バックホーと接触する",null,null,"安全誘導の合図をする"]
[701010,"搬出車輛が作業員と接触する",null,null,"声掛け合図の徹底"]
[701010,"搬出車輛が作業員と接触する",null,null,"安全誘導の合図をする"]
[701010,"搬出車輛が作業員と接触する",null,null,"搬出入車輛と作業員の通路の区分けを行う"]
[701010,"搬出車輛が作業員と接触する",null,null,"後退時運転手はｻｲﾄﾞﾐﾗｰだけでなく、自分の目で後方を確認する"]
[701010,"重機(ＢＨ)と作業員が接触する",null,null,"重機と作業員の区分けを行う"]
[701010,"重機(ＢＨ)と作業員が接触する",null,null,"声掛け合図の徹底"]
[701010,"重機(ＢＨ)と作業員が接触する",null,null,"ｶﾗｰｺｰﾝによる立ち入り禁止措置を行う"]
[701010,"重機(ＢＨ)と作業員が接触する",null,null,"重機ＯＰの死角に入らない"]
[701010,"重機(ＢＨ)と作業員が接触する",null,null,"グーパー運動を実施する"]
[701010,"法面(土砂)が崩壊する",null,null,"法面養生を行う"]
[701010,"法面(土砂)が崩壊する",null,null,"法面状況を確認する"]
[701010,"地山が崩壊する",null,null,"ﾌﾞﾙｰｼｰﾄで養生を行う"]
[701010,"地山が崩壊する",null,null,"地山状況を確認する"]
[701010,"残土が近隣家屋に流れる",null,null,"近隣家屋との離隔距離を確認する"]
[701010,"残土が近隣家屋に流れる",null,null,"重機ＯＰや手元は周囲の安全確認を行う"]
[701010,"残土が近隣家屋に流れる",null,null,"土が流れない様、ﾌﾞﾙｰｼｰﾄ､ﾍﾞﾆｱ等で養生する"]
[701010,"材料運搬時、躓いて転倒する",null,null,"安全通路を移動する"]
[701010,"材料運搬時、躓いて転倒する",null,null,"近道行為を禁止する"]
[701010,"材料運搬時、段差に躓いて転倒する",null,null,"床段差に足をのせない"]
[701010,"材料運搬時、段差に躓いて転倒する",null,null,"安全通路を移動する"]
[701010,"敷鉄板で手を挟む",null,null,"敷鉄板の下に手を入れない"]
[701010,"敷鉄板で手を挟む",null,null,"敷鉄板を吊り上げる際は、専用吊り具を使用する"]
[701010,"敷鉄板で手を挟む",null,null,"吊り具の始業前点検を実施する"]
[701010,"敷鉄板で手を挟む",null,null,"声掛け合図の徹底"]
[701010,"不安定な状態で電動丸のこで指を切る",null,null,"電動工具の始業前点検を実施する"]
[701010,"不安定な状態で電動丸のこで指を切る",null,null,"丸のこの保護カバーの使用する"]
[701010,"不安定な状態で電動丸のこで指を切る",null,null,"無理な姿勢で作業しない"]
[701010,"雨天時、丸のこを使用して感電する",null,null,"ゴム手袋を使用する"]
[701010,"雨天時、丸のこを使用して感電する",null,null,"雨がかかる場所では使用しない"]
[701010,"雨天時、丸のこを使用して感電する",null,null,"丸のこの始業前点検を実施する"]
[701010,"雨天時、電動工具を使用して漏電する",null,null,"雨がかかる場所では使用しない"]
[701010,"雨天時、電動工具を使用して漏電する",null,null,"コンセントは雨が掛らない様、養生する"]
[701010,"雨天時、電動工具を使用して漏電する",null,null,"電動工具の始業前点検を実施する"]
[701010,"誤ってハンマーで指を叩く",null,null,"使用時は手元の確認を行う"]
[701010,"誤ってハンマーで指を叩く",null,null,"暗い箇所では使用しない(手元の照明を明るくする)"]
[701010,"誤ってハンマーで指を叩く",null,null,"保護手袋を着装する"]
[701010,"インパクトドライバー使用時、指を負傷する",null,null,"無理な姿勢で作業しない"]
[701010,"インパクトドライバー使用時、指を負傷する",null,null,"危険な所に手を入れない"]
[701010,"インパクトドライバー使用時、指を負傷する",null,null,"電動工具の始業前点検を実施する"]
[701010,"パネルとの間に手・指を挟む",null,null,"保護手袋を使用する"]
[701010,"パネルとの間に手・指を挟む",null,null,"無理な姿勢で作業しない"]
[701010,"パネルとの間に手・指を挟む",null,null,"危険な所に手を入れない"]
[701010,"ベビーサンダー使用時、手を切る",null,null,"保護手袋を着装する"]
[701010,"ベビーサンダー使用時、手を切る",null,null,"正しい姿勢で作業する"]
[701010,"ベビーサンダー使用時、手を切る",null,null,"保護カバーを使用する"]
[701010,"ベビーサンダー使用時、手を切る",null,null,"工具の始業前点検を実施する"]
[701010,"ベビーサンダー使用時、手を切る",null,null,"切断箇所に手を入れない"]
[701010,"立馬から転落する",null,null,"物を持って昇降しない"]
[701010,"立馬から転落する",null,null,"開き止めを確認する"]
[701010,"立馬から転落する",null,null,"無理な姿勢で作業しない"]
[701010,"立馬から転落する",null,null,"昇降時は必ず後ろ向きにおりる"]
[701010,"重量物を持って腰を痛める",null,null,"膝を使い、物を持ちあげる"]
[701010,"重量物を持って腰を痛める",null,null,"準備体操をしっかり行う"]
[701010,"重量物を持って腰を痛める",null,null,"2人1組で重量物を運ぶ"]
[701010,"資材荷卸し時、吊荷が外れ落下する",null,null,"クレーン使用時の合図の徹底"]
[701010,"資材荷卸し時、吊荷が外れ落下する",null,null,"声掛け合図の徹底"]
[701010,"資材荷卸し時、吊荷が外れ落下する",null,null,"玉掛け用具の始業前点検を実施する"]
[701010,"資材荷卸し時、吊荷が外れ落下する",null,null,"吊荷荷重を確認する"]
[701010,"資材荷卸し時、吊荷が外れ落下する",null,null,"吊荷下の人払いを行う"]
[701010,"資材荷卸し時、吊荷が外れ落下する",null,null,"地切りの確認をする（333運動）"]
[701010,"長尺物を振り回す際、作業員にぶつける",null,null,"声掛け合図の徹底"]
[701010,"長尺物を振り回す際、作業員にぶつける",null,null,"振り回す際は、事前に周囲確認し、人払いを行う"]
[701010,"長尺物を振り回す際、作業員にぶつける",null,null,"ｶﾗｰｺｰﾝによる立ち入り禁止措置を行う"]
[701010,"コンクリート打設中、ホースに接触し転倒する",null,null,"ホースの筒先に立たない"]
[701010,"コンクリート打設中、ホースに接触し転倒する",null,null,"声掛け合図の徹底"]
[701010,"生コン車と接触する",null,null,"安全通路を移動する"]
[701010,"生コン車と接触する",null,null,"生コン運転手に誘導合図を送る"]
[701010,"ガス溶断時、火傷する",null,null,"消火器・消火バケツを設置する"]
[701010,"ガス溶断時、火傷する",null,null,"無理な姿勢で作業しない"]
[701010,"ガス溶断時、火傷する",null,null,"保護具を着装する"]
[701010,"ガス溶断時、火傷する",null,null,"溶断箇所に手足を近づけない"]
[701010,"ガス溶断時、火花が飛散し火災になる",null,null,"火の粉の付近に可燃物を置かない"]
[701010,"ガス溶断時、火花が飛散し火災になる",null,null,"消火器・消火バケツを設置する"]
[701010,"ガス溶断時、火花が飛散し火災になる",null,null,"無理な姿勢で作業しない"]
[701010,"ガス溶断時、火花が飛散し火災になる",null,null,"ｶﾗｰｺｰﾝによる立ち入り禁止措置を行う"]
[701010,"近隣家屋の壁を汚す・傷つける",null,null,"近隣家屋との離隔距離を確認する"]
[701010,"近隣家屋の壁を汚す・傷つける",null,null,"重機ＯＰや手元は周囲の安全確認を行う"]
[701010,"近隣家屋の壁を汚す・傷つける",null,null,"ﾌﾞﾙｰｼｰﾄ､ﾍﾞﾆｱ等で養生する"]
[701010,"ゴミが飛散する",null,null,"1作業1片付を徹底する"]
[701010,"ゴミが飛散する",null,null,"作業周辺の整理整頓を徹底する"]
[701010,"ゴミが飛散する",null,null,"飛散の恐れがある物を養生する"]
[702010,"U字溝切断時、エンジンカッターがはねて負傷する",null,null,"適切なリン木を使用して切断する"]
[702010,"U字溝切断時、エンジンカッターがはねて負傷する",null,null,"平らな場所で切断作業する"]
[702010,"U字溝切断時、エンジンカッターがはねて負傷する",null,null,"無理な体勢で作業しない"]
[702010,"塩ビ管荷吊り時に手を挟む",null,null,"危険な所に手を入れない"]
[702010,"塩ビ管荷吊り時に手を挟む",null,null,"荷吊りの際はオペとの合図確認を徹底する"]
[702010,"PC水路設置時にワイヤーがはずれて吊り治具が落下する",null,null,"適正な吊り治具を使用する"]
[702010,"工事車輛の搬入時、第三者と接触する",null,null,"誘導員の合図に従う"]
[702010,"工事車輛の搬入時、第三者と接触する",null,null,"第三者から見える場所で合図する"]
[702010,"工事車輛の搬入時、第三者と接触する",null,null,"声掛け合図の徹底"]
[702010,"工事車輛の搬入時、第三者と接触する",null,null,"第三者優先で誘導を行う"]
[702010,"材料運搬時躓いて転倒する",null,null,"安全通路を移動する"]
[702010,"材料運搬時躓いて転倒する",null,null,"近道行為を禁止する"]
[702010,"材料運搬時段差に躓いて転倒する",null,null,"床段差に足をのせない"]
[702010,"材料運搬時段差に躓いて転倒する",null,null,"安全通路を移動する"]
[702010,"重機(ＢＨ)と作業員が接触する",null,null,"重機と作業員の区分けを行う"]
[702010,"重機(ＢＨ)と作業員が接触する",null,null,"声掛け合図の徹底"]
[702010,"重機(ＢＨ)と作業員が接触する",null,null,"ｶﾗｰｺｰﾝによる立ち入り禁止措置を行う"]
[702010,"重機(ＢＨ)と作業員が接触する",null,null,"重機ＯＰの死角に入らない"]
[702010,"重機(ＢＨ)と作業員が接触する",null,null,"グーパー運動を実施する"]
[702010,"ベビーサンダー使用時、手を切る",null,null,"保護手袋を着装する"]
[702010,"ベビーサンダー使用時、手を切る",null,null,"正しい姿勢で作業する"]
[702010,"ベビーサンダー使用時、手を切る",null,null,"保護カバーを使用する"]
[702010,"ベビーサンダー使用時、手を切る",null,null,"工具の始業前点検を実施する"]
[702010,"ベビーサンダー使用時、手を切る",null,null,"切断箇所に手を入れない"]
[702010,"雨天時、電動工具を使用して漏電する",null,null,"雨がかかる場所では使用しない"]
[702010,"雨天時、電動工具を使用して漏電する",null,null,"コンセントは雨が掛らない様、養生する"]
[702010,"雨天時、電動工具を使用して漏電する",null,null,"電動工具の始業前点検を実施する"]
[702010,"誤ってハンマーで指を叩く",null,null,"使用時は手元の確認を行う"]
[702010,"誤ってハンマーで指を叩く",null,null,"保護手袋を着装する"]
[702010,"重量物を持って腰を痛める",null,null,"膝を使い、物を持ちあげる"]
[702010,"重量物を持って腰を痛める",null,null,"準備体操をしっかり行う"]
[702010,"重量物を持って腰を痛める",null,null,"2人1組で重量物を運ぶ"]
[702010,"会所吊り込み時、吊荷が外れ落下する",null,null,"重機使用時の合図の徹底"]
[702010,"会所吊り込み時、吊荷が外れ落下する",null,null,"声掛け合図の徹底"]
[702010,"会所吊り込み時、吊荷が外れ落下する",null,null,"ベルトスリングの始業前点検を実施する"]
[702010,"会所吊り込み時、吊荷が外れ落下する",null,null,"吊荷荷重を確認する"]
[702010,"会所吊り込み時、吊荷が外れ落下する",null,null,"吊荷下の人払いを行う"]
[702010,"長尺物を振り回す際、作業員にぶつける",null,null,"2人1組で材料を運ぶ"]
[702010,"長尺物を振り回す際、作業員にぶつける",null,null,"振り回す際は、事前に周囲確認し、人払いを行う"]
[702010,"長尺物を振り回す際、作業員にぶつける",null,null,"声掛け合図の徹底"]
[703010,"一輪車が荷運搬中に壊れて転倒し負傷する",null,null,"工具の始業前点検の実施"]
[703010,"材料運搬時、躓いて転倒する",null,null,"安全通路を移動する"]
[703010,"材料運搬時、躓いて転倒する",null,null,"近道行為を禁止する"]
[703010,"工事車輛の搬出入時、第三者と接触する",null,null,"誘導員の合図に従う"]
[703010,"工事車輛の搬出入時、第三者と接触する",null,null,"第三者から見える場所で合図する"]
[703010,"工事車輛の搬出入時、第三者と接触する",null,null,"声掛け合図の徹底"]
[703010,"工事車輛の搬出入時、第三者と接触する",null,null,"第三者優先で誘導を行う"]
[703010,"ダンプ後退時、バックホーと接触する",null,null,"声掛け合図の徹底"]
[703010,"ダンプ後退時、バックホーと接触する",null,null,"安全誘導の合図をする"]
[703010,"ダンプ後退時、バックホーと接触する",null,null,"後退時運転手はｻｲﾄﾞﾐﾗｰだけでなく、自分の目で後方を確認する"]
[703010,"搬出入車輛が作業員と接触する",null,null,"声掛け合図の徹底"]
[703010,"搬出入車輛が作業員と接触する",null,null,"安全誘導の合図をする"]
[703010,"搬出入車輛が作業員と接触する",null,null,"搬出入車輛と作業員の通路の区分けを行う"]
[703010,"重機と作業員が接触する",null,null,"重機と作業員の区分けを行う"]
[703010,"重機と作業員が接触する",null,null,"声掛け合図の徹底"]
[703010,"重機と作業員が接触する",null,null,"ｶﾗｰｺｰﾝによる立ち入り禁止措置を行う"]
[703010,"重機と作業員が接触する",null,null,"重機ＯＰの死角に入らない"]
[703010,"重機と作業員が接触する",null,null,"グーパー運動を実施する"]
[703010,"アスファルト使用時、火傷する",null,null,"アスファルト運搬時はあわてないで作業する"]
[703010,"アスファルト使用時、火傷する",null,null,"アスファルト使用時の作業周辺の人払いを行う"]
[703010,"アスファルト使用時、火傷する",null,null,"保護具を着装する"]
[703010,"近隣家屋の壁を汚す・傷つける",null,null,"近隣家屋との離隔距離を確認する"]
[703010,"近隣家屋の壁を汚す・傷つける",null,null,"重機ＯＰや手元は周囲の安全確認を行う"]
[703010,"近隣家屋の壁を汚す・傷つける",null,null,"ﾌﾞﾙｰｼｰﾄ､ﾍﾞﾆｱ等で養生する"]
[704010,"土中から突き出した番線にて足を負傷する",null,null,"作業場所の確保"]
[704010,"土中から突き出した番線にて足を負傷する",null,null,"作業場所に障害物･残置物がないか確認する"]
[704010,"土中から突き出した番線にて足を負傷する",null,null,"安全靴を着装する"]
[704010,"材料運搬時、躓いて転倒する",null,null,"安全通路を移動する"]
[704010,"材料運搬時、躓いて転倒する",null,null,"近道行為を禁止する"]
[704010,"重機と作業員が接触する",null,null,"重機と作業員の区分けを行う"]
[704010,"重機と作業員が接触する",null,null,"声掛け合図の徹底"]
[704010,"重機と作業員が接触する",null,null,"ｶﾗｰｺｰﾝによる立ち入り禁止措置を行う"]
[704010,"重機と作業員が接触する",null,null,"重機ＯＰの死角に入らない"]
[704010,"重機と作業員が接触する",null,null,"グーパー運動を実施する"]
[704010,"ベビーサンダー使用時、手を切る",null,null,"保護手袋を着装する"]
[704010,"ベビーサンダー使用時、手を切る",null,null,"正しい姿勢で作業する"]
[704010,"ベビーサンダー使用時、手を切る",null,null,"保護カバーを使用する"]
[704010,"ベビーサンダー使用時、手を切る",null,null,"工具の始業前点検を実施する"]
[704010,"ベビーサンダー使用時、手を切る",null,null,"切断箇所に手を入れない"]
[704010,"インパクトドライバー使用時、指を負傷する",null,null,"無理な姿勢で作業しない"]
[704010,"インパクトドライバー使用時、指を負傷する",null,null,"危険な所に手を入れない"]
[704010,"インパクトドライバー使用時、指を負傷する",null,null,"電動工具の始業前点検を実施する"]
[704010,"フェンス組立時、手や指を挟む",null,null,"保護手袋を使用する"]
[704010,"フェンス組立時、手や指を挟む",null,null,"無理な姿勢で作業しない"]
[704010,"フェンス組立時、手や指を挟む",null,null,"危険な所に手や指を入れない"]
[704010,"近隣家屋の壁を汚す・傷つける",null,null,"近隣家屋との離隔距離を確認する"]
[704010,"近隣家屋の壁を汚す・傷つける",null,null,"重機ＯＰや手元は周囲の安全確認を行う"]
[704010,"近隣家屋の壁を汚す・傷つける",null,null,"ﾌﾞﾙｰｼｰﾄ､ﾍﾞﾆｱ等で養生する"]
[704010,"近隣家屋の壁を汚す・傷つける",null,null,"近隣家屋の傍に材料を置かない"]
[704010,"ゴミが飛散する",null,null,"1作業1片付を徹底する"]
[704010,"ゴミが飛散する",null,null,"作業周辺の整理整頓を徹底する"]
[704010,"ゴミが飛散する",null,null,"飛散の恐れがある物を養生する"]
[705010,"工事車輛の搬出入時、第三者と接触する",null,null,"誘導員の合図に従う"]
[705010,"工事車輛の搬出入時、第三者と接触する",null,null,"第三者から見える場所で合図する"]
[705010,"工事車輛の搬出入時、第三者と接触する",null,null,"声掛け合図の徹底"]
[705010,"工事車輛の搬出入時、第三者と接触する",null,null,"第三者優先で誘導を行う"]
[705010,"ダンプ後退時、バックホーと接触する",null,null,"声掛け合図の徹底"]
[705010,"ダンプ後退時、バックホーと接触する",null,null,"安全誘導の合図をする"]
[705010,"ダンプ後退時、バックホーと接触する",null,null,"後退時運転手はｻｲﾄﾞﾐﾗｰだけでなく、自分の目で後方を確認する"]
[705010,"搬出車輛が作業員と接触する",null,null,"声掛け合図の徹底"]
[705010,"搬出車輛が作業員と接触する",null,null,"安全誘導の合図をする"]
[705010,"搬出車輛が作業員と接触する",null,null,"搬出入車輛と作業員の通路の区分けを行う"]
[705010,"重機(ＢＨ)と作業員が接触する",null,null,"重機と作業員の区分けを行う"]
[705010,"重機(ＢＨ)と作業員が接触する",null,null,"声掛け合図の徹底"]
[705010,"重機(ＢＨ)と作業員が接触する",null,null,"ｶﾗｰｺｰﾝによる立ち入り禁止措置を行う"]
[705010,"重機(ＢＨ)と作業員が接触する",null,null,"重機ＯＰの死角に入らない"]
[705010,"重機(ＢＨ)と作業員が接触する",null,null,"グーパー運動を実施する"]
[705010,"法面(土砂)が崩壊する",null,null,"法面養生を行う"]
[705010,"法面(土砂)が崩壊する",null,null,"法面状況を確認する"]
[705010,"地山が崩壊する",null,null,"ﾌﾞﾙｰｼｰﾄで養生を行う"]
[705010,"地山が崩壊する",null,null,"地山状況を確認する"]
[705010,"残土が近隣家屋に流れる",null,null,"近隣家屋との離隔距離を確認する"]
[705010,"残土が近隣家屋に流れる",null,null,"重機ＯＰや手元は周囲の安全確認を行う"]
[705010,"残土が近隣家屋に流れる",null,null,"土が流れない様、ﾌﾞﾙｰｼｰﾄ､ﾍﾞﾆｱ等で養生する"]
[705010,"材料運搬時躓いて転倒する",null,null,"安全通路を移動する"]
[705010,"材料運搬時躓いて転倒する",null,null,"近道行為を禁止する"]
[705010,"材料運搬時段差に躓いて転倒する",null,null,"床段差に足をのせない"]
[705010,"材料運搬時段差に躓いて転倒する",null,null,"安全通路を移動する"]
[705010,"敷鉄板で手を挟む",null,null,"敷鉄板の下に手を入れない"]
[705010,"敷鉄板で手を挟む",null,null,"敷鉄板を吊り上げる際は、専用吊り具を使用する"]
[705010,"敷鉄板で手を挟む",null,null,"吊り具の始業前点検を実施する"]
[705010,"敷鉄板で手を挟む",null,null,"声掛け合図の徹底"]
[705010,"不安定な状態で電動丸のこで指を切る",null,null,"電動工具の始業前点検を実施する"]
[705010,"不安定な状態で電動丸のこで指を切る",null,null,"丸のこの保護カバーの使用する"]
[705010,"不安定な状態で電動丸のこで指を切る",null,null,"無理な姿勢で作業しない"]
[705010,"雨天時、丸のこを使用して感電する",null,null,"ゴム手袋を使用する"]
[705010,"雨天時、丸のこを使用して感電する",null,null,"雨がかかる場所では使用しない"]
[705010,"雨天時、丸のこを使用して感電する",null,null,"丸のこの始業前点検を実施する"]
[705010,"雨天時、電動工具を使用して漏電する",null,null,"雨がかかる場所では使用しない"]
[705010,"雨天時、電動工具を使用して漏電する",null,null,"コンセントは雨が掛らない様、養生する"]
[705010,"雨天時、電動工具を使用して漏電する",null,null,"電動工具の始業前点検を実施する"]
[705010,"誤ってハンマーで指を叩く",null,null,"使用時は手元の確認を行う"]
[705010,"誤ってハンマーで指を叩く",null,null,"暗い箇所では使用しない(手元の照明を明るくする)"]
[705010,"誤ってハンマーで指を叩く",null,null,"保護手袋を着装する"]
[705010,"ベビーサンダー使用時、手を切る",null,null,"保護手袋を着装する"]
[705010,"ベビーサンダー使用時、手を切る",null,null,"正しい姿勢で作業する"]
[705010,"ベビーサンダー使用時、手を切る",null,null,"保護カバーを使用する"]
[705010,"ベビーサンダー使用時、手を切る",null,null,"工具の始業前点検を実施する"]
[705010,"ベビーサンダー使用時、手を切る",null,null,"切断箇所に手を入れない"]
[705010,"足場使用時、足場から墜落する",null,null,"安全帯を掛けていない状況を作らない"]
[705010,"足場使用時、足場から墜落する",null,null,"無理な姿勢で作業しない"]
[705010,"足場使用時、足場から墜落する",null,null,"足場の始業前点検を実施する"]
[705010,"足場使用時、足場から墜落する",null,null,"作業床の墜落転落防止措置を確認する"]
[705010,"足場使用時、足場から資材等を落下させる",null,null,"無理な姿勢で作業しない"]
[705010,"足場使用時、足場から資材等を落下させる",null,null,"作業下部の人払いを行う"]
[705010,"足場使用時、足場から資材等を落下させる",null,null,"足場上の資材等を整理整頓する"]
[705010,"足場の隙間から墜落する",null,null,"安全帯を掛けていない状況を作らない"]
[705010,"足場の隙間から墜落する",null,null,"無理な姿勢で作業しない"]
[705010,"足場の隙間から墜落する",null,null,"足場の始業前点検を実施する"]
[705010,"足場の隙間から墜落する",null,null,"作業床の墜落転落防止措置の確認する"]
[705010,"足場上で躓いて転倒する",null,null,"足場上の資材等を整理整頓する"]
[705010,"足場上で躓いて転倒する",null,null,"無理な姿勢で作業しない"]
[705010,"足場上で躓いて転倒する",null,null,"安全通路を移動する"]
[705010,"コンクリート打設中、ホースに接触し転倒する",null,null,"ホースの筒先に立たない"]
[705010,"コンクリート打設中、ホースに接触し転倒する",null,null,"声掛け合図の徹底"]
[705010,"生コン車と接触する",null,null,"安全通路を移動する"]
[705010,"生コン車と接触する",null,null,"生コン運転手に誘導合図を送る"]
[705010,"資材荷卸し時、吊荷が外れ落下する",null,null,"重機使用時の合図の徹底"]
[705010,"資材荷卸し時、吊荷が外れ落下する",null,null,"声掛け合図の徹底"]
[705010,"資材荷卸し時、吊荷が外れ落下する",null,null,"玉掛け用具の始業前点検を実施する"]
[705010,"資材荷卸し時、吊荷が外れ落下する",null,null,"吊荷荷重を確認する"]
[705010,"資材荷卸し時、吊荷が外れ落下する",null,null,"吊荷下の人払いを行う"]
[705010,"長尺物を振り回す際、作業員にぶつける",null,null,"声掛け合図の徹底"]
[705010,"長尺物を振り回す際、作業員にぶつける",null,null,"振り回す際は、事前に周囲確認し、人払いを行う"]
[705010,"長尺物を振り回す際、作業員にぶつける",null,null,"ｶﾗｰｺｰﾝによる立ち入り禁止措置を行う"]
[705010,"重量物を持って腰を痛める",null,null,"膝を使い、物を持ちあげる"]
[705010,"重量物を持って腰を痛める",null,null,"準備体操をしっかり行う"]
[705010,"重量物を持って腰を痛める",null,null,"2人1組で重量物を運ぶ"]
[705010,"近隣家屋の壁を汚す・傷つける",null,null,"近隣家屋との離隔距離を確認する"]
[705010,"近隣家屋の壁を汚す・傷つける",null,null,"重機ＯＰや手元は周囲の安全確認を行う"]
[705010,"近隣家屋の壁を汚す・傷つける",null,null,"ﾌﾞﾙｰｼｰﾄ､ﾍﾞﾆｱ等で養生する"]
[705010,"ゴミが飛散する",null,null,"1作業1片付を徹底する"]
[705010,"ゴミが飛散する",null,null,"作業周辺の整理整頓を徹底する"]
[705010,"ゴミが飛散する",null,null,"飛散の恐れがある物を養生する"]
[706010,"チェーンソー使用時、物にあたった反動で手足を負傷する",null,null,"チェーンソーの始業前点検を実施する"]
[706010,"チェーンソー使用時、物にあたった反動で手足を負傷する",null,null,"不安定な場所でチェーンソーを使用しない"]
[706010,"チェーンソー使用時、物にあたった反動で手足を負傷する",null,null,"周囲障害物を確認し、撤去させる"]
[706010,"梯子作業中バランスを崩して転落する",null,null,"単独作業を行わない（介添え者が梯子を必ず支える）"]
[706010,"梯子作業中バランスを崩して転落する",null,null,"梯子上で作業を行わない"]
[706010,"材料運搬時、躓いて転倒する",null,null,"安全通路を移動する"]
[706010,"材料運搬時、躓いて転倒する",null,null,"近道行為を禁止する"]
[706010,"材料運搬時、段差に躓いて転倒する",null,null,"床段差に足をのせない"]
[706010,"材料運搬時、段差に躓いて転倒する",null,null,"安全通路を移動する"]
[706010,"工事車輛の搬出入時、第三者と接触する",null,null,"誘導員の合図に従う"]
[706010,"工事車輛の搬出入時、第三者と接触する",null,null,"第三者から見える場所で合図する"]
[706010,"工事車輛の搬出入時、第三者と接触する",null,null,"声掛け合図の徹底"]
[706010,"工事車輛の搬出入時、第三者と接触する",null,null,"第三者優先で誘導を行う"]
[706010,"ダンプ後退時、バックホーと接触する",null,null,"声掛け合図の徹底"]
[706010,"ダンプ後退時、バックホーと接触する",null,null,"安全誘導の合図をする"]
[706010,"ダンプ後退時、バックホーと接触する",null,null,"後退時運転手はｻｲﾄﾞﾐﾗｰだけでなく、自分の目で後方を確認する"]
[706010,"搬出車輛が作業員と接触する",null,null,"声掛け合図の徹底"]
[706010,"搬出車輛が作業員と接触する",null,null,"安全誘導の合図をする"]
[706010,"搬出車輛が作業員と接触する",null,null,"搬出入車輛と作業員の通路の区分けを行う"]
[706010,"重機(ＢＨ)と作業員が接触する",null,null,"重機と作業員の区分けを行う"]
[706010,"重機(ＢＨ)と作業員が接触する",null,null,"声掛け合図の徹底"]
[706010,"重機(ＢＨ)と作業員が接触する",null,null,"ｶﾗｰｺｰﾝによる立ち入り禁止措置を行う"]
[706010,"重機(ＢＨ)と作業員が接触する",null,null,"重機ＯＰの死角に入らない"]
[706010,"重機(ＢＨ)と作業員が接触する",null,null,"グーパー運動を実施する"]
[706010,"手鋸で手や指を切る",null,null,"手鋸を動かす方向に手や指を置かない"]
[706010,"手鋸で手や指を切る",null,null,"無理な姿勢で作業しない"]
[706010,"手鋸で手や指を切る",null,null,"保護手袋を着装する"]
[706010,"資材荷卸し時、吊荷が外れ落下する",null,null,"重機使用時の合図の徹底"]
[706010,"資材荷卸し時、吊荷が外れ落下する",null,null,"声掛け合図の徹底"]
[706010,"資材荷卸し時、吊荷が外れ落下する",null,null,"玉掛け用具の始業前点検を実施する"]
[706010,"資材荷卸し時、吊荷が外れ落下する",null,null,"吊荷荷重を確認する"]
[706010,"資材荷卸し時、吊荷が外れ落下する",null,null,"吊荷下の人払いを行う"]
[706010,"重量物を持って腰を痛める",null,null,"膝を使い、物を持ちあげる"]
[706010,"重量物を持って腰を痛める",null,null,"準備体操をしっかり行う"]
[706010,"重量物を持って腰を痛める",null,null,"2人1組で重量物を運ぶ"]
[706010,"近隣家屋の壁を汚す・傷つける",null,null,"近隣家屋との離隔距離を確認する"]
[706010,"近隣家屋の壁を汚す・傷つける",null,null,"重機ＯＰや手元は周囲の安全確認を行う"]
[706010,"近隣家屋の壁を汚す・傷つける",null,null,"ﾌﾞﾙｰｼｰﾄ､ﾍﾞﾆｱ等で養生する"]
[706010,"ゴミが飛散する",null,null,"1作業1片付を徹底する"]
[706010,"ゴミが飛散する",null,null,"作業周辺の整理整頓を徹底する"]
[706010,"ゴミが飛散する",null,null,"飛散の恐れがある物を養生する"]
[750010,"資材を荷下ろし時ワイヤーロープで手を挟む",null,null,"不安定な状態で荷下ろししない"]
[750010,"資材を荷下ろし時ワイヤーロープで手を挟む",null,null,"作業手順書で作業手順を確認し作業を行う"]
[750010,"油圧式ハンドクラッシャー使用時、シリンダーに手を詰める",null,null,"油圧式ハンドクラッシャーを上向きで使用する場合は保持する設備を設置する"]
[750010,"油圧式ハンドクラッシャー使用時、シリンダーに手を詰める",null,null,"スイッチ操作係と本体保持係はお互いに声掛けを行う"]
[750010,"重機移動時に動いた敷鉄板で足などを挟む",null,null,"重機作業範囲内立入禁止"]
[750010,"重機移動時に動いた敷鉄板で足などを挟む",null,null,"敷鉄板が動かないように固定する"]
[750010,"重機移動時に動いた敷鉄板で足などを挟む",null,null,"敷鉄板の浮き・ガタつきがないか確認する"]
[750010,"誤って根がらみパイプを外し台車を転倒させて負傷する",null,null,"許可なく設備の変更を行わない"]
[750010,"重機(ＢＨ)と作業員が接触する",null,null,"重機と作業員の区分けを行う"]
[750010,"重機(ＢＨ)と作業員が接触する",null,null,"声掛け合図の徹底"]
[750010,"重機(ＢＨ)と作業員が接触する",null,null,"ｶﾗｰｺｰﾝによる立ち入り禁止措置を行う"]
[750010,"重機(ＢＨ)と作業員が接触する",null,null,"重機ＯＰの死角に入らない"]
[750010,"重機(ＢＨ)と作業員が接触する",null,null,"グーパー運動を実施する"]
[750010,"搬出車輛が第三者と接触する",null,null,"重機と第三者の区分けを行う"]
[750010,"搬出車輛が第三者と接触する",null,null,"声掛け合図の徹底"]
[750010,"搬出車輛が第三者と接触する",null,null,"ｶﾗｰｺｰﾝによる立ち入り禁止措置を行う"]
[750010,"搬出車輛が第三者と接触する",null,null,"誘導員の指示に従う"]
[750010,"搬出車輛が第三者と接触する",null,null,"安全誘導の合図をする"]
[750010,"解体材が近隣家屋に接触する",null,null,"声掛け合図の徹底"]
[750010,"解体材が近隣家屋に接触する",null,null,"重機ＯＰや手元は周囲の安全確認を行う"]
[750010,"解体材が近隣家屋に接触する",null,null,"安全誘導の合図をする"]
[750010,"解体材が近隣家屋に接触する",null,null,"ﾌﾞﾙｰｼｰﾄ､ﾍﾞﾆｱ等で養生する"]
[750010,"材料運搬時、躓いて転倒する",null,null,"安全通路を移動する"]
[750010,"材料運搬時、躓いて転倒する",null,null,"近道行為を禁止する"]
[750010,"材料運搬時、段差に躓いて転倒する",null,null,"床段差に足をのせない"]
[750010,"材料運搬時、段差に躓いて転倒する",null,null,"安全通路を移動する"]
[750010,"搬出車両とバックホーが接触する",null,null,"声掛け合図の徹底"]
[750010,"搬出車両とバックホーが接触する",null,null,"安全誘導の合図をする"]
[750010,"搬出車両とバックホーが接触する",null,null,"重機ＯＰや手元は周囲の安全確認を行う"]
[750010,"搬出車両とバックホーが接触する",null,null,"後退時運転手はｻｲﾄﾞﾐﾗｰだけでなく、自分の目で後方を確認する"]
[750010,"搬出車輛が作業員と接触する",null,null,"声掛け合図の徹底"]
[750010,"搬出車輛が作業員と接触する",null,null,"安全誘導の合図をする"]
[750010,"搬出車輛が作業員と接触する",null,null,"法定速度を遵守する"]
[750010,"搬出車輛が作業員と接触する",null,null,"搬出入車輛と作業員の通路の区分けを行う"]
[750010,"ベビーサンダー・セーバーソー使用時、手を切る",null,null,"保護手袋を着装する"]
[750010,"ベビーサンダー・セーバーソー使用時、手を切る",null,null,"正しい姿勢で作業する"]
[750010,"ベビーサンダー・セーバーソー使用時、手を切る",null,null,"工具の始業前点検を実施する"]
[750010,"解体材で手を切る",null,null,"保護手袋を着装する"]
[750010,"解体材で手を切る",null,null,"正しい姿勢で作業する"]
[750010,"解体材で手を切る",null,null,"危険な所に手を入れない"]
[750010,"足場使用時、足場から墜落する",null,null,"安全帯を掛けていない状況を作らない"]
[750010,"足場使用時、足場から墜落する",null,null,"無理な姿勢で作業しない"]
[750010,"足場使用時、足場から墜落する",null,null,"足場の始業前点検を実施する"]
[750010,"足場使用時、足場から墜落する",null,null,"作業床の墜落転落防止措置を確認する"]
[750010,"足場使用時、足場から資材類を落下させる",null,null,"無理な姿勢で作業しない"]
[750010,"足場使用時、足場から資材類を落下させる",null,null,"作業下部の人払いを行う"]
[750010,"足場使用時、足場から資材類を落下させる",null,null,"足場上の資材類を整理整頓する"]
[750010,"足場の隙間から墜落する",null,null,"安全帯を掛けていない状況を作らない"]
[750010,"足場の隙間から墜落する",null,null,"無理な姿勢で作業しない"]
[750010,"足場の隙間から墜落する",null,null,"足場の始業前点検を実施する"]
[750010,"足場の隙間から墜落する",null,null,"作業床の墜落転落防止措置の確認する"]
[750010,"足場上で躓いて転倒する",null,null,"足場上の資材類を整理整頓する"]
[750010,"足場上で躓いて転倒する",null,null,"無理な姿勢で作業しない"]
[750010,"足場上で躓いて転倒する",null,null,"安全通路を移動する"]
[750010,"内装解体時、立馬から転落する",null,null,"物を持って昇降しない"]
[750010,"内装解体時、立馬から転落する",null,null,"開き止めを確認する"]
[750010,"内装解体時、立馬から転落する",null,null,"無理な姿勢で作業しない"]
[750010,"内装解体時、立馬から転落する",null,null,"昇降時は必ず後ろ向きにおりる"]
[750010,"内装解体時、釘を踏み抜いて足の裏を怪我する",null,null,"解体材の整理整頓を行う"]
[750010,"内装解体時、釘を踏み抜いて足の裏を怪我する",null,null,"安全靴の着装"]
[750010,"内装解体時、釘を踏み抜いて足の裏を怪我する",null,null,"照明設備を整え、手元足元を明るくする"]
[750020,"重機(ＢＨ)と作業員が接触する",null,null,"重機と作業員の区分けを行う"]
[750020,"重機(ＢＨ)と作業員が接触する",null,null,"声掛け合図の徹底"]
[750020,"重機(ＢＨ)と作業員が接触する",null,null,"ｶﾗｰｺｰﾝによる立ち入り禁止措置を行う"]
[750020,"重機(ＢＨ)と作業員が接触する",null,null,"重機ＯＰの死角に入らない"]
[750020,"重機(ＢＨ)と作業員が接触する",null,null,"グーパー運動を実施する"]
[750020,"搬出車輛が第三者と接触する",null,null,"重機と第三者の区分けを行う"]
[750020,"搬出車輛が第三者と接触する",null,null,"声掛け合図の徹底"]
[750020,"搬出車輛が第三者と接触する",null,null,"ｶﾗｰｺｰﾝによる立ち入り禁止措置を行う"]
[750020,"搬出車輛が第三者と接触する",null,null,"誘導員の指示に従う"]
[750020,"搬出車輛が第三者と接触する",null,null,"安全誘導の合図をする"]
[750020,"解体材が近隣家屋に接触する",null,null,"声掛け合図の徹底"]
[750020,"解体材が近隣家屋に接触する",null,null,"重機ＯＰや手元は周囲の安全確認を行う"]
[750020,"解体材が近隣家屋に接触する",null,null,"安全誘導の合図をする"]
[750020,"解体材が近隣家屋に接触する",null,null,"ﾌﾞﾙｰｼｰﾄ､ﾍﾞﾆｱ等で養生する"]
[750020,"材料運搬時、躓いて転倒する",null,null,"安全通路を移動する"]
[750020,"材料運搬時、躓いて転倒する",null,null,"近道行為を禁止する"]
[750020,"材料運搬時、段差に躓いて転倒する",null,null,"床段差に足をのせない"]
[750020,"材料運搬時、段差に躓いて転倒する",null,null,"安全通路を移動する"]
[750020,"搬出車両とバックホーが接触する",null,null,"声掛け合図の徹底"]
[750020,"搬出車両とバックホーが接触する",null,null,"安全誘導の合図をする"]
[750020,"搬出車両とバックホーが接触する",null,null,"重機ＯＰや手元は周囲の安全確認を行う"]
[750020,"搬出車両とバックホーが接触する",null,null,"後退時運転手はｻｲﾄﾞﾐﾗｰだけでなく、自分の目で後方を確認する"]
[750020,"搬出車輛が作業員と接触する",null,null,"声掛け合図の徹底"]
[750020,"搬出車輛が作業員と接触する",null,null,"安全誘導の合図をする"]
[750020,"搬出車輛が作業員と接触する",null,null,"法定速度を遵守する"]
[750020,"搬出車輛が作業員と接触する",null,null,"搬出入車輛と作業員の通路の区分けを行う"]
[750020,"ベビーサンダー・セーバーソー使用時、手を切る",null,null,"保護手袋を着装する"]
[750020,"ベビーサンダー・セーバーソー使用時、手を切る",null,null,"正しい姿勢で作業する"]
[750020,"ベビーサンダー・セーバーソー使用時、手を切る",null,null,"工具の始業前点検を実施する"]
[750020,"解体材で手を切る",null,null,"保護手袋を着装する"]
[750020,"解体材で手を切る",null,null,"正しい姿勢で作業する"]
[750020,"解体材で手を切る",null,null,"危険な所に手を入れない"]
[750020,"ガス溶断時、火傷する",null,null,"消火器・消火バケツを設置する"]
[750020,"ガス溶断時、火傷する",null,null,"無理な姿勢で作業しない"]
[750020,"ガス溶断時、火傷する",null,null,"保護具を着装する"]
[750020,"ガス溶断時、火傷する",null,null,"溶断箇所に手足を近づけない"]
[750020,"ガス溶断時、火花が飛散し火災になる",null,null,"火の粉の付近に可燃物を置かない"]
[750020,"ガス溶断時、火花が飛散し火災になる",null,null,"消火器・消火バケツを設置する"]
[750020,"ガス溶断時、火花が飛散し火災になる",null,null,"無理な姿勢で作業しない"]
[750020,"ガス溶断時、火花が飛散し火災になる",null,null,"保護具を着装する"]
[750020,"ガス溶断時、火花が飛散し火災になる",null,null,"ｶﾗｰｺｰﾝによる立ち入り禁止措置を行う"]
[750020,"足場使用時、足場から墜落する",null,null,"安全帯を掛けていない状況を作らない"]
[750020,"足場使用時、足場から墜落する",null,null,"無理な姿勢で作業しない"]
[750020,"足場使用時、足場から墜落する",null,null,"足場の始業前点検を実施する"]
[750020,"足場使用時、足場から墜落する",null,null,"作業床の墜落転落防止措置を確認する"]
[750020,"足場使用時、足場から資材類を落下させる",null,null,"無理な姿勢で作業しない"]
[750020,"足場使用時、足場から資材類を落下させる",null,null,"作業下部の人払いを行う"]
[750020,"足場使用時、足場から資材類を落下させる",null,null,"足場上の資材類を整理整頓する"]
[750020,"足場の隙間から墜落する",null,null,"安全帯を掛けていない状況を作らない"]
[750020,"足場の隙間から墜落する",null,null,"無理な姿勢で作業しない"]
[750020,"足場の隙間から墜落する",null,null,"足場の始業前点検を実施する"]
[750020,"足場の隙間から墜落する",null,null,"作業床の墜落転落防止措置の確認する"]
[750020,"足場上で躓いて転倒する",null,null,"足場上の材料・工具を整理整頓する"]
[750020,"足場上で躓いて転倒する",null,null,"無理な姿勢で作業しない"]
[750020,"足場上で躓いて転倒する",null,null,"安全通路を移動する"]
[750020,"内装解体時、立馬から転落する",null,null,"物を持って昇降しない"]
[750020,"内装解体時、立馬から転落する",null,null,"開き止めを確認する"]
[750020,"内装解体時、立馬から転落する",null,null,"無理な姿勢で作業しない"]
[750020,"内装解体時、立馬から転落する",null,null,"昇降時は必ず後ろ向きにおりる"]
[750020,"内装解体時、釘を踏み抜いて足の裏を怪我する",null,null,"解体材の整理整頓を行う"]
[750020,"内装解体時、釘を踏み抜いて足の裏を怪我する",null,null,"安全靴の着装"]
[750020,"内装解体時、釘を踏み抜いて足の裏を怪我する",null,null,"照明設備を整え、手元足元を明るくする"]
[750030,"下地材を切断時、端部が跳ね上がって負傷する",null,null,"下地材切断後に跳ね上がり等がないか確認する"]
[750030,"下地材を切断時、端部が跳ね上がって負傷する",null,null,"手袋・メガネ等、保護具を使用する"]
[750030,"重機(ＢＨ)と作業員が接触する",null,null,"重機と作業員の区分けを行う"]
[750030,"重機(ＢＨ)と作業員が接触する",null,null,"声掛け合図の徹底"]
[750030,"重機(ＢＨ)と作業員が接触する",null,null,"ｶﾗｰｺｰﾝによる立ち入り禁止措置を行う"]
[750030,"重機(ＢＨ)と作業員が接触する",null,null,"重機ＯＰの死角に入らない"]
[750030,"重機(ＢＨ)と作業員が接触する",null,null,"グーパー運動を実施する"]
[750030,"搬出車輛が第三者と接触する",null,null,"重機と第三者の区分けを行う"]
[750030,"搬出車輛が第三者と接触する",null,null,"声掛け合図の徹底"]
[750030,"搬出車輛が第三者と接触する",null,null,"ｶﾗｰｺｰﾝによる立ち入り禁止措置を行う"]
[750030,"搬出車輛が第三者と接触する",null,null,"誘導員の指示に従う"]
[750030,"搬出車輛が第三者と接触する",null,null,"安全誘導の合図をする"]
[750030,"解体材が近隣家屋に接触する",null,null,"声掛け合図の徹底"]
[750030,"解体材が近隣家屋に接触する",null,null,"重機ＯＰや手元は周囲の安全確認を行う"]
[750030,"解体材が近隣家屋に接触する",null,null,"安全誘導の合図をする"]
[750030,"解体材が近隣家屋に接触する",null,null,"ﾌﾞﾙｰｼｰﾄ､ﾍﾞﾆｱ等で養生する"]
[750030,"材料運搬時、躓いて転倒する",null,null,"安全通路を移動する"]
[750030,"材料運搬時、躓いて転倒する",null,null,"近道行為を禁止する"]
[750030,"材料運搬時、段差に躓いて転倒する",null,null,"床段差に足をのせない"]
[750030,"材料運搬時、段差に躓いて転倒する",null,null,"安全通路を移動する"]
[750030,"搬出車両とバックホーが接触する",null,null,"声掛け合図の徹底"]
[750030,"搬出車両とバックホーが接触する",null,null,"安全誘導の合図をする"]
[750030,"搬出車両とバックホーが接触する",null,null,"重機ＯＰや手元は周囲の安全確認を行う"]
[750030,"搬出車両とバックホーが接触する",null,null,"後退時運転手はｻｲﾄﾞﾐﾗｰだけでなく、自分の目で後方を確認する"]
[750030,"搬出車輛が作業員と接触する",null,null,"声掛け合図の徹底"]
[750030,"搬出車輛が作業員と接触する",null,null,"安全誘導の合図をする"]
[750030,"搬出車輛が作業員と接触する",null,null,"法定速度を遵守する"]
[750030,"搬出車輛が作業員と接触する",null,null,"搬出入車輛と作業員の通路の区分けを行う"]
[750030,"ベビーサンダー・セーバーソー使用時、手を切る",null,null,"保護手袋を着装する"]
[750030,"ベビーサンダー・セーバーソー使用時、手を切る",null,null,"正しい姿勢で作業する"]
[750030,"ベビーサンダー・セーバーソー使用時、手を切る",null,null,"工具の始業前点検を実施する"]
[750030,"解体材で手を切る",null,null,"保護手袋を着装する"]
[750030,"解体材で手を切る",null,null,"正しい姿勢で作業する"]
[750030,"解体材で手を切る",null,null,"危険な所に手を入れない"]
[750030,"ガス溶断時、火傷する",null,null,"消火器・消火バケツを設置する"]
[750030,"ガス溶断時、火傷する",null,null,"無理な姿勢で作業しない"]
[750030,"ガス溶断時、火傷する",null,null,"保護具を着装する"]
[750030,"ガス溶断時、火傷する",null,null,"溶断箇所に手足を近づけない"]
[750030,"ガス溶断時、火花が飛散し火災になる",null,null,"火の粉の付近に可燃物を置かない"]
[750030,"ガス溶断時、火花が飛散し火災になる",null,null,"消火器・消火バケツを設置する"]
[750030,"ガス溶断時、火花が飛散し火災になる",null,null,"無理な姿勢で作業しない"]
[750030,"ガス溶断時、火花が飛散し火災になる",null,null,"保護具を着装する"]
[750030,"ガス溶断時、火花が飛散し火災になる",null,null,"ｶﾗｰｺｰﾝによる立ち入り禁止措置を行う"]
[750030,"足場使用時、足場から墜落する",null,null,"安全帯を掛けていない状況を作らない"]
[750030,"足場使用時、足場から墜落する",null,null,"無理な姿勢で作業しない"]
[750030,"足場使用時、足場から墜落する",null,null,"足場の始業前点検を実施する"]
[750030,"足場使用時、足場から墜落する",null,null,"作業床の墜落転落防止措置を確認する"]
[750030,"足場使用時、足場から資材類を落下させる",null,null,"無理な姿勢で作業しない"]
[750030,"足場使用時、足場から資材類を落下させる",null,null,"作業下部の人払いを行う"]
[750030,"足場使用時、足場から資材類を落下させる",null,null,"足場上の資材類を整理整頓する"]
[750030,"足場の隙間から墜落する",null,null,"安全帯を掛けていない状況を作らない"]
[750030,"足場の隙間から墜落する",null,null,"無理な姿勢で作業しない"]
[750030,"足場の隙間から墜落する",null,null,"足場の始業前点検を実施する"]
[750030,"足場の隙間から墜落する",null,null,"作業床の墜落転落防止措置の確認する"]
[750030,"足場上で躓いて転倒する",null,null,"足場上の資材類を整理整頓する"]
[750030,"足場上で躓いて転倒する",null,null,"無理な姿勢で作業しない"]
[750030,"足場上で躓いて転倒する",null,null,"安全通路を移動する"]
[750030,"内装解体時、立馬から転落する",null,null,"物を持って昇降しない"]
[750030,"内装解体時、立馬から転落する",null,null,"開き止めを確認する"]
[750030,"内装解体時、立馬から転落する",null,null,"無理な姿勢で作業しない"]
[750030,"内装解体時、立馬から転落する",null,null,"昇降時は必ず後ろ向きにおりる"]
[750030,"内装解体時、釘を踏み抜いて足の裏を怪我する",null,null,"解体材の整理整頓を行う"]
[750030,"内装解体時、釘を踏み抜いて足の裏を怪我する",null,null,"安全靴の着装"]
[750030,"内装解体時、釘を踏み抜いて足の裏を怪我する",null,null,"照明設備を整え、手元足元を明るくする"]
[750040,"上から物が落下し、人に当たる",null,null,"上下作業とならないよう確認する"]
[750040,"上から物が落下し、人に当たる",null,null,"落下養生ネットの確認"]
[750040,"斫りガラが落ちてきて体にあたる",null,null,"斫りガラはこまめに片付ける"]
[750040,"斫りガラが落ちてきて体にあたる",null,null,"手袋・メガネ等、保護具を使用する"]
[750040,"斫りガラが落ちてきて体にあたる",null,null,"危険な所に入って作業しない"]
[750040,"斫りガラが落ちてきて体にあたる",null,null,"上下作業とならないよう確認する"]
[750040,"斫りガラが落ちてきて体にあたる",null,null,"ガラの飛散範囲内に他の人がいないか確認する"]
[750040,"スクレーパー使用時誤って手を負傷する",null,null,"刃先の方向に手を置かない"]
[750040,"資材運搬時、躓いて転倒する",null,null,"安全通路を移動する"]
[750040,"資材運搬時、躓いて転倒する",null,null,"近道行為を禁止する"]
[750040,"資材運搬時、段差に躓いて転倒する",null,null,"床段差に足をのせない"]
[750040,"資材運搬時、段差に躓いて転倒する",null,null,"安全通路を移動する"]
[750040,"ホースに躓いて転倒する",null,null,"ホースを整理する"]
[750040,"ホースに躓いて転倒する",null,null,"安全通路を移動する"]
[750040,"サンダー使用時、誤って手を切る",null,null,"保護手袋を着装する"]
[750040,"サンダー使用時、誤って手を切る",null,null,"正しい姿勢で作業する"]
[750040,"サンダー使用時、誤って手を切る",null,null,"保護カバーを使用する"]
[750040,"サンダー使用時、誤って手を切る",null,null,"工具の始業前点検を実施する"]
[750040,"サンダー使用時、誤って手を切る",null,null,"切断箇所に手を入れない"]
[750040,"サンダー使用時、鉄粉が飛散し、目に鉄粉が入る",null,null,"保護メガネを着装する"]
[750040,"サンダー使用時、鉄粉が飛散し、目に鉄粉が入る",null,null,"無理な姿勢で作業しない"]
[750040,"サンダー使用時、鉄粉が飛散し、目に鉄粉が入る",null,null,"保護具を着装する"]
[750040,"斫りガラが飛散し、目にコンクリート片が入る",null,null,"保護メガネを着装する"]
[750040,"斫りガラが飛散し、目にコンクリート片が入る",null,null,"無理な姿勢で作業しない"]
[750040,"斫りガラが飛散し、目にコンクリート片が入る",null,null,"保護具を着装する"]
[750040,"足場使用時、足場から墜落する",null,null,"安全帯を掛けていない状況を作らない"]
[750040,"足場使用時、足場から墜落する",null,null,"無理な姿勢で作業しない"]
[750040,"足場使用時、足場から墜落する",null,null,"足場の始業前点検を実施する"]
[750040,"足場使用時、足場から墜落する",null,null,"作業床の墜落転落防止措置を確認する"]
[750040,"足場使用時、足場から斫りガラを落下させる",null,null,"無理な姿勢で作業しない"]
[750040,"足場使用時、足場から斫りガラを落下させる",null,null,"作業下部の人払いを行う"]
[750040,"足場使用時、足場から斫りガラを落下させる",null,null,"こまめに斫りガラを片付ける"]
[750040,"足場使用時、足場から斫りガラを落下させる",null,null,"ガラ受け養生を設置する"]
[750040,"足場の隙間から墜落する",null,null,"安全帯を掛けていない状況を作らない"]
[750040,"足場の隙間から墜落する",null,null,"無理な姿勢で作業しない"]
[750040,"足場の隙間から墜落する",null,null,"足場の始業前点検を実施する"]
[750040,"足場の隙間から墜落する",null,null,"作業床の墜落転落防止措置の確認する"]
[750040,"足場上で躓いて転倒する",null,null,"足場上の資材類を整理整頓する"]
[750040,"足場上で躓いて転倒する",null,null,"無理な姿勢で作業しない"]
[750040,"足場上で躓いて転倒する",null,null,"安全通路を移動する"]
[750040,"斫り作業中、工具に指を詰める",null,null,"保護手袋を着装する"]
[750040,"斫り作業中、工具に指を詰める",null,null,"無理な姿勢で作業しない"]
[750040,"斫り作業中、工具に指を詰める",null,null,"振動箇所に手を入れない"]
[750040,"斫り作業中、工具に指を詰める",null,null,"工具の始業前点検を実施する"]
[750040,"立馬から転落する",null,null,"物を持って昇降しない"]
[750040,"立馬から転落する",null,null,"開き止めを確認する"]
[750040,"立馬から転落する",null,null,"無理な姿勢で作業しない"]
[750040,"立馬から転落する",null,null,"昇降時は必ず後ろ向きにおりる"]
[750050,"超高圧水で人が負傷する（機械異常）",null,null,"グリップはしっかりと握る"]
[750050,"超高圧水で人が負傷する（機械異常）",null,null,"ガンの吐出方向に人を立ち入らせない"]
[750050,"超高圧水で人が負傷する（機械異常）",null,null,"定期点検・始業前点検を確実に行う（異常時はメーカーに連絡する）"]
[750050,"超高圧水で人が負傷する（機械異常）",null,null,"作業準備時には必ず電源を停止する/"]
[750050,"材料運搬時、躓いて転倒する",null,null,"安全通路を移動する"]
[750050,"材料運搬時、躓いて転倒する",null,null,"近道行為を禁止する"]
[750050,"材料運搬時、段差に躓いて転倒する",null,null,"床段差に足をのせない"]
[750050,"材料運搬時、段差に躓いて転倒する",null,null,"安全通路を移動する"]
[750050,"キャプタイヤーに躓き転倒する",null,null,"安全通路を移動する"]
[750050,"キャプタイヤーに躓き転倒する",null,null,"キャプタイヤーの整理整線を行う"]
[750050,"ノズルに手を挟む",null,null,"危険な所に手を入れない"]
[750050,"ノズルに手を挟む",null,null,"操作員との合図確認を行う"]
[750050,"ノズルに手を挟む",null,null,"ノズルに回転カバーを取り付ける"]
[750050,"足場使用時、足場から墜落する",null,null,"安全帯を掛けていない状況を作らない"]
[750050,"足場使用時、足場から墜落する",null,null,"無理な姿勢で作業しない"]
[750050,"足場使用時、足場から墜落する",null,null,"足場の始業前点検を実施する"]
[750050,"足場使用時、足場から墜落する",null,null,"作業床の墜落転落防止措置を確認する"]
[750050,"足場の隙間から墜落する",null,null,"安全帯を掛けていない状況を作らない"]
[750050,"足場の隙間から墜落する",null,null,"無理な姿勢で作業しない"]
[750050,"足場の隙間から墜落する",null,null,"足場の始業前点検を実施する"]
[750050,"足場の隙間から墜落する",null,null,"作業床の墜落転落防止措置の確認する"]
[750050,"足場上で躓いて転倒する",null,null,"足場上の資材等を整理整頓する"]
[750050,"足場上で躓いて転倒する",null,null,"無理な姿勢で作業しない"]
[750050,"足場上で躓いて転倒する",null,null,"安全通路を移動する"]
[750050,"作業時、手元を誤ってジェット水が飛散する",null,null,"養生状況を点検する"]
[750050,"作業時、手元を誤ってジェット水が飛散する",null,null,"飛散防止養生を行う"]
[750050,"作業時、手元を誤ってジェット水が飛散する",null,null,"無理な姿勢で作業しない"]
[750050,"作業時、手元を誤ってジェット水が飛散する",null,null,"使用時は十分に手元の確認を行う"]
[750050,"作業時、手元を誤ってジェット水が飛散する",null,null,"ｶﾗｰｺｰﾝによる立ち入り禁止措置を行う"]
[750060,"ハンマードリルに手を巻き込まれる",null,null,"点検・整備時は電源を切る"]
[750060,"ハンマードリルに手を巻き込まれる",null,null,"キリ部分に手を添えない"]
[750060,"材料運搬時、躓いて転倒する",null,null,"安全通路を移動する"]
[750060,"材料運搬時、躓いて転倒する",null,null,"近道行為を禁止する"]
[750060,"材料運搬時、段差に躓いて転倒する",null,null,"床段差に足をのせない"]
[750060,"材料運搬時、段差に躓いて転倒する",null,null,"安全通路を移動する"]
[750060,"ドリルで削孔時、指を巻き込む",null,null,"無理な姿勢で作業しない"]
[750060,"ドリルで削孔時、指を巻き込む",null,null,"削孔箇所に手を入れない"]
[750060,"ドリルで削孔時、指を巻き込む",null,null,"電動工具の始業前点検を実施する"]
[750060,"足場使用時、足場から墜落する",null,null,"安全帯を掛けていない状況を作らない"]
[750060,"足場使用時、足場から墜落する",null,null,"無理な姿勢で作業しない"]
[750060,"足場使用時、足場から墜落する",null,null,"足場の始業前点検を実施する"]
[750060,"足場使用時、足場から墜落する",null,null,"作業床の墜落転落防止措置を確認する"]
[750060,"足場の隙間から墜落する",null,null,"安全帯を掛けていない状況を作らない"]
[750060,"足場の隙間から墜落する",null,null,"無理な姿勢で作業しない"]
[750060,"足場の隙間から墜落する",null,null,"足場の始業前点検を実施する"]
[750060,"足場の隙間から墜落する",null,null,"作業床の墜落転落防止措置の確認する"]
[750060,"足場上で躓いて転倒する",null,null,"足場上の資材等を整理整頓する"]
[750060,"足場上で躓いて転倒する",null,null,"無理な姿勢で作業しない"]
[750060,"足場上で躓いて転倒する",null,null,"安全通路を移動する"]
[750060,"高所作業車使用時、転落する",null,null,"安全帯を必ず使用する"]
[750060,"高所作業車使用時、転落する",null,null,"無理な姿勢で作業しない"]
[750060,"高所作業車使用時、転落する",null,null,"高所作業車の始業前点検を実施する"]
[750060,"高所作業車使用時、転落する",null,null,"作業床を確認する"]
[750060,"立馬から転落する",null,null,"物を持って昇降しない"]
[750060,"立馬から転落する",null,null,"開き止めを確認する"]
[750060,"立馬から転落する",null,null,"無理な姿勢で作業しない"]
[750060,"立馬から転落する",null,null,"昇降時は必ず後ろ向きにおりる"]
[750060,"ドリルにて上向きに削孔する際、削孔片が目に入る",null,null,"保護メガネを着装する"]
[750060,"ドリルにて上向きに削孔する際、削孔片が目に入る",null,null,"無理な姿勢で作業しない"]
[750060,"ドリルにて上向きに削孔する際、削孔片が目に入る",null,null,"保護具を着装する"]
[750070,"スラブ（フェローデッキ）上で躓いて転倒する",null,null,"スラブ筋施工後はメッシュロードを敷設し、その上を移動する"]
[750070,"スラブ（フェローデッキ）上で躓いて転倒する",null,null,"スラブ筋上歩行の際、足元を確認しゆっくりと歩行する"]
[750070,"材料運搬時、躓いて転倒する",null,null,"安全通路を移動する"]
[750070,"材料運搬時、躓いて転倒する",null,null,"近道行為を禁止する"]
[750070,"材料運搬時、段差に躓いて転倒する",null,null,"床段差に足をのせない"]
[750070,"材料運搬時、段差に躓いて転倒する",null,null,"安全通路を移動する"]
[750070,"キャプタイヤーに躓き転倒する",null,null,"安全通路を移動する"]
[750070,"キャプタイヤーに躓き転倒する",null,null,"キャプタイヤーの整理整線を行う"]
[750070,"ドリルで削孔時、指を巻き込む",null,null,"無理な姿勢で作業しない"]
[750070,"ドリルで削孔時、指を巻き込む",null,null,"削孔箇所に手を入れない"]
[750070,"ドリルで削孔時、指を巻き込む",null,null,"電動工具の始業前点検を実施する"]
[750070,"鋼材を仮置きする際、手を挟む",null,null,"不安定な状態で鋼材を置かない"]
[750070,"鋼材を仮置きする際、手を挟む",null,null,"危険な所に手を入れない"]
[750070,"重量物を持って腰を痛める",null,null,"膝を使い、物を持ちあげる"]
[750070,"重量物を持って腰を痛める",null,null,"準備体操をしっかり行う"]
[750070,"重量物を持って腰を痛める",null,null,"2人1組で重量物を運ぶ"]
[750070,"足場使用時、足場から墜落する",null,null,"安全帯を掛けていない状況を作らない"]
[750070,"足場使用時、足場から墜落する",null,null,"無理な姿勢で作業しない"]
[750070,"足場使用時、足場から墜落する",null,null,"足場の始業前点検を実施する"]
[750070,"足場使用時、足場から墜落する",null,null,"作業床の墜落転落防止措置を確認する"]
[750070,"足場の隙間から墜落する",null,null,"安全帯を掛けていない状況を作らない"]
[750070,"足場の隙間から墜落する",null,null,"無理な姿勢で作業しない"]
[750070,"足場の隙間から墜落する",null,null,"足場の始業前点検を実施する"]
[750070,"足場の隙間から墜落する",null,null,"作業床の墜落転落防止措置の確認する"]
[750070,"足場上で躓いて転倒する",null,null,"足場上の資材等を整理整頓する"]
[750070,"足場上で躓いて転倒する",null,null,"無理な姿勢で作業しない"]
[750070,"足場上で躓いて転倒する",null,null,"安全通路を移動する"]
[750070,"ﾛｰﾘﾝｸﾞﾀﾜｰ使用時、転落する",null,null,"安全帯を必ず使用する"]
[750070,"ﾛｰﾘﾝｸﾞﾀﾜｰ使用時、転落する",null,null,"無理な姿勢で作業しない"]
[750070,"ﾛｰﾘﾝｸﾞﾀﾜｰ使用時、転落する",null,null,"高所作業車の始業前点検を実施する"]
[750070,"ﾛｰﾘﾝｸﾞﾀﾜｰ使用時、転落する",null,null,"作業床を確認する"]
[750070,"立馬から転落する",null,null,"物を持って昇降しない"]
[750070,"立馬から転落する",null,null,"開き止めを確認する"]
[750070,"立馬から転落する",null,null,"無理な姿勢で作業しない"]
[750070,"立馬から転落する",null,null,"昇降時は必ず後ろ向きにおりる"]
[750070,"溶接時、火傷する",null,null,"消火器・消火バケツを設置する"]
[750070,"溶接時、火傷する",null,null,"火気使用時の人払いを行う"]
[750070,"溶接時、火傷する",null,null,"保護具を着装する"]
[750070,"溶接時、火傷する",null,null,"溶接箇所に手を近づけない"]
[750070,"溶接時、火花が飛散し火災が発生する",null,null,"火の粉の付近に可燃物を置かない"]
[750070,"溶接時、火花が飛散し火災が発生する",null,null,"消火器・消火バケツを設置する"]
[750070,"溶接時、火花が飛散し火災が発生する",null,null,"火気使用時の人払いを行う"]
[750070,"溶接時、火花が飛散し火災が発生する",null,null,"保護具を着装する"]
[750080,"固定用金物撤去中、立馬から墜落する",null,null,"設置した立馬の足元状態を確認する"]
[750080,"固定用金物撤去中、立馬から墜落する",null,null,"不安定な姿勢で作業しない"]
[750080,"釘を踏み抜く",null,null,"釘仕舞を確実に行う"]
[750080,"釘を踏み抜く",null,null,"木片・ガラ等の上に足を置かない"]
[750080,"釘を踏み抜く",null,null,"作業床の片付けを行う"]
[750080,"釘抜き作業中、勢いがついて転倒する",null,null,"無理な姿勢で作業しない"]
[750080,"釘抜き作業中、勢いがついて転倒する",null,null,"無理に力を入れ過ぎない"]
[750080,"差し筋を跨いで転倒する",null,null,"近道行為の禁止"]
[750080,"差し筋を跨いで転倒する",null,null,"安全通路を確認し通行する"]
[750080,"段差に躓いて転倒する",null,null,"梁筋上歩行の際、足元を確認し歩行する"]
[750080,"段差に躓いて転倒する",null,null,"安全通路を歩行する"]
[750080,"ハンドミキサー使用時、手や服が巻き込まれる",null,null,"使用時は手元の確認を行う"]
[750080,"ハンドミキサー使用時、手や服が巻き込まれる",null,null,"暗い箇所では使用しない"]
[750080,"ハンドミキサー使用時、手や服が巻き込まれる",null,null,"服装の乱れが無いか確認する"]
[750080,"ハンドミキサー使用時、手や服が巻き込まれる",null,null,"作業場所を確保する"]
[750080,"溶接時、火傷する",null,null,"消火器・消火バケツを設置する"]
[750080,"溶接時、火傷する",null,null,"火気使用時の人払いを行う"]
[750080,"溶接時、火傷する",null,null,"保護具を着装する"]
[750080,"溶接時、感電する",null,null,"ゴム手袋を着装する"]
[750080,"溶接時、感電する",null,null,"火気使用時の人払いを行う"]
[750080,"溶接時、感電する",null,null,"保護具を着装する"]
[750080,"溶接時、火花が飛散する",null,null,"火の粉の付近に可燃物を置かない"]
[750080,"溶接時、火花が飛散する",null,null,"消火器・消火バケツを設置する"]
[750080,"溶接時、火花が飛散する",null,null,"火気使用時の人払いを行う"]
[750080,"溶接時、火花が飛散する",null,null,"保護具を着装する"]
[750080,"梁上から転落する",null,null,"親綱を張り、安全帯を使用する"]
[750080,"梁上から転落する",null,null,"無理な姿勢で作業しない"]
[750080,"梁上から転落する",null,null,"危険な箇所には登らない"]
[750080,"梁上から転落する",null,null,"昇降設備を使用する"]
[750080,"キャプタイヤーに躓き転倒する",null,null,"安全通路を移動する"]
[750080,"キャプタイヤーに躓き転倒する",null,null,"キャプタイヤーの整理整線を行う"]
[750080,"立馬から転落する",null,null,"物を持って昇降しない"]
[750080,"立馬から転落する",null,null,"手摺棒を全箇所伸ばす"]
[750080,"立馬から転落する",null,null,"無理な姿勢で作業しない"]
[750080,"立馬から転落する",null,null,"昇降時は必ず後ろ向きにおりる"]
[750080,"立馬から転落する",null,null,"安全帯を使用する"]
[750080,"クレーン使用時、吊荷が落下する",null,null,"クレーン使用時の合図の徹底"]
[750080,"クレーン使用時、吊荷が落下する",null,null,"声掛け合図の徹底"]
[750080,"クレーン使用時、吊荷が落下する",null,null,"玉掛けワイヤーの始業前点検を実施する"]
[750080,"クレーン使用時、吊荷が落下する",null,null,"吊荷荷重の確認する"]
[750080,"クレーン使用時、吊荷が落下する",null,null,"吊荷の下の人払い徹底"]
[750080,"クレーン使用時、吊荷が落下する",null,null,"地切りの確認（333運動）"]

{"sheet":"危険ポイントと対策（工種別）","index":24,"n_rows":5064,"n_cols":3,"rows_kept":5064,"cut":false,"hidden":false,"merged":[]}
["工種コード","危険ポイント","対策"]
[101010,"揚重作業時クレーンが転倒する","作業計画書内容を順守する"]
[101010,"揚重作業時クレーンが転倒する","アウトリガーの最大張り出し、設置状態を確認する"]
[101010,"揚重作業時クレーンが転倒する","作業半径、定格荷重を確認する"]
[101010,"揚重作業時クレーンが転倒する","安全装置の解除はしない/させない"]
[101010,"サンダーや丸のこ等使用時、手がぶれたり、刃がはねて負傷する","研削砥石使用（交換）基準を順守する"]
[101010,"サンダーや丸のこ等使用時、手がぶれたり、刃がはねて負傷する","正しい作業姿勢を確保し無理な切断を行わない"]
[101010,"サンダーや丸のこ等使用時、手がぶれたり、刃がはねて負傷する","サンダーや丸のこに合わない刃を使用しない"]
[101010,"サンダーや丸のこ等使用時、手がぶれたり、刃がはねて負傷する","保護カバーを外して作業しない"]
[101010,"サンダーや丸のこ等使用時、手がぶれたり、刃がはねて負傷する","研削面に障害物がないか確認する"]
[101010,"サンダーや丸のこ等使用時、手がぶれたり、刃がはねて負傷する","切断物の下に敷桟をいれて作業する"]
[101010,"サンダーや丸のこ等使用時、手がぶれたり、刃がはねて負傷する","小さすぎる材料の切断に丸のこを使用しない"]
[101010,"安全ブロックを使用せず梯子やタラップから転落する","梯子の設置基準が満足しているか昇降前に確認する"]
[101010,"安全ブロックを使用せず梯子やタラップから転落する","梯子が確実に固定されているか確認する"]
[101010,"安全ブロックを使用せず梯子やタラップから転落する","梯子の昇降時には物を持たない"]
[101010,"安全ブロックを使用せず梯子やタラップから転落する","安全ブロックを使用する"]
[101010,"安全ブロックを使用せず梯子やタラップから転落する","先行で登っている人の後には続かないで順番を待つ"]
[101010,"安全ブロックを使用せず梯子やタラップから転落する","通行前に固定されているか確認する"]
[101010,"安全ブロックを使用せず梯子やタラップから転落する","通行禁止場所を通らない"]
[101010,"安全ブロックを使用せず梯子やタラップから転落する","許可なく足場変更は行わない"]
[101010,"安全ブロックを使用せず梯子やタラップから転落する","開口部付近での作業の時は安全帯を使用する"]
[101010,"立馬で材料荷渡しや作業時に転落する","危険ポイント・対策（①重大共通）（建築）"]
[101010,"立馬で材料荷渡しや作業時に転落する","立馬使用の作業標準を順守する"]
[101010,"立馬で材料荷渡しや作業時に転落する","作業床の始業前点検を実施する"]
[101010,"立馬で材料荷渡しや作業時に転落する","足場板の端部に乗らない"]
[101010,"立馬で材料荷渡しや作業時に転落する","外した設備は必ず元通りに戻し作業前点検を確実に行う"]
[101010,"立馬で材料荷渡しや作業時に転落する","立馬上で一人で荷受け可能か確認する"]
[101010,"立馬の脚が段差・床スリーブにはまり、または縮んで転落・転倒する","立馬使用の作業標準を順守する"]
[101010,"立馬の脚が段差・床スリーブにはまり、または縮んで転落・転倒する","養生蓋等を確認する（設置した立馬の足元確認）"]
[101010,"立馬の脚が段差・床スリーブにはまり、または縮んで転落・転倒する","スリーブの上部に立馬の足を配置しない"]
[101010,"立馬の脚が段差・床スリーブにはまり、または縮んで転落・転倒する","スリーブ養生の手順（ルール）を決めて励行させる"]
[101010,"立馬の脚が段差・床スリーブにはまり、または縮んで転落・転倒する","伸縮足ストッパー等の始業前点検を行う"]
[101010,"立馬から降りる時に踏み外して転落する","手掛かり棒を全箇所伸ばし持って降りる"]
[101010,"立馬から降りる時に踏み外して転落する","物を持って昇降しない"]
[101010,"立馬から降りる時に踏み外して転落する","設置した立馬の安定状態を確認する"]
[101010,"立馬から降りる時に踏み外して転落する","昇降時は必ず後ろ向きに降りる"]
[101010,"材料運搬時、躓いて転倒する","安全通路を移動する"]
[101010,"材料運搬時、躓いて転倒する","近道行為を禁止する"]
[101010,"材料運搬時、段差に躓いて転倒する","床段差に足を乗せない"]
[101010,"材料運搬時、段差に躓いて転倒する","安全通路を移動する"]
[101010,"重機と作業員が接触する","重機と作業員の区分けを行う"]
[101010,"重機と作業員が接触する","声掛け合図の徹底"]
[101010,"重機と作業員が接触する","ｶﾗｰｺｰﾝによる立ち入り禁止措置を行う"]
[101010,"重機と作業員が接触する","重機ＯＰの死角に入らない"]
[101010,"重機と作業員が接触する","グーパー運動を実施する"]
[101010,"長尺物を振り回す際、作業員にぶつける","声掛け合図の徹底"]
[101010,"長尺物を振り回す際、作業員にぶつける","振り回す際は、事前に周囲確認し、人払いを行う"]
[101010,"長尺物を振り回す際、作業員にぶつける","ｶﾗｰｺｰﾝによる立ち入り禁止措置を行う"]
[101010,"立馬から転落する","物を持って昇降しない"]
[101010,"立馬から転落する","開き止めを確認する"]
[101010,"立馬から転落する","無理な姿勢で作業しない"]
[101010,"立馬から転落する","昇降時は必ず後ろ向きにおりる"]
[101010,"カッターナイフで手を切る","カッターナイフを動かす方向に手を置かない"]
[101010,"カッターナイフで手を切る","無理な姿勢で作業しない"]
[101010,"ベビーサンダー使用時、誤って手を切る","保護手袋を着装する"]
[101010,"ベビーサンダー使用時、誤って手を切る","正しい姿勢で作業する"]
[101010,"ベビーサンダー使用時、誤って手を切る","保護カバーを使用する"]
[101010,"ベビーサンダー使用時、誤って手を切る","工具の始業前点検を実施する"]
[101010,"ベビーサンダー使用時、誤って手を切る","切断箇所に手を入れない"]
[101010,"ゴミが飛散する","1作業1片付を徹底する"]
[101010,"ゴミが飛散する","作業周辺の整理整頓を徹底する"]
[101010,"ゴミが飛散する","飛散の恐れがある物を養生する"]
[101010,"草刈り機で手や足を切る","保護具を着装する"]
[101010,"草刈り機で手や足を切る","正しい姿勢で作業する"]
[101010,"草刈り機で手や足を切る","工具の始業前点検を実施する"]
[101010,"草刈り機で手や足を切る","伐採箇所に手や足を入れない"]
[101010,"材料移動時、既存物、隣接建物に接触する","声掛け合図の徹底"]
[101010,"材料移動時、既存物、隣接建物に接触する","無理な姿勢で作業しない"]
[101010,"材料移動時、既存物、隣接建物に接触する","振り回す際は、事前に周囲を確認する"]
[101020,"移動時、躓いて転倒する","近道行為を禁止する"]
[101020,"移動時、段差に躓いて転倒する","床段差に足を乗せない"]
[101020,"立馬から転落する","物を持って昇降しない"]
[101020,"立馬から転落する","開き止めを確認する"]
[101020,"立馬から転落する","無理な姿勢で作業しない"]
[101020,"立馬から転落する","昇降時は必ず後ろ向きにおりる"]
[101020,"外壁調査時、梯子から転落する","物を持って昇降しない"]
[101020,"外壁調査時、梯子から転落する","無理な姿勢で作業しない"]
[101020,"外壁調査時、梯子から転落する","梯子の固定状況を確認する"]
[101020,"外壁調査時、梯子から転落する","2人1組で作業を行う"]
[101020,"移動時、既存物、隣接建物に接触する","声掛け合図の徹底"]
[101020,"移動時、既存物、隣接建物に接触する","無理な姿勢で作業しない"]
[101020,"移動時、住民等と接触する","声掛け合図の徹底"]
[102010,"材料運搬時、躓いて転倒する","安全通路を移動する"]
[102010,"材料運搬時、躓いて転倒する","近道行為を禁止する"]
[102010,"材料運搬時、段差に躓いて転倒する","床段差に足をのせない"]
[102010,"材料運搬時、段差に躓いて転倒する","安全通路を移動する"]
[102010,"立馬から転落する","物を持って昇降しない"]
[102010,"立馬から転落する","開き止めを確認する"]
[102010,"立馬から転落する","無理な姿勢で作業しない"]
[102010,"立馬から転落する","昇降時は必ず後ろ向きにおりる"]
[102010,"建方時、吊荷が外れ落下する","クレーン使用時の合図の徹底"]
[102010,"建方時、吊荷が外れ落下する","声掛け合図の徹底"]
[102010,"建方時、吊荷が外れ落下する","玉掛けワイヤーの始業前点検を実施する"]
[102010,"建方時、吊荷が外れ落下する","吊荷荷重を確認する"]
[102010,"建方時、吊荷が外れ落下する","吊荷下の人払いを行う"]
[102010,"建方時、吊荷が外れ落下する","地切りの確認をする（333運動）"]
[102010,"建方時、玉掛けワイヤーが切れて落下する","クレーン使用時の合図の徹底"]
[102010,"建方時、玉掛けワイヤーが切れて落下する","声掛け合図の徹底"]
[102010,"建方時、玉掛けワイヤーが切れて落下する","玉掛けワイヤーの始業前点検を実施する"]
[102010,"建方時、玉掛けワイヤーが切れて落下する","吊荷荷重を確認する"]
[102010,"建方時、玉掛けワイヤーが切れて落下する","吊荷下の人払いを行う"]
[102010,"インパクトドライバー使用時、指を負傷する","無理な姿勢で作業しない"]
[102010,"インパクトドライバー使用時、指を負傷する","危険な所に手を入れない"]
[102010,"インパクトドライバー使用時、指を負傷する","電動工具の始業前点検を実施する"]
[102010,"屋根組立時、墜落する","親綱を張って安全帯を使用する"]
[102010,"屋根組立時、墜落する","無理な姿勢で作業しない"]
[102010,"屋根組立時、墜落する","安全帯が掛っていない状況を作らない"]
[102010,"屋根解体時、墜落する","親綱を張って安全帯を使用する"]
[102010,"屋根解体時、墜落する","無理な姿勢で作業しない"]
[102010,"屋根解体時、墜落する","安全帯を掛けていない状況を作らない"]
[102010,"吊荷時、搬入車輛（ユニック車)が転倒する","アウトリガー下の敷き鉄板養生を実施する"]
[102010,"吊荷時、搬入車輛（ユニック車)が転倒する","地盤状況を確認する"]
[102010,"吊荷時、搬入車輛（ユニック車)が転倒する","足元の敷鉄板養生を確認する"]
[102010,"吊荷時、搬入車輛（ユニック車)が転倒する","無線機ＯＰとの合図の徹底"]
[102010,"吊荷時、搬入車輛（ユニック車)が転倒する","吊荷荷重を確認する"]
[102010,"吊荷時、搬入車輛（ユニック車)が転倒する","旋回範囲の人払いを行う"]
[102010,"カッターナイフで手を切る","カッターナイフを動かす方向に手を置かない"]
[102010,"カッターナイフで手を切る","無理な姿勢で作業しない"]
[102010,"不安定な状態で丸のこで指を切る","電動工具の始業前点検を実施する"]
[102010,"不安定な状態で丸のこで指を切る","丸のこの保護カバーの使用する"]
[102010,"不安定な状態で丸のこで指を切る","無理な姿勢で作業しない"]
[103010,"材料運搬時、躓いて転倒する","安全通路を移動する"]
[103010,"材料運搬時、躓いて転倒する","近道行為を禁止する"]
[103010,"工事車輛の搬出入時、第三者と接触する","誘導員の合図に従う"]
[103010,"工事車輛の搬出入時、第三者と接触する","第三者から見える場所で合図する"]
[103010,"工事車輛の搬出入時、第三者と接触する","声掛け合図の徹底"]
[103010,"工事車輛の搬出入時、第三者と接触する","第三者優先で誘導を行う"]
[103010,"工事車輛の搬出入時、第三者と接触する","ｶﾗｰｺｰﾝによる立ち入り禁止措置を行う"]
[103010,"搬出入車輛が作業員と接触する","声掛け合図の徹底"]
[103010,"搬出入車輛が作業員と接触する","安全誘導の合図をする"]
[103010,"搬出入車輛が作業員と接触する","搬出入車輛と作業員の通路の区分けを行う"]
[103010,"舗装時、第三者と作業員が接触する","誘導員の合図に従う"]
[103010,"舗装時、第三者と作業員が接触する","第三者から見える場所で合図する"]
[103010,"舗装時、第三者と作業員が接触する","声掛け合図の徹底"]
[103010,"舗装時、第三者と作業員が接触する","第三者優先で誘導を行う"]
[103010,"舗装時、第三者と作業員が接触する","ｶﾗｰｺｰﾝによる立ち入り禁止措置を行う"]
[103010,"ダンプ後退時、バックホーと接触する","声掛け合図の徹底"]
[103010,"ダンプ後退時、バックホーと接触する","安全誘導の合図をする"]
[103010,"ダンプ後退時、バックホーと接触する","後退時運転手はｻｲﾄﾞﾐﾗｰだけでなく、自分の目で後方を確認する"]
[103010,"重機と作業員が接触する","重機と作業員の区分けを行う"]
[103010,"重機と作業員が接触する","声掛け合図の徹底"]
[103010,"重機と作業員が接触する","ｶﾗｰｺｰﾝによる立ち入り禁止措置を行う"]
[103010,"重機と作業員が接触する","重機ＯＰの死角に入らない"]
[103010,"重機と作業員が接触する","グーパー運動を実施する"]
[103010,"アスファルト使用時、火傷する","アスファルト運搬時はあわてないで作業する"]
[103010,"アスファルト使用時、火傷する","アスファルト使用時の作業周辺の人払いを行う"]
[103010,"アスファルト使用時、火傷する","保護具を着装する"]
[103010,"近隣家屋の壁を汚す・傷つける","近隣家屋との離隔距離を確認する"]
[103010,"近隣家屋の壁を汚す・傷つける","重機ＯＰや手元は周囲の安全確認を行う"]
[103010,"近隣家屋の壁を汚す・傷つける","ﾌﾞﾙｰｼｰﾄ､ﾍﾞﾆｱ等で養生する"]
[103020,"資材運搬時、鋼板が滑り落ち足を負傷する","適切な重量で運搬する"]
[103020,"仮囲い組立時、横桟より墜落する","親綱を使って安全帯を使用する"]
[103020,"仮囲い組立時、横桟より墜落する","安全帯を使用する"]
[103020,"仮囲い組立時、横桟より墜落する","無理な姿勢で作業しない"]
[103020,"材料運搬時、躓いて転倒する","安全通路を移動する"]
[103020,"材料運搬時、躓いて転倒する","近道行為を禁止する"]
[103020,"長尺物を振り回す際、作業員・既存物に接触する","声掛け合図の徹底"]
[103020,"長尺物を振り回す際、作業員・既存物に接触する","振り回す際は、事前に周囲確認し、人払いを行う"]
[103020,"長尺物を振り回す際、作業員・既存物に接触する","ｶﾗｰｺｰﾝによる立ち入り禁止措置を行う"]
[103020,"重機と作業員が接触する","重機と作業員の区分けを行う"]
[103020,"重機と作業員が接触する","声掛け合図の徹底"]
[103020,"重機と作業員が接触する","ｶﾗｰｺｰﾝによる立ち入り禁止措置を行う"]
[103020,"重機と作業員が接触する","重機ＯＰの死角に入らない"]
[103020,"重機と作業員が接触する","グーパー運動を実施する"]
[104010,"誘導時、躓いて転倒する","あわてず落ち着いて移動する"]
[104010,"誘導時、躓いて転倒する","近道行為を禁止する"]
[104010,"誘導時、段差に躓いて転倒する","床段差に足をのせない"]
[104010,"誘導時、段差に躓いて転倒する","あわてず落ち着いて移動する"]
[104010,"工事車輛の搬出入時、第三者と接触する","第三者優先で誘導を行う"]
[104010,"工事車輛の搬出入時、第三者と接触する","第三者から見える場所で合図する"]
[104010,"工事車輛の搬出入時、第三者と接触する","声掛け合図の徹底"]
[104010,"工事車輛の搬出入時、第三者と接触する","ｶﾗｰｺｰﾝによる立ち入り禁止措置を行う"]
[104010,"工事車輛の搬出入時、第三者と接触する","第三者の死角に入らない場所で誘導を行う"]
[104010,"誘導時、第三者と作業員が接触する","ｶﾗｰｺｰﾝによる立ち入り禁止措置を行う"]
[104010,"誘導時、第三者と作業員が接触する","第三者から見える場所で合図する"]
[104010,"誘導時、第三者と作業員が接触する","声掛け合図の徹底"]
[104010,"誘導時、第三者と作業員が接触する","第三者優先で誘導を行う"]
[104010,"誘導時、第三者と作業員が接触する","第三者や作業員の死角に入らない場所で誘導を行う"]
[104010,"誘導員が工事車輛に接触する","声掛け合図の徹底"]
[104010,"誘導員が工事車輛に接触する","運転手の死角に入らない場所で誘導を行う"]
[104010,"誘導員が工事車輛に接触する","旗や誘導棒等で目立つように合図を送る"]
[104010,"誘導員が工事車輛に挟まれる","声掛け合図の徹底"]
[104010,"誘導員が工事車輛に挟まれる","運転手の死角に入らない場所で誘導を行う"]
[104010,"誘導員が工事車輛に挟まれる","旗や誘導棒等で目立つように合図を送る"]
[105010,"束ねてあるビニールテープ切断時に、カッターナイフで手を切る","刃先の方向に手を置かない"]
[105010,"束ねてあるビニールテープ切断時に、カッターナイフで手を切る","無理な姿勢で作業しない"]
[105010,"作業場所移動時、外部足場の階段で足が滑り転倒する","階段はあわてて昇降しない"]
[105010,"材料運搬時、躓いて転倒する","安全通路を移動する"]
[105010,"材料運搬時、躓いて転倒する","近道行為を禁止する"]
[105010,"材料運搬時、段差に躓いて転倒する","床段差に足をのせない"]
[105010,"材料運搬時、段差に躓いて転倒する","安全通路を移動する"]
[105010,"立馬から転落する","物を持って昇降しない"]
[105010,"立馬から転落する","開き止めを確認する"]
[105010,"立馬から転落する","無理な姿勢で作業しない"]
[105010,"立馬から転落する","昇降時は必ず後ろ向きにおりる"]
[105010,"足場使用時、足場から墜落する","安全帯を掛けていない状況を作らない"]
[105010,"足場使用時、足場から墜落する","無理な姿勢で作業しない"]
[105010,"足場使用時、足場から墜落する","足場の始業前点検を実施する"]
[105010,"足場使用時、足場から墜落する","作業床の墜落転落防止措置を確認する"]
[105010,"足場使用時、足場から材料等を落下させる","無理な姿勢で作業しない"]
[105010,"足場使用時、足場から材料等を落下させる","作業下部の人払いを行う"]
[105010,"足場使用時、足場から材料等を落下させる","足場上の材料等を整理整頓する"]
[105010,"足場の隙間から墜落する","安全帯を掛けていない状況を作らない"]
[105010,"足場の隙間から墜落する","無理な姿勢で作業しない"]
[105010,"足場の隙間から墜落する","足場の始業前点検を実施する"]
[105010,"足場の隙間から墜落する","作業床の墜落転落防止措置の確認する"]
[105010,"足場上で躓いて転倒する","足場上の材料等を整理整頓する"]
[105010,"足場上で躓いて転倒する","無理な姿勢で作業しない"]
[105010,"足場上で躓いて転倒する","安全通路を移動する"]
[105010,"高所作業車使用時、転落する","安全帯を必ず使用する"]
[105010,"高所作業車使用時、転落する","無理な姿勢で作業しない"]
[105010,"高所作業車使用時、転落する","高所作業車の始業前点検を実施する"]
[105010,"高所作業車使用時、転落する","作業床を確認する"]
[105010,"分電盤移設時、感電する","作業手順を遵守する"]
[105010,"分電盤移設時、感電する","ゴム手袋を着装する"]
[105010,"分電盤移設時、感電する","電圧を確認する"]
[105010,"分電盤移設時、感電する","電源を切って後、移設する"]
[105010,"電源切替時、感電する","作業手順を遵守する"]
[105010,"電源切替時、感電する","ゴム手袋を着装する"]
[105010,"電源切替時、感電する","電圧を確認する"]
[105010,"電源切替時、感電する","電源を切った後、作業する"]
[105010,"スラブ上での作業中、スラブ筋に躓いて転倒する","スラブ筋上歩行の際、足元を確認し歩行する"]
[105010,"スラブ上での作業中、スラブ筋に躓いて転倒する","メッシュロード上を移動する"]
[105010,"重機(ＢＨ)と接触する","安全通路を移動する"]
[105010,"重機(ＢＨ)と接触する","声掛け合図の徹底"]
[105010,"重機(ＢＨ)と接触する","ｶﾗｰｺｰﾝによる立ち入り禁止措置を行う"]
[105010,"重機(ＢＨ)と接触する","重機ＯＰの死角に入らない"]
[105010,"重機(ＢＨ)と接触する","グーパー運動を実施する"]
[105010,"水銀灯取付時、手を詰める","無理な姿勢で作業しない"]
[105010,"水銀灯取付時、手を詰める","危険な所に手を入れない"]
[105010,"水銀灯取付時、手を詰める","暗い箇所では作業しない(手元の照明を明るくする)"]
[105010,"足場に水銀灯を設置する時に器具を落下させ下部の作業員に当たる","器具に落下防止策を施してから取り付ける"]
[105010,"電源投入時に機械・電動工具を点検していた人が負傷する","朝礼等で停電、復旧時間を周知する"]
[105010,"電源投入時に機械・電動工具を点検していた人が負傷する","電源投入前に機械廻りを確認して投入する"]
[105010,"停電時の点検清掃時に残留電荷により感電する","作業接地を確実に取り、放電を確認してから作業する"]
[105010,"樹脂管切断時に、ｶｯﾀ-ﾅｲﾌで指を切る","カッターナイフを動かす方向に手を置かない"]
[105010,"樹脂管切断時に、ｶｯﾀ-ﾅｲﾌで指を切る","無理な姿勢で作業しない"]
[105010,"樹脂管切断時に、ｶｯﾀ-ﾅｲﾌで指を切る","太もも上で切断したり、無理な態勢で作業しない"]
[105010,"配線敷設時、鉄筋の結束線が指に刺さる","鉄筋上に不用意に手をつかないようにする"]
[105010,"配線敷設時、鉄筋間に足を挟み転倒する","鉄筋上を歩行する際はﾒｯｼｭﾛｰﾄﾞを使用する"]
[105010,"配線接続時に、感電する","保護手袋を着装する"]
[105010,"配線接続時に、感電する","電圧を確認する"]
[105010,"分電盤取付時に落下させ足を詰める","重量物作業は二人で作業をする"]
[105010,"配線結線時に充電部に接触して感電する","配線結線の前に必ず検電を実施する"]
[105010,"配線撤去時に誤って活線に接触して感電する","撤去作業前には必ずﾌﾞﾚｰｶｰから縁を切り、検電を実施する"]
[105020,"材料運搬時、躓いて転倒する","安全通路を移動する"]
[105020,"材料運搬時、躓いて転倒する","近道行為を禁止する"]
[105020,"材料運搬時、段差に躓いて転倒する","床段差に足をのせない"]
[105020,"材料運搬時、段差に躓いて転倒する","安全通路を移動する"]
[105020,"足場使用時、足場から墜落する","安全帯を掛けていない状況を作らない"]
[105020,"足場使用時、足場から墜落する","無理な姿勢で作業しない"]
[105020,"足場使用時、足場から墜落する","足場の始業前点検を実施する"]
[105020,"足場使用時、足場から墜落する","作業床の墜落転落防止措置を確認する"]
[105020,"足場使用時、足場から材料等を落下させる","無理な姿勢で作業しない"]
[105020,"足場使用時、足場から材料等を落下させる","作業下部の人払いを行う"]
[105020,"足場使用時、足場から材料等を落下させる","足場上の材料等を整理整頓する"]
[105020,"足場の隙間から墜落する","安全帯を掛けていない状況を作らない"]
[105020,"足場の隙間から墜落する","無理な姿勢で作業しない"]
[105020,"足場の隙間から墜落する","足場の始業前点検を実施する"]
[105020,"足場の隙間から墜落する","作業床の墜落転落防止措置の確認する"]
[105020,"足場上で躓いて転倒する","足場上の資材等を整理整頓する"]
[105020,"足場上で躓いて転倒する","無理な姿勢で作業しない"]
[105020,"足場上で躓いて転倒する","安全通路を移動する"]
[105020,"カッターナイフで手を切る","カッターナイフを動かす方向に手を置かない"]
[105020,"カッターナイフで手を切る","無理な姿勢で作業しない"]
[105020,"ベビーサンダー使用時、手を切る","保護手袋を着装する"]
[105020,"ベビーサンダー使用時、手を切る","正しい姿勢で作業する"]
[105020,"ベビーサンダー使用時、手を切る","保護カバーを使用する"]
[105020,"ベビーサンダー使用時、手を切る","工具の始業前点検を実施する"]
[105020,"ベビーサンダー使用時、手を切る","切断箇所に手を入れない"]
[105020,"高速カッターで手を切る","保護具を着装する"]
[105020,"高速カッターで手を切る","正しい姿勢で作業する"]
[105020,"高速カッターで手を切る","高速カッターの保護カバーを使用する"]
[105020,"高速カッターで手を切る","工具の始業前点検を実施する"]
[105020,"高速カッターで手を切る","切断箇所に手を入れない"]
[105020,"重機(ＢＨ)と接触する","安全通路を移動する"]
[105020,"重機(ＢＨ)と接触する","声掛け合図の徹底"]
[105020,"重機(ＢＨ)と接触する","ｶﾗｰｺｰﾝによる立ち入り禁止措置を行う"]
[105020,"重機(ＢＨ)と接触する","重機ＯＰの死角に入らない"]
[105020,"重機(ＢＨ)と接触する","グーパー運動を実施する"]
[105020,"会所吊り込み時、吊荷が外れ落下する","重機使用時の合図の徹底"]
[105020,"会所吊り込み時、吊荷が外れ落下する","声掛け合図の徹底"]
[105020,"会所吊り込み時、吊荷が外れ落下する","ベルトスリングの始業前点検を実施する"]
[105020,"会所吊り込み時、吊荷が外れ落下する","吊荷荷重を確認する"]
[105020,"会所吊り込み時、吊荷が外れ落下する","吊荷下の人払いを行う"]
[105020,"重量物を持って腰を痛める","膝を使い、物を持ちあげる"]
[105020,"重量物を持って腰を痛める","準備体操をしっかり行う"]
[105020,"重量物を持って腰を痛める","2人1組で重量物を運ぶ"]
[105020,"長尺配管運搬時に作業員・仕上材と接触する","長尺配管は必ず2人で運搬する"]
[105020,"長尺配管運搬時に作業員・仕上材と接触する","振り回す際は、事前に周囲確認し、人払いを行う"]
[105020,"長尺配管運搬時に作業員・仕上材と接触する","声掛け合図の徹底"]
[105020,"汚水配管撤去時に汚物が目や口に入る","撤去前に配管内の洗浄を十分に行い、保護具を着装して撤去する"]
[105020,"配管運搬時に、周囲の人に材料を当ててしまう","運搬前、運搬中に、周囲状況を確認し、声掛けをする"]
[105020,"高速ｶｯﾀｰの歯が、抜けてしまい損傷する","作業前点検を実施し、異常が無いか確認する"]
[108010,"移動時、躓いて転倒する","安全通路を移動する"]
[108010,"移動時、躓いて転倒する","近道行為を禁止する"]
[108010,"移動時、段差に躓いて転倒する","床段差に足をのせない"]
[108010,"移動時、段差に躓いて転倒する","安全通路を移動する"]
[108010,"工事車輛の搬出入時、第三者と接触する","誘導員の合図に従う"]
[108010,"工事車輛の搬出入時、第三者と接触する","第三者から見える場所で合図する"]
[108010,"工事車輛の搬出入時、第三者と接触する","声掛け合図の徹底"]
[108010,"工事車輛の搬出入時、第三者と接触する","第三者優先で誘導を行う"]
[108010,"工事車輛の搬出入時、第三者と接触する","ｶﾗｰｺｰﾝによる立ち入り禁止措置を行う"]
[108010,"荷卸し時、トレーラー上から転落する","スタンション・親綱を使用する"]
[108010,"荷卸し時、トレーラー上から転落する","安全帯を使用する"]
[108010,"荷卸し時、トレーラー上から転落する","声掛け合図の徹底"]
[108010,"荷卸し時、トレーラー上から転落する","無理な姿勢で作業しない"]
[108010,"クレーン使用時、資材を既存物にぶつける","クレーン使用時の合図の徹底"]
[108010,"クレーン使用時、資材を既存物にぶつける","声掛け合図の徹底"]
[108010,"クレーン使用時、資材を既存物にぶつける","既存物近くに材料を置かない"]
[108010,"揚重機が転倒する","アウトリガー下の敷き鉄板養生を実施する"]
[108010,"揚重機が転倒する","地盤状況を確認する"]
[108010,"揚重機が転倒する","足元の敷鉄板養生を確認する"]
[108010,"揚重機が転倒する","無線機ＯＰとの合図の徹底"]
[108010,"揚重機組立時、手･足を挟まれる","不安定な状態で吊荷を置かない"]
[108010,"揚重機組立時、手･足を挟まれる","危険な所に手・足を入れない"]
[108010,"揚重機組立時、手･足を挟まれる","荷吊りの際はオペとの合図確認を行う"]
[108010,"揚重機組立時、手･足を挟まれる","不安定な状態で吊り上げない"]
[108010,"揚重機組立時、手･足を挟まれる","声掛け合図の徹底"]
[108010,"揚重機組立時、手･足を挟まれる","介錯ロープを使用する"]
[108010,"ブーム組立時、高所から転落する","安全ブロック・安全帯を使用する"]
[108010,"ブーム組立時、高所から転落する","無理な姿勢で作業しない"]
[108010,"ブーム解体時、高所から転落する","安全ブロック・安全帯を使用する"]
[108010,"ブーム解体時、高所から転落する","無理な姿勢で作業しない"]
[108010,"重量物を持って腰を痛める","膝を使い、物を持ちあげる"]
[108010,"重量物を持って腰を痛める","準備体操をしっかり行う"]
[108010,"重量物を持って腰を痛める","2人1組で重量物を運ぶ"]
[109010,"移動時、躓いて転倒する","安全通路を移動する"]
[109010,"移動時、躓いて転倒する","近道行為を禁止する"]
[109010,"移動時、段差に躓いて転倒する","床段差に足をのせない"]
[109010,"移動時、段差に躓いて転倒する","安全通路を移動する"]
[109010,"スラブ上での作業中、スラブ筋に躓いて転倒する","スラブ筋上歩行の際、足元を確認し歩行する"]
[109010,"スラブ上での作業中、スラブ筋に躓いて転倒する","メッシュロード上を移動する"]
[109010,"スラブ上での作業中、スラブ段差に躓いて転倒する","スラブ筋上歩行の際、足元を確認し歩行する"]
[109010,"スラブ上での作業中、スラブ段差に躓いて転倒する","メッシュロード上を移動する"]
[109010,"溶接部で火傷する","保護手袋を着装する"]
[109010,"溶接部で火傷する","溶接箇所を触れるかどうか、水等で確認する"]
[109010,"検査時、吊荷が落ちて負傷する","クレーン使用時の合図を確認する"]
[109010,"検査時、吊荷が落ちて負傷する","吊荷直下には入らない"]
[109010,"検査時、吊荷が落ちて負傷する","保護具を着装する"]
[109010,"一輪車での運搬時、躓いて転倒する","安全通路を移動する"]
[109010,"一輪車での運搬時、躓いて転倒する","近道行為を禁止する"]
[109010,"生コン車と接触する","安全通路を移動する"]
[109010,"生コン車と接触する","生コン運転手に誘導合図を送る"]
[109010,"エアメーター使用時、指を挟む","使用時は手元の確認を行う"]
[109010,"エアメーター使用時、指を挟む","無理な姿勢で作業しない"]
[109010,"エアメーター使用時、指を挟む","保護手袋を着装する"]
[109010,"スランプコーンを引き上げる際、腰を痛める","膝を使い、物を持ちあげる"]
[109010,"スランプコーンを引き上げる際、腰を痛める","準備体操をしっかり行う"]
[109010,"スランプコーンを引き上げる際、腰を痛める","無理な姿勢で作業しない"]
[110010,"資材荷吊り時アウトリガー下地盤が沈下しユニック車が転倒する","敷鉄板並びに専用敷板を確実に敷設する"]
[110010,"資材荷吊り時敷鉄板の角にアウトリガーを設置しユニック車が転倒する","アウトリガーが敷鉄板角部にならないように配置する"]
[110010,"資材荷吊り時過過重になりユニック車が転倒する","作業計画書を順守する"]
[110010,"敷鉄板を敷き並べ時に下にある石をどけようとして手を入れた際にフックが外れ挟まれる","敷鉄板の下に手などを入れない"]
[110010,"敷鉄板を敷き並べ時に下にある石をどけようとして手を入れた際にフックが外れ挟まれる","敷鉄板を敷き並べる際には地ならしを確実に行ってから行う"]
[110010,"敷鉄板を敷き並べ時に下にある石をどけようとして手を入れた際にフックが外れ挟まれる","敷鉄板を吊上げる際は、外れ止め付きの専用吊り具を使用する"]
[110010,"積込み中の資材の荷崩れで負傷する","資材の結束状態を確認する"]
[110010,"積込み中の資材の荷崩れで負傷する","安定した置き方で資材を積み込む"]
[110010,"運搬中の資材の荷崩れで負傷する","資材の結束状態を確認する"]
[110010,"運搬中の資材の荷崩れで負傷する","適切な人数で運搬する"]
[110010,"運搬中の資材の荷崩れで負傷する","一度に無理してたくさん運ばない"]
[110010,"資材運搬中に躓き転倒する","通路・運搬経路に障害物がないか確認する"]
[110010,"資材運搬中に躓き転倒する","適切な人数で運搬する"]
[110010,"資材運搬時、台車に手を挟まれて負傷する","台車の車輪の前に手を置かない"]
[110010,"資材運搬時、台車に手を挟まれて負傷する","無理な体勢で作業しない"]
[110010,"敷鉄板荷吊り時に玉掛けワイヤーが外れ、敷鉄板で手足を挟む","敷鉄板の下に手足を入れない"]
[110010,"敷鉄板荷吊り時に玉掛けワイヤーが外れ、敷鉄板で手足を挟む","専用のフックを使用する"]
[110010,"ユニック作業中誤作動にて吊荷が振れて負傷する","操作をあわてない"]
[110010,"ユニック作業中誤作動にて吊荷が振れて負傷する","荷下ろし作業には合番者を配置する"]
[110010,"ユニック作業中誤作動にて吊荷が振れて負傷する","地切りの確認（333運動）"]
[110010,"ハンドリフトを車上から下ろす時に手を挟む","車輪の軸部等手を挟む恐れがある所に手を入れない"]
[110010,"ハンドリフトを車上から下ろす時に手を挟む","適正な人数で運搬する"]
[110010,"ハンドリフトを車上から下ろす時に手を挟む","一度に無理してたくさん運ばない"]
[110010,"重量物運搬時パレットが傾き倒れる","適正な人数で運搬する"]
[110010,"重量物運搬時パレットが傾き倒れる","通路・運搬経路に障害物がないか確認する"]
[110010,"重量物運搬時パレットが傾き倒れる","安全通路を確認する"]
[110010,"重量物運搬時パレットが傾き倒れる","一度に無理してたくさん運ばない"]
[110010,"移動時、躓いて転倒する","安全通路を移動する"]
[110010,"移動時、躓いて転倒する","近道行為を禁止する"]
[110010,"移動時、段差に躓いて転倒する","床段差に足をのせない"]
[110010,"移動時、段差に躓いて転倒する","安全通路を移動する"]
[110010,"材料荷揚時、吊荷が外れ落下する","クレーン使用時の合図の徹底"]
[110010,"材料荷揚時、吊荷が外れ落下する","声掛け合図の徹底"]
[110010,"材料荷揚時、吊荷が外れ落下する","玉掛けワイヤーの始業前点検を実施する"]
[110010,"材料荷揚時、吊荷が外れ落下する","吊荷荷重を確認する"]
[110010,"材料荷揚時、吊荷が外れ落下する","吊荷下の人払いを行う"]
[110010,"材料荷揚時、吊荷が外れ落下する","地切りの確認をする（333運動）"]
[110010,"荷揚時、玉掛けワイヤーが切れて落下する","クレーン使用時の合図の徹底"]
[110010,"荷揚時、玉掛けワイヤーが切れて落下する","声掛け合図の徹底"]
[110010,"荷揚時、玉掛けワイヤーが切れて落下する","玉掛けワイヤーの始業前点検を実施する"]
[110010,"荷揚時、玉掛けワイヤーが切れて落下する","吊荷荷重を確認する"]
[110010,"荷揚時、玉掛けワイヤーが切れて落下する","吊荷下の人払いを行う"]
[110010,"フォークリフト移動時、作業員と接触する","フォークリフト走行路と作業員の区分けを行う"]
[110010,"フォークリフト移動時、作業員と接触する","声掛け合図の徹底"]
[110010,"フォークリフト移動時、作業員と接触する","ｶﾗｰｺｰﾝによる立ち入り禁止措置を行う"]
[110010,"フォークリフト移動時、作業員と接触する","運転手の死角に入らない"]
[110010,"工事車輛に接触する","声掛け合図の徹底"]
[110010,"工事車輛に接触する","運転手の死角に入らない場所で誘導を行う"]
[110010,"工事車輛に接触する","安全誘導を行う"]
[110010,"荷台から転落する","無理な姿勢で作業しない"]
[110010,"荷台から転落する","安全帯を必ず使用する"]
[110010,"荷台から転落する","昇降設備を設置する"]
[110010,"揚重機が転倒する","アウトリガー下の敷き鉄板養生を実施する"]
[110010,"揚重機が転倒する","地盤状況を確認する"]
[110010,"揚重機が転倒する","足元の敷鉄板養生を確認する"]
[110010,"揚重機が転倒する","無線機ＯＰとの合図の徹底"]
[201010,"移動時、躓いて転倒する","安全通路を移動する"]
[201010,"移動時、躓いて転倒する","近道行為を禁止する"]
[201010,"移動時、段差に躓いて転倒する","床段差に足をのせない"]
[201010,"移動時、段差に躓いて転倒する","安全通路を移動する"]
[201010,"スラブ上での作業中、スラブ筋に躓いて転倒する","スラブ筋上歩行の際、足元を確認し歩行する"]
[201010,"スラブ上での作業中、スラブ筋に躓いて転倒する","メッシュロード上を移動する"]
[201010,"スラブ端部・開口部から転落する","端部・開口部作業は安全帯を必ず使用し、作業を行う"]
[201010,"スラブ端部・開口部から転落する","無理な姿勢で作業しない"]
[201010,"スラブ端部・開口部から転落する","昇降設備を使用する"]
[201010,"スラブ端部・開口部から転落する","近道行為を禁止する"]
[201010,"スラブ端部・開口部から転落する","安全通路を移動する"]
[201010,"墨出し時、吊荷が落ちて負傷する","クレーン使用時の合図を確認する"]
[201010,"墨出し時、吊荷が落ちて負傷する","吊荷直下には入らない"]
[201010,"重機(ＢＨ)と接触する","安全通路を移動する"]
[201010,"重機(ＢＨ)と接触する","声掛け合図の徹底"]
[201010,"重機(ＢＨ)と接触する","ｶﾗｰｺｰﾝによる立ち入り禁止措置を行う"]
[201010,"重機(ＢＨ)と接触する","重機ＯＰの死角に入らない"]
[201010,"重機(ＢＨ)と接触する","グーパー運動を実施する"]
[201010,"足場使用時、足場から墜落する","安全帯を掛けていない状況を作らない"]
[201010,"足場使用時、足場から墜落する","無理な姿勢で作業しない"]
[201010,"足場使用時、足場から墜落する","足場の始業前点検を実施する"]
[201010,"足場使用時、足場から墜落する","作業床の墜落転落防止措置を確認する"]
[201010,"足場の隙間から墜落する","安全帯を掛けていない状況を作らない"]
[201010,"足場の隙間から墜落する","無理な姿勢で作業しない"]
[201010,"足場の隙間から墜落する","足場の始業前点検を実施する"]
[201010,"足場の隙間から墜落する","作業床の墜落転落防止措置の確認する"]
[201010,"足場上で躓いて転倒する","足場上の資材等を整理整頓する"]
[201010,"足場上で躓いて転倒する","無理な姿勢で作業しない"]
[201010,"足場上で躓いて転倒する","安全通路を移動する"]
[201010,"立馬から転落する","物を持って昇降しない"]
[201010,"立馬から転落する","開き止め確認する"]
[201010,"立馬から転落する","無理な姿勢で作業しない"]
[201010,"立馬から転落する","昇降時は必ず後ろ向きにおりる"]
[201010,"梁天端から転落する","親綱を張り、安全帯を使用する"]
[201010,"梁天端から転落する","無理な姿勢で作業しない"]
[201010,"梁天端から転落する","危険な箇所には登らない"]
[201010,"梁天端から転落する","昇降設備を使用する"]
[202010,"枠組足場解体荷下ろし中、妻手摺の隙間から墜落する","安全帯を掛けていない状況を作らない（二丁掛安全帯使用の徹底）"]
[202010,"枠組足場解体荷下ろし中、妻手摺の隙間から墜落する","身を乗り出して合図や受け渡しを行わない"]
[202010,"足場の大バラシ時、玉掛けワイヤーに引掛かり足場が倒れる","玉掛けワイヤーが足場材に絡まらない位置に移動させてから巻き上げる"]
[202010,"足場の大バラシ時、介錯ロープがワイヤーに引掛かり足場が倒れる","介錯ロープが足場材に絡まらない位置に移動させてから巻き上げる"]
[202010,"足場材荷下ろし時不安定な状態で下桟に足を掛けはずれた衝撃で足場から墜落する","安全帯が使用できない状況を作らない"]
[202010,"足場材荷下ろし時開口のある状態で下桟に足を掛けはずれた衝撃で足場から墜落する","階段部などの開口部は養生し不安定な状態で作業しない"]
[202010,"資材にあたって負傷する","資材を投げ渡ししない"]
[202010,"単管パイプとクランプで指を挟む","クランプを緩める際は、単管パイプ等がずれ落ちないか確認する"]
[202010,"単管パイプとクランプで指を挟む","挟む可能性がある箇所に指を入れない"]
[202010,"単管パイプを受け取る際、バランスを崩して転倒する","作業する足元の確認を行う"]
[202010,"単管パイプを受け取る際、バランスを崩して転倒する","付近に段差や障害物がないか確認する"]
[202010,"単管パイプを受け取る際、バランスを崩して転倒する","資材を受渡す際は必ず声かけを行う"]
[202010,"外壁の控えを取付け時に折り曲げた波板で手を負傷する","皮手袋等を使用する"]
[202010,"外壁の控えを取付け時に折り曲げた波板で手を負傷する","波板を確実に折り曲げる"]
[202010,"材料運搬時、躓いて転倒する","安全通路を移動する"]
[202010,"材料運搬時、躓いて転倒する","近道行為を禁止する"]
[202010,"材料運搬時、段差に躓いて転倒する","床段差に足をのせない"]
[202010,"材料運搬時、段差に躓いて転倒する","安全通路を移動する"]
[202010,"地組み時、他業者と接触する","足場組立範囲の区分けを行う"]
[202010,"地組み時、他業者と接触する","声掛け合図の徹底"]
[202010,"地組み時、他業者と接触する","ｶﾗｰｺｰﾝによる立ち入り禁止措置を行う"]
[202010,"資材荷卸し時、吊荷が外れ落下する","クレーン使用時の合図の徹底"]
[202010,"資材荷卸し時、吊荷が外れ落下する","声掛け合図の徹底"]
[202010,"資材荷卸し時、吊荷が外れ落下する","玉掛けワイヤーの始業前点検を実施する"]
[202010,"資材荷卸し時、吊荷が外れ落下する","吊荷荷重を確認する"]
[202010,"資材荷卸し時、吊荷が外れ落下する","吊荷下の人払いを行う"]
[202010,"資材荷卸し時、吊荷が外れ落下する","地切りの確認をする（333運動）"]
[202010,"足場せり上げ時、足場から墜落する","親綱を張り安全帯を使用する"]
[202010,"足場せり上げ時、足場から墜落する","無理な姿勢で作業しない"]
[202010,"足場せり上げ時、足場から墜落する","足場の始業前点検を実施する"]
[202010,"足場せり上げ時、足場から墜落する","作業床の墜落転落防止措置を確認する"]
[202010,"足場解体時、足場から墜落する","親綱を張り安全帯を使用する"]
[202010,"足場解体時、足場から墜落する","無理な姿勢で作業しない"]
[202010,"足場解体時、足場から墜落する","足場の始業前点検を実施する"]
[202010,"足場解体時、足場から墜落する","作業床の墜落転落防止措置を確認する"]
[202010,"足場せり上げ時、足場から材料等を落下させる","無理な姿勢で作業しない"]
[202010,"足場せり上げ時、足場から材料等を落下させる","作業下部の人払いを行う"]
[202010,"足場せり上げ時、足場から材料等を落下させる","足場上の材料等を整理整頓する"]
[202010,"足場解体時、足場から材料等を落下させる","無理な姿勢で作業しない"]
[202010,"足場解体時、足場から材料等を落下させる","作業下部の人払いを行う"]
[202010,"足場解体時、足場から材料等を落下させる","保護具を着装する"]
[202010,"足場解体時、足場から材料等を落下させる","足場上の材料等を整理整頓する"]
[202010,"足場せり上げ時、既存物、隣接建物に接触する","声掛け合図の徹底"]
[202010,"足場せり上げ時、既存物、隣接建物に接触する","無理な姿勢で作業しない"]
[202010,"足場せり上げ時、既存物、隣接建物に接触する","振り回す際は、事前に周囲確認する"]
[202010,"足場解体時、既存物、隣接建物に接触する","声掛け合図の徹底"]
[202010,"足場解体時、既存物、隣接建物に接触する","無理な姿勢で作業しない"]
[202010,"足場解体時、既存物、隣接建物に接触する","振り回す際は、事前に周囲確認する"]
[202010,"足場の隙間から墜落する","安全帯を掛けていない状況を作らない"]
[202010,"足場の隙間から墜落する","無理な姿勢で作業しない"]
[202010,"足場の隙間から墜落する","足場の始業前点検を実施する"]
[202010,"足場の隙間から墜落する","作業床の墜落転落防止措置の確認する"]
[202010,"長尺物を振り回す際、作業員にぶつける","声掛け合図の徹底"]
[202010,"長尺物を振り回す際、作業員にぶつける","振り回す際は、事前に周囲確認し、人払いを行う"]
[202010,"長尺物を振り回す際、作業員にぶつける","ｶﾗｰｺｰﾝによる立ち入り禁止措置を行う"]
[202010,"資材受渡し時、手が滑り、落下する","無理な姿勢で作業しない"]
[202010,"資材受渡し時、手が滑り、落下する","作業下部の人払いを行う"]
[202010,"資材受渡し時、手が滑り、落下する","皮手袋を着装する"]
[202010,"資材受渡し時、手が滑り、落下する","声掛け合図の徹底"]
[202020,"ローリング足場が倒れて負傷する","荷重が一方向にかからないように注意する"]
[202020,"ローリング足場が倒れて負傷する","人を乗せたまま移動しない"]
[202020,"ローリング足場が倒れて負傷する","転倒の恐れがある時は控えを設置する"]
[202020,"材料運搬時、躓いて転倒する","安全通路を移動する"]
[202020,"材料運搬時、躓いて転倒する","近道行為を禁止する"]
[202020,"足場の隙間から墜落する","安全帯を掛けていない状況を作らない"]
[202020,"足場の隙間から墜落する","無理な姿勢で作業しない"]
[202020,"足場の隙間から墜落する","足場の始業前点検を実施する"]
[202020,"足場の隙間から墜落する","作業床の墜落転落防止措置の確認する"]
[202020,"足場の隙間から墜落する","作業下部の人払いを行う"]
[202020,"足場の隙間から墜落する","保護具を着装する"]
[202020,"足場から墜落する","安全帯を掛けていない状況を作らない"]
[202020,"足場から墜落する","無理な姿勢で作業しない"]
[202020,"足場から墜落する","足場の始業前点検を実施する"]
[202020,"足場から墜落する","作業床の墜落転落防止措置の確認する"]
[202020,"足場から墜落する","保護具を着装する"]
[202020,"足場から資材等を落下させる","無理な姿勢で作業しない"]
[202020,"足場から資材等を落下させる","作業下部の人払いを行う"]
[202020,"足場から資材等を落下させる","ｶﾗｰｺｰﾝによる立ち入り禁止措置を行う"]
[202020,"足場から資材等を落下させる","足場上の資材等を整理整頓する"]
[202020,"地組み時、他業者と接触する","足場組立範囲の区分けを行う"]
[202020,"地組み時、他業者と接触する","声掛け合図の徹底"]
[202020,"地組み時、他業者と接触する","ｶﾗｰｺｰﾝによる立ち入り禁止措置を行う"]
[202020,"長尺物を振り回す際、作業員にぶつける","声掛け合図の徹底"]
[202020,"長尺物を振り回す際、作業員にぶつける","振り回す際は、事前に周囲確認し、人払いを行う"]
[202020,"長尺物を振り回す際、作業員にぶつける","ｶﾗｰｺｰﾝによる立ち入り禁止措置を行う"]
[202020,"重機と作業員が接触する","重機と作業員の区分けを行う"]
[202020,"重機と作業員が接触する","声掛け合図の徹底"]
[202020,"重機と作業員が接触する","ｶﾗｰｺｰﾝによる立ち入り禁止措置を行う"]
[202020,"重機と作業員が接触する","重機ＯＰの死角に入らない"]
[202020,"重機と作業員が接触する","グーパー運動を実施する"]
[202020,"資材受渡し時、手が滑り、落下する","無理な姿勢で作業しない"]
[202020,"資材受渡し時、手が滑り、落下する","作業下部の人払いを行う"]
[202020,"資材受渡し時、手が滑り、落下する","皮手袋を着装する"]
[202020,"資材受渡し時、手が滑り、落下する","声掛け合図の徹底"]
[203010,"単管通路足場組立中雨天で足を滑らして足場から墜落する","靴底の泥等を落として滑りを防止する"]
[203010,"単管通路足場組立中雨天で足を滑らして足場から墜落する","単管パイプ上では作業しない（作業床を確保する）"]
[203010,"単管通路足場組立中雨天で足を滑らして足場から墜落する","安全帯が使用できない状況で作業しない（二丁掛安全帯使用の徹底）"]
[203010,"材料運搬時、躓いて転倒する","安全通路を移動する"]
[203010,"材料運搬時、躓いて転倒する","近道行為を禁止する"]
[203010,"材料運搬時、段差に躓いて転倒する","床段差に足をのせない"]
[203010,"材料運搬時、段差に躓いて転倒する","安全通路を移動する"]
[203010,"通路足場から身を寄り出した際、墜落する","安全帯を掛けていない状況を作らない"]
[203010,"通路足場から身を寄り出した際、墜落する","無理な姿勢で作業しない"]
[203010,"通路足場から身を寄り出した際、墜落する","足場の始業前点検を実施する"]
[203010,"通路足場から身を寄り出した際、墜落する","作業床の墜落転落防止措置を確認する"]
[203010,"資材荷卸し時、吊荷が外れ落下する","クレーン使用時の合図の徹底"]
[203010,"資材荷卸し時、吊荷が外れ落下する","声掛け合図の徹底"]
[203010,"資材荷卸し時、吊荷が外れ落下する","玉掛けワイヤーの始業前点検を実施する"]
[203010,"資材荷卸し時、吊荷が外れ落下する","吊荷荷重を確認する"]
[203010,"資材荷卸し時、吊荷が外れ落下する","吊荷下の人払いを行う"]
[203010,"資材荷卸し時、吊荷が外れ落下する","地切りの確認をする（333運動）"]
[203010,"長尺物を振り回す際、作業員にぶつける","声掛け合図の徹底"]
[203010,"長尺物を振り回す際、作業員にぶつける","振り回す際は、事前に周囲確認し、人払いを行う"]
[203010,"長尺物を振り回す際、作業員にぶつける","ｶﾗｰｺｰﾝによる立ち入り禁止措置を行う"]
[203010,"資材受渡し時、手が滑り、落下する","無理な姿勢で作業しない"]
[203010,"資材受渡し時、手が滑り、落下する","作業下部の人払いを行う"]
[203010,"資材受渡し時、手が滑り、落下する","皮手袋を着装する"]
[203010,"資材受渡し時、手が滑り、落下する","声掛け合図の徹底"]
[203010,"足場板を固定する際、足場板の天ビンにより墜落する","安全帯を掛けていない状況を作らない"]
[203010,"足場板を固定する際、足場板の天ビンにより墜落する","無理な姿勢で作業しない"]
[203010,"足場板を固定する際、足場板の天ビンにより墜落する","2人1組で作業を行う"]
[203020,"資材荷下ろし時に落下し、人にあたる","荷渡し時の際は必ず声を掛け合うこと"]
[203020,"資材荷下ろし時に落下し、人にあたる","荷卸しする資材が部分的に落下しないか確認して作業にかかる"]
[203020,"資材荷下ろし時に落下し、人にあたる","下に人がいないか確認する"]
[203020,"足場使用時、足場から墜落する","安全帯を掛けていない状況を作らない"]
[203020,"足場使用時、足場から墜落する","無理な姿勢で作業しない"]
[203020,"足場使用時、足場から墜落する","足場の始業前点検を実施する"]
[203020,"足場使用時、足場から墜落する","作業床の墜落転落防止措置を確認する"]
[203020,"長尺物を振り回す際、作業員にぶつける","声掛け合図の徹底"]
[203020,"長尺物を振り回す際、作業員にぶつける","振り回す際は、事前に周囲確認し、人払いを行う"]
[203020,"長尺物を振り回す際、作業員にぶつける","ｶﾗｰｺｰﾝによる立入禁止措置を行う"]
[203020,"資材受渡し時、手が滑り、落下する","無理な姿勢で作業しない"]
[203020,"資材受渡し時、手が滑り、落下する","作業下部の人払いを行う"]
[203020,"資材受渡し時、手が滑り、落下する","皮手袋を着装する"]
[203020,"資材受渡し時、手が滑り、落下する","声掛け合図の徹底"]
[203020,"梁天端から転落する","親綱を使って、安全帯を使用する"]
[203020,"梁天端から転落する","無理な姿勢で作業しない"]
[203020,"梁天端から転落する","危険な箇所には登らない"]
[203020,"足場板を固定する際、足場板の天ビンにより墜落する","安全帯を掛けていない状況を作らない"]
[203020,"足場板を固定する際、足場板の天ビンにより墜落する","無理な姿勢で作業しない"]
[203020,"足場板を固定する際、足場板の天ビンにより墜落する","2人1組で作業を行う"]
[203020,"差筋で足を切る","安全通路を確保し、歩行する"]
[203020,"差筋で足を切る","差筋ｷｬｯﾌﾟを取り付ける"]
[203020,"差筋で足を切る","服装の乱れを確認する"]
[203030,"ライトステップ移設中、脚が閉じて手を挟む","開き止めを確認する"]
[203030,"足場上移動中、墜落する","安全帯を掛けていない状況を作らない"]
[203030,"足場上移動中、墜落する","無理な姿勢で作業しない"]
[203030,"足場上移動中、墜落する","開口部が無いか確認する"]
[203030,"長尺物を振り回す際、作業員にぶつける","声掛け合図の徹底"]
[203030,"長尺物を振り回す際、作業員にぶつける","振り回す際は、事前に周囲確認し、人払いを行う"]
[203030,"資材受渡し時、手が滑り、落下する","無理な姿勢で作業しない"]
[203030,"資材受渡し時、手が滑り、落下する","作業下部の人払いを行う"]
[203030,"資材受渡し時、手が滑り、落下する","皮手袋を着装する"]
[203030,"資材受渡し時、手が滑り、落下する","声掛け合図の徹底"]
[203030,"足場板を固定する際、足場板の天ビンにより墜落する","安全帯を掛けていない状況を作らない"]
[203030,"足場板を固定する際、足場板の天ビンにより墜落する","無理な姿勢で作業しない"]
[203030,"足場板を固定する際、足場板の天ビンにより墜落する","2人1組で作業を行う"]
[203030,"つりチェーンの外れにより、部材が落下する","チェーンフックのかかりを確認する"]
[203030,"つりチェーンの外れにより、部材が落下する","つりチェーン以外のものを使用しない"]
[203030,"つりチェーンの外れにより、部材が落下する","無理な姿勢で作業しない"]
[203030,"手摺取付け時、墜落する","無理な姿勢で作業しない"]
[203030,"手摺取付け時、墜落する","安全帯を掛けていない状況を作らない"]
[203030,"梁上移動時、工具等が落下する","無理な姿勢で作業しない"]
[203030,"梁上移動時、工具等が落下する","足元を常に確認する"]
[203030,"梁上移動時、工具等が落下する","紐付き工具を使用する"]
[204010,"単管一本の上でシート紐を結束時、誤って墜落する","単管パイプ上では作業しない（作業床を確保する）"]
[204010,"単管一本の上でシート紐を結束時、誤って墜落する","安全帯が使用できない状況で作業しない（二丁掛安全帯使用の徹底）"]
[204010,"シートが落下して人に当たる","落下させないように仮固定してから外部に出す"]
[204010,"シートが落下して電線他に引っ掛かる","落下させないように仮固定してから外部に出す"]
[204010,"高所作業車使用時、身を寄り出して墜落する","安全帯を掛けていない状況を作らない"]
[204010,"高所作業車使用時、身を寄り出して墜落する","無理な姿勢で作業しない"]
[204010,"高所作業車使用時、身を寄り出して墜落する","高所作業車の始業前点検を実施する"]
[204010,"足場から墜落する","安全帯を掛けていない状況を作らない"]
[204010,"足場から墜落する","無理な姿勢で作業しない"]
[204010,"足場から墜落する","足場の始業前点検を実施する"]
[204010,"足場から墜落する","作業床の墜落転落防止措置の確認する"]
[204010,"足場から墜落する","保護具を着装する"]
[204010,"足場から資材等を落下させる","無理な姿勢で作業しない"]
[204010,"足場から資材等を落下させる","作業下部の人払いを行う"]
[204010,"足場から資材等を落下させる","ｶﾗｰｺｰﾝによる立ち入り禁止措置を行う"]
[204010,"足場から資材等を落下させる","足場上の資材等を整理整頓する"]
[204010,"シートヒモを近隣家屋の屋根に落す","シートヒモはPP袋に入れて移動する"]
[204010,"シートヒモを近隣家屋の屋根に落す","無理な姿勢で作業しない"]
[205010,"後ろ向きに掃き掃除中コーナー部の足場の隙間から墜落する","後ろ向きでの作業は行わない"]
[205010,"足場の隙間から墜落する","足場は危険箇所が無いか使用前に点検・確認する"]
[205010,"資材運搬時物が落下して負傷する","上下作業で資材を荷揚げ、荷下ろしの際は必ず声を掛け合う"]
[205010,"資材運搬時物が落下して負傷する","不安定な状態の上に物を置かない"]
[205010,"資材運搬時物が落下して負傷する","下に人がいないか確認する"]
[205010,"後進ダンプにひかれて負傷する","必ず安全通路を通行する"]
[205010,"後進ダンプにひかれて負傷する","車両と歩行者の区分けの徹底"]
[205010,"後進ダンプにひかれて負傷する","カラーコーン・バーによる立入禁止措置の徹底"]
[205010,"後進ダンプにひかれて負傷する","後進時運転手はサイドミラーだけでなく、自分の目で後方確認を行う。"]
[205010,"スクレイパー刃の取替時に手を切る","無理な姿勢で作業しない"]
[205010,"スクレイパー刃の取替時に手を切る","刃先の方向に手を置かない"]
[205010,"重量物運搬時インターロッキングに躓いて足の上に落下する","適正な人数で運搬する"]
[205010,"重量物運搬時インターロッキングに躓いて足の上に落下する","床に段差がないかを確認する"]
[205010,"移動時、躓いて転倒する","安全通路を移動する"]
[205010,"移動時、躓いて転倒する","近道行為を禁止する"]
[205010,"移動時、段差に躓いて転倒する","床段差に足をのせない"]
[205010,"移動時、段差に躓いて転倒する","安全通路を移動する"]
[205010,"スラブ端部・開口部から転落する","端部・開口部作業は安全帯を必ず使用し、作業を行う"]
[205010,"スラブ端部・開口部から転落する","無理な姿勢で作業しない"]
[205010,"スラブ端部・開口部から転落する","昇降設備を使用する"]
[205010,"スラブ端部・開口部から転落する","近道行為を禁止する"]
[205010,"スラブ端部・開口部から転落する","安全通路を移動する"]
[205010,"移動時、吊荷が落ちて負傷する","吊荷直下には入らない"]
[205010,"移動時、吊荷が落ちて負傷する","クレーン使用時の合図を確認する"]
[205010,"廻りの重機(ＢＨ)と接触する","安全通路を移動する"]
[205010,"廻りの重機(ＢＨ)と接触する","声掛け合図の徹底"]
[205010,"廻りの重機(ＢＨ)と接触する","ｶﾗｰｺｰﾝによる立ち入り禁止措置を行う"]
[205010,"廻りの重機(ＢＨ)と接触する","重機ＯＰの死角に入らない"]
[205010,"廻りの重機(ＢＨ)と接触する","グーパー運動を実施する"]
[205010,"足場使用時、足場から墜落する","安全帯を掛けていない状況を作らない"]
[205010,"足場使用時、足場から墜落する","無理な姿勢で作業しない"]
[205010,"足場使用時、足場から墜落する","足場の始業前点検を実施する"]
[205010,"足場使用時、足場から墜落する","作業床の墜落転落防止措置を確認する"]
[205010,"足場の隙間から墜落する","安全帯を掛けていない状況を作らない"]
[205010,"足場の隙間から墜落する","無理な姿勢で作業しない"]
[205010,"足場の隙間から墜落する","足場の始業前点検を実施する"]
[205010,"足場の隙間から墜落する","作業床の墜落転落防止措置の確認する"]
[205010,"足場上で躓いて転倒する","足場上の資材等を整理整頓する"]
[205010,"足場上で躓いて転倒する","無理な姿勢で作業しない"]
[205010,"足場上で躓いて転倒する","安全通路を移動する"]
[205010,"立馬から転落する","物を持って昇降しない"]
[205010,"立馬から転落する","開き止めを確認する"]
[205010,"立馬から転落する","無理な姿勢で作業しない"]
[205010,"立馬から転落する","昇降時は必ず後ろ向きにおりる"]
[205010,"重量物を持って腰を痛める","膝を使い、物を持ちあげる"]
[205010,"重量物を持って腰を痛める","準備体操をしっかり行う"]
[205010,"重量物を持って腰を痛める","2人1組で重量物を運ぶ"]
[205010,"足場清掃時、足場からガラ等を落下させる","無理な姿勢で作業しない"]
[205010,"足場清掃時、足場からガラ等を落下させる","作業下部の人払いを行う"]
[205010,"資材片付け時、資材で手を挟む","不安定な状態で資材を持ち上げない"]
[205010,"資材片付け時、資材で手を挟む","危険な所に手を入れない"]
[205010,"ピット内昇降時、足を滑らせ墜落する","昇降時、上下・頭上・足元を確認する"]
[205010,"ピット内清掃時、ピット内で酸欠になる","送風機を使用する"]
[205010,"ピット内清掃時、ピット内で酸欠になる","一人作業はしない"]
[205010,"ピット内清掃時、ピット内で酸欠になる","ピットに入る際は酸素濃度を測定する"]
[205010,"ピット内清掃時、ピット内で酸欠になる","監視人を配置する"]
[205010,"ピット内清掃時、ピット内で酸欠になる","特別教育を受けて作業する"]
[205020,"移動時、躓いて転倒する","安全通路を移動する"]
[205020,"移動時、躓いて転倒する","近道行為を禁止する"]
[205020,"移動時、段差に躓いて転倒する","床段差に足をのせない"]
[205020,"移動時、段差に躓いて転倒する","安全通路を移動する"]
[205020,"刃物で手を切る","刃物を動かす方向に手を置かない"]
[205020,"刃物で手を切る","無理な姿勢で作業しない"]
[205020,"刃物で手を切る","刃の出し入れを確認する"]
[205020,"カッターナイフで手を切る","カッターナイフを動かす方向に手を置かない"]
[205020,"カッターナイフで手を切る","無理な姿勢で作業しない"]
[205020,"カッターナイフで手を切る","刃の出し入れを確認する"]
[205020,"足場使用時、足場から墜落する","安全帯を掛けていない状況を作らない"]
[205020,"足場使用時、足場から墜落する","無理な姿勢で作業しない"]
[205020,"足場使用時、足場から墜落する","足場の始業前点検を実施する"]
[205020,"足場使用時、足場から墜落する","作業床の墜落転落防止措置を確認する"]
[205020,"足場の隙間から墜落する","安全帯を掛けていない状況を作らない"]
[205020,"足場の隙間から墜落する","無理な姿勢で作業しない"]
[205020,"足場の隙間から墜落する","足場の始業前点検を実施する"]
[205020,"足場の隙間から墜落する","作業床の墜落転落防止措置の確認する"]
[205020,"足場上で躓いて転倒する","足場上の資材等を整理整頓する"]
[205020,"足場上で躓いて転倒する","無理な姿勢で作業しない"]
[205020,"足場上で躓いて転倒する","安全通路を移動する"]
[205020,"立馬から転落する","物を持って昇降しない"]
[205020,"立馬から転落する","開き止めを確認する"]
[205020,"立馬から転落する","無理な姿勢で作業しない"]
[205020,"立馬から転落する","昇降時は必ず後ろ向きにおりる"]
[205020,"スラブ端部や開口部から転落する","端部・開口部作業は必ず安全帯を使用する"]
[205020,"スラブ端部や開口部から転落する","無理な姿勢で作業しない"]
[205020,"スラブ端部や開口部から転落する","昇降設備を使用する"]
[205020,"スラブ端部や開口部から転落する","近道行為を禁止する"]
[205020,"スラブ端部や開口部から転落する","安全通路を移動する"]
[206010,"クレーンで荷吊り時、荷が振れて落下する","吊荷直下に人を立ち入らせない"]
[206010,"クレーンで荷吊り時、荷が振れて落下する","作業場所の確保"]
[206010,"クレーンで荷吊り時、荷が振れて落下する","作業手順の整備・確認・順守"]
[206010,"クレーンで荷吊り時、荷が振れて落下する","地切りの確認（333運動）"]
[206010,"ガス切断時アセチレンガスが漏れ、火事になる","石鹸水を用意してホースの穴の点検を行う"]
[206010,"ガス切断時アセチレンガスが漏れ、火事になる","バルブやその他の金具に破損がないか点検する"]
[206010,"ガス切断時アセチレンガスが漏れ、火事になる","火気使用届願いの内容を確実に行う"]
[206010,"ガス切断時アセチレンガスが漏れ、火事になる","火の粉の付近にボンベや可燃物を置かない"]
[206010,"ガス切断時アセチレンガスが漏れ、火事になる","消火器を必ず用意する"]
[206010,"移動時、躓いて転倒する","安全通路を移動する"]
[206010,"移動時、躓いて転倒する","近道行為を禁止する"]
[206010,"移動時、段差に躓いて転倒する","床段差に足をのせない"]
[206010,"移動時、段差に躓いて転倒する","安全通路を移動する"]
[206010,"搬入車輛に接触する","車輛運行スペースを確保する"]
[206010,"搬入車輛に接触する","声掛け合図の徹底"]
[206010,"搬入車輛に接触する","ｶﾗｰｺｰﾝによる立ち入り禁止措置を行う"]
[206010,"搬入車輛に接触する","車輛と歩行者の区分けを行う"]
[206010,"工事車輛の搬出入時、第三者と接触する","誘導員の合図に従う"]
[206010,"工事車輛の搬出入時、第三者と接触する","第三者から見える場所で合図する"]
[206010,"工事車輛の搬出入時、第三者と接触する","声掛け合図の徹底"]
[206010,"工事車輛の搬出入時、第三者と接触する","第三者優先で誘導を行う"]
[206010,"構台を仮置きする際、手を挟む","不安定な状態で構台を置かない"]
[206010,"構台を仮置きする際、手を挟む","危険な所に手を入れない"]
[206010,"構台を仮置きする際、手を挟む","荷吊りの際はオペとの合図確認を行う"]
[206010,"構台を仮置きする際、手を挟む","不安定な状態で構台を吊り上げない"]
[206010,"クレーン使用時、吊荷が外れ落下する","クレーン使用時の合図の徹底"]
[206010,"クレーン使用時、吊荷が外れ落下する","声掛け合図の徹底"]
[206010,"クレーン使用時、吊荷が外れ落下する","専用吊り具の始業前点検を実施する"]
[206010,"クレーン使用時、吊荷が外れ落下する","吊荷荷重を確認する"]
[206010,"クレーン使用時、吊荷が外れ落下する","吊荷下の人払いを行う"]
[206010,"クレーン使用時、吊荷が外れ落下する","地切りの確認をする（333運動）"]
[206010,"クレーン使用時、吊荷が外れ落下する","専用吊り具を使用する"]
[206010,"クレーン使用時、玉掛けワイヤーが切れ、吊荷が落下する","玉掛けワイヤーの始業前点検を実施する"]
[206010,"クレーン使用時、玉掛けワイヤーが切れ、吊荷が落下する","声掛け合図の徹底"]
[206010,"クレーン使用時、玉掛けワイヤーが切れ、吊荷が落下する","吊荷下の人払いを行う"]
[206010,"クレーン使用時、玉掛けワイヤーが切れ、吊荷が落下する","吊荷荷重を確認する"]
[206010,"構台架設時、吊荷が振れて手を挟む","不安定な状態で構台を吊り上げない"]
[206010,"構台架設時、吊荷が振れて手を挟む","危険な所に手を入れない"]
[206010,"構台架設時、吊荷が振れて手を挟む","荷吊りの際はオペとの合図確認を行う"]
[206010,"構台架設時、梁から墜落する","安全帯を掛けていない状況を作らない"]
[206010,"構台架設時、梁から墜落する","安全帯を使用し、足元を確認して歩行する"]
[206010,"構台架設時、梁から墜落する","不安全行動を禁止する"]
[206010,"構台架設時、梁から墜落する","近道行為を禁止する"]
[206010,"構台架設時、手が滑り工具類が落下する","無理な姿勢で作業しない"]
[206010,"構台架設時、手が滑り工具類が落下する","作業下部の人払いを行う"]
[206010,"構台架設時、手が滑り工具類が落下する","工具袋を使用する"]
[206010,"溶接時、火花が飛散する","火の粉の付近に可燃物を置かない"]
[206010,"溶接時、火花が飛散する","消火器・消火バケツを設置する"]
[206010,"溶接時、火花が飛散する","火気使用時の下部の人払いを行う"]
[206010,"鋼材切断時、火傷する","消火器・消火バケツを設置する"]
[206010,"鋼材切断時、火傷する","火気使用時の下部の人払いを行う"]
[206010,"鋼材切断時、火傷する","保護具を着装する"]
[206010,"鋼材切断時、火傷する","切断箇所に手足を近づけない"]
[206010,"構台解体時、吊荷が振れて手を挟む","不安定な状態で構台を吊り上げない"]
[206010,"構台解体時、吊荷が振れて手を挟む","危険な所に手を入れない"]
[206010,"構台解体時、吊荷が振れて手を挟む","荷吊りの際はオペとの合図確認を行う"]
[206010,"構台解体時、梁から墜落する","安全帯を掛けていない状況を作らない"]
[206010,"構台解体時、梁から墜落する","安全帯を使用し、足元を確認して歩行する"]
[206010,"構台解体時、梁から墜落する","不安全行動を禁止する"]
[206010,"構台解体時、梁から墜落する","近道行為を禁止する"]
[206010,"構台解体時、手が滑り工具類が落下する","無理な姿勢で作業しない"]
[206010,"構台解体時、手が滑り工具類が落下する","作業下部の人払いを行う"]
[206010,"構台解体時、手が滑り工具類が落下する","工具袋を使用する"]
[301010,"敷鉄板吊り込み時に、玉掛けワイヤーがはずれて落下する","吊治具、玉掛けワイヤーは専用のものを使用する"]
[301010,"敷鉄板吊り込み時に、玉掛けワイヤーがはずれて落下する","介錯者は鉄板の下に手などを入れない"]
[301010,"敷鉄板吊り込み時に、玉掛けワイヤーがはずれて落下する","介錯者は鉄板で重機オペから死角に入らない"]
[301010,"敷鉄板を不安定な状態（ﾊﾞｯｸﾌｫｰの爪）で保持しはずれて人にあたる","立ち入り禁止区域に入らない"]
[301010,"敷鉄板を不安定な状態で保持しはずれて人にあたる","敷鉄板を吊り上げる際は、外れ止め付き専用吊り具を使用する"]
[301010,"ダンプ車荷台上から急発進され反動で転落する","荷台に人がいないかを確認してから発進する"]
[301010,"ダンプ車荷台上から急発進され反動で転落する","荷台にいる事を運転手に告げ完了合図を送る事を事前に打合せしておく"]
[301010,"ガラを運搬中、床段差部で一輪車を持上げて腰を痛める","無理な体勢で物を持上げない"]
[301010,"ガラを運搬中、床段差部で一輪車を持上げて腰を痛める","段差部はスロープを設置する等の通路を確保する"]
[301010,"砕石敷均し中、後進してきたダンプにひかれる","立入禁止箇所を周知し、全員がその認識のもと作業にあたる"]
[301010,"砕石敷均し中、後進してきたダンプにひかれる","後進作業は行わない"]
[301010,"生コンバケツをクレーンにて吊り土砂を降ろす時に反動で手を挟む","一気に解放せず徐々に様子を見ながら土砂を搬出する"]
[301010,"生コンバケツをクレーンにて吊り土砂を降ろす時に反動で手を挟む","玉掛けは有資格者が行い、声かけの実施を行う"]
[301010,"敷鉄板敷き込み時、足を滑らせて転倒する","敷鉄板上ではあわてないで作業する"]
[301010,"敷鉄板敷き込み時、足を滑らせて転倒する","後ろ向きで作業しなければならない時は必ず背後を確認する"]
[301010,"敷鉄板敷き込み時、足を滑らせて転倒する","滑りやすい所がないか確認する"]
[301010,"資材等を持ち上げようとして腰を痛める","無理な姿勢で持ち上げない"]
[301010,"資材等を持ち上げようとして腰を痛める","膝を使い、物を持ち上げる"]
[301010,"重機使用時に誤って旋回レバーに触れ、作業員と接触する","重機作業範囲内立入禁止"]
[301010,"工事車輛の搬出入時、第三者と接触する","誘導員の合図に従う"]
[301010,"工事車輛の搬出入時、第三者と接触する","第三者から見える場所で合図する"]
[301010,"工事車輛の搬出入時、第三者と接触する","声掛け合図の徹底"]
[301010,"工事車輛の搬出入時、第三者と接触する","第三者優先で誘導を行う"]
[301010,"ダンプ後退時、バックホーと接触する","声掛け合図の徹底"]
[301010,"ダンプ後退時、バックホーと接触する","安全誘導の合図をする"]
[301010,"ダンプ後退時、バックホーと接触する","後退時運転手はｻｲﾄﾞﾐﾗｰだけでなく、自分の目で後方を確認する"]
[301010,"搬出車輛が作業員と接触する","声掛け合図の徹底"]
[301010,"搬出車輛が作業員と接触する","安全誘導の合図をする"]
[301010,"搬出車輛が作業員と接触する","法定速度を遵守する"]
[301010,"搬出車輛が作業員と接触する","搬出入車輛と作業員の通路の区分けを行う"]
[301010,"重機(ＢＨ)と作業員が接触する","重機と作業員の区分けを行う"]
[301010,"重機(ＢＨ)と作業員が接触する","声掛け合図の徹底"]
[301010,"重機(ＢＨ)と作業員が接触する","ｶﾗｰｺｰﾝによる立ち入り禁止措置を行う"]
[301010,"重機(ＢＨ)と作業員が接触する","重機ＯＰの死角に入らない"]
[301010,"重機(ＢＨ)と作業員が接触する","グーパー運動を実施する"]
[301010,"法面(土砂)が崩壊する","法面養生を行う"]
[301010,"法面(土砂)が崩壊する","法面状況を確認する"]
[301010,"地山が崩壊する","ﾌﾞﾙｰｼｰﾄで養生を行う"]
[301010,"地山が崩壊する","地山状況を確認する"]
[301010,"残土が近隣家屋に流れる","近隣家屋との離隔距離を確認する"]
[301010,"残土が近隣家屋に流れる","重機ＯＰや手元は周囲の安全確認を行う"]
[301010,"残土が近隣家屋に流れる","土が流れない様、ﾌﾞﾙｰｼｰﾄ､ﾍﾞﾆｱ等で養生する"]
[301010,"材料運搬時、躓いて転倒する","安全通路を移動する"]
[301010,"材料運搬時、躓いて転倒する","近道行為を禁止する"]
[301010,"材料運搬時、段差に躓いて転倒する","床段差に足をのせない"]
[301010,"材料運搬時、段差に躓いて転倒する","安全通路を移動する"]
[301010,"地山・開口部から転落する","端部・開口部作業は安全帯を必ず使用する"]
[301010,"地山・開口部から転落する","無理な姿勢で作業しない"]
[301010,"地山・開口部から転落する","昇降設備を使用する"]
[301010,"地山・開口部から転落する","近道行為を禁止する"]
[301010,"地山・開口部から転落する","安全通路を移動する"]
[301010,"敷鉄板で手を挟む","敷き鉄板の下に手を入れない"]
[301010,"敷鉄板で手を挟む","敷き鉄板を吊り上げる際は、専用吊り具を使用する"]
[301010,"敷鉄板で手を挟む","吊り具の始業前点検を実施する"]
[301010,"敷鉄板で手を挟む","声掛け合図の徹底"]
[301010,"ピット内昇降時、足を滑らせ墜落する","安全ブロックを使用する"]
[301010,"ピット内昇降時、足を滑らせ墜落する","昇降時、上下・頭上・足元を確認する"]
[301010,"不安定な状態で電動丸のこで指を切る","電動工具の始業前点検を実施する"]
[301010,"不安定な状態で電動丸のこで指を切る","丸のこの保護カバーの使用する"]
[301010,"不安定な状態で電動丸のこで指を切る","無理な姿勢で作業しない"]
[301010,"雨天時、丸のこを使用して感電する","ゴム手袋を使用する"]
[301010,"雨天時、丸のこを使用して感電する","雨がかかる場所では使用しない"]
[301010,"雨天時、丸のこを使用して感電する","丸のこの始業前点検を実施する"]
[301010,"雨天時、電動工具を使用して漏電する","雨がかかる場所では使用しない"]
[301010,"雨天時、電動工具を使用して漏電する","コンセントは雨が掛らない様、養生する"]
[301010,"雨天時、電動工具を使用して漏電する","電動工具の始業前点検を実施する"]
[301010,"誤ってハンマーで指を叩く","使用時は手元の確認を行う"]
[301010,"誤ってハンマーで指を叩く","暗い箇所では使用しない(手元の照明を明るくする)"]
[301010,"誤ってハンマーで指を叩く","保護手袋を着装する"]
[301020,"クレーンで荷吊り時、荷崩れを起こし手を挟む","地切りの確認（333運動）を行う"]
[301020,"クレーンで荷吊り時、荷崩れを起こし手を挟む","不安定な状態で吊上げない"]
[301020,"クレーンで荷吊り時、荷崩れを起こし手を挟む","他者が吊り作業中は作業を中断し待機する（近づいて無理に作業しない）"]
[301020,"鋼矢板吊込作業時、ﾗｼﾞｺﾝｼｬｯｸﾙが玉掛けワイヤーごとはずれて落下し接触する","玉掛けワイヤーは一本吊で使用しない"]
[301020,"鋼矢板吊込作業時、ﾗｼﾞｺﾝｼｬｯｸﾙが玉掛けワイヤーごとはずれて落下し接触する","ﾗｼﾞｺﾝ操作で取外しを行う時は移動完了するまで目を離さない"]
[301020,"重機移動時に敷鉄板で足を挟む","危険な所に足を入れない"]
[301020,"重機移動時に敷鉄板で足を挟む","重機作業範囲内立入禁止"]
[301020,"重機移動時に敷鉄板で足を挟む","敷鉄板に段差・浮きがないか、敷鉄板が動かないかを確認する"]
[301020,"鉄骨を仮置きする際、手を挟む","不安定な状態で鋼材を置かない"]
[301020,"鉄骨を仮置きする際、手を挟む","危険な所に手を入れない"]
[301020,"鉄骨を仮置きする際、手を挟む","荷吊りの際はオペとの合図確認を行う"]
[301020,"鉄骨を仮置きする際、手を挟む","不安定な状態で鋼材を吊り上げない"]
[301020,"搬入車輛に接触する","車輛運行スペースを確保する"]
[301020,"搬入車輛に接触する","声掛け合図の徹底"]
[301020,"搬入車輛に接触する","ｶﾗｰｺｰﾝによる立ち入り禁止措置を行う"]
[301020,"搬入車輛に接触する","車輛と歩行者の区分けを行う"]
[301020,"工事車輛の搬出入時、第三者と接触する","誘導員の合図に従う"]
[301020,"工事車輛の搬出入時、第三者と接触する","第三者から見える場所で合図する"]
[301020,"工事車輛の搬出入時、第三者と接触する","声掛け合図の徹底"]
[301020,"工事車輛の搬出入時、第三者と接触する","第三者優先で誘導を行う"]
[301020,"建方時、吊荷が外れ落下する","クレーン使用時の合図の徹底"]
[301020,"建方時、吊荷が外れ落下する","声掛け合図の徹底"]
[301020,"建方時、吊荷が外れ落下する","専用吊り具の始業前点検を実施する"]
[301020,"建方時、吊荷が外れ落下する","吊荷荷重を確認する"]
[301020,"建方時、吊荷が外れ落下する","吊荷下の人払いを行う"]
[301020,"建方時、吊荷が外れ落下する","地切りの確認をする（333運動）"]
[301020,"建方時、吊荷が外れ落下する","専用吊り具を使用する"]
[301020,"重機と作業員が接触する","重機と作業員の区分けを行う"]
[301020,"重機と作業員が接触する","声掛け合図の徹底"]
[301020,"重機と作業員が接触する","ｶﾗｰｺｰﾝによる立ち入り禁止措置を行う"]
[301020,"重機と作業員が接触する","重機の死角に入らない"]
[301020,"削孔時に重機が転倒する","アウトリガー下の敷き鉄板養生を実施する"]
[301020,"削孔時に重機が転倒する","吊荷荷重を確認する"]
[301020,"削孔時に重機が転倒する","声掛け合図の徹底"]
[301020,"削孔時に重機が転倒する","地盤状況を確認する"]
[301020,"建方時、玉掛けワイヤーが切れ、吊荷が落下する","玉掛けワイヤーの始業前点検を実施する"]
[301020,"建方時、玉掛けワイヤーが切れ、吊荷が落下する","声掛け合図の徹底"]
[301020,"建方時、玉掛けワイヤーが切れ、吊荷が落下する","吊荷下の人払いを行う"]
[301020,"建方時、玉掛けワイヤーが切れ、吊荷が落下する","吊荷荷重を確認する"]
[301020,"建方時、玉掛けワイヤーが切れ、吊荷が落下する","専用吊り具を使用する"]
[301020,"山留め架設時、吊荷が振れて手を挟む","不安定な状態で鋼材を吊り上げない"]
[301020,"山留め架設時、吊荷が振れて手を挟む","危険な所に手を入れない"]
[301020,"山留め架設時、吊荷が振れて手を挟む","荷吊りの際はオペとの合図確認を行う"]
[301020,"鋼材切断時、火傷する","消火器・消火バケツを設置する"]
[301020,"鋼材切断時、火傷する","火気使用時の下部の人払いを行う"]
[301020,"鋼材切断時、火傷する","保護具を着装する"]
[301020,"鋼材切断時、火傷する","切断箇所に手を近づけない"]
[301020,"シートパイルを倒す際、手を挟む","不安定な状態で鋼材を吊り上げない"]
[301020,"シートパイルを倒す際、手を挟む","危険な所に手を入れない"]
[301020,"シートパイルを倒す際、手を挟む","荷吊りの際はオペとの合図確認を行う"]
[301020,"シートパイルを倒す際、手を挟む","声掛け合図の徹底"]
[301030,"移動時、躓いて転倒する","安全通路を移動する"]
[301030,"移動時、躓いて転倒する","近道行為を禁止する"]
[301030,"移動時、段差に躓いて転倒する","床段差に足をのせない"]
[301030,"移動時、段差に躓いて転倒する","安全通路を移動する"]
[301030,"搬入車輛に接触する","車輛運行スペースを確保する"]
[301030,"搬入車輛に接触する","声掛け合図の徹底"]
[301030,"搬入車輛に接触する","ｶﾗｰｺｰﾝによる立ち入り禁止措置を行う"]
[301030,"搬入車輛に接触する","車輛と歩行者の区分けを行う"]
[301030,"工事車輛の搬出入時、第三者と接触する","誘導員の合図に従う"]
[301030,"工事車輛の搬出入時、第三者と接触する","第三者から見える場所で合図する"]
[301030,"工事車輛の搬出入時、第三者と接触する","声掛け合図の徹底"]
[301030,"工事車輛の搬出入時、第三者と接触する","第三者優先で誘導を行う"]
[301030,"鋼材を仮置きする際、手を挟む","不安定な状態で鋼材を置かない"]
[301030,"鋼材を仮置きする際、手を挟む","危険な所に手を入れない"]
[301030,"鋼材を仮置きする際、手を挟む","荷吊りの際はオペとの合図確認を行う"]
[301030,"鋼材を仮置きする際、手を挟む","不安定な状態で鋼材を吊り上げない"]
[301030,"クレーン使用時、吊荷が外れ落下する","クレーン使用時の合図の徹底"]
[301030,"クレーン使用時、吊荷が外れ落下する","声掛け合図の徹底"]
[301030,"クレーン使用時、吊荷が外れ落下する","専用吊り具の始業前点検を実施する"]
[301030,"クレーン使用時、吊荷が外れ落下する","吊荷荷重を確認する"]
[301030,"クレーン使用時、吊荷が外れ落下する","吊荷下の人払いを行う"]
[301030,"クレーン使用時、吊荷が外れ落下する","地切りの確認をする（333運動）"]
[301030,"クレーン使用時、吊荷が外れ落下する","専用吊り具を使用する"]
[301030,"クレーン使用時、玉掛けワイヤーが切れ、吊荷が落下する","玉掛けワイヤーの始業前点検を実施する"]
[301030,"クレーン使用時、玉掛けワイヤーが切れ、吊荷が落下する","声掛け合図の徹底"]
[301030,"クレーン使用時、玉掛けワイヤーが切れ、吊荷が落下する","吊荷下の人払いを行う"]
[301030,"クレーン使用時、玉掛けワイヤーが切れ、吊荷が落下する","吊荷荷重を確認する"]
[301030,"切梁架設時、吊荷が振れて手を挟む","不安定な状態で構台を吊り上げない"]
[301030,"切梁架設時、吊荷が振れて手を挟む","危険な所に手を入れない"]
[301030,"切梁架設時、吊荷が振れて手を挟む","荷吊りの際はオペとの合図確認を行う"]
[301030,"切梁架設時、梁から墜落する","安全帯を掛けていない状況を作らない"]
[301030,"切梁架設時、梁から墜落する","安全帯を使用し、足元を確認して歩行する"]
[301030,"切梁架設時、梁から墜落する","不安全行動を禁止する"]
[301030,"切梁架設時、梁から墜落する","近道行為を禁止する"]
[301030,"切梁架設時、手が滑り工具類が落下する","無理な姿勢で作業しない"]
[301030,"切梁架設時、手が滑り工具類が落下する","作業下部の人払いを行う"]
[301030,"切梁架設時、手が滑り工具類が落下する","工具袋を使用する"]
[301030,"溶接時、火花が飛散する","火の粉の付近に可燃物を置かない"]
[301030,"溶接時、火花が飛散する","消火器・消火バケツを設置する"]
[301030,"溶接時、火花が飛散する","火気使用時の下部の人払いを行う"]
[301030,"鋼材切断時、火傷する","消火器・消火バケツを設置する"]
[301030,"鋼材切断時、火傷する","火気使用時の下部の人払いを行う"]
[301030,"鋼材切断時、火傷する","保護具を着装する"]
[301030,"鋼材切断時、火傷する","切断箇所に手足を近づけない"]
[301030,"切梁解体時、吊荷が振れて手を挟む","不安定な状態で構台を吊り上げない"]
[301030,"切梁解体時、吊荷が振れて手を挟む","危険な所に手を入れない"]
[301030,"切梁解体時、吊荷が振れて手を挟む","荷吊りの際はオペとの合図確認を行う"]
[301030,"切梁解体時、梁から墜落する","安全帯を掛けていない状況を作らない"]
[301030,"切梁解体時、梁から墜落する","安全帯を使用し、足元を確認して歩行する"]
[301030,"切梁解体時、梁から墜落する","不安全行動を禁止する"]
[301030,"切梁解体時、梁から墜落する","近道行為を禁止する"]
[301030,"切梁解体時、手が滑り工具類が落下する","無理な姿勢で作業しない"]
[301030,"切梁解体時、手が滑り工具類が落下する","作業下部の人払いを行う"]
[301030,"切梁解体時、手が滑り工具類が落下する","工具袋を使用する"]
[302010,"インパクトドライバー使用時、指を巻き込まれて負傷する","使用時は十分に手元の確認を行う"]
[302010,"インパクトドライバー使用時、指を巻き込まれて負傷する","点検・整備時は電源を切る"]
[302010,"インパクトドライバー使用時、指を巻き込まれて負傷する","仮置きの際もむやみに危険な場所に手を当てない"]
[302010,"杭周廻りのぬかるみに足をとられ、転倒する","足元の状況を確かめて移動する"]
[302010,"クレーンで荷吊り時、荷が振れて手を挟む","危険な所に手を入れない"]
[302010,"クレーンで荷吊り時、荷が振れて手を挟む","不安定な状態で吊上げない"]
[302010,"クレーンで荷吊り時、荷が振れて手を挟む","地切りの確認（333運動）"]
[302010,"荷吊り中、吊りフックから外れ敷鉄板で手を挟む","敷鉄板の下に手を入れない"]
[302010,"荷吊り中、吊りフックから外れ敷鉄板で手を挟む","敷鉄板が荷振れ中に専用吊治具を外そうとはしない"]
[302010,"玉掛け作業時、吊り治具が体に当たり負傷する","吊荷の直下に人を立ち入らせない"]
[302010,"玉掛け作業時、吊り治具が体に当たり負傷する","声の掛合いの徹底で、人に物が当たらないように注意する"]
[302010,"玉掛け作業時、吊り治具が体に当たり負傷する","不安定な状態で吊上げない"]
[302010,"玉掛け作業時、吊り治具が体に当たり負傷する","地切りの確認（333運動）"]
[302010,"ホース先端よりセメントミルクが飛び出し顔にかかる","保護メガネの着装"]
[302010,"ホース先端よりセメントミルクが飛び出し顔にかかる","ホースの先端に顔を近づけない"]
[302010,"工事車輛の搬出入時、第三者と接触する","誘導員の合図に従う"]
[302010,"工事車輛の搬出入時、第三者と接触する","第三者から見える場所で合図する"]
[302010,"工事車輛の搬出入時、第三者と接触する","声掛け合図の徹底"]
[302010,"工事車輛の搬出入時、第三者と接触する","第三者優先で誘導を行う"]
[302010,"資材荷卸し時、吊荷が振れて接触する","不安定な状態で資材を吊り上げない"]
[302010,"資材荷卸し時、吊荷が振れて接触する","声掛け合図の徹底"]
[302010,"資材荷卸し時、吊荷が振れて接触する","荷吊りの際はオペとの合図確認を行う"]
[302010,"資材荷卸し時、吊荷が振れて接触する","介錯ロープを使用する"]
[302010,"資材荷卸し時、吊荷が外れ落下する","クレーン使用時の合図の徹底"]
[302010,"資材荷卸し時、吊荷が外れ落下する","声掛け合図の徹底"]
[302010,"資材荷卸し時、吊荷が外れ落下する","玉掛けワイヤーの始業前点検を実施する"]
[302010,"資材荷卸し時、吊荷が外れ落下する","吊荷荷重を確認する"]
[302010,"資材荷卸し時、吊荷が外れ落下する","吊荷下の人払いを行う"]
[302010,"資材荷卸し時、吊荷が外れ落下する","地切りの確認をする（333運動）"]
[302010,"荷卸し時、トレーラー上から転落する","スタンション・親綱を使用する"]
[302010,"荷卸し時、トレーラー上から転落する","安全帯を使用する"]
[302010,"荷卸し時、トレーラー上から転落する","声掛け合図の徹底"]
[302010,"荷卸し時、トレーラー上から転落する","無理な姿勢で作業しない"]
[302010,"資材積込み時、荷崩れして挟まれる","不安定な状態で資材を積み込まない"]
[302010,"資材積込み時、荷崩れして挟まれる","声掛け合図の徹底"]
[302010,"資材積込み時、荷崩れして挟まれる","積込み手順を厳守する"]
[302010,"資材積込み時、荷崩れして挟まれる","危険な所に手・足を入れない"]
[302010,"ダンプ後退時、バックホーと接触する","声掛け合図の徹底"]
[302010,"ダンプ後退時、バックホーと接触する","安全誘導の合図をする"]
[302010,"ダンプ後退時、バックホーと接触する","後退時運転手はｻｲﾄﾞﾐﾗｰだけでなく、自分の目で後方を確認する"]
[302010,"搬出車輛が作業員と接触する","声掛け合図の徹底"]
[302010,"搬出車輛が作業員と接触する","安全誘導の合図をする"]
[302010,"搬出車輛が作業員と接触する","搬出入車輛と作業員の通路の区分けを行う"]
[302010,"搬出車輛が作業員と接触する","後退時運転手はｻｲﾄﾞﾐﾗｰだけでなく、自分の目で後方を確認する"]
[302010,"重機組立時、手･足を挟まれる","不安定な状態で吊荷を置かない"]
[302010,"重機組立時、手･足を挟まれる","危険な所に手・足を入れない"]
[302010,"重機組立時、手･足を挟まれる","荷吊りの際はオペとの合図確認を行う"]
[302010,"重機組立時、手･足を挟まれる","不安定な状態で吊り上げない"]
[302010,"重機組立時、手･足を挟まれる","声掛け合図の徹底"]
[302010,"重機組立時、手･足を挟まれる","介錯ロープを使用する"]
[302010,"オーガー取付時、リーダーの間に手･足を挟む","不安定な状態で資材を吊り上げない"]
[302010,"オーガー取付時、リーダーの間に手･足を挟む","声掛け合図の徹底"]
[302010,"オーガー取付時、リーダーの間に手･足を挟む","荷吊りの際はオペとの合図確認を行う"]
[302010,"オーガー取付時、リーダーの間に手･足を挟む","重機ＯＰの死角に入らない"]
[302010,"ロッド組立時、高所から転落する","安全ブロック・安全帯を使用する"]
[302010,"ロッド組立時、高所から転落する","無理な姿勢で作業しない"]
[302010,"杭打ち機と作業員が接触する","重機と作業員の区分けを行う"]
[302010,"杭打ち機と作業員が接触する","声掛け合図の徹底"]
[302010,"杭打ち機と作業員が接触する","ｶﾗｰｺｰﾝによる立ち入り禁止措置を行う"]
[302010,"杭打ち機と作業員が接触する","重機ＯＰの死角に入らない"]
[302010,"杭打ち機と作業員が接触する","グーパー運動を実施する"]
[302010,"バックホーと作業員が接触する","重機と作業員の区分けを行う"]
[302010,"バックホーと作業員が接触する","声掛け合図の徹底"]
[302010,"バックホーと作業員が接触する","ｶﾗｰｺｰﾝによる立ち入り禁止措置を行う"]
[302010,"バックホーと作業員が接触する","重機の死角に入らない"]
[302010,"バックホーと作業員が接触する","ＢＨのバック走行は行わない"]
[302010,"バックホーと作業員が接触する","グーパー運動を実施する"]
[302010,"杭ジョイント溶接時、火傷する","消火器・消火バケツを設置する"]
[302010,"杭ジョイント溶接時、火傷する","無理な姿勢で作業しない"]
[302010,"杭ジョイント溶接時、火傷する","保護具を着装する"]
[302010,"杭ジョイント溶接時、火傷する","溶接箇所に手を近づけない"]
[302010,"杭打ち機が転倒する","アウトリガー下の敷鉄板養生を実施する"]
[302010,"杭打ち機が転倒する","吊荷荷重を確認する"]
[302010,"杭打ち機が転倒する","声掛け合図の徹底"]
[302010,"杭打ち機が転倒する","地盤状況を確認する"]
[302010,"杭打ち機が転倒する","足元の敷鉄板養生を確認する"]
[302010,"杭打設後、杭穴に落ちる","杭打設後の穴は速やかに埋戻しする"]
[302010,"杭打設後、杭穴に落ちる","ｶﾗｰｺｰﾝによる立入禁止措置を行う"]
[302010,"杭ジョイント時、下杭と上杭の間に指を挟む","声掛け合図の徹底"]
[302010,"杭ジョイント時、下杭と上杭の間に指を挟む","危険な所に手を入れない"]
[302010,"杭ジョイント時、下杭と上杭の間に指を挟む","荷吊りの際はオペとの合図確認を行う"]
[302010,"杭ジョイント時、下杭と上杭の間に指を挟む","不安定な状態で吊り上げない"]
[302010,"杭ジョイント時、下杭と上杭の間に指を挟む","介錯ロープを使用する"]
[302010,"杭ジョイント時、下杭と上杭の間に指を挟む","重機ＯＰの死角に入らない"]
[302010,"杭吊込み時、既存物や作業員に接触する","声掛け合図の徹底"]
[302010,"杭吊込み時、既存物や作業員に接触する","荷吊りの際はオペとの合図確認を行う"]
[302010,"杭吊込み時、既存物や作業員に接触する","不安定な状態で吊り上げない"]
[302010,"杭吊込み時、既存物や作業員に接触する","重機ＯＰや手元は周囲の安全確認を行う"]
[302010,"スタッド溶接時、火花が飛散する","火の粉の付近に可燃物を置かない"]
[302010,"スタッド溶接時、火花が飛散する","消火器・消火バケツを設置する"]
[302010,"スタッド溶接時、火花が飛散する","無理な姿勢で作業しない"]
[302010,"スタッド溶接時、火花が飛散する","保護具を着装する"]
[302010,"スタッド溶接時、火花が飛散する","ｶﾗｰｺｰﾝによる立ち入り禁止措置を行う"]
[302010,"ベビーサンダー使用時、目に鉄粉が入る","保護メガネを着装する"]
[302010,"ベビーサンダー使用時、目に鉄粉が入る","無理な姿勢で作業しない"]
[302010,"ベビーサンダー使用時、目に鉄粉が入る","保護カバーを使用する"]
[302010,"スタッド溶接時、火傷する","消火器・消火バケツを設置する"]
[302010,"スタッド溶接時、火傷する","保護具を着装する"]
[302010,"スタッド溶接時、火傷する","溶断箇所に手を近づけない"]
[302010,"キャプタイヤーに躓き転倒する","安全通路を移動する"]
[302010,"キャプタイヤーに躓き転倒する","キャプタイヤーの整理整線を行う"]
[401010,"一輪車運搬時に作業床から転落する","近道行為の禁止"]
[401010,"一輪車運搬時に作業床から転落する","転落しそうな所は通らない"]
[401010,"一輪車運搬時に作業床から転落する","作業床は確実に固定する"]
[401010,"一輪車運搬時に作業床から転落する","安定した通路を設置し通行する"]
[401010,"一輪車運搬時に作業床から転落する","転落しそうな所には手摺を設置する"]
[401010,"一輪車運搬時に作業床から転落する","段差や開口がないか確認する"]
[401010,"昇降設備を使用せずに墜落する","近道行為の禁止"]
[401010,"物を取ろうと足場に足を掛け滑って転落する","省略行為の禁止"]
[401010,"釜場に足をとられて転倒する","特に釜場（段差）周囲ではあわてず作業する"]
[401010,"釜場に足をとられて転倒する","開口部養生（開口蓋・手摺）の設置を確認して作業する"]
[401010,"釜場に足をとられて転倒する","釜場（吹き出し）部分の打設手順を確認する"]
[401010,"打設後鉄筋水洗い時に足を乗せたサポートが外れて転倒する","資材の安定性を確かめる"]
[401010,"打設後鉄筋水洗い時に足を乗せたサポートが外れて転倒する","不用意に資材に足をかけない"]
[401010,"一輪車での運搬時、躓いて転倒する","安全通路を移動する"]
[401010,"一輪車での運搬時、躓いて転倒する","近道行為を禁止する"]
[401010,"一輪車での運搬時、段差に躓いて転倒する","床段差に足をのせない"]
[401010,"一輪車での運搬時、段差に躓いて転倒する","安全通路を移動する"]
[401010,"足場の隙間から墜落する","安全帯を掛けていない状況を作らない"]
[401010,"足場の隙間から墜落する","無理な姿勢で作業しない"]
[401010,"足場の隙間から墜落する","足場の始業前点検を実施する"]
[401010,"足場の隙間から墜落する","作業床の墜落転落防止措置の確認する"]
[401010,"足場上で躓いて転倒する","頭上・足元を確認して歩行する"]
[401010,"足場上で躓いて転倒する","無理な姿勢で作業しない"]
[401010,"梁天端から転落する","親綱を張り、安全帯を使用する"]
[401010,"梁天端から転落する","無理な姿勢で作業しない"]
[401010,"梁天端から転落する","危険な箇所には登らない"]
[401010,"梁天端から転落する","昇降設備を使用する"]
[401010,"スラブ上で躓いて転倒する","メッシュロード上を移動する"]
[401010,"スラブ上で躓いて転倒する","スラブ筋上歩行の際、足元を確認し歩行する"]
[401010,"コンクリート打設中、ホースに接触し転倒する","ホースの筒先に立たない"]
[401010,"コンクリート打設中、ホースに接触し転倒する","声掛け合図の徹底"]
[401010,"コンクリート打設中、スラブ筋に躓き転倒する","スラブ筋上歩行の際、足元を確認し歩行する"]
[401010,"コンクリート打設中、スラブ筋に躓き転倒する","メッシュロード上を移動する"]
[401010,"コンクリートを外部に飛散させる","無理な姿勢で作業しない"]
[401010,"コンクリートを外部に飛散させる","作業下部の人払いを行う"]
[401020,"ポンプ車のブームを合図なく動かしバランスを崩して転倒する","合図・声かけを行いブームを動かす"]
[401020,"ポンプ車のブームを合図なく動かしバランスを崩して転倒する","勝手な操作は行わない"]
[401020,"スラブ筋上でバランスを崩して転倒する","作業通路を明確にしメッシュロードを敷設する"]
[401020,"スラブ筋上でバランスを崩して転倒する","メッシュロード等の安定した箇所で作業を行う"]
[401020,"手足にコンクリートが触れてただれる","体にコンクリートが直接触れた際はすぐに洗う"]
[401020,"手足にコンクリートが触れてただれる","手袋、メガネ、マスク等、保護具を使用する"]
[401020,"工事車輛の搬出入時、第三者と接触する","誘導員の合図に従う"]
[401020,"工事車輛の搬出入時、第三者と接触する","第三者から見える場所で合図する"]
[401020,"工事車輛の搬出入時、第三者と接触する","声掛け合図の徹底"]
[401020,"工事車輛の搬出入時、第三者と接触する","第三者優先で誘導を行う"]
[401020,"足場の隙間から墜落する","安全帯を掛けていない状況を作らない"]
[401020,"足場の隙間から墜落する","無理な体勢で作業しない"]
[401020,"足場の隙間から墜落する","足場の始業前点検を実施する"]
[401020,"足場の隙間から墜落する","作業床の墜落転落防止措置の確認する"]
[401020,"足場上で躓いて転倒する","頭上・足元を確認して歩行する"]
[401020,"足場上で躓いて転倒する","無理な姿勢で作業しない"]
[401020,"梁天端から転落する","親綱を張り、安全帯を使用する"]
[401020,"梁天端から転落する","無理な姿勢で作業しない"]
[401020,"梁天端から転落する","危険な箇所には登らない"]
[401020,"梁天端から転落する","昇降設備を使用する"]
[401020,"スラブ上で躓いて転倒する","メッシュロード上を移動する"]
[401020,"スラブ上で躓いて転倒する","スラブ筋上歩行の際、足元を確認し歩行する"]
[401020,"コンクリート打設中、スラブ筋に躓き転倒する","スラブ筋上歩行の際、足元を確認し歩行する"]
[401020,"コンクリート打設中、スラブ筋に躓き転倒する","メッシュロード上を移動する"]
[401020,"コンクリートを外部に飛散させる","無理な姿勢で作業しない"]
[401020,"コンクリートを外部に飛散させる","作業下部の人払いを行う"]
[401020,"コンクリートを外部に飛散させる","あて板を使用する"]
[401020,"コンクリート打設中、ホースが暴れて接触し転倒する","ホースの筒先を手や足で固定する"]
[401020,"コンクリート打設中、ホースが暴れて接触し転倒する","保護手袋を着装する"]
[401020,"コンクリート打設中、ホースが暴れて接触し転倒する","無線機ＯＰとの合図の徹底"]
[401020,"コンクリート打設中、ホースが暴れて接触し転倒する","作業周辺の人払いを行う"]
[401020,"ブームをたたむ時、手を挟む","ブームをたたむ際はオペとの合図確認を行う"]
[401020,"ブームをたたむ時、手を挟む","危険な所に手を入れない"]
[401020,"ブームをたたむ時、手を挟む","無理な姿勢で作業しない"]
[401020,"ブームをたたむ時、手を挟む","声掛け合図の徹底"]
[401020,"ブームをたたむ時、荷台から転落する","安全帯を必ず使用する"]
[401020,"ブームをたたむ時、荷台から転落する","無理な姿勢で作業しない"]
[401020,"ブームをたたむ時、荷台から転落する","昇降設備を使用する"]
[401020,"圧送車が転倒する","アウトリガー下の敷き鉄板養生を実施する"]
[401020,"圧送車が転倒する","地盤状況を確認する"]
[401020,"圧送車が転倒する","足元の敷鉄板養生を確認する"]
[401020,"圧送車が転倒する","無線機ＯＰとの合図の徹底"]
[402010,"結束バンド切断時に鋼管が崩れて負傷する","切断前に鋼管が荷崩れを起こさないかを確認する"]
[402010,"結束バンド切断時に鋼管が崩れて負傷する","安定した作業床で切断する"]
[402010,"地山・開口部から転落する","端部・開口部作業は安全帯を必ず使用する"]
[402010,"地山・開口部から転落する","無理な姿勢で作業しない"]
[402010,"地山・開口部から転落する","昇降設備を使用する"]
[402010,"地山・開口部から転落する","近道行為を禁止する"]
[402010,"地山・開口部から転落する","安全通路を移動する"]
[402010,"重機(ＢＨ)と作業員が接触する","重機と作業員の区分けを行う"]
[402010,"重機(ＢＨ)と作業員が接触する","声掛け合図の徹底"]
[402010,"重機(ＢＨ)と作業員が接触する","ｶﾗｰｺｰﾝによる立ち入り禁止措置を行う"]
[402010,"重機(ＢＨ)と作業員が接触する","重機ＯＰの死角に入らない"]
[402010,"重機(ＢＨ)と作業員が接触する","グーパー運動を実施する"]
[402010,"梁天端から転落する","親綱を張り、安全帯を使用する"]
[402010,"梁天端から転落する","無理な姿勢で作業しない"]
[402010,"梁天端から転落する","危険な箇所には登らない"]
[402010,"梁天端から転落する","昇降設備を使用する"]
[402010,"通路足場昇降時、足を滑らせ転落する","安全ブロックを使用する"]
[402010,"通路足場昇降時、足を滑らせ転落する","昇降時、上下・頭上・足元を確認する"]
[402010,"ピット内昇降時に足を滑らせ転落する","安全ブロックを使用する"]
[402010,"ピット内昇降時に足を滑らせ転落する","昇降時、上下・頭上・足元を確認する"]
[402010,"材料荷卸し時、吊荷が外れ落下する","クレーン使用時の合図の徹底"]
[402010,"材料荷卸し時、吊荷が外れ落下する","声掛け合図の徹底"]
[402010,"材料荷卸し時、吊荷が外れ落下する","玉掛けワイヤーの始業前点検を実施する"]
[402010,"材料荷卸し時、吊荷が外れ落下する","吊荷荷重を確認する"]
[402010,"材料荷卸し時、吊荷が外れ落下する","吊荷下の人払いを行う"]
[402010,"材料荷卸し時、吊荷が外れ落下する","地切りの確認をする（333運動）"]
[402010,"クレーン使用時、資材を既存物にぶつける","クレーン使用時の合図の徹底"]
[402010,"クレーン使用時、資材を既存物にぶつける","声掛け合図の徹底"]
[402010,"クレーン使用時、資材を既存物にぶつける","既存物近くに材料を置かない"]
[402010,"通路足場から身を寄り出した際、墜落する","安全帯を必ず使用する"]
[402010,"通路足場から身を寄り出した際、墜落する","無理な姿勢で作業しない"]
[402010,"通路足場から身を寄り出した際、墜落する","足場の始業前点検を実施する"]
[402010,"通路足場から身を寄り出した際、墜落する","作業床の墜落転落防止措置を確認する"]
[402010,"材料を仮置きする際、手を挟む","不安定な状態で材料を置かない"]
[402010,"材料を仮置きする際、手を挟む","危険な所に手を入れない"]
[402010,"材料を仮置きする際、手を挟む","荷吊りの際はオペとの合図確認を徹底する"]
[402010,"材料を仮置きする際、手を挟む","不安定な状態で材料を吊り上げない"]
[402010,"不安定な状態で電動丸のこで指を切る","電動工具の始業前点検を実施する"]
[402010,"不安定な状態で電動丸のこで指を切る","丸のこの保護カバーの使用する"]
[402010,"不安定な状態で電動丸のこで指を切る","無理な姿勢で作業しない"]
[402010,"通路足場上で躓いて転倒する","通路足場上の材料等を整理整頓する"]
[402010,"通路足場上で躓いて転倒する","無理な姿勢で作業しない"]
[402010,"通路足場上で躓いて転倒する","安全通路を移動する"]
[402010,"はね出しスラブ端部から転落する","親綱を張り、安全帯を使用する"]
[402010,"はね出しスラブ端部から転落する","無理な姿勢で作業しない"]
[402010,"はね出しスラブ端部から転落する","後ろ向きで進まない"]
[402020,"立馬上で作業中突風にあおられ材料と共に転落する","無理な体勢で作業しない"]
[402020,"立馬上で作業中突風にあおられ材料と共に転落する","強風に耐えられるか自分の限界を知る"]
[402020,"立馬上で作業中突風にあおられ材料と共に転落する","強風時には無理に作業しない（作業を中止する）"]
[402020,"立馬上で作業中突風にあおられ材料と共に転落する","突風が来ても対応できる大きさと姿勢を確保し作業を行う"]
[402020,"立馬上で作業中突風にあおられ材料と共に転落する","安全帯を掛けていない状況を作らない"]
[402020,"パイプサポートが倒れて負傷する","作業周辺にある際は締付状態を確認する"]
[402020,"パイプサポートが倒れて負傷する","パイプサポートは立てかけておかない"]
[402020,"充電式丸のこ使用時（やむなく使用時）刃がはねて負傷する","正しい作業姿勢を確保し無理な切断を行わない"]
[402020,"充電式丸のこ使用時（やむなく使用時）刃がはねて負傷する","丸のこの刃に手を近づけない"]
[402020,"充電式丸のこ使用時（やむなく使用時）刃がはねて負傷する","適正な作業台を使用する"]
[402020,"充電式丸のこ使用時（やむなく使用時）刃がはねて負傷する","「丸のこ取扱い」に関する作業手順書を周知し、安全な取り扱い方法を徹底させる"]
[402020,"打ち損じた釘が目にあたる","保護メガネの着装"]
[402020,"打ち損じた釘が目にあたる","無理な体勢で作業しない"]
[402020,"布板昇降ハッチの蓋が閉まり手を詰める","昇降ハッチの蓋のロックがかかっているかを昇降時に必ず確認する"]
[402020,"布板昇降ハッチの蓋が閉まり手を詰める","自動ロックがかからない場合は表示を行い注意を促す"]
[402020,"布板昇降ハッチの蓋が閉まり手を詰める","昇降時はあわてず、ゆっくりと行動する"]
[402020,"布板昇降ハッチの蓋が閉まり手を詰める","ハッチの可動部や挟まれるおそれのある場所に手足を置かない"]
[402020,"丸のこ使用時わき見をして負傷する","正しい作業姿勢を確保する"]
[402020,"丸のこ使用時わき見をして負傷する","わき見をしない"]
[402020,"丸のこ使用時わき見をして負傷する","丸のこの刃に手を近づけない"]
[402020,"振り上げたハンマーが目にあたる","叩く箇所をしっかりと確認する"]
[402020,"振り上げたハンマーが目にあたる","無理な体勢で作業しない"]
[402020,"釘打ち機が暴発し手を負傷する","釘打ち機使用時は常にガンの先を確認する"]
[402020,"釘打ち機が暴発し手を負傷する","打込み方向に手を入れない"]
[402020,"釘打ち機が暴発し手を負傷する","点検･整備の際は、電源を切りエアを抜く"]
[402020,"手摺壁に足をかける際、足が滑り転倒する","壁等に不用意に手足を掛けない"]
[402020,"不安定な状態で電動丸のこで指を切る","電動工具の始業前点検を実施する"]
[402020,"不安定な状態で電動丸のこで指を切る","丸のこの保護カバーの使用する"]
[402020,"不安定な状態で電動丸のこで指を切る","無理な姿勢で作業しない"]
[402020,"材料を仮置きする際、手を挟まれる","不安定な状態で材料を置かない"]
[402020,"材料を仮置きする際、手を挟まれる","危険な所に手を入れない"]
[402020,"材料を仮置きする際、手を挟まれる","荷吊りの際はオペとの合図確認を徹底する"]
[402020,"材料を仮置きする際、手を挟まれる","不安定な状態で材料を吊り上げない"]
[402020,"材料荷卸し時、吊荷が外れ落下する","クレーン使用時の合図の徹底"]
[402020,"材料荷卸し時、吊荷が外れ落下する","声掛け合図の徹底"]
[402020,"材料荷卸し時、吊荷が外れ落下する","玉掛けワイヤーの始業前点検を実施する"]
[402020,"材料荷卸し時、吊荷が外れ落下する","吊荷荷重を確認する"]
[402020,"材料荷卸し時、吊荷が外れ落下する","吊荷下の人払いを行う"]
[402020,"材料荷卸し時、吊荷が外れ落下する","地切りの確認をする（333運動）"]
[402020,"型枠建込み時、足場から墜落する","親綱を張り、安全帯を使用する"]
[402020,"型枠建込み時、足場から墜落する","無理な姿勢で作業しない"]
[402020,"型枠建込み時、足場から墜落する","足場の始業前点検を実施する"]
[402020,"型枠建込み時、足場から墜落する","作業床の墜落転落防止措置を確認する"]
[402020,"足場から材料等を落下させる","無理な姿勢で作業しない"]
[402020,"足場から材料等を落下させる","作業下部の人払いを行う"]
[402020,"足場から材料等を落下させる","足場上の材料等を整理整頓する"]
[402020,"足場の隙間から墜落する","安全帯を掛けていない状況を作らない"]
[402020,"足場の隙間から墜落する","無理な姿勢で作業しない"]
[402020,"足場の隙間から墜落する","足場の始業前点検を実施する"]
[402020,"足場の隙間から墜落する","作業床の墜落転落防止措置の確認する"]
[402020,"足場の隙間から墜落する","作業下部の人払いを行う"]
[402020,"足場の隙間から墜落する","保護具を着装する"]
[402020,"型枠建込み時、立馬から転落する","物を持って昇降しない"]
[402020,"型枠建込み時、立馬から転落する","開き止めを確認する"]
[402020,"型枠建込み時、立馬から転落する","無理な姿勢で作業しない"]
[402020,"型枠建込み時、立馬から転落する","昇降時は必ず後ろ向きにおりる"]
[402020,"荷上げで開口部から墜落する","開口部養生蓋を設置する"]
[402020,"荷上げで開口部から墜落する","養生蓋は不必要時には必ず閉める"]
[402030,"支保工足場上移動中、足場の隙間から墜落する","足場の作業前点検を確実に行う"]
[402030,"支保工足場上移動中、足場の隙間に足を突っ込む","後ろ向きに移動しない"]
[402030,"パイプサポートが倒れて負傷する","作業周辺にある際は締付状態を確認する"]
[402030,"パイプサポートが倒れて負傷する","パイプサポートは立てかけておかない"]
[402030,"充電式丸のこ使用時（やむなく使用時）刃がはねて負傷する","正しい作業姿勢を確保し無理な切断を行わない"]
[402030,"充電式丸のこ使用時（やむなく使用時）刃がはねて負傷する","丸のこの刃に手を近づけない"]
[402030,"充電式丸のこ使用時（やむなく使用時）刃がはねて負傷する","適正な作業台を使用する"]
[402030,"充電式丸のこ使用時（やむなく使用時）刃がはねて負傷する","「丸のこ取扱い」に関する作業手順書を周知し、安全な取り扱い方法を徹底させる"]
[402030,"釘打ち機使用時誤って操作し負傷する","釘打ち機を人に向けて使用しない"]
[402030,"釘打ち機使用時誤って操作し負傷する","発射口の前に手を入れない"]
[402030,"足場の中桟に足を掛け作業中、中桟が外れて転落する","安全帯がかけられない状況で作業しない"]
[402030,"足場の中桟に足を掛け作業中、中桟が外れて転落する","足場の始業前点検の実施"]
[402030,"足場の中桟に足を掛け作業中、中桟が外れて転落する","中桟や手すりに足を掛けない"]
[402030,"梁型枠をクレーンにて架設の時、ワイヤーがはずれて落下する","吊荷直下に人を立ちいらせない"]
[402030,"梁型枠をクレーンにて架設の時、ワイヤーがはずれて落下する","地切りの確認（333運動）"]
[402030,"高所作業車移動時に開口部の養生蓋に引っ掛かって転倒する","作業通路の確認をする"]
[402030,"高所作業車移動時に開口部の養生蓋に引っ掛かって転倒する","段差部に乗り上げないこと"]
[402030,"不安定な状態で電動丸のこで指を切る","電動工具の始業前点検を実施する"]
[402030,"不安定な状態で電動丸のこで指を切る","丸のこの保護カバーの使用する"]
[402030,"不安定な状態で電動丸のこで指を切る","無理な姿勢で作業しない"]
[402030,"材料を仮置きする際、手を挟まれる","不安定な状態で材料を置かない"]
[402030,"材料を仮置きする際、手を挟まれる","危険な所に手を入れない"]
[402030,"材料を仮置きする際、手を挟まれる","荷吊りの際はオペとの合図確認を徹底する"]
[402030,"材料を仮置きする際、手を挟まれる","不安定な状態で材料を吊り上げない"]
[402030,"材料荷卸し時、吊荷が外れ落下する","クレーン使用時の合図の徹底"]
[402030,"材料荷卸し時、吊荷が外れ落下する","声掛け合図の徹底"]
[402030,"材料荷卸し時、吊荷が外れ落下する","玉掛けワイヤーの始業前点検を実施する"]
[402030,"材料荷卸し時、吊荷が外れ落下する","吊荷荷重を確認する"]
[402030,"材料荷卸し時、吊荷が外れ落下する","吊荷下の人払いを行う"]
[402030,"材料荷卸し時、吊荷が外れ落下する","地切りの確認をする（333運動）"]
[402030,"型枠建込み時、足場から墜落する","安全帯を掛けていない状況を作らない"]
[402030,"型枠建込み時、足場から墜落する","無理な姿勢で作業しない"]
[402030,"型枠建込み時、足場から墜落する","足場の始業前点検を実施する"]
[402030,"型枠建込み時、足場から墜落する","作業床の墜落転落防止措置を確認する"]
[402030,"型枠建込み時、足場から墜落する","親綱を張り、安全帯を使用する"]
[402030,"足場から資材等を落下させる","無理な姿勢で作業しない"]
[402030,"足場から資材等を落下させる","作業下部の人払いを行う"]
[402030,"足場から資材等を落下させる","足場上の資材等を整理整頓する"]
[402030,"足場の隙間から墜落する","安全帯を掛けていない状況を作らない"]
[402030,"足場の隙間から墜落する","無理な姿勢で作業しない"]
[402030,"足場の隙間から墜落する","足場の始業前点検を実施する"]
[402030,"足場の隙間から墜落する","作業床の墜落転落防止措置の確認する"]
[402030,"足場の隙間から墜落する","作業下部の人払いを行う"]
[402030,"足場の隙間から墜落する","保護具を着装する"]
[402030,"梁型枠建込み時、立馬から転落する","物を持って昇降しない"]
[402030,"梁型枠建込み時、立馬から転落する","開き止めを確認する"]
[402030,"梁型枠建込み時、立馬から転落する","無理な姿勢で作業しない"]
[402030,"梁型枠建込み時、立馬から転落する","昇降時は必ず後ろ向きにおりる"]
[402030,"梁底・スラブ端部から墜落する","親綱を張り、安全帯を使用する"]
[402030,"梁底・スラブ端部から墜落する","無理な姿勢で作業しない"]
[402030,"梁底・スラブ端部から墜落する","作業下部の人払いを行う"]
[402030,"梁底・スラブ端部から墜落する","声掛け合図の徹底"]
[402030,"梁底・スラブ端部から墜落する","立ち入り禁止措置・表示を行う"]
[402030,"梁底・スラブ端部から墜落する","後ろ向きで進まない"]
[402030,"荷上げで開口部から墜落する","開口部養生蓋を設置する"]
[402030,"荷上げで開口部から墜落する","養生蓋は不要時には必ず閉める"]
[402040,"持出しスラブ端部から転落する","親綱を張り、安全帯を使用する"]
[402040,"持出しスラブ端部から転落する","無理な姿勢で作業しない"]
[402040,"持出しスラブ端部から転落する","後ろ向きで進まない"]
[402040,"持出しスラブ端部から転落する","立ち入り禁止措置・表示を行う"]
[402040,"足場の隙間から墜落する","安全帯を掛けていない状況を作らない"]
[402040,"足場の隙間から墜落する","無理な姿勢で作業しない"]
[402040,"足場の隙間から墜落する","足場の始業前点検を実施する"]
[402040,"足場の隙間から墜落する","作業床の墜落転落防止措置の確認する"]
[402040,"足場の隙間から墜落する","作業下部の人払いを行う"]
[402040,"足場の隙間から墜落する","保護具を着装する"]
[402050,"移動中梁上からバランスを崩して転落する","作業手順書で作業手順を確認し作業を行う"]
[402050,"移動中梁上からバランスを崩して転落する","安全帯が使用できない状況で移動しない"]
[402050,"パイプサポートが倒れて負傷する","作業周辺にある際は締付状態を確認する"]
[402050,"パイプサポートが倒れて負傷する","パイプサポートは立てかけておかない"]
[402050,"充電式丸のこ使用時（やむなく使用時）刃がはねて負傷する","正しい作業姿勢を確保し無理な切断を行わない"]
[402050,"充電式丸のこ使用時（やむなく使用時）刃がはねて負傷する","丸のこの刃に手を近づけない"]
[402050,"充電式丸のこ使用時（やむなく使用時）刃がはねて負傷する","適正な作業台を使用する"]
[402050,"充電式丸のこ使用時（やむなく使用時）刃がはねて負傷する","「丸のこ取扱い」に関する作業手順書を周知し、安全な取り扱い方法を徹底させる"]
[402050,"ﾊﾟｲﾌﾟｻﾎﾟｰﾄ受け渡し時上部サポートが抜けて負傷する","ピンが抜けないかどうかをよく確認する"]
[402050,"ﾊﾟｲﾌﾟｻﾎﾟｰﾄ受け渡し時上部サポートが抜けて負傷する","声掛けを行いながら手渡す"]
[402050,"小払し中、型枠材の釘が手に刺さる","釘の位置をよく確認する"]
[402050,"バール使用時誤って手にあたる","バールの動く方向には手足を置かない"]
[402050,"バール使用時誤って手にあたる","無理な体勢で作業しない"]
[402050,"大形型枠脱型時クレーンで吊上げた際に落下し負傷する","吊荷の直下に人を立ちいらせない"]
[402050,"大形型枠脱型時クレーンで吊上げた際に落下し負傷する","吊上げ前に落下物がないかを確認する"]
[402050,"大形型枠脱型時クレーンで吊上げた際に落下し負傷する","声の掛合いの徹底で、人に物が当たらないように注意する"]
[402050,"金物くさび取外し時、はねて目にあたり負傷する","正しい作業姿勢を確保する"]
[402050,"金物くさび取外し時、はねて目にあたり負傷する","はねる向きに顔を近づけない"]
[402050,"鋼管荷渡し時、手を挟む","荷渡し時には声を掛け合って受け渡す"]
[402050,"鋼管荷渡し時、手を挟む","無理な体勢で作業しない"]
[402050,"地中梁を乗り越える時に手足を負傷する","近道行為をしない"]
[402050,"地中梁を乗り越える時に手足を負傷する","昇降設備の完全使用"]
[402050,"資材運搬時、型枠が滑り落ち足を負傷する","一度に無理してたくさん運ばない"]
[402050,"地山・開口部から転落する","安全帯を掛けていない状況を作らない"]
[402050,"地山・開口部から転落する","無理な姿勢で作業しない"]
[402050,"地山・開口部から転落する","昇降設備を使用する"]
[402050,"地山・開口部から転落する","近道行為を禁止する"]
[402050,"地山・開口部から転落する","安全通路を移動する"]
[402050,"地山・開口部から転落する","端部・開口部作業は安全帯を必ず使用する"]
[402050,"梁天端から転落する","親綱を張り、安全帯を使用する"]
[402050,"梁天端から転落する","無理な姿勢で作業しない"]
[402050,"梁天端から転落する","危険な箇所には登らない"]
[402050,"梁天端から転落する","昇降設備を使用する"]
[402050,"通路足場昇降時、足を滑らせ転落する","安全ブロックを使用する"]
[402050,"通路足場昇降時、足を滑らせ転落する","昇降時、上下・頭上・足元を確認する"]
[402050,"ピット内昇降時、足を滑らせ墜落する","安全ブロックを使用する"]
[402050,"ピット内昇降時、足を滑らせ墜落する","昇降時、上下・頭上・足元を確認する"]
[402050,"ピット内で酸欠する","送風機を使用する"]
[402050,"ピット内で酸欠する","一人作業はしない"]
[402050,"ピット内で酸欠する","酸素濃度測定機器を設置する"]
[402050,"ピット内で酸欠する","監視人を配置する"]
[402050,"ピット内で酸欠する","特別教育を受けて作業する"]
[402050,"材料搬出時、吊荷が外れ落下する","クレーン使用時の合図の徹底"]
[402050,"材料搬出時、吊荷が外れ落下する","声掛け合図の徹底"]
[402050,"材料搬出時、吊荷が外れ落下する","玉掛けワイヤーの始業前点検を実施する"]
[402050,"材料搬出時、吊荷が外れ落下する","吊荷荷重を確認する"]
[402050,"材料搬出時、吊荷が外れ落下する","吊荷下の人払いを行う"]
[402050,"材料搬出時、吊荷が外れ落下する","地切りの確認をする（333運動）"]
[402050,"クレーン使用時、資材を既存物にぶつける","クレーン使用時の合図の徹底"]
[402050,"クレーン使用時、資材を既存物にぶつける","声掛け合図の徹底"]
[402050,"クレーン使用時、資材を既存物にぶつける","既存物近くに材料を置かない"]
[402050,"足場から身を寄り出した際、墜落する","安全帯を掛けていない状況を作らない"]
[402050,"足場から身を寄り出した際、墜落する","無理な姿勢で作業しない"]
[402050,"足場から身を寄り出した際、墜落する","足場の始業前点検を実施する"]
[402050,"足場から身を寄り出した際、墜落する","作業床の墜落転落防止措置を確認する"]
[402050,"通路足場上で躓いて転倒する","通路足場上の材料等を整理整頓する"]
[402050,"通路足場上で躓いて転倒する","無理な姿勢で作業しない"]
[402050,"通路足場上で躓いて転倒する","安全通路を移動する"]
[402050,"釘を踏み抜いて足の裏を怪我する","解体材の整理整頓を行う"]
[402050,"釘を踏み抜いて足の裏を怪我する","安全靴の着装"]
[402050,"釘を踏み抜いて足の裏を怪我する","照明設備を整え、手元足元を明るくする"]
[402050,"型枠解体時、型枠との間に指・手を挟む","危険な所に手を入れない"]
[402050,"型枠解体時、型枠との間に指・手を挟む","無理な姿勢で作業しない"]
[402050,"荷上げ開口部から転落する","養生蓋の上には乗らない"]
[402050,"荷上げ開口部から転落する","養生蓋は不要時には必ず閉める"]
[402050,"足場の隙間から墜落する","安全帯を掛けていない状況を作らない"]
[402050,"足場の隙間から墜落する","無理な姿勢で作業しない"]
[402050,"足場の隙間から墜落する","足場の始業前点検を実施する"]
[402050,"足場の隙間から墜落する","作業床の墜落転落防止措置の確認する"]
[402050,"足場の隙間から墜落する","作業下部の人払いを行う"]
[402050,"足場の隙間から墜落する","保護具を着装する"]
[402050,"立馬から転落する","物を持って昇降しない"]
[402050,"立馬から転落する","開き止めを確認する"]
[402050,"立馬から転落する","無理な姿勢で作業しない"]
[402050,"立馬から転落する","昇降時は必ず後ろ向きにおりる"]
[402050,"外壁解体時、誤って型枠を落下させる","無理な姿勢で作業しない"]
[402050,"外壁解体時、誤って型枠を落下させる","作業下部の人払いを行う"]
[402050,"外壁解体時、誤って型枠を落下させる","足場上の資材等を整理整頓する"]
[402060,"支保工が解体された持出しｽﾗﾌﾞ型枠に乗り墜落する","解体前に立ち入り禁止の措置を行う"]
[402060,"支保工が解体された持出しｽﾗﾌﾞ型枠に乗り墜落する","開口端部に手すりがあるか等作業前点検を確実に行う"]
[402060,"パイプサポートが倒れて負傷する","作業周辺にある際は締付状態を確認する"]
[402060,"パイプサポートが倒れて負傷する","パイプサポートは立てかけておかない"]
[402060,"充電式丸のこ使用時（やむなく使用時）刃がはねて負傷する","正しい作業姿勢を確保し無理な切断を行わない"]
[402060,"充電式丸のこ使用時（やむなく使用時）刃がはねて負傷する","丸のこの刃に手を近づけない"]
[402060,"充電式丸のこ使用時（やむなく使用時）刃がはねて負傷する","適正な作業台を使用する"]
[402060,"充電式丸のこ使用時（やむなく使用時）刃がはねて負傷する","「丸のこ取扱い」に関する作業手順書を周知し、安全な取り扱い方法を徹底させる"]
[402060,"スラブ底解体時、足場の根がらみ単管で足を滑らせ転倒する","近道行為をしない"]
[402060,"型枠解体時、目にゴミが入る","保護メガネの着装する"]
[402060,"パイプサポートを緩めた時、根太材が落下して負傷する","型枠支保工解体中の表示を行い、スラブ下等に人が立ち入らないようにする"]
[402060,"パイプサポートを緩めた時、根太材が落下して負傷する","緩めた時に急に落下しないか根太材の状況を確認する"]
[402060,"パイプサポートを緩めた時、根太材が落下して負傷する","声の掛合いの徹底で、人に物が当たらないように注意する"]
[402060,"梁天端から転落する","親綱を張り、安全帯を使用する"]
[402060,"梁天端から転落する","無理な姿勢で作業しない"]
[402060,"梁天端から転落する","危険な箇所には登らない"]
[402060,"梁天端から転落する","昇降設備を使用する"]
[402060,"通路足場昇降時、足を滑らせ転落する","安全ブロックを使用する"]
[402060,"通路足場昇降時、足を滑らせ転落する","昇降時、上下・頭上・足元を確認する"]
[402060,"ピット内昇降時、足を滑らせ墜落する","昇降時、上下・頭上・足元を確認する"]
[402060,"ピット内で酸欠になる","送風機を使用する"]
[402060,"ピット内で酸欠になる","一人作業はしない"]
[402060,"ピット内で酸欠になる","ピットに入る際は酸素濃度を測定する"]
[402060,"ピット内で酸欠になる","監視人を配置する"]
[402060,"ピット内で酸欠になる","特別教育を受けて作業する"]
[402060,"材料搬出時、吊荷が外れ落下する","クレーン使用時の合図の徹底"]
[402060,"材料搬出時、吊荷が外れ落下する","声掛け合図の徹底"]
[402060,"材料搬出時、吊荷が外れ落下する","玉掛けワイヤーの始業前点検を実施する"]
[402060,"材料搬出時、吊荷が外れ落下する","吊荷荷重を確認する"]
[402060,"材料搬出時、吊荷が外れ落下する","吊荷下の人払いを行う"]
[402060,"材料搬出時、吊荷が外れ落下する","地切りの確認をする（333運動）"]
[402060,"クレーン使用時、資材を既存物にぶつける","クレーン使用時の合図の徹底"]
[402060,"クレーン使用時、資材を既存物にぶつける","声掛け合図の徹底"]
[402060,"クレーン使用時、資材を既存物にぶつける","既存物近くに材料を置かない"]
[402060,"足場から身を寄り出した際、墜落する","安全帯を掛けていない状況を作らない"]
[402060,"足場から身を寄り出した際、墜落する","無理な姿勢で作業しない"]
[402060,"足場から身を寄り出した際、墜落する","足場の始業前点検を実施する"]
[402060,"足場から身を寄り出した際、墜落する","作業床の墜落転落防止措置を確認する"]
[402060,"釘を踏み抜いて足の裏を怪我する","解体材の整理整頓を行う"]
[402060,"釘を踏み抜いて足の裏を怪我する","安全靴の着装"]
[402060,"釘を踏み抜いて足の裏を怪我する","照明設備を整え、手元足元を明るくする"]
[402060,"型枠解体時、型枠との間に指・手を挟む","危険な所に手を入れない"]
[402060,"型枠解体時、型枠との間に指・手を挟む","無理な姿勢で作業しない"]
[402060,"荷上げ開口部から転落する","養生蓋の上には乗らない"]
[402060,"荷上げ開口部から転落する","養生蓋は不必要時には必ず閉める"]
[402060,"足場の隙間から墜落する","安全帯を掛けていない状況を作らない"]
[402060,"足場の隙間から墜落する","無理な姿勢で作業しない"]
[402060,"足場の隙間から墜落する","足場の始業前点検を実施する"]
[402060,"足場の隙間から墜落する","作業床の墜落転落防止措置の確認する"]
[402060,"足場の隙間から墜落する","作業下部の人払いを行う"]
[402060,"足場の隙間から墜落する","保護具を着装する"]
[402060,"立馬から転落する","物を持って昇降しない"]
[402060,"立馬から転落する","開き止めを確認する"]
[402060,"立馬から転落する","無理な姿勢で作業しない"]
[402060,"立馬から転落する","昇降時は必ず後ろ向きにおりる"]
[402060,"持出ｽﾗﾌﾞ解体時、誤って型枠を落下させる","無理な姿勢で作業しない"]
[402060,"持出ｽﾗﾌﾞ解体時、誤って型枠を落下させる","作業下部の人払いを行う"]
[402060,"持出ｽﾗﾌﾞ解体時、誤って型枠を落下させる","保護手袋を着装する"]
[402060,"持出ｽﾗﾌﾞ解体時、誤って型枠を落下させる","足場上の材料・工具を整理整頓する"]
[402060,"梁底･ｽﾗﾌﾞ解体時、鋼管・型枠が頭に当たる","作業手順を遵守する"]
[402060,"梁底･ｽﾗﾌﾞ解体時、鋼管・型枠が頭に当たる","保護帽を着装する"]
[402060,"梁底･ｽﾗﾌﾞ解体時、鋼管・型枠が頭に当たる","無理な姿勢で作業しない"]
[402060,"梁底･ｽﾗﾌﾞ解体時、鋼管・型枠が頭に当たる","作業周辺の人払いを行う"]
[402070,"丸のこ使用時目にゴミが入る","保護メガネを着装する"]
[402070,"端太角荷下ろし時、足場で手を挟む","無理な姿勢で作業しない"]
[402070,"材料運搬時、段差に躓いて転倒する","床段差に足をのせない"]
[402070,"材料運搬時、段差に躓いて転倒する","安全通路を移動する"]
[402070,"差筋で足を切る","安全通路を確保し、歩行する"]
[402070,"差筋で足を切る","差筋ｷｬｯﾌﾟを取り付ける"]
[402070,"差筋で足を切る","服装の乱れを確認する"]
[402070,"長尺物を振り回す際、作業員にぶつける","2人1組で材料を運ぶ"]
[402070,"長尺物を振り回す際、作業員にぶつける","振り回す際は、事前に周囲確認し、人払いを行う"]
[402070,"長尺物を振り回す際、作業員にぶつける","声掛け合図の徹底"]
[402070,"コンクリート打設中、ホースに接触し転倒する","ホースの筒先に立たない"]
[402070,"コンクリート打設中、ホースに接触し転倒する","声掛け合図の徹底"]
[402070,"生コン車と接触する","安全通路を移動する"]
[402070,"生コン車と接触する","生コン運転手に合図を送る"]
[402070,"雨天時、丸のこを使用して感電する","ゴム手袋を使用する"]
[402070,"雨天時、丸のこを使用して感電する","雨がかかる場所では使用しない"]
[402070,"雨天時、丸のこを使用して感電する","丸のこの始業前点検を実施する"]
[402070,"雨天時、電動工具を使用して漏電する","雨がかかる場所では使用しない"]
[402070,"雨天時、電動工具を使用して漏電する","コンセントは雨が掛らない様、養生する"]
[402070,"雨天時、電動工具を使用して漏電する","電動工具の始業前点検を実施する"]
[402070,"誤ってハンマーで指を叩く","使用時は手元の確認を行う"]
[402070,"誤ってハンマーで指を叩く","暗い箇所では使用しない(手元の照明を明るくする)"]
[402070,"誤ってハンマーで指を叩く","保護手袋を着装する"]
[402070,"手鋸で手や指を切る","手鋸を動かす方向に手や指を置かない"]
[402070,"手鋸で手や指を切る","無理な姿勢で作業しない"]
[402070,"手鋸で手や指を切る","保護手袋を着装する"]
[403010,"地中梁上でバランスを崩し墜落する","安全帯を掛けていない状況を作らない"]
[403010,"地中梁上でバランスを崩し墜落する","無理な姿勢で作業しない"]
[403010,"地中梁上でバランスを崩し墜落する","安全設備の整備されていない梁上では作業しない"]
[403010,"足場板端部（跳ね出し部）に乗った時、反対側端部が持ち上がり転落する","足場の始業前点検を実施する"]
[403010,"足場板端部（跳ね出し部）に乗った時、反対側端部が持ち上がり転落する","足場の跳ね出し部に乗らない"]
[403010,"足場板端部（跳ね出し部）に乗った時、反対側端部が持ち上がり転落する","安全帯が使用できない状況で作業しない"]
[403010,"足場板端部（跳ね出し部）に乗った時、反対側端部が持ち上がり転落する","跳ね出し長さが適切でない場合足場を使用しない"]
[403010,"鉄筋受渡し時に梁筋にて手を詰める","鉄筋運搬時には声かけ合図を徹底する"]
[403010,"運搬時に鉄筋と接触して負傷する","鉄筋運搬時には声かけ合図を徹底する"]
[403010,"地組した鉄筋が倒れて人に当たり負傷する","十分な作業場所を確保する"]
[403010,"地組した鉄筋が倒れて人に当たり負傷する","架台の強度に問題がないか確認する"]
[403010,"地組した鉄筋が倒れて人に当たり負傷する","地組する鉄筋の重量・バランスを確認する"]
[403010,"梁筋を仮固定していた結束線が切れ、足の上に落ちる","仮固定でも確実に固定する"]
[403010,"梁天端から転落する","親綱を張り、安全帯を使用する"]
[403010,"梁天端から転落する","無理な姿勢で作業しない"]
[403010,"梁天端から転落する","危険な箇所には登らない"]
[403010,"梁天端から転落する","昇降設備を使用する"]
[403010,"地山・開口部から転落する","端部・開口部作業は安全帯を必ず使用する"]
[403010,"地山・開口部から転落する","無理な姿勢で作業しない"]
[403010,"地山・開口部から転落する","昇降設備を使用する"]
[403010,"地山・開口部から転落する","近道行為を禁止する"]
[403010,"地山・開口部から転落する","安全通路を移動する"]
[403010,"通路足場昇降時、足を滑らせ転落する","安全ブロックを使用する"]
[403010,"通路足場昇降時、足を滑らせ転落する","昇降時、上下・頭上・足元を確認する"]
[403010,"通路足場上で躓いて転倒する","通路足場上の材料等を整理整頓する"]
[403010,"通路足場上で躓いて転倒する","無理な姿勢で作業しない"]
[403010,"通路足場上で躓いて転倒する","安全通路を移動する"]
[403020,"立馬から壁筋に片足を掛け作業中転落する","養生蓋等の確認（設置した立馬の足元確認）"]
[403020,"立馬から壁筋に片足を掛け作業中転落する","無理な体勢で作業しないようにこまめに移動する"]
[403020,"立馬から壁筋に片足を掛け作業中転落する","手掛かり棒を全箇所伸ばす"]
[403020,"仮置き鉄筋に足を乗せて滑り、立馬から転落する","無理な体勢で作業しない"]
[403020,"仮置き鉄筋に足を乗せて滑り、立馬から転落する","資材を足場上に放置しない"]
[403020,"上部に束ねていたフープ筋が自重でずれて手を挟む","ずれる恐れのある時はしっかりと結束して作業を行う"]
[403020,"上部に束ねていたフープ筋が自重でずれて手を挟む","危険な所に手を入れない"]
[403020,"立馬から転落する","物を持って昇降しない"]
[403020,"立馬から転落する","開き止めを確認する"]
[403020,"立馬から転落する","無理な姿勢で作業しない"]
[403020,"立馬から転落する","昇降時は必ず後ろ向きにおりる"]
[403020,"足場使用時、足場から墜落する","安全帯を使用する"]
[403020,"足場使用時、足場から墜落する","無理な姿勢で作業しない"]
[403020,"足場使用時、足場から墜落する","足場の始業前点検を実施する"]
[403020,"足場使用時、足場から墜落する","作業床の墜落転落防止措置を確認する"]
[403020,"鉄筋を束で持つ際、指を詰める","保護手袋を使用する"]
[403020,"鉄筋を束で持つ際、指を詰める","2人1組で材料を運ぶ"]
[403020,"足場の隙間から墜落する","安全帯を掛けていない状況を作らない"]
[403020,"足場の隙間から墜落する","無理な姿勢で作業しない"]
[403020,"足場の隙間から墜落する","足場の始業前点検を実施する"]
[403020,"足場の隙間から墜落する","作業床の墜落転落防止措置の確認する"]
[403020,"足場の隙間から墜落する","作業下部の人払いを行う"]
[403020,"足場の隙間から墜落する","保護具を着装する"]
[403030,"地組架台が倒れて、鉄筋と接触する","地組架台の傾き・転倒防止を確認する"]
[403030,"地組架台が倒れて、鉄筋と接触する","バランスの確認を行い、転倒の恐れがある場合は控えを設置する"]
[403030,"地組架台が倒れて、鉄筋と接触する","作業にあった適正な架台を設置する"]
[403030,"スラブ（ﾃﾞｯｷ）上梁筋をまたごうとして転倒する","近道行為の禁止"]
[403030,"スラブ（ﾃﾞｯｷ）上梁筋をまたごうとして転倒する","作業通路を明確にして渡りを設置する"]
[403030,"スラブ上で躓いて、転倒する","組立中の鉄筋に不用意に乗らない"]
[403030,"スラブ上で躓いて、転倒する","スラブ筋施工後はメッシュロードを敷設し、その上を移動する"]
[403030,"スラブ上で躓いて、転倒する","不要資材の片づけを行う"]
[403030,"スラブより突き出た差し筋を踏み抜き負傷する","差し筋の上部を通行しない"]
[403030,"スラブより突き出た差し筋を踏み抜き負傷する","気付いた不具合を放置しない"]
[403030,"スラブより突き出た差し筋を踏み抜き負傷する","差し筋施工後は注意喚起のためキャップを取り付ける"]
[403030,"梁型枠を跨ぐ時に足を滑らせ梁底に転落する","近道行為の禁止"]
[403030,"梁型枠を跨ぐ時に足を滑らせ梁底に転落する","作業通路を明確にし、渡りを設置する。"]
[403030,"配筋中梁筋にて指を挟む","皮手袋を使用する"]
[403030,"配筋中梁筋にて指を挟む","危険な所に手を入れない"]
[403030,"配筋中梁筋にて指を挟む","指を挟まないよう声かけ合図の徹底"]
[403030,"スラブ上での作業中、スラブ筋に躓いて転倒する","スラブ筋上歩行の際、足元を確認し歩行する"]
[403030,"スラブ上での作業中、スラブ段差に躓いて転倒する","スラブ筋上歩行の際、足元を確認し歩行する"]
[403030,"長尺物を振り回す際、作業員にぶつける","2人1組で材料を運ぶ"]
[403030,"長尺物を振り回す際、作業員にぶつける","振り回す際は、事前に周囲確認し、人払いを行う"]
[403030,"長尺物を振り回す際、作業員にぶつける","声掛け合図の徹底"]
[403030,"鉄筋を束で持つ際、指を詰める","保護手袋を使用する"]
[403030,"鉄筋を束で持つ際、指を詰める","2人1組で材料を運ぶ"]
[403030,"電動結束機使用時、手や指を詰める","保護手袋を使用する"]
[403030,"電動結束機使用時、手や指を詰める","作業床を確認する"]
[403030,"電動結束機使用時、手や指を詰める","無理な姿勢で作業しない"]
[403030,"電動結束機使用時、手や指を詰める","電動工具の始業前点検を実施する"]
[403030,"鉄筋を担いでいる際、資材に躓いて転倒する","資材の整理・整頓を行う"]
[403030,"鉄筋を担いでいる際、資材に躓いて転倒する","作業通路を確保し、歩行する"]
[403030,"差筋で足を切る","安全通路を確保し、歩行する"]
[403030,"差筋で足を切る","差筋ｷｬｯﾌﾟを取り付ける"]
[403030,"差筋で足を切る","服装の乱れを確認する"]
[403040,"工具で手を挟む","危険な箇所に手を入れない"]
[403040,"工具で手を挟む","無理な体勢で作業しない"]
[403040,"クレーン使用時、資材を既存物にぶつける","クレーン使用時の合図の徹底"]
[403040,"クレーン使用時、資材を既存物にぶつける","声掛け合図の徹底"]
[403040,"クレーン使用時、資材を既存物にぶつける","既存物近くに材料を置かない"]
[403040,"クレーン使用時、吊荷が落下する","クレーン使用時の合図の徹底"]
[403040,"クレーン使用時、吊荷が落下する","声掛け合図の徹底"]
[403040,"クレーン使用時、吊荷が落下する","玉掛けワイヤーの始業前点検を実施する"]
[403040,"クレーン使用時、吊荷が落下する","吊荷荷重の確認する"]
[403040,"クレーン使用時、吊荷が落下する","吊荷の下の人払い徹底"]
[403040,"クレーン使用時、吊荷が落下する","地切りの確認（333運動）"]
[403040,"足場使用時、足場から資材等を落下させる","無理な姿勢で作業しない"]
[403040,"足場使用時、足場から資材等を落下させる","作業下部の人払いを行う"]
[403040,"足場使用時、足場から資材等を落下させる","足場上の資材等を整理整頓する"]
[403050,"溶接治具運搬時、足場に手をぶつけて負傷する","安全通路を確認し、運搬方法を決定する"]
[403050,"溶接治具運搬時、足場に手をぶつけて負傷する","狭い通路は両手で物を持って移動しない"]
[403050,"溶接治具運搬時、足場に手をぶつけて負傷する","通路幅が90cmない場合は肩にかける等して注意する"]
[403050,"地中梁圧接中、移動時に転落する","近道行為の禁止"]
[403050,"地中梁圧接中、移動時に転落する","安全設備の整備されていない梁上は通行しない"]
[403050,"地中梁圧接中、移動時に転落する","足場板が正しく結束されているかを確認する"]
[403050,"壁の差筋をまたぎ転倒する","近道行為の禁止"]
[403050,"壁の差筋をまたぎ転倒する","安全通路を使用する"]
[403050,"梁底移動中足が滑り転倒する","安全通路を使用する"]
[403050,"材料運搬時、段差に躓いて転倒する","床段差に足をのせない"]
[403050,"材料運搬時、段差に躓いて転倒する","安全通路を移動する"]
[403050,"溶接時、火傷する","消火器・消火バケツを設置する"]
[403050,"溶接時、火傷する","火気使用時の人払いを行う"]
[403050,"溶接時、火傷する","保護手袋を着装する"]
[403050,"溶接時、火傷する","溶接箇所に手を近づけない"]
[403050,"溶接時、火花が飛散し火災が発生する","火の粉の付近に可燃物を置かない"]
[403050,"溶接時、火花が飛散し火災が発生する","消火器・消火バケツを設置する"]
[403050,"溶接時、火花が飛散し火災が発生する","火気使用時の人払いを行う"]
[403050,"溶接時、火花が飛散し火災が発生する","梁底の型枠に養生ｼｰﾄを敷く"]
[403050,"溶接時、火花が飛散し火災が発生する","型枠を予め水で湿す"]
[403050,"鉄筋との間に手・指を挟む","保護手袋を使用する"]
[403050,"鉄筋との間に手・指を挟む","無理な姿勢で作業しない"]
[403050,"鉄筋との間に手・指を挟む","危険な所に手を入れない"]
[403050,"グラインダー使用時、目に鉄粉が入る","保護メガネを着装する"]
[403050,"グラインダー使用時、目に鉄粉が入る","無理な姿勢で作業しない"]
[403050,"グラインダー使用時、目に鉄粉が入る","保護カバーを使用する"]
[403050,"チップソー使用時、目に鉄粉が入る","保護メガネを着装する"]
[403050,"チップソー使用時、目に鉄粉が入る","無理な姿勢で作業しない"]
[403050,"チップソー使用時、目に鉄粉が入る","保護具を着装する"]
[403050,"地山・開口部から転落する","端部・開口部作業は安全帯を必ず使用する"]
[403050,"地山・開口部から転落する","無理な姿勢で作業しない"]
[403050,"地山・開口部から転落する","昇降設備を使用する"]
[403050,"地山・開口部から転落する","近道行為を禁止する"]
[403050,"地山・開口部から転落する","安全通路を移動する"]
[403060,"材料運搬時、段差に躓いて転倒する","床段差に足をのせない"]
[403060,"材料運搬時、段差に躓いて転倒する","安全通路を移動する"]
[403060,"鉄筋との間に手・指を挟む","保護手袋を使用する"]
[403060,"鉄筋との間に手・指を挟む","無理な姿勢で作業しない"]
[403060,"鉄筋との間に手・指を挟む","危険な所に手を入れない"]
[403060,"鉄筋とカプラーとの間に指を挟む","保護手袋を使用する"]
[403060,"鉄筋とカプラーとの間に指を挟む","無理な姿勢で作業しない"]
[403060,"鉄筋とカプラーとの間に指を挟む","危険な所に手を入れない"]
[403060,"グラウト材注入する際、グラウト材が目に入る","保護メガネを着装する"]
[403060,"グラウト材注入する際、グラウト材が目に入る","無理な姿勢で作業しない"]
[403060,"地山・開口部から転落する","端部・開口部作業は安全帯を必ず使用する"]
[403060,"地山・開口部から転落する","無理な姿勢で作業しない"]
[403060,"地山・開口部から転落する","昇降設備を使用する"]
[403060,"地山・開口部から転落する","近道行為を禁止する"]
[403060,"地山・開口部から転落する","安全通路を移動する"]
[404010,"鉄骨地組中（スタンション親綱設置）梁上から踏み外して転落する","近道行為の禁止"]
[404010,"鉄骨地組中（スタンション親綱設置）梁上から踏み外して転落する","作業手順の整備・確認・順守"]
[404010,"鉄骨地組中（スタンション親綱設置）梁上から踏み外して転落する","鉄骨等の材料の上に乗らない"]
[404010,"搬入車輛に挟まれる","車輛運行スペースを確保する"]
[404010,"搬入車輛に挟まれる","声掛け合図の徹底"]
[404010,"搬入車輛に挟まれる","ｶﾗｰｺｰﾝによる立ち入り禁止措置を行う"]
[404010,"搬入車輛に挟まれる","車輛と歩行者の区分けを行う"]
[404010,"鉄骨を仮置きする際、手を挟まれる","不安定な状態で鋼材を置かない"]
[404010,"鉄骨を仮置きする際、手を挟まれる","危険な所に手を入れない"]
[404010,"鉄骨を仮置きする際、手を挟まれる","荷吊りの際はオペとの合図確認を行う"]
[404010,"鉄骨を仮置きする際、手を挟まれる","不安定な状態で鋼材を吊り上げない"]
[404020,"吊荷が強風であおられる","強風時は作業を中断する"]
[404020,"建方中に梁上から墜落する","吊荷を介錯しながら梁上を移動しない"]
[404020,"建方中に梁上から墜落する","安定した状態で吊荷を介錯する"]
[404020,"建方中に梁上から墜落する","安全帯が使用できない状況で作業しない（二丁掛安全帯使用の徹底）"]
[404020,"建方時、吊荷が外れ落下する","クレーン使用時の合図の徹底"]
[404020,"建方時、吊荷が外れ落下する","声掛け合図の徹底"]
[404020,"建方時、吊荷が外れ落下する","玉掛けワイヤーの始業前点検を実施する"]
[404020,"建方時、吊荷が外れ落下する","吊荷荷重を確認する"]
[404020,"建方時、吊荷が外れ落下する","吊荷下の人払いを行う"]
[404020,"建方時、吊荷が外れ落下する","地切りの確認をする（333運動）"]
[404020,"建方時、吊荷が外れ落下する","専用吊り具を使用する"]
[404020,"梁上歩行中、バランスを崩して転落する","安全帯を掛けていない状況を作らない"]
[404020,"梁上歩行中、バランスを崩して転落する","安全帯を使用し、足元を確認して歩行する"]
[404020,"梁上歩行中、バランスを崩して転落する","不安全行動を禁止する"]
[404020,"梁上歩行中、バランスを崩して転落する","近道行為を禁止する"]
[404020,"胴縁取付時、端部から転落する","安全帯を掛けていない状況を作らない"]
[404020,"胴縁取付時、端部から転落する","無理な姿勢で作業しない"]
[404020,"建方時、手を詰める","クレーン使用時の合図の徹底"]
[404020,"建方時、手を詰める","声掛け合図の徹底"]
[404020,"建方時、手を詰める","危険な所に手を入れない"]
[404020,"建方時、手を詰める","無理な姿勢で作業しない"]
[404020,"長尺物を振り回す際、作業員にぶつける","2人1組で材料を運ぶ"]
[404020,"長尺物を振り回す際、作業員にぶつける","振り回す際は、事前に周囲目視確認し、人払いを行う"]
[404020,"長尺物を振り回す際、作業員にぶつける","声掛け合図の徹底"]
[404030,"鉄骨建入治具での使用時に、定められた以外の使用をして負傷する","定められた使用方法に基づき建ち直しを行う（ボルトの取替、くさび等をかまさない）"]
[404030,"シャーレンチ運搬時バランスを崩して転倒する","材料運搬時は特に足元に気を付け転倒防止に努める"]
[404030,"鉄骨建ち直し用フックに躓き転倒する","建ち直し用フックは明示する"]
[404030,"鉄骨建ち直し用フックに躓き転倒する","近道行為の禁止"]
[404030,"ﾎﾞﾙﾄ締め時、梁から墜落する","無理な姿勢で作業しない"]
[404030,"ﾎﾞﾙﾄ締め時、梁から墜落する","安全帯を掛けていない状況を作らない"]
[404030,"ﾎﾞﾙﾄ締め時、手が滑り工具類が落下する","無理な姿勢で作業しない"]
[404030,"ﾎﾞﾙﾄ締め時、手が滑り工具類が落下する","作業下部の人払いを行う"]
[404030,"ﾎﾞﾙﾄ締め時、手が滑り工具類が落下する","工具袋を使用する"]
[404030,"高所作業車使用時、転落する","安全帯を必ず使用する"]
[404030,"高所作業車使用時、転落する","無理な姿勢で作業しない"]
[404030,"高所作業車使用時、転落する","高所作業車の始業前点検を実施する"]
[404030,"高所作業車使用時、転落する","作業床を確認する"]
[404030,"錆止め塗装中、足場から転落する","安全帯を必ず使用する"]
[404030,"錆止め塗装中、足場から転落する","無理な姿勢で作業しない"]
[404030,"錆止め塗装中、足場から転落する","足場の始業前点検を実施する"]
[404030,"錆止め塗装中、足場から転落する","作業床の墜落転落防止措置を確認する"]
[404040,"ﾃﾞｯｷﾌﾟﾚｰﾄを仮置きする際、手を挟まれる","不安定な状態でﾃﾞｯｷﾌﾟﾚｰﾄを置かない"]
[404040,"ﾃﾞｯｷﾌﾟﾚｰﾄを仮置きする際、手を挟まれる","危険な所に手を入れない"]
[404040,"ﾃﾞｯｷﾌﾟﾚｰﾄを仮置きする際、手を挟まれる","荷吊りの際はオペとの合図確認を徹底する"]
[404040,"ﾃﾞｯｷﾌﾟﾚｰﾄを仮置きする際、手を挟まれる","不安定な状態でﾃﾞｯｷﾌﾟﾚｰﾄを吊り上げない"]
[404040,"ﾃﾞｯｷﾌﾟﾚｰﾄ取込み時、吊荷が外れ落下する","クレーン使用時の合図の徹底"]
[404040,"ﾃﾞｯｷﾌﾟﾚｰﾄ取込み時、吊荷が外れ落下する","声掛け合図の徹底"]
[404040,"ﾃﾞｯｷﾌﾟﾚｰﾄ取込み時、吊荷が外れ落下する","玉掛けワイヤーの始業前点検を実施する"]
[404040,"ﾃﾞｯｷﾌﾟﾚｰﾄ取込み時、吊荷が外れ落下する","吊荷荷重を確認する"]
[404040,"ﾃﾞｯｷﾌﾟﾚｰﾄ取込み時、吊荷が外れ落下する","吊荷の下の人払いを行う"]
[404040,"ﾃﾞｯｷﾌﾟﾚｰﾄ取込み時、吊荷が外れ落下する","地切りを確認する（333運動）"]
[404050,"デッキ端部で安全帯を掛けようとして足を滑らせ墜落する","端部に接近する前に安全帯を掛ける"]
[404050,"デッキ端部で安全帯を掛けようとして足を滑らせ墜落する","親綱の設置位置か適正か作業前に確認する"]
[404050,"デッキが鉄骨から外れて落下する","デッキの掛かり代を確実に確認する"]
[404050,"デッキが鉄骨から外れて落下する","落下養生水平ネットを確認してから作業を行う"]
[404050,"安全帯掛け替え中バランスを崩して墜落する","安全帯が使用できない状況で作業しない（二丁掛安全帯使用の徹底）"]
[404050,"安全帯掛け替え中バランスを崩して墜落する","養生水平ネットの確認後に作業を行う"]
[404050,"仮敷きのデッキプレートを歩行中転落する","決められた通路以外通行しない"]
[404050,"仮敷きのデッキプレートを歩行中転落する","養生水平ネットを確認後に作業を行う（水平ネットの取外し時期を誤らない）"]
[404050,"仮敷きのデッキプレートを歩行中転落する","仮敷き部の立ち入り禁止措置及び明示が行われているか確認する"]
[404050,"ﾃﾞｯｷ取付(溶接)時、火傷する","消火器・消火バケツを設置する"]
[404050,"ﾃﾞｯｷ取付(溶接)時、火傷する","火気使用時の下部の人払いを行う"]
[404050,"ﾃﾞｯｷ取付(溶接)時、火傷する","保護具を着装する"]
[404050,"ﾃﾞｯｷ取付(溶接)時、火傷する","無理な姿勢で作業しない"]
[404050,"ﾃﾞｯｷ取付(溶接)時、火傷する","溶接箇所に手を近づけない"]
[404050,"ﾃﾞｯｷ敷込み時、手が滑り、ﾃﾞｯｷを落下させる","無理な姿勢で作業しない"]
[404050,"ﾃﾞｯｷ敷込み時、手が滑り、ﾃﾞｯｷを落下させる","作業下部の人払いを行う"]
[404050,"ﾃﾞｯｷ敷込み時、手が滑り、ﾃﾞｯｷを落下させる","2人1組で材料を運ぶ"]
[404050,"ﾃﾞｯｷ敷込み時、バランスを崩して墜落する","声掛け合図の徹底"]
[404050,"ﾃﾞｯｷ敷込み時、バランスを崩して墜落する","無理な姿勢で作業しない"]
[404050,"ﾃﾞｯｷ敷込み時、バランスを崩して墜落する","安全帯を使用し、足元を確認して歩行する"]
[404050,"ﾃﾞｯｷ敷込み時、バランスを崩して墜落する","配線・コード類の整理整線を行う"]
[404050,"ﾃﾞｯｷ敷込み時、手が滑り工具類を落下させる","無理な姿勢で作業しない"]
[404050,"ﾃﾞｯｷ敷込み時、手が滑り工具類を落下させる","作業下部の人払いを行う"]
[404050,"ﾃﾞｯｷ敷込み時、手が滑り工具類を落下させる","工具袋を使用する"]
[404060,"現場溶接時、火傷する","消火器・消火バケツを設置する"]
[404060,"現場溶接時、火傷する","火気使用時の下部の人払いを行う"]
[404060,"現場溶接時、火傷する","保護具を着装する"]
[404060,"現場溶接時、火傷する","無理な姿勢で作業しない"]
[404060,"現場溶接時、火傷する","溶接箇所に手を近づけない"]
[404060,"現場溶接時、火花が飛散する","火の粉の付近に可燃物を置かない"]
[404060,"現場溶接時、火花が飛散する","消火器・消火バケツを設置する"]
[404060,"現場溶接時、火花が飛散する","火気使用時の下部の人払いを行う"]
[404060,"現場溶接時、火花が飛散する","作業周囲を不燃材で養生する"]
[404060,"現場溶接時、火花が飛散する","無理な姿勢で作業しない"]
[404070,"スタッド溶接時、火傷する","消火器・消火バケツを設置する"]
[404070,"スタッド溶接時、火傷する","火気使用時の下部の人払いを行う"]
[404070,"スタッド溶接時、火傷する","保護具を着装する"]
[404070,"スタッド溶接時、火傷する","溶接箇所に手を近づけない"]
[404070,"スタッド溶接時、火花が飛散する","火の粉の付近に可燃物を置かない"]
[404070,"スタッド溶接時、火花が飛散する","消火器・消火バケツを設置する"]
[404070,"スタッド溶接時、火花が飛散する","火気使用時の下部の人払いを行う"]
[404080,"ローリング足場の手摺が外れて転落する","足場の始業前点検の実施"]
[404080,"プラント機械に手を巻き込まれる","保護手袋を使用する"]
[404080,"プラント機械に手を巻き込まれる","無理な姿勢で作業しない"]
[404080,"プラント機械に手を巻き込まれる","危険な所に手を入れない"]
[404080,"プラント機械に手を巻き込まれる","非常停止ﾎﾞﾀﾝを使用する"]
[404080,"プラント機械に手を巻き込まれる","服装の乱れを確認する"]
[404080,"材料運搬時段差に躓いて転倒する","床段差に足をのせない"]
[404080,"材料運搬時段差に躓いて転倒する","安全通路を移動する"]
[404080,"高所作業車使用時、身を寄り出して墜落する","安全帯を必ず使用する"]
[404080,"高所作業車使用時、身を寄り出して墜落する","無理な姿勢で作業しない"]
[404080,"高所作業車使用時、身を寄り出して墜落する","高所作業車の始業前点検を実施する"]
[404080,"ﾛｰﾘﾝｸﾞﾀﾜｰ使用時、身を寄り出して墜落する","安全帯を必ず使用する"]
[404080,"ﾛｰﾘﾝｸﾞﾀﾜｰ使用時、身を寄り出して墜落する","無理な姿勢で作業しない"]
[404080,"ﾛｰﾘﾝｸﾞﾀﾜｰ使用時、身を寄り出して墜落する","ﾛｰﾘﾝｸﾞﾀﾜｰの始業前点検を実施する"]
[404080,"足場から身を寄り出した際、墜落する","安全帯を掛けていない状況を作らない"]
[404080,"足場から身を寄り出した際、墜落する","無理な姿勢で作業しない"]
[404080,"足場から身を寄り出した際、墜落する","足場の始業前点検を実施する"]
[404080,"足場から身を寄り出した際、墜落する","作業床の墜落転落防止措置を確認する"]
[404080,"足場の隙間から墜落する","安全帯を掛けていない状況を作らない"]
[404080,"足場の隙間から墜落する","無理な姿勢で作業しない"]
[404080,"足場の隙間から墜落する","足場の始業前点検を実施する"]
[404080,"足場の隙間から墜落する","作業床の墜落転落防止措置の確認する"]
[404080,"足場の隙間から墜落する","作業下部の人払いを行う"]
[404080,"足場の隙間から墜落する","保護具を着装する"]
[404080,"立馬から転落する","物を持って昇降しない"]
[404080,"立馬から転落する","開き止めを確認する"]
[404080,"立馬から転落する","無理な姿勢で作業しない"]
[404080,"立馬から転落する","昇降時は必ず後ろ向きにおりる"]
[404080,"材料カット時、カッターナイフで手を切る","カッターナイフを動かす方向に手を置かない"]
[404080,"材料カット時、カッターナイフで手を切る","無理な姿勢で作業しない"]
[404080,"材料カット時、カッターナイフで手を切る","刃の出し入れを確認する"]
[405010,"移動時、躓いて転倒する","安全通路を移動する"]
[405010,"移動時、躓いて転倒する","近道行為を禁止する"]
[405010,"移動時、段差に躓いて転倒する","床段差に足をのせない"]
[405010,"移動時、段差に躓いて転倒する","安全通路を移動する"]
[405010,"搬入車輛に接触する","車輛運行スペースを確保する"]
[405010,"搬入車輛に接触する","声掛け合図の徹底"]
[405010,"搬入車輛に接触する","ｶﾗｰｺｰﾝによる立ち入り禁止措置を行う"]
[405010,"搬入車輛に接触する","車輛と歩行者の区分けを行う"]
[405010,"工事車輛の搬出入時、第三者と接触する","誘導員の合図に従う"]
[405010,"工事車輛の搬出入時、第三者と接触する","第三者から見える場所で合図する"]
[405010,"工事車輛の搬出入時、第三者と接触する","声掛け合図の徹底"]
[405010,"工事車輛の搬出入時、第三者と接触する","第三者優先で誘導を行う"]
[405010,"荷卸し時、トレーラー上から転落する","スタンション・親綱を使用する"]
[405010,"荷卸し時、トレーラー上から転落する","安全帯を必ず使用する"]
[405010,"荷卸し時、トレーラー上から転落する","声掛け合図の徹底"]
[405010,"荷卸し時、トレーラー上から転落する","無理な姿勢で作業しない"]
[405010,"ＰＣを仮置きする際、手を挟む","不安定な状態でＰＣを置かない"]
[405010,"ＰＣを仮置きする際、手を挟む","危険な所に手を入れない"]
[405010,"ＰＣを仮置きする際、手を挟む","荷吊りの際はオペとの合図確認を行う"]
[405010,"ＰＣを仮置きする際、手を挟む","不安定な状態でＰＣを吊り上げない"]
[405010,"クレーン使用時、吊荷が外れ落下する","クレーン使用時の合図の徹底"]
[405010,"クレーン使用時、吊荷が外れ落下する","声掛け合図の徹底"]
[405010,"クレーン使用時、吊荷が外れ落下する","専用吊り具の始業前点検を実施する"]
[405010,"クレーン使用時、吊荷が外れ落下する","吊荷荷重を確認する"]
[405010,"クレーン使用時、吊荷が外れ落下する","吊荷下の人払いを行う"]
[405010,"クレーン使用時、吊荷が外れ落下する","地切りの確認をする（333運動）"]
[405010,"クレーン使用時、吊荷が外れ落下する","専用吊り具を使用する"]
[405010,"クレーン使用時、玉掛けワイヤーが切れ、吊荷が落下する","玉掛けワイヤーの始業前点検を実施する"]
[405010,"クレーン使用時、玉掛けワイヤーが切れ、吊荷が落下する","声掛け合図の徹底"]
[405010,"クレーン使用時、玉掛けワイヤーが切れ、吊荷が落下する","吊荷下の人払いを行う"]
[405010,"クレーン使用時、玉掛けワイヤーが切れ、吊荷が落下する","吊荷荷重を確認する"]
[405010,"ＰＣ組立時、吊荷が振れて手を挟む","不安定な状態で構台を吊り上げない"]
[405010,"ＰＣ組立時、吊荷が振れて手を挟む","危険な所に手を入れない"]
[405010,"ＰＣ組立時、吊荷が振れて手を挟む","荷吊りの際はオペとの合図確認を行う"]
[405010,"ＰＣ組立時、スラブ端部から墜落する","安全帯を掛けていない状況を作らない"]
[405010,"ＰＣ組立時、スラブ端部から墜落する","端部作業は安全帯を必ず使用し作業を行う"]
[405010,"ＰＣ組立時、スラブ端部から墜落する","不安全行動を禁止する"]
[405010,"ＰＣ組立時、スラブ端部から墜落する","近道行為を禁止する"]
[405010,"足場使用時、足場から墜落する","安全帯を掛けていない状況を作らない"]
[405010,"足場使用時、足場から墜落する","無理な姿勢で作業しない"]
[405010,"足場使用時、足場から墜落する","足場の始業前点検を実施する"]
[405010,"足場使用時、足場から墜落する","作業床の墜落転落防止措置を確認する"]
[405010,"足場の隙間から墜落する","安全帯を掛けていない状況を作らない"]
[405010,"足場の隙間から墜落する","無理な姿勢で作業しない"]
[405010,"足場の隙間から墜落する","足場の始業前点検を実施する"]
[405010,"足場の隙間から墜落する","作業床の墜落転落防止措置の確認する"]
[405010,"足場上で躓いて転倒する","足場上の資材等を整理整頓する"]
[405010,"足場上で躓いて転倒する","無理な姿勢で作業しない"]
[405010,"足場上で躓いて転倒する","安全通路を移動する"]
[405010,"立馬から転落する","物を持って昇降しない"]
[405010,"立馬から転落する","開き止め確認する"]
[405010,"立馬から転落する","無理な姿勢で作業しない"]
[405010,"立馬から転落する","昇降時は必ず後ろ向きにおりる"]
[405010,"重量物を持って腰を痛める","膝を使い、物を持ちあげる"]
[405010,"重量物を持って腰を痛める","準備体操をしっかり行う"]
[405010,"重量物を持って腰を痛める","2人1組で重量物を運ぶ"]
[405010,"PC柱・壁が倒れて負傷する","作業手順を遵守する"]
[405010,"PC柱・壁が倒れて負傷する","固定状況を確認する"]
[405010,"PC柱・壁が倒れて負傷する","計画通りに控えを設置する"]
[405020,"移動時、躓いて転倒する","安全通路を移動する"]
[405020,"移動時、躓いて転倒する","近道行為を禁止する"]
[405020,"移動時、段差に躓いて転倒する","床段差に足をのせない"]
[405020,"移動時、段差に躓いて転倒する","安全通路を移動する"]
[405020,"搬入車輛に接触する","車輛運行スペースを確保する"]
[405020,"搬入車輛に接触する","声掛け合図の徹底"]
[405020,"搬入車輛に接触する","ｶﾗｰｺｰﾝによる立ち入り禁止措置を行う"]
[405020,"搬入車輛に接触する","車輛と歩行者の区分けを行う"]
[405020,"工事車輛の搬出入時、第三者と接触する","誘導員の合図に従う"]
[405020,"工事車輛の搬出入時、第三者と接触する","第三者から見える場所で合図する"]
[405020,"工事車輛の搬出入時、第三者と接触する","声掛け合図の徹底"]
[405020,"工事車輛の搬出入時、第三者と接触する","第三者優先で誘導を行う"]
[405020,"荷卸し時、トレーラー上から転落する","スタンション・親綱を使用する"]
[405020,"荷卸し時、トレーラー上から転落する","安全帯を使用する"]
[405020,"荷卸し時、トレーラー上から転落する","声掛け合図の徹底"]
[405020,"荷卸し時、トレーラー上から転落する","無理な姿勢で作業しない"]
[405020,"ＰＣを仮置きする際、手を挟む","不安定な状態でＰＣを置かない"]
[405020,"ＰＣを仮置きする際、手を挟む","危険な所に手を入れない"]
[405020,"ＰＣを仮置きする際、手を挟む","荷吊りの際はオペとの合図確認を行う"]
[405020,"ＰＣを仮置きする際、手を挟む","不安定な状態でＰＣを吊り上げない"]
[405020,"クレーン使用時、吊荷が外れ落下する","クレーン使用時の合図の徹底"]
[405020,"クレーン使用時、吊荷が外れ落下する","声掛け合図の徹底"]
[405020,"クレーン使用時、吊荷が外れ落下する","専用吊り具の始業前点検を実施する"]
[405020,"クレーン使用時、吊荷が外れ落下する","吊荷荷重を確認する"]
[405020,"クレーン使用時、吊荷が外れ落下する","吊荷下の人払いを行う"]
[405020,"クレーン使用時、吊荷が外れ落下する","地切りの確認をする（333運動）"]
[405020,"クレーン使用時、吊荷が外れ落下する","専用吊り具を使用する"]
[405020,"クレーン使用時、玉掛けワイヤーが切れ、吊荷が落下する","玉掛けワイヤーの始業前点検を実施する"]
[405020,"クレーン使用時、玉掛けワイヤーが切れ、吊荷が落下する","声掛け合図の徹底"]
[405020,"クレーン使用時、玉掛けワイヤーが切れ、吊荷が落下する","吊荷下の人払いを行う"]
[405020,"クレーン使用時、玉掛けワイヤーが切れ、吊荷が落下する","吊荷荷重を確認する"]
[405020,"ＰＣ組立時、吊荷が振れて手を挟む","不安定な状態で構台を吊り上げない"]
[405020,"ＰＣ組立時、吊荷が振れて手を挟む","危険な所に手を入れない"]
[405020,"ＰＣ組立時、吊荷が振れて手を挟む","荷吊りの際はオペとの合図確認を行う"]
[405020,"ＰＣ組立時、スラブ端部から墜落する","安全帯を掛けていない状況を作らない"]
[405020,"ＰＣ組立時、スラブ端部から墜落する","端部作業は安全帯を必ず使用し、作業を行う"]
[405020,"ＰＣ組立時、スラブ端部から墜落する","不安全行動を禁止する"]
[405020,"ＰＣ組立時、スラブ端部から墜落する","後ろ向きで作業しない"]
[405020,"足場使用時、足場から墜落する","安全帯を掛けていない状況を作らない"]
[405020,"足場使用時、足場から墜落する","無理な姿勢で作業しない"]
[405020,"足場使用時、足場から墜落する","足場の始業前点検を実施する"]
[405020,"足場使用時、足場から墜落する","作業床の墜落転落防止措置を確認する"]
[405020,"足場の隙間から墜落する","安全帯を掛けていない状況を作らない"]
[405020,"足場の隙間から墜落する","無理な姿勢で作業しない"]
[405020,"足場の隙間から墜落する","足場の始業前点検を実施する"]
[405020,"足場の隙間から墜落する","作業床の墜落転落防止措置の確認する"]
[405020,"足場上で躓いて転倒する","足場上の資材等を整理整頓する"]
[405020,"足場上で躓いて転倒する","無理な姿勢で作業しない"]
[405020,"足場上で躓いて転倒する","安全通路を移動する"]
[405020,"重量物を持って腰を痛める","膝を使い、物を持ちあげる"]
[405020,"重量物を持って腰を痛める","準備体操をしっかり行う"]
[405020,"重量物を持って腰を痛める","2人1組で重量物を運ぶ"]
[405020,"スラブ上での作業中、スラブ筋に躓いて転倒する","スラブ筋上歩行の際、足元を確認し歩行する"]
[405020,"スラブ上での作業中、スラブ筋に躓いて転倒する","メッシュロード上を移動する"]
[405020,"スラブやバルコニーの型枠支保工が崩壊する","型枠支保工を計画書通りに設置する"]
[405020,"スラブやバルコニーの型枠支保工が崩壊する","作業手順を遵守する"]
[405030,"材料運搬時、躓いて転倒する","安全通路を移動する"]
[405030,"材料運搬時、躓いて転倒する","近道行為を禁止する"]
[405030,"材料運搬時、段差に躓いて転倒する","床段差に足をのせない"]
[405030,"材料運搬時、段差に躓いて転倒する","安全通路を移動する"]
[405030,"搬入車輛に接触する","車輛運行スペースを確保する"]
[405030,"搬入車輛に接触する","声掛け合図の徹底"]
[405030,"搬入車輛に接触する","ｶﾗｰｺｰﾝによる立ち入り禁止措置を行う"]
[405030,"搬入車輛に接触する","車輛と歩行者の区分けを行う"]
[405030,"工事車輛の搬出入時、第三者と接触する","誘導員の合図に従う"]
[405030,"工事車輛の搬出入時、第三者と接触する","第三者から見える場所で合図する"]
[405030,"工事車輛の搬出入時、第三者と接触する","声掛け合図の徹底"]
[405030,"工事車輛の搬出入時、第三者と接触する","第三者優先で誘導を行う"]
[405030,"鋼線を仮置きする際、手を挟む","不安定な状態で鋼線を置かない"]
[405030,"鋼線を仮置きする際、手を挟む","危険な所に手を入れない"]
[405030,"鋼線を仮置きする際、手を挟む","荷吊りの際はオペとの合図確認を行う"]
[405030,"鋼線を仮置きする際、手を挟む","不安定な状態で鋼線を吊り上げない"]
[405030,"クレーン使用時、吊荷が外れ落下する","クレーン使用時の合図の徹底"]
[405030,"クレーン使用時、吊荷が外れ落下する","声掛け合図の徹底"]
[405030,"クレーン使用時、吊荷が外れ落下する","専用吊り具の始業前点検を実施する"]
[405030,"クレーン使用時、吊荷が外れ落下する","吊荷荷重を確認する"]
[405030,"クレーン使用時、吊荷が外れ落下する","吊荷下の人払いを行う"]
[405030,"クレーン使用時、吊荷が外れ落下する","地切りの確認をする（333運動）"]
[405030,"クレーン使用時、吊荷が外れ落下する","専用吊り具を使用する"]
[405030,"クレーン使用時、玉掛けワイヤーが切れ、吊荷が落下する","玉掛けワイヤーの始業前点検を実施する"]
[405030,"クレーン使用時、玉掛けワイヤーが切れ、吊荷が落下する","声掛け合図の徹底"]
[405030,"クレーン使用時、玉掛けワイヤーが切れ、吊荷が落下する","吊荷下の人払いを行う"]
[405030,"クレーン使用時、玉掛けワイヤーが切れ、吊荷が落下する","吊荷荷重を確認する"]
[405030,"鋼線設置時、吊荷が振れて手を挟む","不安定な状態で構台を吊り上げない"]
[405030,"鋼線設置時、吊荷が振れて手を挟む","危険な所に手を入れない"]
[405030,"鋼線設置時、吊荷が振れて手を挟む","荷吊りの際はオペとの合図確認を行う"]
[405030,"鋼線設置時、スラブ端部から墜落する","安全帯を掛けていない状況を作らない"]
[405030,"鋼線設置時、スラブ端部から墜落する","端部作業は安全帯を必ず使用し作業を行う"]
[405030,"鋼線設置時、スラブ端部から墜落する","不安全行動を禁止する"]
[405030,"鋼線設置時、スラブ端部から墜落する","後ろ向きで作業しない"]
[405030,"足場使用時、足場から墜落する","安全帯を掛けていない状況を作らない"]
[405030,"足場使用時、足場から墜落する","無理な姿勢で作業しない"]
[405030,"足場使用時、足場から墜落する","足場の始業前点検を実施する"]
[405030,"足場使用時、足場から墜落する","作業床の墜落転落防止措置を確認する"]
[405030,"足場の隙間から墜落する","安全帯を掛けていない状況を作らない"]
[405030,"足場の隙間から墜落する","無理な姿勢で作業しない"]
[405030,"足場の隙間から墜落する","足場の始業前点検を実施する"]
[405030,"足場の隙間から墜落する","作業床の墜落転落防止措置の確認する"]
[405030,"足場上で躓いて転倒する","足場上の資材等を整理整頓する"]
[405030,"足場上で躓いて転倒する","無理な姿勢で作業しない"]
[405030,"足場上で躓いて転倒する","安全通路を移動する"]
[405030,"重量物を持って腰を痛める","膝を使い、物を持ちあげる"]
[405030,"重量物を持って腰を痛める","準備体操をしっかり行う"]
[405030,"重量物を持って腰を痛める","2人1組で重量物を運ぶ"]
[405030,"スラブ上での作業中、スラブ筋に躓いて転倒する","スラブ筋上歩行の際、足元を確認し歩行する"]
[405030,"スラブ上での作業中、スラブ筋に躓いて転倒する","メッシュロード上を移動する"]
[405030,"梁天端から転落する","親綱を張り、安全帯を使用する"]
[405030,"梁天端から転落する","無理な姿勢で作業しない"]
[405030,"梁天端から転落する","危険な箇所には登らない"]
[405030,"梁天端から転落する","昇降設備を使用する"]
[405030,"緊張器に手を挟む","不安定な状態で緊張器を吊らない"]
[405030,"緊張器に手を挟む","危険な所に手を入れない"]
[405030,"緊張器に手を挟む","荷吊りの際はオペとの合図確認を行う"]
[405030,"緊張器に手を挟む","不安定な状態で緊張器を吊り上げない"]
[405030,"緊張時、スラブ端部から墜落する","安全帯を掛けていない状況を作らない"]
[405030,"緊張時、スラブ端部から墜落する","端部作業は安全帯を必ず使用し作業を行う"]
[405030,"緊張時、スラブ端部から墜落する","不安全行動を禁止する"]
[405030,"緊張時、スラブ端部から墜落する","近道行為を禁止する"]
[405030,"緊張器がはずれて接触する","緊張器の後方で作業しない"]
[405030,"緊張器がはずれて接触する","声掛け合図の徹底"]
[405030,"緊張器がはずれて接触する","無理な姿勢で作業しない"]
[405030,"余剰鋼線溶断時、火傷する","消火器・消火バケツを設置する"]
[405030,"余剰鋼線溶断時、火傷する","火気使用時の作業周辺の人払いを行う"]
[405030,"余剰鋼線溶断時、火傷する","保護具を着装する"]
[405030,"余剰鋼線溶断時、火傷する","無理な姿勢で作業しない"]
[405030,"余剰鋼線溶断時、火傷する","溶接箇所に手を近づけない"]
[405030,"余剰鋼線溶断時、火花が飛散する","火の粉の付近に可燃物を置かない"]
[405030,"余剰鋼線溶断時、火花が飛散する","消火器・消火バケツを設置する"]
[405030,"余剰鋼線溶断時、火花が飛散する","火気使用時の作業周辺の人払いを行う"]
[405030,"余剰鋼線溶断時、火花が飛散する","作業周囲を不燃材で養生する"]
[405030,"余剰鋼線溶断時、火花が飛散する","無理な姿勢で作業しない"]
[501010,"アスロック板吊上げ時アスロック板が折れ手を挟む","危険な所に手を入れない"]
[501010,"アスロック板吊上げ時アスロック板が折れ手を挟む","不安定な状態で吊上げない"]
[501010,"アスロック板吊上げ時アスロック板が折れ手を挟む","(吊上げ)スリングは適切な位置に掛ける"]
[501010,"トラックが急に動き出し荷台から転落する","荷台に人がいないかを確認してから発進する　"]
[501010,"トラックが急に動き出し荷台から転落する","車止めを設置する　"]
[501010,"材料運搬時、躓いて転倒する","安全通路を移動する"]
[501010,"材料運搬時、躓いて転倒する","近道行為を禁止する"]
[501010,"工事車輛の搬出入時、第三者と接触する","誘導員の合図に従う"]
[501010,"工事車輛の搬出入時、第三者と接触する","第三者から見える場所で合図する"]
[501010,"工事車輛の搬出入時、第三者と接触する","声掛け合図の徹底"]
[501010,"工事車輛の搬出入時、第三者と接触する","第三者優先で誘導を行う"]
[501010,"搬入車輛に挟まれる","車輛運行スペースを確保する"]
[501010,"搬入車輛に挟まれる","声掛け合図の徹底"]
[501010,"搬入車輛に挟まれる","ｶﾗｰｺｰﾝによる立ち入り禁止措置を行う"]
[501010,"搬入車輛に挟まれる","車輛と歩行者の区分けを行う"]
[501010,"アングルを仮置きする際、手を挟む","不安定な状態で鋼材を置かない"]
[501010,"アングルを仮置きする際、手を挟む","危険な所に手を入れない"]
[501010,"アングルを仮置きする際、手を挟む","荷吊りの際はオペとの合図確認を行う"]
[501010,"アングルを仮置きする際、手を挟む","不安定な状態で鋼材を吊り上げない"]
[501010,"材料搬入時、吊荷が外れて落下する","クレーン使用時の合図の徹底"]
[501010,"材料搬入時、吊荷が外れて落下する","声掛け合図の徹底"]
[501010,"材料搬入時、吊荷が外れて落下する","玉掛けワイヤーの始業前点検を実施する"]
[501010,"材料搬入時、吊荷が外れて落下する","吊荷荷重を確認する"]
[501010,"材料搬入時、吊荷が外れて落下する","吊荷下の人払いを行う"]
[501010,"材料搬入時、吊荷が外れて落下する","地切りの確認をする（333運動）"]
[501010,"材料搬入時、吊荷が外れて落下する","専用吊り具を使用する"]
[501010,"材料搬入時、玉掛けワイヤーが切れ、吊荷が落下する","玉掛けワイヤーの始業前点検を実施する"]
[501010,"材料搬入時、玉掛けワイヤーが切れ、吊荷が落下する","声掛け合図の徹底"]
[501010,"材料搬入時、玉掛けワイヤーが切れ、吊荷が落下する","吊荷下の人払いを行う"]
[501010,"材料搬入時、玉掛けワイヤーが切れ、吊荷が落下する","吊荷荷重を確認する"]
[501010,"材料搬入時、玉掛けワイヤーが切れ、吊荷が落下する","専用吊り具を使用する"]
[501010,"ALC吊り込み時、手を詰める","ウィンチ使用時の合図の徹底"]
[501010,"ALC吊り込み時、手を詰める","声掛け合図の徹底"]
[501010,"ALC吊り込み時、手を詰める","危険な所に手を入れない"]
[501010,"ALC吊り込み時、手を詰める","無理な姿勢で作業しない"]
[501010,"ｱﾝｸﾞﾙ取付(溶接)時、火傷する","消火器・消火バケツを設置する"]
[501010,"ｱﾝｸﾞﾙ取付(溶接)時、火傷する","火気使用時の下部の人払いを行う"]
[501010,"ｱﾝｸﾞﾙ取付(溶接)時、火傷する","保護具を着装する"]
[501010,"ｱﾝｸﾞﾙ取付(溶接)時、火傷する","無理な姿勢で作業しない"]
[501010,"ｱﾝｸﾞﾙ取付(溶接)時、火傷する","溶接箇所に手を近づけない"]
[501010,"ｱﾝｸﾞﾙ取付(溶接)時、火花が飛散し火災になる","火の粉の付近に可燃物を置かない"]
[501010,"ｱﾝｸﾞﾙ取付(溶接)時、火花が飛散し火災になる","消火器・消火バケツを設置する"]
[501010,"ｱﾝｸﾞﾙ取付(溶接)時、火花が飛散し火災になる","火気使用時の下部の人払いを行う"]
[501010,"足場使用時、足場から墜落する","安全帯を掛けていない状況を作らない"]
[501010,"足場使用時、足場から墜落する","無理な姿勢で作業しない"]
[501010,"足場使用時、足場から墜落する","足場の始業前点検を実施する"]
[501010,"足場使用時、足場から墜落する","作業床の墜落転落防止措置を確認する"]
[501010,"足場使用時、足場から資材等を落下させる","無理な姿勢で作業しない"]
[501010,"足場使用時、足場から資材等を落下させる","作業下部の人払いを行う"]
[501010,"足場使用時、足場から資材等を落下させる","足場上の資材等を整理整頓する"]
[501010,"足場の隙間から墜落する","安全帯を掛けていない状況を作らない"]
[501010,"足場の隙間から墜落する","無理な姿勢で作業しない"]
[501010,"足場の隙間から墜落する","足場の始業前点検を実施する"]
[501010,"足場の隙間から墜落する","作業床の墜落転落防止措置の確認する"]
[501010,"足場上で躓いて転倒する","足場上の材料等を整理整頓する"]
[501010,"足場上で躓いて転倒する","無理な姿勢で作業しない"]
[501010,"足場上で躓いて転倒する","安全通路を移動する"]
[501010,"立馬から転落する","物を持って昇降しない"]
[501010,"立馬から転落する","開き止めを確認する"]
[501010,"立馬から転落する","無理な姿勢で作業しない"]
[501010,"立馬から転落する","昇降時は必ず後ろ向きにおりる"]
[501010,"高所作業車使用時、転落する","安全帯を必ず使用する"]
[501010,"高所作業車使用時、転落する","無理な姿勢で作業しない"]
[501010,"高所作業車使用時、転落する","高所作業車の始業前点検を実施する"]
[501010,"高所作業車使用時、転落する","作業床を確認する"]
[501010,"高速カッターを使用し、火花が飛散して火災になる","消火器を設置する"]
[501010,"高速カッターを使用し、火花が飛散して火災になる","工具の始業前点検を実施する"]
[501010,"高速カッターを使用し、火花が飛散して火災になる","高速カッターの保護カバーを使用する"]
[501010,"高速カッターを使用し、火花が飛散して火災になる","火の粉の付近に可燃物を置かない"]
[501010,"高速カッターで手を切る","保護具を着装する"]
[501010,"高速カッターで手を切る","正しい姿勢で作業する"]
[501010,"高速カッターで手を切る","高速カッターの保護カバーを使用する"]
[501010,"高速カッターで手を切る","工具の始業前点検を実施する"]
[501010,"高速カッターで手を切る","切断箇所に手を入れない"]
[501010,"材料カット時、電動丸のこで指を切る","電動工具の始業前点検を実施する"]
[501010,"材料カット時、電動丸のこで指を切る","丸のこの保護カバーを使用する"]
[501010,"材料カット時、電動丸のこで指を切る","無理な姿勢で作業しない"]
[501010,"カッターナイフで手を切る","カッターナイフを動かす方向に手を置かない"]
[501010,"カッターナイフで手を切る","無理な姿勢で作業しない"]
[501010,"ベビーサンダー使用時、誤って手を切る","保護手袋を着装する"]
[501010,"ベビーサンダー使用時、誤って手を切る","正しい姿勢で作業する"]
[501010,"ベビーサンダー使用時、誤って手を切る","保護カバーを使用する"]
[501010,"ベビーサンダー使用時、誤って手を切る","工具の始業前点検を実施する"]
[501010,"ベビーサンダー使用時、誤って手を切る","切断箇所に手を入れない"]
[501020,"材料運搬時、躓いて転倒する","安全通路を移動する"]
[501020,"材料運搬時、躓いて転倒する","近道行為を禁止する"]
[501020,"工事車輛の搬出入時、第三者と接触する","誘導員の合図に従う"]
[501020,"工事車輛の搬出入時、第三者と接触する","第三者から見える場所で合図する"]
[501020,"工事車輛の搬出入時、第三者と接触する","声掛け合図の徹底"]
[501020,"工事車輛の搬出入時、第三者と接触する","第三者優先で誘導を行う"]
[501020,"材料を仮置きする際、手を挟む","不安定な状態で資材を置かない"]
[501020,"材料を仮置きする際、手を挟む","危険な所に手を入れない"]
[501020,"材料を仮置きする際、手を挟む","荷吊りの際はオペとの合図確認を行う"]
[501020,"材料を仮置きする際、手を挟む","不安定な状態で資材を吊り上げない"]
[501020,"足場使用時、足場から墜落する","安全帯を掛けていない状況を作らない"]
[501020,"足場使用時、足場から墜落する","無理な姿勢で作業しない"]
[501020,"足場使用時、足場から墜落する","足場の始業前点検を実施する"]
[501020,"足場使用時、足場から墜落する","作業床の墜落転落防止措置を確認する"]
[501020,"足場使用時、足場から材料等を落下させる","無理な姿勢で作業しない"]
[501020,"足場使用時、足場から材料等を落下させる","作業下部の人払いを行う"]
[501020,"足場使用時、足場から材料等を落下させる","足場上の材料等を整理整頓する"]
[501020,"足場の隙間から墜落する","安全帯を掛けていない状況を作らない"]
[501020,"足場の隙間から墜落する","無理な姿勢で作業しない"]
[501020,"足場の隙間から墜落する","足場の始業前点検を実施する"]
[501020,"足場の隙間から墜落する","作業床の墜落転落防止措置の確認する"]
[501020,"足場上で躓いて転倒する","足場上の材料・工具を整理整頓する"]
[501020,"足場上で躓いて転倒する","無理な姿勢で作業しない"]
[501020,"足場上で躓いて転倒する","安全通路を移動する"]
[501020,"立馬から転落する","物を持って昇降しない"]
[501020,"立馬から転落する","開き留めを確認する"]
[501020,"立馬から転落する","無理な姿勢で作業しない"]
[501020,"立馬から転落する","昇降時は必ず後ろ向きにおりる"]
[501020,"高速カッターを使用し、火花が飛散して火災になる","消火器を設置する"]
[501020,"高速カッターを使用し、火花が飛散して火災になる","工具の始業前点検を実施する"]
[501020,"高速カッターを使用し、火花が飛散して火災になる","高速カッターの保護カバーを使用する"]
[501020,"高速カッターを使用し、火花が飛散して火災になる","火の粉の付近に可燃物を置かない"]
[501020,"高速カッターで手を切る","保護具を着装する"]
[501020,"高速カッターで手を切る","正しい姿勢で作業する"]
[501020,"高速カッターで手を切る","高速カッターの保護カバーを使用する"]
[501020,"高速カッターで手を切る","工具の始業前点検を実施する"]
[501020,"高速カッターで手を切る","切断箇所に手を入れない"]
[501020,"ベビーサンダー使用時、誤って手を切る","保護手袋を着装する"]
[501020,"ベビーサンダー使用時、誤って手を切る","正しい姿勢で作業する"]
[501020,"ベビーサンダー使用時、誤って手を切る","保護カバーを使用する"]
[501020,"ベビーサンダー使用時、誤って手を切る","工具の始業前点検を実施する"]
[501020,"ベビーサンダー使用時、誤って手を切る","切断箇所に手を入れない"]
[502010,"材料運搬時、躓いて転倒する","安全通路を移動する"]
[502010,"材料運搬時、躓いて転倒する","近道行為を禁止する"]
[502010,"カッターナイフで手を切る","カッターナイフを動かす方向に手を置かない"]
[502010,"カッターナイフで手を切る","無理な姿勢で作業しない"]
[502010,"材料搬入時、吊荷が外れ落下する","クレーン使用時の合図の徹底"]
[502010,"材料搬入時、吊荷が外れ落下する","声掛け合図の徹底"]
[502010,"材料搬入時、吊荷が外れ落下する","玉掛けワイヤーの始業前点検を実施する"]
[502010,"材料搬入時、吊荷が外れ落下する","吊荷荷重を確認する"]
[502010,"材料搬入時、吊荷が外れ落下する","吊荷下の人払いを行う"]
[502010,"材料搬入時、吊荷が外れ落下する","地切りの確認をする（333運動）"]
[502010,"アスファルト使用時、火傷する","消火器・消火バケツを設置する"]
[502010,"アスファルト使用時、火傷する","アスファルト使用時の作業周辺の人払いを行う"]
[502010,"アスファルト使用時、火傷する","保護具を着装する"]
[502010,"アスファルト使用時、火傷する","アスファルト運搬時はあわてないで作業する"]
[502010,"昇降する際、足場上で躓いて転倒する","足場上の材料等を整理整頓する"]
[502010,"昇降する際、足場上で躓いて転倒する","無理な姿勢で作業しない"]
[502010,"昇降する際、足場上で躓いて転倒する","作業床を確認する"]
[502020,"材料運搬時、躓いて転倒する","安全通路を移動する"]
[502020,"材料運搬時、躓いて転倒する","近道行為を禁止する"]
[502020,"ハンドミキサー使用時、手や服が巻き込まれる","使用時は手元の確認を行う"]
[502020,"ハンドミキサー使用時、手や服が巻き込まれる","暗い箇所では使用しない"]
[502020,"ハンドミキサー使用時、手や服が巻き込まれる","服装の乱れが無いか確認する"]
[502020,"ハンドミキサー使用時、手や服が巻き込まれる","作業場所を確保する"]
[502020,"カッターナイフで手を切る","カッターナイフを動かす方向に手を置かない"]
[502020,"カッターナイフで手を切る","無理な姿勢で作業しない"]
[502020,"昇降する際、足場上で躓いて転倒する","足場上の材料等を整理整頓する"]
[502020,"昇降する際、足場上で躓いて転倒する","無理な姿勢で作業しない"]
[502020,"昇降する際、足場上で躓いて転倒する","作業床を確認する"]
[502020,"有機溶剤で気分が悪くなる","保護マスクを着装する"]
[502020,"有機溶剤で気分が悪くなる","換気を良くする"]
[502020,"有機溶剤で気分が悪くなる","有機溶剤は決められた場所で保管する"]
[502020,"有機溶剤で気分が悪くなる","特別教育を受けて作業する"]
[502030,"材料運搬時、躓いて転倒する","安全通路を移動する"]
[502030,"材料運搬時、躓いて転倒する","近道行為を禁止する"]
[502030,"ハンドミキサー使用時、手や服が巻き込まれる","使用時は手元の確認を行う"]
[502030,"ハンドミキサー使用時、手や服が巻き込まれる","暗い箇所では使用しない"]
[502030,"ハンドミキサー使用時、手や服が巻き込まれる","服装の乱れが無いか確認する"]
[502030,"ハンドミキサー使用時、手や服が巻き込まれる","作業場所を確保する"]
[502030,"カッターナイフで手を切る","カッターナイフを動かす方向に手を置かない"]
[502030,"カッターナイフで手を切る","無理な姿勢で作業しない"]
[502030,"昇降する際、足場上で躓いて転倒する","足場上の材料等を整理整頓する"]
[502030,"昇降する際、足場上で躓いて転倒する","無理な姿勢で作業しない"]
[502030,"昇降する際、足場上で躓いて転倒する","作業床を確認する"]
[502040,"設備機器に体をぶつけて負傷する","保護帽、保護メガネの着装"]
[502040,"設備機器に体をぶつけて負傷する","周囲に障害物はないかを確認する"]
[502040,"バックアップ材切断時カッターナイフで手を切る","刃先の方向に手を置かない"]
[502040,"バックアップ材切断時カッターナイフで手を切る","無理な姿勢で作業しない"]
[502040,"既存シール撤去時カッターナイフで手を切る","刃先の方向に手を置かない"]
[502040,"既存シール撤去時カッターナイフで手を切る","無理な姿勢で作業しない"]
[502040,"作業終了後、段差で躓き足をひねる","足元に段差がないか確認する"]
[502040,"材料運搬時、躓いて転倒する","安全通路を移動する"]
[502040,"材料運搬時、躓いて転倒する","近道行為を禁止する"]
[502040,"攪拌器使用時、手を巻き込む","使用時は手元の確認を行う"]
[502040,"攪拌器使用時、手を巻き込む","暗い箇所では使用しない"]
[502040,"攪拌器使用時、手を巻き込む","回転部には手を入れない"]
[502040,"カッターナイフで手を切る","カッターナイフを動かす方向に手を置かない"]
[502040,"カッターナイフで手を切る","無理な姿勢で作業しない"]
[502040,"足場使用時、足場から墜落する","安全帯を掛けていない状況を作らない"]
[502040,"足場使用時、足場から墜落する","無理な姿勢で作業しない"]
[502040,"足場使用時、足場から墜落する","足場の始業前点検を実施する"]
[502040,"足場使用時、足場から墜落する","作業床の墜落転落防止措置を確認する"]
[502040,"足場使用時、足場から材料等を落下させる","無理な姿勢で作業しない"]
[502040,"足場使用時、足場から材料等を落下させる","作業下部の人払いを行う"]
[502040,"足場使用時、足場から材料等を落下させる","足場上の材料等を整理整頓する"]
[502040,"足場の隙間から墜落する","安全帯を掛けていない状況を作らない"]
[502040,"足場の隙間から墜落する","無理な姿勢で作業しない"]
[502040,"足場の隙間から墜落する","足場の始業前点検を実施する"]
[502040,"足場の隙間から墜落する","作業床の墜落転落防止措置の確認する"]
[502040,"足場上で躓いて転倒する","足場上の材料等を整理整頓する"]
[502040,"足場上で躓いて転倒する","無理な姿勢で作業しない"]
[502040,"足場上で躓いて転倒する","安全通路を移動する"]
[502040,"立馬から転落する","物を持って昇降しない"]
[502040,"立馬から転落する","開き止めを確認する"]
[502040,"立馬から転落する","無理な姿勢で作業しない"]
[502040,"立馬から転落する","昇降時は必ず後ろ向きにおりる"]
[502040,"高所作業車使用時、転落する","安全帯を必ず使用する"]
[502040,"高所作業車使用時、転落する","無理な姿勢で作業しない"]
[502040,"高所作業車使用時、転落する","高所作業車の始業前点検を実施する"]
[502040,"高所作業車使用時、転落する","作業床を確認する"]
[503010,"材料運搬時、躓いて転倒する","安全通路を移動する"]
[503010,"材料運搬時、躓いて転倒する","近道行為を禁止する"]
[503010,"ハンドミキサー使用時、手や服が巻き込まれる","使用時は手元の確認を行う"]
[503010,"ハンドミキサー使用時、手や服が巻き込まれる","暗い箇所では使用しない"]
[503010,"ハンドミキサー使用時、手や服が巻き込まれる","服装の乱れが無いか確認する"]
[503010,"ハンドミキサー使用時、手や服が巻き込まれる","作業場所を確保する"]
[503010,"カッターナイフで手を切る","カッターナイフを動かす方向に手を置かない"]
[503010,"カッターナイフで手を切る","無理な姿勢で作業しない"]
[503010,"ベビーサンダー使用時、目に石片が入る","保護メガネを着装する"]
[503010,"ベビーサンダー使用時、目に石片が入る","無理な姿勢で作業しない"]
[503010,"ベビーサンダー使用時、目に石片が入る","保護具を着装する"]
[503010,"ベビーサンダー使用時、目に石片が入る","保護カバーを使用する"]
[503010,"ベビーサンダー使用時、誤って手を切る","保護手袋を着装する"]
[503010,"ベビーサンダー使用時、誤って手を切る","正しい姿勢で作業する"]
[503010,"ベビーサンダー使用時、誤って手を切る","保護カバーを使用する"]
[503010,"ベビーサンダー使用時、誤って手を切る","工具の始業前点検を実施する"]
[503010,"ベビーサンダー使用時、誤って手を切る","切断箇所に手を入れない"]
[503010,"立馬から転落する","物を持って昇降しない"]
[503010,"立馬から転落する","開き止めを確認する"]
[503010,"立馬から転落する","無理な姿勢で作業しない"]
[503010,"立馬から転落する","昇降時は必ず後ろ向きにおりる"]
[503010,"足場使用時、足場から墜落する","安全帯を掛けていない状況を作らない"]
[503010,"足場使用時、足場から墜落する","無理な姿勢で作業しない"]
[503010,"足場使用時、足場から墜落する","足場の始業前点検を実施する"]
[503010,"足場使用時、足場から墜落する","作業床の墜落転落防止措置を確認する"]
[503010,"足場上で躓いて転倒する","足場上の材料等を整理整頓する"]
[503010,"足場上で躓いて転倒する","無理な姿勢で作業しない"]
[503010,"足場上で躓いて転倒する","作業床を確認する"]
[503010,"足場使用時、足場から資材等を落下させる","無理な姿勢で作業しない"]
[503010,"足場使用時、足場から資材等を落下させる","作業下部の人払いを行う"]
[503010,"足場使用時、足場から資材等を落下させる","足場上の資材等を整理整頓する"]
[504010,"材料運搬時、躓いて転倒する","安全通路を移動する"]
[504010,"材料運搬時、躓いて転倒する","近道行為を禁止する"]
[504010,"ハンドミキサー使用時、手や服が巻き込まれる","使用時は手元の確認を行う"]
[504010,"ハンドミキサー使用時、手や服が巻き込まれる","暗い箇所では使用しない"]
[504010,"ハンドミキサー使用時、手や服が巻き込まれる","服装の乱れが無いか確認する"]
[504010,"ハンドミキサー使用時、手や服が巻き込まれる","作業場所を確保する"]
[504010,"カッターナイフで手を切る","カッターナイフを動かす方向に手を置かない"]
[504010,"カッターナイフで手を切る","無理な姿勢で作業しない"]
[504010,"ベビーサンダー使用時、目にタイル片が入る","保護メガネを着装する"]
[504010,"ベビーサンダー使用時、目にタイル片が入る","無理な姿勢で作業しない"]
[504010,"ベビーサンダー使用時、目にタイル片が入る","保護具を着装する"]
[504010,"ベビーサンダー使用時、目にタイル片が入る","保護カバーを使用する"]
[504010,"ベビーサンダー使用時、誤って手を切る","保護手袋を着装する"]
[504010,"ベビーサンダー使用時、誤って手を切る","正しい姿勢で作業する"]
[504010,"ベビーサンダー使用時、誤って手を切る","保護カバーを使用する"]
[504010,"ベビーサンダー使用時、誤って手を切る","工具の始業前点検を実施する"]
[504010,"ベビーサンダー使用時、誤って手を切る","切断箇所に手を入れない"]
[504010,"立馬から転落する","物を持って昇降しない"]
[504010,"立馬から転落する","開き止めを確認する"]
[504010,"立馬から転落する","無理な姿勢で作業しない"]
[504010,"立馬から転落する","昇降時は必ず後ろ向きにおりる"]
[504010,"足場使用時、足場から墜落する","安全帯を掛けていない状況を作らない"]
[504010,"足場使用時、足場から墜落する","無理な姿勢で作業しない"]
[504010,"足場使用時、足場から墜落する","足場の始業前点検を実施する"]
[504010,"足場使用時、足場から墜落する","作業床の墜落転落防止措置を確認する"]
[504010,"足場の隙間から墜落する","安全帯を掛けていない状況を作らない"]
[504010,"足場の隙間から墜落する","無理な姿勢で作業しない"]
[504010,"足場の隙間から墜落する","足場の始業前点検を実施する"]
[504010,"足場の隙間から墜落する","作業床の墜落転落防止措置の確認する"]
[504010,"足場上で躓いて転倒する","足場上の材料等を整理整頓する"]
[504010,"足場上で躓いて転倒する","無理な姿勢で作業しない"]
[504010,"足場上で躓いて転倒する","作業床を確認する"]
[504010,"足場使用時、足場から資材等を落下させる","無理な姿勢で作業しない"]
[504010,"足場使用時、足場から資材等を落下させる","作業下部の人払いを行う"]
[504010,"足場使用時、足場から資材等を落下させる","足場上の資材等を整理整頓する"]
[505010,"材料運搬時、躓いて転倒する","安全通路を移動する"]
[505010,"材料運搬時、躓いて転倒する","近道行為を禁止する"]
[505010,"材料運搬時、段差に躓いて転倒する","床段差に足をのせない"]
[505010,"材料運搬時、段差に躓いて転倒する","安全通路を移動する"]
[505010,"不安定な状態で電動丸のこで指を切る","電動工具の始業前点検を実施する"]
[505010,"不安定な状態で電動丸のこで指を切る","丸のこの保護カバーの使用する"]
[505010,"不安定な状態で電動丸のこで指を切る","無理な姿勢で作業しない"]
[505010,"カッターナイフで手を切る","カッターナイフを動かす方向に手を置かない"]
[505010,"カッターナイフで手を切る","無理な姿勢で作業しない"]
[505010,"手鋸で手や指を切る","手鋸を動かす方向に手や指を置かない"]
[505010,"手鋸で手や指を切る","無理な姿勢で作業しない"]
[505010,"手鋸で手や指を切る","保護手袋を着装する"]
[505010,"タッカーで誤って手に打つ","無理な姿勢で作業しない"]
[505010,"タッカーで誤って手に打つ","電動工具の始業前点検を実施する"]
[505010,"タッカーで誤って手に打つ","正しい姿勢で作業する"]
[505010,"タッカーで誤って手に打つ","打設箇所に手を入れない"]
[505010,"誤ってハンマーで指を叩く","使用時は手元の確認を行う"]
[505010,"誤ってハンマーで指を叩く","暗い箇所では使用しない(手元の照明を明るくする)"]
[505010,"誤ってハンマーで指を叩く","保護手袋を着装する"]
[505010,"ドリルで削孔時、指を巻き込む","無理な姿勢で作業しない"]
[505010,"ドリルで削孔時、指を巻き込む","削孔箇所に手を入れない"]
[505010,"ドリルで削孔時、指を巻き込む","電動工具の始業前点検を実施する"]
[505010,"立馬から転落する","物を持って昇降しない"]
[505010,"立馬から転落する","開き止めを確認する"]
[505010,"立馬から転落する","無理な姿勢で作業しない"]
[505010,"立馬から転落する","昇降時は必ず後ろ向きにおりる"]
[505010,"高所作業車使用時、転落する","安全帯を必ず使用する"]
[505010,"高所作業車使用時、転落する","無理な姿勢で作業しない"]
[505010,"高所作業車使用時、転落する","高所作業車の始業前点検を実施する"]
[505010,"高所作業車使用時、転落する","作業床を確認する"]
[506010,"作業場所移動時、仮設階段で足が滑り転倒する","作業通路に物を置かない"]
[506010,"作業場所移動時、仮設階段で足が滑り転倒する","踏面が単管の仮設階段は特に滑りやすいのであわてて昇降しない"]
[506010,"足場使用時、足場から墜落する","安全帯を掛けていない状況を作らない"]
[506010,"足場使用時、足場から墜落する","無理な姿勢で作業しない"]
[506010,"足場使用時、足場から墜落する","足場の始業前点検を実施する"]
[506010,"足場使用時、足場から墜落する","作業床の墜落転落防止措置を確認する"]
[506010,"足場使用時、足場から資材等を落下させる","無理な姿勢で作業しない"]
[506010,"足場使用時、足場から資材等を落下させる","作業下部の人払いを行う"]
[506010,"足場使用時、足場から資材等を落下させる","足場上の資材等を整理整頓する"]
[506010,"足場の隙間から墜落する","安全帯を掛けていない状況を作らない"]
[506010,"足場の隙間から墜落する","無理な姿勢で作業しない"]
[506010,"足場の隙間から墜落する","足場の始業前点検を実施する"]
[506010,"足場の隙間から墜落する","作業床の墜落転落防止措置の確認する"]
[506010,"足場上で躓いて転倒する","足場上の資材等を整理整頓する"]
[506010,"足場上で躓いて転倒する","無理な姿勢で作業しない"]
[506010,"足場上で躓いて転倒する","安全通路を移動する"]
[506010,"立馬から転落する","物を持って昇降しない"]
[506010,"立馬から転落する","開き止めを確認する"]
[506010,"立馬から転落する","無理な姿勢で作業しない"]
[506010,"立馬から転落する","昇降時は必ず後ろ向きにおりる"]
[506010,"高所作業車使用時、転落する","安全帯を必ず使用する"]
[506010,"高所作業車使用時、転落する","無理な姿勢で作業しない"]
[506010,"高所作業車使用時、転落する","高所作業車の始業前点検を実施する"]
[506010,"高所作業車使用時、転落する","作業床を確認する"]
[506020,"ｱﾝｸﾞﾙ取付(溶接)時、火花が飛散し火災になる","火の粉の付近に可燃物を置かない"]
[506020,"ｱﾝｸﾞﾙ取付(溶接)時、火花が飛散し火災になる","消火器・消火バケツを設置する"]
[506020,"ｱﾝｸﾞﾙ取付(溶接)時、火花が飛散し火災になる","火気使用時の下部の人払いを行う"]
[506020,"ｱﾝｸﾞﾙ取付(溶接)時、火傷する","消火器・消火バケツを設置する"]
[506020,"ｱﾝｸﾞﾙ取付(溶接)時、火傷する","火気使用時の下部の人払いを行う"]
[506020,"ｱﾝｸﾞﾙ取付(溶接)時、火傷する","保護具を着装する"]
[506020,"ｱﾝｸﾞﾙ取付(溶接)時、火傷する","無理な姿勢で作業しない"]
[506020,"ｱﾝｸﾞﾙ取付(溶接)時、火傷する","溶接箇所に手を近づけない"]
[506030,"鋼材材料に指を挟む","資材の結束状態を確認する"]
[506030,"鋼材材料に指を挟む","不安定な状態で資材を仮置きしない"]
[506030,"敷鉄板段差部で足がはまり負傷する","安全通路を確認する"]
[506030,"鉄骨部材をまたごうとした時に足を負傷する","鉄骨の上に足をかけない"]
[506030,"鉄骨部材をまたごうとした時に足を負傷する","近道行為の禁止"]
[506030,"材料運搬時、躓いて転倒する","安全通路を移動する"]
[506030,"材料運搬時、躓いて転倒する","近道行為を禁止する"]
[506030,"材料運搬時、段差に躓いて転倒する","床段差に足をのせない"]
[506030,"材料運搬時、段差に躓いて転倒する","安全通路を移動する"]
[506030,"カッターナイフで手を切る","カッターナイフを動かす方向に手を置かない"]
[506030,"カッターナイフで手を切る","無理な姿勢で作業しない"]
[506030,"ドリルで削孔時、指を巻き込む","無理な姿勢で作業しない"]
[506030,"ドリルで削孔時、指を巻き込む","削孔箇所に手を入れない"]
[506030,"ドリルで削孔時、指を巻き込む","電動工具の始業前点検を実施する"]
[506030,"高速カッターで手を切る","保護具を着装する"]
[506030,"高速カッターで手を切る","正しい姿勢で作業する"]
[506030,"高速カッターで手を切る","高速カッターの保護カバーを使用する"]
[506030,"高速カッターで手を切る","工具の始業前点検を実施する"]
[506030,"高速カッターで手を切る","切断箇所に手を入れない"]
[506030,"高速カッターを使用し、火花が飛散して火災になる","消火器・消火バケツを設置する"]
[506030,"高速カッターを使用し、火花が飛散して火災になる","工具の始業前点検を実施する"]
[506030,"高速カッターを使用し、火花が飛散して火災になる","高速カッターの保護カバーを使用する"]
[506030,"高速カッターを使用し、火花が飛散して火災になる","火の粉の付近に可燃物を置かない"]
[506030,"ベビーサンダー使用時、誤って手を切る","保護手袋を着装する"]
[506030,"ベビーサンダー使用時、誤って手を切る","正しい姿勢で作業する"]
[506030,"ベビーサンダー使用時、誤って手を切る","保護カバーを使用する"]
[506030,"ベビーサンダー使用時、誤って手を切る","工具の始業前点検を実施する"]
[506030,"ベビーサンダー使用時、誤って手を切る","切断箇所に手を入れない"]
[506030,"ベビーサンダー使用時、目に鉄粉が入る","保護メガネの着装する"]
[506030,"ベビーサンダー使用時、目に鉄粉が入る","無理な姿勢で作業しない"]
[506030,"ベビーサンダー使用時、目に鉄粉が入る","保護具を着装する"]
[506030,"ベビーサンダー使用時、目に鉄粉が入る","保護カバーを使用する"]
[506030,"材料加工時、材料端部で指や手を切る","材料端部に手や指を入れない"]
[506030,"材料加工時、材料端部で指や手を切る","無理な姿勢で作業しない"]
[506030,"材料加工時、材料端部で指や手を切る","保護具を着装する"]
[506030,"材料搬入時、吊荷が外れ落下する","クレーン使用時の合図の徹底"]
[506030,"材料搬入時、吊荷が外れ落下する","声掛け合図の徹底"]
[506030,"材料搬入時、吊荷が外れ落下する","専用吊り具の始業前点検を実施する"]
[506030,"材料搬入時、吊荷が外れ落下する","吊荷荷重を確認する"]
[506030,"材料搬入時、吊荷が外れ落下する","吊荷下の人払いを行う"]
[506030,"材料搬入時、吊荷が外れ落下する","地切りの確認をする（333運動）"]
[506030,"材料搬入時、玉掛けワイヤーが切れ、吊荷が落下する","玉掛けワイヤーの始業前点検を実施する"]
[506030,"材料搬入時、玉掛けワイヤーが切れ、吊荷が落下する","声掛け合図の徹底"]
[506030,"材料搬入時、玉掛けワイヤーが切れ、吊荷が落下する","吊荷下の人払いを行う"]
[506030,"材料搬入時、玉掛けワイヤーが切れ、吊荷が落下する","吊荷荷重を確認する"]
[507010,"バルコニー端部で水平ﾈｯﾄを取り外して作業中転落する","端部作業は必ず安全帯を使用し作業を行う"]
[507010,"バルコニー端部で水平ﾈｯﾄを取り外して作業中転落する","無理な体勢（身を乗り出すような体勢）で作業しない"]
[507010,"ミキサーからモルタルを取り出す時に蓋が開かず無理をして回転体に手を挟まれる","異常が発生した時は必ず電源を切る"]
[507010,"ミキサーからモルタルを取り出す時に蓋が開かず無理をして回転体に手を挟まれる","ミキサーの回転部に手を入れない"]
[507010,"ミキサーからモルタルを取り出す時に蓋が開かず無理をして回転体に手を挟まれる","始業前点検の実施を確実に励行する"]
[507010,"資材結束用バンドを切断する際にカッターナイフで手を切る","刃先の方向に手を置かない"]
[507010,"資材結束用バンドを切断する際にカッターナイフで手を切る","無理な姿勢で作業しない"]
[507010,"前かがみで物を持ち上げた際、腰を痛める","無理な姿勢で持ちあげない"]
[507010,"前かがみで物を持ち上げた際、腰を痛める","膝を使い、物を持ち上げる"]
[507010,"ﾊﾞﾙｺﾆｰ手摺補修の際上から物が落下して負傷する","上下作業とならないよう確認する"]
[507010,"ﾊﾞﾙｺﾆｰ手摺補修の際上から物が落下して負傷する","ネットなどの落下防止設備を確認する"]
[507010,"移動中溝に足を取られて負傷する","安全通路を確認し通行する"]
[507010,"移動中溝に足を取られて負傷する","養生蓋を設置する"]
[507010,"材料運搬時躓いて転倒する","安全通路を移動する"]
[507010,"材料運搬時躓いて転倒する","近道行為を禁止する"]
[507010,"材料運搬時段差に躓いて転倒する","床段差に足をのせない"]
[507010,"材料運搬時段差に躓いて転倒する","安全通路を移動する"]
[507010,"ハンドミキサー使用時、手や服が巻き込まれる","使用時は手元の確認を行う"]
[507010,"ハンドミキサー使用時、手や服が巻き込まれる","暗い箇所では使用しない"]
[507010,"ハンドミキサー使用時、手や服が巻き込まれる","服装の乱れが無いか確認する"]
[507010,"ハンドミキサー使用時、手や服が巻き込まれる","作業場所を確保する"]
[507010,"足場上で躓いて転倒する","頭上・足元を確認して歩行する"]
[507010,"足場上で躓いて転倒する","無理な姿勢で作業しない"]
[507010,"足場の隙間から墜落する","安全帯を掛けていない状況を作らない"]
[507010,"足場の隙間から墜落する","無理な姿勢で作業しない"]
[507010,"足場の隙間から墜落する","足場の始業前点検を実施する"]
[507010,"足場の隙間から墜落する","作業床の墜落転落防止措置の確認する"]
[507010,"不安定な状態で電動丸のこで指を切る","電動工具の始業前点検を実施する"]
[507010,"不安定な状態で電動丸のこで指を切る","丸のこの保護カバーを使用する"]
[507010,"不安定な状態で電動丸のこで指を切る","無理な姿勢で作業しない"]
[507010,"ベビーサンダー使用時、誤って手を切る","保護手袋を着装する"]
[507010,"ベビーサンダー使用時、誤って手を切る","正しい姿勢で作業する"]
[507010,"ベビーサンダー使用時、誤って手を切る","保護カバーを使用する"]
[507010,"ベビーサンダー使用時、誤って手を切る","工具の始業前点検を実施する"]
[507010,"ベビーサンダー使用時、誤って手を切る","切断箇所に手を入れない"]
[507010,"ベビーサンダー使用時、目にコンクリート片が入る","保護メガネを着装する"]
[507010,"ベビーサンダー使用時、目にコンクリート片が入る","無理な姿勢で作業しない"]
[507010,"ベビーサンダー使用時、目にコンクリート片が入る","保護具を着装する"]
[507010,"ベビーサンダー使用時、目にコンクリート片が入る","保護カバーを使用する"]
[507010,"ピット内昇降時に足を滑らせ墜落する","安全ブロックを使用する"]
[507010,"ピット内昇降時に足を滑らせ墜落する","昇降時、上下・頭上・足元を確認する"]
[507010,"高所作業車使用時、身を寄り出して墜落する","安全帯を必ず使用する"]
[507010,"高所作業車使用時、身を寄り出して墜落する","無理な姿勢で作業しない"]
[507010,"高所作業車使用時、身を寄り出して墜落する","高所作業車の始業前点検を実施する"]
[507010,"立馬から転落する","物を持って昇降しない"]
[507010,"立馬から転落する","開き止めを確認する"]
[507010,"立馬から転落する","無理な姿勢で作業しない"]
[507010,"立馬から転落する","昇降時は必ず後ろ向きにおりる"]
[507020,"足を滑らせて転倒する","近道行為の禁止"]
[507020,"階段に躓き、転倒・転落する","無理な姿勢で作業しない"]
[507020,"階段に躓き、転倒・転落する","足元確認で昇降する"]
[507020,"スラブ上で躓いて転倒する","メッシュロード上を移動する"]
[507020,"スラブ上で躓いて転倒する","スラブ筋上歩行の際、足元を確認し歩行する"]
[507020,"コンクリート打設中、ホースに接触し転倒する","ホースの筒先に立たない"]
[507020,"コンクリート打設中、ホースに接触し転倒する","声掛け合図の徹底"]
[507020,"コンクリート打設中、スラブ筋に躓き転倒する","スラブ筋上歩行の際、足元を確認し歩行する"]
[507020,"コンクリート打設中、スラブ筋に躓き転倒する","メッシュロード上を移動する"]
[508010,"材料運搬時、躓いて転倒する","安全通路を移動する"]
[508010,"材料運搬時、躓いて転倒する","近道行為を禁止する"]
[508010,"材料運搬時、段差に躓いて転倒する","床段差に足をのせない"]
[508010,"材料運搬時、段差に躓いて転倒する","安全通路を移動する"]
[508010,"不安定な状態で電動丸のこで指を切る","電動工具の始業前点検を実施する"]
[508010,"不安定な状態で電動丸のこで指を切る","丸のこの保護カバーの使用する"]
[508010,"不安定な状態で電動丸のこで指を切る","無理な姿勢で作業しない"]
[508010,"カッターナイフで手を切る","カッターナイフを動かす方向に手を置かない"]
[508010,"カッターナイフで手を切る","無理な姿勢で作業しない"]
[508010,"手鋸で手や指を切る","手鋸を動かす方向に手や指を置かない"]
[508010,"手鋸で手や指を切る","無理な姿勢で作業しない"]
[508010,"手鋸で手や指を切る","保護手袋を着装する"]
[508010,"誤ってハンマーで指を叩く","使用時は手元の確認を行う"]
[508010,"誤ってハンマーで指を叩く","暗い箇所では使用しない(手元の照明を明るくする)"]
[508010,"誤ってハンマーで指を叩く","保護手袋を着装する"]
[508010,"ドリルで削孔時、指を巻き込む","無理な姿勢で作業しない"]
[508010,"ドリルで削孔時、指を巻き込む","削孔箇所に手を入れない"]
[508010,"ドリルで削孔時、指を巻き込む","電動工具の始業前点検を実施する"]
[508010,"立馬から転落する","物を持って昇降しない"]
[508010,"立馬から転落する","開き止めを確認する"]
[508010,"立馬から転落する","無理な姿勢で作業しない"]
[508010,"立馬から転落する","昇降時は必ず後ろ向きにおりる"]
[508010,"扉吊り込み時、指を詰める","無理な姿勢で作業しない"]
[508010,"扉吊り込み時、指を詰める","保護手袋を着装する"]
[509010,"セットハンマーで建入れ調整中、手をたたき負傷する","叩く箇所をしっかりと確認する"]
[509010,"材料運搬時、躓いて転倒する","安全通路を移動する"]
[509010,"材料運搬時、躓いて転倒する","近道行為を禁止する"]
[509010,"材料運搬時、段差に躓いて転倒する","床段差に足をのせない"]
[509010,"材料運搬時、段差に躓いて転倒する","安全通路を移動する"]
[509010,"カッターナイフで手を切る","カッターナイフを動かす方向に手を置かない"]
[509010,"カッターナイフで手を切る","無理な姿勢で作業しない"]
[509010,"ドリルで削孔時、指を巻き込む","無理な姿勢で作業しない"]
[509010,"ドリルで削孔時、指を巻き込む","削孔箇所に手を入れない"]
[509010,"ドリルで削孔時、指を巻き込む","電動工具の始業前点検を実施する"]
[509010,"AW吊り込み時、指を詰める","無理な姿勢で作業しない"]
[509010,"AW吊り込み時、指を詰める","保護手袋を着装する"]
[509010,"溶接時、火花が飛散し火災になる","火の粉の付近に可燃物を置かない"]
[509010,"溶接時、火花が飛散し火災になる","消火器・消火バケツを設置する"]
[509010,"溶接時、火花が飛散し火災になる","火気使用時の作業周囲の人払いを行う"]
[509010,"溶接時、火傷する","消火器・消火バケツを設置する"]
[509010,"溶接時、火傷する","火気使用時の作業周囲の人払いを行う"]
[509010,"溶接時、火傷する","保護具を着装する"]
[509010,"溶接時、火傷する","無理な姿勢で作業しない"]
[509010,"溶接時、火傷する","溶接箇所に手を近づけない"]
[509010,"ベビーサンダー使用時、誤って手を切る","保護手袋を着装する"]
[509010,"ベビーサンダー使用時、誤って手を切る","正しい姿勢で作業する"]
[509010,"ベビーサンダー使用時、誤って手を切る","保護カバーを使用する"]
[509010,"ベビーサンダー使用時、誤って手を切る","工具の始業前点検を実施する"]
[509010,"ベビーサンダー使用時、誤って手を切る","切断箇所に手を入れない"]
[509010,"ベビーサンダー使用時、目に鉄粉が入る","保護メガネを着装する"]
[509010,"ベビーサンダー使用時、目に鉄粉が入る","無理な姿勢で作業しない"]
[509010,"ベビーサンダー使用時、目に鉄粉が入る","保護具を着装する"]
[509010,"ベビーサンダー使用時、目に鉄粉が入る","保護カバーを使用する"]
[509010,"立馬から転落する","物を持って昇降しない"]
[509010,"立馬から転落する","開き止めを確認する"]
[509010,"立馬から転落する","無理な姿勢で作業しない"]
[509010,"立馬から転落する","昇降時は必ず後ろ向きにおりる"]
[509010,"高所作業車使用時、転落する","安全帯を必ず使用する"]
[509010,"高所作業車使用時、転落する","無理な姿勢で作業しない"]
[509010,"高所作業車使用時、転落する","高所作業車の始業前点検を実施する"]
[509010,"高所作業車使用時、転落する","作業床を確認する"]
[509010,"足場使用時、足場から墜落する","安全帯を掛けていない状況を作らない"]
[509010,"足場使用時、足場から墜落する","無理な姿勢で作業しない"]
[509010,"足場使用時、足場から墜落する","足場の始業前点検を実施する"]
[509010,"足場使用時、足場から墜落する","作業床の墜落転落防止措置を確認する"]
[509010,"足場使用時、足場から資材等を落下させる","無理な姿勢で作業しない"]
[509010,"足場使用時、足場から資材等を落下させる","作業下部の人払いを行う"]
[509010,"足場使用時、足場から資材等を落下させる","足場上の資材等を整理整頓する"]
[509010,"足場の隙間から墜落する","安全帯を掛けていない状況を作らない"]
[509010,"足場の隙間から墜落する","無理な姿勢で作業しない"]
[509010,"足場の隙間から墜落する","足場の始業前点検を実施する"]
[509010,"足場の隙間から墜落する","作業床の墜落転落防止措置の確認する"]
[509010,"足場上で躓いて転倒する","足場上の材料等を整理整頓する"]
[509010,"足場上で躓いて転倒する","無理な姿勢で作業しない"]
[509010,"足場上で躓いて転倒する","安全通路を移動する"]
[509020,"取付作業中吊元の後打ちアンカーが抜け、吊り荷が落下して手にあたる","吊荷の下に手を入れない"]
[509020,"取付作業中吊元の後打ちアンカーが抜け、吊り荷が落下して手にあたる","作業手順の整備・確認・順守"]
[509020,"取付作業中吊元の後打ちアンカーが抜け、吊り荷が落下して手にあたる","声かけ合図の徹底"]
[509020,"材料運搬時、躓いて転倒する","安全通路を移動する"]
[509020,"材料運搬時、躓いて転倒する","近道行為を禁止する"]
[509020,"材料運搬時段差に躓いて転倒する","床段差に足をのせない"]
[509020,"材料運搬時段差に躓いて転倒する","安全通路を移動する"]
[509020,"カッターナイフで手を切る","カッターナイフを動かす方向に手を置かない"]
[509020,"カッターナイフで手を切る","無理な姿勢で作業しない"]
[509020,"ドリルで削孔時、指を巻き込む","無理な姿勢で作業しない"]
[509020,"ドリルで削孔時、指を巻き込む","削孔箇所に手を入れない"]
[509020,"ドリルで削孔時、指を巻き込む","電動工具の始業前点検を実施する"]
[509020,"溶接時、火花が飛散し火災になる","火の粉の付近に可燃物を置かない"]
[509020,"溶接時、火花が飛散し火災になる","消火器・消火バケツを設置する"]
[509020,"溶接時、火花が飛散し火災になる","火気使用時の作業周囲の人払いを行う"]
[509020,"溶接時、火傷する","消火器・消火バケツを設置する"]
[509020,"溶接時、火傷する","火気使用時の作業周囲の人払いを行う"]
[509020,"溶接時、火傷する","保護具を着装する"]
[509020,"溶接時、火傷する","無理な姿勢で作業しない"]
[509020,"溶接時、火傷する","溶接箇所に手を近づけない"]
[509020,"ベビーサンダー使用時、誤って手を切る","保護手袋を着装する"]
[509020,"ベビーサンダー使用時、誤って手を切る","正しい姿勢で作業する"]
[509020,"ベビーサンダー使用時、誤って手を切る","保護カバーを使用する"]
[509020,"ベビーサンダー使用時、誤って手を切る","工具の始業前点検を実施する"]
[509020,"ベビーサンダー使用時、誤って手を切る","切断箇所に手を入れない"]
[509020,"ベビーサンダー使用時、目に鉄粉が入る","保護メガネを着装する"]
[509020,"ベビーサンダー使用時、目に鉄粉が入る","無理な姿勢で作業しない"]
[509020,"ベビーサンダー使用時、目に鉄粉が入る","保護具を着装する"]
[509020,"ベビーサンダー使用時、目に鉄粉が入る","保護カバーを使用する"]
[509020,"立馬から転落する","物を持って昇降しない"]
[509020,"立馬から転落する","開き止めを確認する"]
[509020,"立馬から転落する","無理な姿勢で作業しない"]
[509020,"立馬から転落する","昇降時は必ず後ろ向きにおりる"]
[509020,"重量物を持って腰を痛める","膝を使い、物を持ちあげる"]
[509020,"重量物を持って腰を痛める","準備体操をしっかり行う"]
[509020,"重量物を持って腰を痛める","2人1組で重量物を運ぶ"]
[509020,"扉吊り込み時、指を詰める","無理な姿勢で作業しない"]
[509020,"扉吊り込み時、指を詰める","保護手袋を着装する"]
[509030,"材料運搬時、躓いて転倒する","安全通路を移動する"]
[509030,"材料運搬時、躓いて転倒する","近道行為を禁止する"]
[509030,"材料運搬時、段差に躓いて転倒する","床段差に足をのせない"]
[509030,"材料運搬時、段差に躓いて転倒する","安全通路を移動する"]
[509030,"カッターナイフで手を切る","カッターナイフを動かす方向に手を置かない"]
[509030,"カッターナイフで手を切る","無理な姿勢で作業しない"]
[509030,"ドリルで削孔時、指を巻き込む","無理な姿勢で作業しない"]
[509030,"ドリルで削孔時、指を巻き込む","削孔箇所に手を入れない"]
[509030,"ドリルで削孔時、指を巻き込む","電動工具の始業前点検を実施する"]
[509030,"溶接時、火花が飛散し火災になる","火の粉の付近に可燃物を置かない"]
[509030,"溶接時、火花が飛散し火災になる","消火器・消火バケツを設置する"]
[509030,"溶接時、火花が飛散し火災になる","火気使用時の作業周囲の人払いを行う"]
[509030,"溶接時、火傷する","消火器・消火バケツを設置する"]
[509030,"溶接時、火傷する","火気使用時の作業周囲の人払いを行う"]
[509030,"溶接時、火傷する","保護具を着装する"]
[509030,"溶接時、火傷する","無理な姿勢で作業しない"]
[509030,"溶接時、火傷する","溶接箇所に手を近づけない"]
[509030,"ベビーサンダー使用時、誤って手を切る","保護手袋を着装する"]
[509030,"ベビーサンダー使用時、誤って手を切る","正しい姿勢で作業する"]
[509030,"ベビーサンダー使用時、誤って手を切る","保護カバーを使用する"]
[509030,"ベビーサンダー使用時、誤って手を切る","工具の始業前点検を実施する"]
[509030,"ベビーサンダー使用時、誤って手を切る","切断箇所に手を入れない"]
[509030,"ベビーサンダー使用時、目に鉄粉が入る","保護メガネを着装する"]
[509030,"ベビーサンダー使用時、目に鉄粉が入る","無理な姿勢で作業しない"]
[509030,"ベビーサンダー使用時、目に鉄粉が入る","保護具を着装する"]
[509030,"ベビーサンダー使用時、目に鉄粉が入る","保護カバーを使用する"]
[509030,"立馬から転落する","物を持って昇降しない"]
[509030,"立馬から転落する","開き止めを確認する"]
[509030,"立馬から転落する","無理な姿勢で作業しない"]
[509030,"立馬から転落する","昇降時は必ず後ろ向きにおりる"]
[509030,"高所作業車使用時、転落する","安全帯を必ず使用する"]
[509030,"高所作業車使用時、転落する","無理な姿勢で作業しない"]
[509030,"高所作業車使用時、転落する","高所作業車の始業前点検を実施する"]
[509030,"高所作業車使用時、転落する","作業床を確認する"]
[509030,"足場使用時、足場から墜落する","安全帯を掛けていない状況を作らない"]
[509030,"足場使用時、足場から墜落する","無理な姿勢で作業しない"]
[509030,"足場使用時、足場から墜落する","足場の始業前点検を実施する"]
[509030,"足場使用時、足場から墜落する","作業床の墜落転落防止措置を確認する"]
[509030,"足場使用時、足場から資材等を落下させる","無理な姿勢で作業しない"]
[509030,"足場使用時、足場から資材等を落下させる","作業下部の人払いを行う"]
[509030,"足場使用時、足場から資材等を落下させる","足場上の資材等を整理整頓する"]
[509030,"足場の隙間から墜落する","安全帯を掛けていない状況を作らない"]
[509030,"足場の隙間から墜落する","無理な姿勢で作業しない"]
[509030,"足場の隙間から墜落する","足場の始業前点検を実施する"]
[509030,"足場の隙間から墜落する","作業床の墜落転落防止措置の確認する"]
[509030,"足場上で躓いて転倒する","足場上の資材等を整理整頓する"]
[509030,"足場上で躓いて転倒する","無理な姿勢で作業しない"]
[509030,"足場上で躓いて転倒する","安全通路を移動する"]
[509030,"重量物を持って腰を痛める","膝を使い、物を持ちあげる"]
[509030,"重量物を持って腰を痛める","準備体操をしっかり行う"]
[509030,"重量物を持って腰を痛める","2人1組で重量物を運ぶ"]
[509030,"シャッター吊り込み時、指を詰める","無理な姿勢で作業しない"]
[509030,"シャッター吊り込み時、指を詰める","保護手袋を着装する"]
[509040,"部材搬入時荷渡しする際に取り損ねて手を負傷する","荷渡し時には声を掛け合って受け渡す"]
[509040,"部材搬入時荷渡しする際に取り損ねて手を負傷する","適切な人数で搬入を行う"]
[509040,"部材搬入時荷渡しする際に取り損ねて手を負傷する","一度に無理してたくさん運ばない"]
[509040,"部材搬入時荷渡しする際に取り損ねて手を負傷する","無理な体勢で作業しない"]
[509040,"材料運搬時、躓いて転倒する","安全通路を移動する"]
[509040,"材料運搬時、躓いて転倒する","近道行為を禁止する"]
[509040,"材料運搬時段差に躓いて転倒する","床段差に足をのせない"]
[509040,"材料運搬時段差に躓いて転倒する","安全通路を移動する"]
[509040,"カッターナイフで手を切る","カッターナイフを動かす方向に手を置かない"]
[509040,"カッターナイフで手を切る","無理な姿勢で作業しない"]
[509040,"ドリルで削孔時、指を巻き込む","無理な姿勢で作業しない"]
[509040,"ドリルで削孔時、指を巻き込む","削孔箇所に手を入れない"]
[509040,"ドリルで削孔時、指を巻き込む","電動工具の始業前点検を実施する"]
[509040,"溶接時、火花が飛散し火災になる","火の粉の付近に可燃物を置かない"]
[509040,"溶接時、火花が飛散し火災になる","消火器・消火バケツを設置する"]
[509040,"溶接時、火花が飛散し火災になる","火気使用時の下部の人払いを行う"]
[509040,"溶接時、火傷する","消火器・消火バケツを設置する"]
[509040,"溶接時、火傷する","火気使用時の下部の人払いを行う"]
[509040,"溶接時、火傷する","保護具を着装する"]
[509040,"溶接時、火傷する","無理な姿勢で作業しない"]
[509040,"溶接時、火傷する","溶接箇所に手を近づけない"]
[509040,"ベビーサンダー使用時、誤って手を切る","保護手袋を着装する"]
[509040,"ベビーサンダー使用時、誤って手を切る","正しい姿勢で作業する"]
[509040,"ベビーサンダー使用時、誤って手を切る","保護カバーを使用する"]
[509040,"ベビーサンダー使用時、誤って手を切る","工具の始業前点検を実施する"]
[509040,"ベビーサンダー使用時、誤って手を切る","切断箇所に手を入れない"]
[509040,"ベビーサンダー使用時、目に鉄粉が入る","保護メガネを着装する"]
[509040,"ベビーサンダー使用時、目に鉄粉が入る","無理な姿勢で作業しない"]
[509040,"ベビーサンダー使用時、目に鉄粉が入る","保護具を着装する"]
[509040,"ベビーサンダー使用時、目に鉄粉が入る","保護カバーを使用する"]
[509040,"立馬から転落する","物を持って昇降しない"]
[509040,"立馬から転落する","開き止めを確認する"]
[509040,"立馬から転落する","無理な姿勢で作業しない"]
[509040,"立馬から転落する","昇降時は必ず後ろ向きにおりる"]
[509040,"高所作業車使用時、転落する","安全帯を必ず使用する"]
[509040,"高所作業車使用時、転落する","無理な姿勢で作業しない"]
[509040,"高所作業車使用時、転落する","高所作業車の始業前点検を実施する"]
[509040,"高所作業車使用時、転落する","作業床を確認する"]
[509040,"足場使用時、足場から墜落する","安全帯を掛けていない状況を作らない"]
[509040,"足場使用時、足場から墜落する","無理な姿勢で作業しない"]
[509040,"足場使用時、足場から墜落する","足場の始業前点検を実施する"]
[509040,"足場使用時、足場から墜落する","作業床の墜落転落防止措置を確認する"]
[509040,"足場使用時、足場から資材等を落下させる","無理な姿勢で作業しない"]
[509040,"足場使用時、足場から資材等を落下させる","作業下部の人払いを行う"]
[509040,"足場使用時、足場から資材等を落下させる","足場上の資材等を整理整頓する"]
[509040,"足場の隙間から墜落する","安全帯を掛けていない状況を作らない"]
[509040,"足場の隙間から墜落する","無理な姿勢で作業しない"]
[509040,"足場の隙間から墜落する","足場の始業前点検を実施する"]
[509040,"足場の隙間から墜落する","作業床の墜落転落防止措置の確認する"]
[509040,"足場上で躓いて転倒する","足場上の資材等を整理整頓する"]
[509040,"足場上で躓いて転倒する","無理な姿勢で作業しない"]
[509040,"足場上で躓いて転倒する","安全通路を移動する"]
[509040,"重量物を持って腰を痛める","膝を使い、物を持ちあげる"]
[509040,"重量物を持って腰を痛める","準備体操をしっかり行う"]
[509040,"重量物を持って腰を痛める","2人1組で重量物を運ぶ"]
[509040,"CW組立時、部材に指を詰める","無理な姿勢で作業しない"]
[509040,"CW組立時、部材に指を詰める","保護手袋を着装する"]
[509040,"CW組立時、部材に指を詰める","部材の間に指を入れない"]
[510010,"ガラス切断時にガラスで手を切る","刃先の方向に手を置かない"]
[510010,"ガラス切断時にガラスで手を切る","無理な姿勢で作業しない"]
[510010,"ガラス切断時にガラスで手を切る","保護具を確実に着用する"]
[510010,"材料運搬時、躓いて転倒する","安全通路を移動する"]
[510010,"材料運搬時、躓いて転倒する","近道行為を禁止する"]
[510010,"ガラスで指を切る","皮手袋を使用する"]
[510010,"ガラスで指を切る","無理な姿勢でガラスを持たない"]
[510010,"カッターナイフで手を切る","カッターナイフを動かす方向に手を置かない"]
[510010,"カッターナイフで手を切る","無理な姿勢で作業しない"]
[510010,"ガラス取付時、立馬から転落する","物を持って昇降しない"]
[510010,"ガラス取付時、立馬から転落する","開き止めを確認する"]
[510010,"ガラス取付時、立馬から転落する","無理な姿勢で作業しない"]
[510010,"ガラス取付時、立馬から転落する","昇降時は必ず後ろ向きにおりる"]
[510010,"足場使用時、足場から墜落する","安全帯を掛けていない状況を作らない"]
[510010,"足場使用時、足場から墜落する","無理な姿勢で作業しない"]
[510010,"足場使用時、足場から墜落する","足場の始業前点検を実施する"]
[510010,"足場使用時、足場から墜落する","作業床の墜落転落防止措置を確認する"]
[510010,"足場使用時、足場から資材等を落下させる","無理な姿勢で作業しない"]
[510010,"足場使用時、足場から資材等を落下させる","作業下部の人払いを行う"]
[510010,"足場使用時、足場から資材等を落下させる","足場上の資材等を整理整頓する"]
[510010,"足場の隙間から墜落する","安全帯を掛けていない状況を作らない"]
[510010,"足場の隙間から墜落する","無理な姿勢で作業しない"]
[510010,"足場の隙間から墜落する","足場の始業前点検を実施する"]
[510010,"足場の隙間から墜落する","作業床の墜落転落防止措置の確認する"]
[510010,"足場上で躓いて転倒する","足場上の資材等を整理整頓する"]
[510010,"足場上で躓いて転倒する","無理な姿勢で作業しない"]
[510010,"足場上で躓いて転倒する","安全通路を移動する"]
[511010,"ローリング足場から降りる時に転落する","昇降の際、物を持って昇降設備を使用しない"]
[511010,"ローリング足場から降りる時に転落する","昇降の際、安全帯を使用する"]
[511010,"ローリング足場から降りる時に転落する","昇降の際、昇降設備を使用する"]
[511010,"作業足場の段差から転落する","安全帯が使用できない状況で作業しない"]
[511010,"作業足場の段差から転落する","足場の始業前点検の実施"]
[511010,"作業足場の段差から転落する","開口部養生を事前に申し出る"]
[511010,"材料運搬時、躓いて転倒する","安全通路を移動する"]
[511010,"材料運搬時、躓いて転倒する","近道行為を禁止する"]
[511010,"ハンドミキサー使用時、手や服が巻き込まれる","使用時は十分に手元の確認を行う"]
[511010,"ハンドミキサー使用時、手や服が巻き込まれる","暗い箇所では使用しない"]
[511010,"ハンドミキサー使用時、手や服が巻き込まれる","服装の乱れが無いか確認する"]
[511010,"ハンドミキサー使用時、手や服が巻き込まれる","作業場所を確保する"]
[511010,"ベビーサンダー使用時、手を切る","保護具を着装する"]
[511010,"ベビーサンダー使用時、手を切る","正しい姿勢で作業する"]
[511010,"ベビーサンダー使用時、手を切る","保護カバーを使用する"]
[511010,"スラブ端部から転落する","安全帯を掛ける設備があるか確認する"]
[511010,"スラブ端部から転落する","安全帯を掛けていない状況を作らない"]
[511010,"スラブ端部から転落する","無理な姿勢で作業しない"]
[511010,"カッターナイフで手を切る","カッターナイフを動かす方向に手を置かない"]
[511010,"カッターナイフで手を切る","無理な姿勢で作業しない"]
[511010,"カワスキで手を切る","カワスキを動かす方向に手を置かない"]
[511010,"カワスキで手を切る","保護具を着装する"]
[511010,"カワスキで手を切る","無理な姿勢で作業しない"]
[511010,"ポリッシャー使用時、粉塵を吸引する","防塵マスクを着装する"]
[511010,"ポリッシャー使用時、粉塵を吸引する","他業者に影響しないよう作業区画を明示する"]
[511010,"ポリッシャー使用時、コードを巻き込み感電する","コードの行先を確認する。"]
[511010,"ポリッシャー使用時、コードを巻き込み感電する","安全スイッチの位置を確認する"]
[511010,"ポリッシャー使用時、コードを巻き込み感電する","保護手袋を使用する"]
[511010,"下地処理時、刃物で手足を切る","刃物を動かす方向に手を置かない"]
[511010,"下地処理時、刃物で手足を切る","無理な姿勢で作業しない"]
[511010,"立馬から転落する","物を持って昇降しない"]
[511010,"立馬から転落する","開き止めを確認する"]
[511010,"立馬から転落する","無理な姿勢で作業しない"]
[511010,"立馬から転落する","昇降時は必ず後ろ向きにおりる"]
[511010,"高所作業車使用時、転落する","安全帯を必ず使用する"]
[511010,"高所作業車使用時、転落する","無理な姿勢で作業しない"]
[511010,"高所作業車使用時、転落する","高所作業車の始業前点検を実施する"]
[511010,"高所作業車使用時、転落する","作業床を確認する"]
[511010,"足場使用時、足場から墜落する","安全帯を掛けていない状況を作らない"]
[511010,"足場使用時、足場から墜落する","無理な姿勢で作業しない"]
[511010,"足場使用時、足場から墜落する","足場の始業前点検を実施する"]
[511010,"足場使用時、足場から墜落する","作業床の墜落転落防止措置を確認する"]
[511010,"足場使用時、足場から材料等を落下させる","無理な姿勢で作業しない"]
[511010,"足場使用時、足場から材料等を落下させる","作業下部の人払いを行う"]
[511010,"足場使用時、足場から材料等を落下させる","足場上の材料等を整理整頓する"]
[511010,"足場の隙間から墜落する","安全帯を掛けていない状況を作らない"]
[511010,"足場の隙間から墜落する","無理な姿勢で作業しない"]
[511010,"足場の隙間から墜落する","足場の始業前点検を実施する"]
[511010,"足場の隙間から墜落する","作業床の墜落転落防止措置の確認する"]
[511010,"足場上で躓いて転倒する","足場上の材料等を整理整頓する"]
[511010,"足場上で躓いて転倒する","無理な姿勢で作業しない"]
[511010,"足場上で躓いて転倒する","安全通路を移動する"]
[511010,"塗装時、塗料が飛散する","養生状況を点検する"]
[511010,"塗装時、塗料が飛散する","飛散防止養生を行う"]
[511010,"塗装時、塗料が飛散する","無理な姿勢で作業しない"]
[511010,"塗装時、塗料が飛散する","使用時は十分に手元の確認を行う"]
[511010,"有機溶剤で気分が悪くなる","保護マスクを着装する"]
[511010,"有機溶剤で気分が悪くなる","換気を良くする"]
[511010,"有機溶剤で気分が悪くなる","有機溶剤は決められた場所で保管する"]
[511010,"有機溶剤で気分が悪くなる","特別教育を受けて作業する"]
[511020,"足場上材料運搬時、筋交に資材ごと手をぶつけ負傷する","手をぶつけないように一缶ずつ運搬する"]
[511020,"足場上材料運搬時、筋交に資材ごと手をぶつけ負傷する","足場上両手に資材を持って移動しない"]
[511020,"材料運搬時、躓いて転倒する","安全通路を移動する"]
[511020,"材料運搬時、躓いて転倒する","近道行為を禁止する"]
[511020,"カッターナイフで手を切る","カッターナイフを動かす方向に手を置かない"]
[511020,"カッターナイフで手を切る","無理な姿勢で作業しない"]
[511020,"カワスキで手を切る","カワスキを動かす方向に手を置かない"]
[511020,"カワスキで手を切る","保護具を着装する"]
[511020,"カワスキで手を切る","無理な姿勢で作業しない"]
[511020,"ハンドミキサー使用時、手や服が巻き込まれる","使用時は十分に手元の確認を行う"]
[511020,"ハンドミキサー使用時、手や服が巻き込まれる","暗い箇所では使用しない"]
[511020,"ハンドミキサー使用時、手や服が巻き込まれる","服装の乱れが無いか確認する"]
[511020,"ハンドミキサー使用時、手や服が巻き込まれる","作業場所を確保する"]
[511020,"コンプレッサー使用時、手や服が巻き込まれる","使用時は十分に手元の確認を行う"]
[511020,"コンプレッサー使用時、手や服が巻き込まれる","暗い箇所では使用しない"]
[511020,"コンプレッサー使用時、手や服が巻き込まれる","服装の乱れが無いか確認する"]
[511020,"コンプレッサー使用時、手や服が巻き込まれる","作業場所を確保する"]
[511020,"立馬から転落する","物を持って昇降しない"]
[511020,"立馬から転落する","開き止めを確認する"]
[511020,"立馬から転落する","無理な姿勢で作業しない"]
[511020,"立馬から転落する","昇降時は必ず後ろ向きにおりる"]
[511020,"高所作業車使用時、転落する","安全帯を必ず使用する"]
[511020,"高所作業車使用時、転落する","無理な姿勢で作業しない"]
[511020,"高所作業車使用時、転落する","高所作業車の始業前点検を実施する"]
[511020,"高所作業車使用時、転落する","作業床を確認する"]
[511020,"足場使用時、足場から墜落する","安全帯を掛けていない状況を作らない"]
[511020,"足場使用時、足場から墜落する","無理な姿勢で作業しない"]
[511020,"足場使用時、足場から墜落する","足場の始業前点検を実施する"]
[511020,"足場使用時、足場から墜落する","作業床の墜落転落防止措置を確認する"]
[511020,"足場使用時、足場から材料等を落下させる","無理な姿勢で作業しない"]
[511020,"足場使用時、足場から材料等を落下させる","作業下部の人払いを行う"]
[511020,"足場使用時、足場から材料等を落下させる","足場上の材料・工具を整理整頓する"]
[511020,"足場の隙間から墜落する","安全帯を掛けていない状況を作らない"]
[511020,"足場の隙間から墜落する","無理な姿勢で作業しない"]
[511020,"足場の隙間から墜落する","足場の始業前点検を実施する"]
[511020,"足場の隙間から墜落する","作業床の墜落転落防止措置の確認する"]
[511020,"足場上で躓いて転倒する","足場上の材料等を整理整頓する"]
[511020,"足場上で躓いて転倒する","無理な姿勢で作業しない"]
[511020,"足場上で躓いて転倒する","安全通路を移動する"]
[511020,"スラブ端部から転落する","安全帯を掛ける設備があるか確認する"]
[511020,"スラブ端部から転落する","安全帯を掛けていない状況を作らない"]
[511020,"スラブ端部から転落する","無理な姿勢で作業しない"]
[511020,"吹付時、塗料が飛散する","養生状況を点検する"]
[511020,"吹付時、塗料が飛散する","飛散防止養生を行う"]
[511020,"吹付時、塗料が飛散する","無理な姿勢で作業しない"]
[511020,"吹付時、塗料が飛散する","使用時は十分に手元の確認を行う"]
[511020,"有機溶剤で気分が悪くなる","保護マスクを着装する"]
[511020,"有機溶剤で気分が悪くなる","換気を良くする"]
[511020,"有機溶剤で気分が悪くなる","有機溶剤は決められた場所で保管する"]
[511020,"有機溶剤で気分が悪くなる","特別教育を受けて作業する"]
[512010,"ハンマードリルに手を巻き込まれる","キリ部分に手を添えない"]
[512010,"ハンマードリルに手を巻き込まれる","点検・整備時は電源を切る"]
[512010,"ハンマードリルに手を巻き込まれる","適正なキリ（キリは先端部のみ）を使用して作業を行う"]
[512010,"後ろ向きで移動した際にカラーコーンで躓き負傷する","後ろ向きで作業する時は進行方向を確認する"]
[512010,"高所作業車使用時、転落する","安全帯を必ず使用する"]
[512010,"高所作業車使用時、転落する","無理な姿勢で作業しない"]
[512010,"高所作業車使用時、転落する","高所作業車の始業前点検を実施する"]
[512010,"高所作業車使用時、転落する","作業床を確認する"]
[512010,"立馬から転落する","物を持って昇降しない"]
[512010,"立馬から転落する","開き止めを確認する"]
[512010,"立馬から転落する","無理な姿勢で作業しない"]
[512010,"立馬から転落する","昇降時は必ず後ろ向きにおりる"]
[512010,"足場使用時、足場から転落する","安全帯を掛けていない状況を作らない"]
[512010,"足場使用時、足場から転落する","無理な姿勢で作業しない"]
[512010,"足場使用時、足場から転落する","足場の始業前点検を実施する"]
[512010,"足場使用時、足場から転落する","作業床の墜落転落防止措置の確認する"]
[512010,"ベビーサンダー使用時、手を切る","保護手袋を着装する"]
[512010,"ベビーサンダー使用時、手を切る","正しい姿勢で作業する"]
[512010,"ベビーサンダー使用時、手を切る","保護カバーを使用する"]
[512010,"ベビーサンダー使用時、手を切る","工具の始業前点検を実施する"]
[512010,"ベビーサンダー使用時、手を切る","切断箇所に手を入れない"]
[512010,"カッターナイフで手を切る","カッターナイフを動かす方向に手を置かない"]
[512010,"カッターナイフで手を切る","無理な姿勢で作業しない"]
[512010,"高速カッターで手を切る","保護具を着装する"]
[512010,"高速カッターで手を切る","正しい姿勢で作業する"]
[512010,"高速カッターで手を切る","高速カッターの保護カバーを使用する"]
[512010,"高速カッターで手を切る","工具の始業前点検を実施する"]
[512010,"高速カッターで手を切る","切断箇所に手を入れない"]
[512010,"高速カッターを使用し、火花が飛散して火災になる","消火器・消火バケツを設置する"]
[512010,"高速カッターを使用し、火花が飛散して火災になる","工具の始業前点検を実施する"]
[512010,"高速カッターを使用し、火花が飛散して火災になる","高速カッターの保護カバーを使用する"]
[512010,"高速カッターを使用し、火花が飛散して火災になる","火の粉の付近に可燃物を置かない"]
[512010,"足場の隙間から墜落する","安全帯を掛けていない状況を作らない"]
[512010,"足場の隙間から墜落する","無理な姿勢で作業しない"]
[512010,"足場の隙間から墜落する","足場の始業前点検を実施する"]
[512010,"足場の隙間から墜落する","作業床の墜落転落防止措置の確認する"]
[512020,"資材運搬時、階段でバランスを崩して転倒する","階段昇降時は足元を確認できるようにして資材を運搬する"]
[512020,"資材運搬時、階段でバランスを崩して転倒する","無理な体勢で運搬しない"]
[512020,"資材運搬時、階段でバランスを崩して転倒する","適切な人数で搬入を行う"]
[512020,"資材運搬時、階段でバランスを崩して転倒する","一度に無理してたくさん運ばない"]
[512020,"立馬から転落する","物を持って昇降しない"]
[512020,"立馬から転落する","開き止めを確認する"]
[512020,"立馬から転落する","無理な姿勢で作業しない"]
[512020,"立馬から転落する","昇降時は必ず後ろ向きにおりる"]
[512020,"足場使用時、足場から墜落する","安全帯を掛けていない状況を作らない"]
[512020,"足場使用時、足場から墜落する","無理な姿勢で作業しない"]
[512020,"足場使用時、足場から墜落する","足場の始業前点検を実施する"]
[512020,"足場使用時、足場から墜落する","作業床の墜落転落防止措置を確認する"]
[512020,"材料運搬時、段差に躓き転倒する","資材等の整理・整頓を行う"]
[512020,"材料運搬時、段差に躓き転倒する","安全通路を確保し、足元を確認して歩行する"]
[512020,"電動丸のこで指を切る","電動工具の始業前点検を実施する"]
[512020,"電動丸のこで指を切る","丸のこの保護カバーを使用する"]
[512020,"電動丸のこで指を切る","無理な姿勢で作業しない"]
[512020,"カッターナイフで手を切る","カッターナイフを動かす方向に手を置かない"]
[512020,"カッターナイフで手を切る","無理な姿勢で作業しない"]
[512020,"カッターナイフで手を切る","安全定規を使用する"]
[512020,"タッカーで誤って手に打つ","無理な姿勢で作業しない"]
[512020,"タッカーで誤って手に打つ","電動工具の始業前点検を実施する"]
[512020,"タッカーで誤って手に打つ","正しい姿勢で作業する"]
[512020,"タッカーで誤って手に打つ","打設箇所に手を入れない"]
[512020,"高所作業車使用時、転落する","安全帯を必ず使用する"]
[512020,"高所作業車使用時、転落する","無理な姿勢で作業しない"]
[512020,"高所作業車使用時、転落する","高所作業車の始業前点検を実施する"]
[512020,"高所作業車使用時、転落する","作業床を確認する"]
[512020,"足場の隙間から墜落する","安全帯を掛けていない状況を作らない"]
[512020,"足場の隙間から墜落する","無理な姿勢で作業しない"]
[512020,"足場の隙間から墜落する","足場の始業前点検を実施する"]
[512020,"足場の隙間から墜落する","作業床の墜落転落防止措置の確認する"]
[512030,"カッターナイフで誤って手を切る","刃先の方向に手を置かない"]
[512030,"カッターナイフで誤って手を切る","無理な姿勢で作業しない"]
[512030,"立馬から転落する","物を持って昇降しない"]
[512030,"立馬から転落する","開き止めを確認する"]
[512030,"立馬から転落する","無理な姿勢で作業しない"]
[512030,"立馬から転落する","昇降時は必ず後ろ向きにおりる"]
[512030,"カッターナイフで手を切る","カッターナイフを動かす方向に手を置かない"]
[512030,"カッターナイフで手を切る","無理な姿勢で作業しない"]
[512030,"カッターナイフで手を切る","刃の出し入れを確認する"]
[512030,"材料運搬時、段差に躓き転倒する","資材の整理・整頓を行う"]
[512030,"材料運搬時、段差に躓き転倒する","安全通路を確保し、足元を確認して歩行する"]
[512040,"材料運搬時、段差に躓き転倒する","資材の整理・整頓を行う"]
[512040,"材料運搬時、段差に躓き転倒する","安全通路を確保し、足元を確認して歩行する"]
[512040,"材料カット時、カッターナイフで手を切る","カッターナイフを動かす方向に手を置かない"]
[512040,"材料カット時、カッターナイフで手を切る","無理な姿勢で作業しない"]
[512040,"材料カット時、カッターナイフで手を切る","刃の出し入れを確認する"]
[512040,"電動丸のこで指を切る","電動工具の始業前点検を実施する"]
[512040,"電動丸のこで指を切る","丸のこの保護カバーを使用する"]
[512040,"電動丸のこで指を切る","無理な姿勢で作業しない"]
[512040,"手鋸で手や指を切る","手鋸を動かす方向に手や指を置かない"]
[512040,"手鋸で手や指を切る","無理な姿勢で作業しない"]
[512040,"手鋸で手や指を切る","保護手袋を着装する"]
[512040,"インパクトドライバー使用時、指を負傷する","無理な姿勢で作業しない"]
[512040,"インパクトドライバー使用時、指を負傷する","危険な所に手を入れない"]
[512040,"インパクトドライバー使用時、指を負傷する","電動工具の始業前点検を実施する"]
[512040,"パネルとの間に手・指を挟む","保護手袋を使用する"]
[512040,"パネルとの間に手・指を挟む","無理な姿勢で作業しない"]
[512040,"パネルとの間に手・指を挟む","危険な所に手を入れない"]
[512050,"材料運搬時、段差に躓き転倒する","資材の整理・整頓を行う"]
[512050,"材料運搬時、段差に躓き転倒する","安全通路を確保し、足元を確認して歩行する"]
[512050,"材料カット時、カッターナイフで手を切る","カッターナイフを動かす方向に手を置かない"]
[512050,"材料カット時、カッターナイフで手を切る","無理な姿勢で作業しない"]
[512050,"材料カット時、カッターナイフで手を切る","刃の出し入れを確認する"]
[512050,"ジョイント溶接時、火傷する","消火器・消火バケツを設置する"]
[512050,"ジョイント溶接時、火傷する","保護手袋を着装する"]
[512050,"ジョイント溶接時、火傷する","無理な姿勢で作業しない"]
[512050,"ジョイント溶接時、火傷する","指先を確認する"]
[512050,"ジョイント溶接時、火傷する","溶接箇所に手を入れない"]
[512060,"材料運搬時、段差に躓き転倒する","資材の整理・整頓を行う"]
[512060,"材料運搬時、段差に躓き転倒する","安全通路を確保し、足元を確認して歩行する"]
[512060,"カッターナイフで手を切る","カッターナイフを動かす方向に手を置かない"]
[512060,"カッターナイフで手を切る","無理な姿勢で作業しない"]
[512060,"インパクトドライバー使用時、指を負傷する","無理な姿勢で作業しない"]
[512060,"インパクトドライバー使用時、指を負傷する","危険な所に手を入れない"]
[512060,"インパクトドライバー使用時、指を負傷する","電動工具の始業前点検を実施する"]
[512060,"ベビーサンダー使用時、手を切る","保護手袋を着装する"]
[512060,"ベビーサンダー使用時、手を切る","正しい姿勢で作業する"]
[512060,"ベビーサンダー使用時、手を切る","保護カバーを使用する"]
[512060,"ベビーサンダー使用時、手を切る","工具の始業前点検を実施する"]
[512060,"ベビーサンダー使用時、手を切る","切断箇所に手を入れない"]
[512060,"立馬から転落する","物を持って昇降しない"]
[512060,"立馬から転落する","開き止めを確認する"]
[512060,"立馬から転落する","無理な姿勢で作業しない"]
[512060,"立馬から転落する","昇降時は必ず後ろ向きにおりる"]
[512070,"無理な姿勢でﾎｰｽを引っ張り上げようとして足を痛める","作業床の墜落転落防止措置（交差筋違・手摺枠等）の確認を行う"]
[512070,"無理な姿勢でﾎｰｽを引っ張り上げようとして足を痛める","二人作業で行うなど無理をしない"]
[512070,"足場板の段差で足をひねる","床に段差がないかを確認する"]
[512070,"材料運搬時、段差に躓き転倒する","資材の整理・整頓を行う"]
[512070,"材料運搬時、段差に躓き転倒する","安全通路を確保し、足元を確認して歩行する"]
[512070,"キャプタイヤーに躓き転倒する","安全通路を移動する"]
[512070,"キャプタイヤーに躓き転倒する","キャプタイヤーの整理整線を行う"]
[512070,"コンプレッサー使用時、手や服が巻き込まれる","使用時は十分に手元の確認を行う"]
[512070,"コンプレッサー使用時、手や服が巻き込まれる","服装の乱れが無いか確認する"]
[512070,"カッターナイフで手を切る","カッターナイフを動かす方向に手を置かない"]
[512070,"カッターナイフで手を切る","無理な姿勢で作業しない"]
[512070,"ﾛｰﾘﾝｸﾞﾀﾜｰ使用時、足場から転落する","安全帯を必ず使用する"]
[512070,"ﾛｰﾘﾝｸﾞﾀﾜｰ使用時、足場から転落する","無理な姿勢で作業しない"]
[512070,"ﾛｰﾘﾝｸﾞﾀﾜｰ使用時、足場から転落する","足場の始業前点検を実施する"]
[512070,"ﾛｰﾘﾝｸﾞﾀﾜｰ使用時、足場から転落する","作業床の墜落転落防止措置の確認する"]
[512070,"立馬から転落する","物を持って昇降しない"]
[512070,"立馬から転落する","開き止めを確認する"]
[512070,"立馬から転落する","無理な姿勢で作業しない"]
[512070,"立馬から転落する","昇降時は必ず後ろ向きにおりる"]
[512070,"他業者が使用する火気により、引火で火災になる","立ち入り禁止措置を行う"]
[512070,"他業者が使用する火気により、引火で火災になる","消火器・消火バケツを設置する"]
[512070,"他業者が使用する火気により、引火で火災になる","立入禁止明示及び作業エリアの区分けを行う"]
[512070,"吹付け時、手元を誤ってウレタンが飛散する","養生状況を点検する"]
[512070,"吹付け時、手元を誤ってウレタンが飛散する","飛散防止養生を行う"]
[512070,"吹付け時、手元を誤ってウレタンが飛散する","無理な姿勢で作業しない"]
[512070,"吹付け時、手元を誤ってウレタンが飛散する","使用時は十分に手元の確認を行う"]
[512080,"材料運搬時、躓いて転倒する","安全通路を移動する"]
[512080,"材料運搬時、躓いて転倒する","近道行為を禁止する"]
[512080,"カッターナイフで手を切る","カッターナイフを動かす方向に手を置かない"]
[512080,"カッターナイフで手を切る","無理な姿勢で作業しない"]
[512080,"ドリルで削孔時、指を巻き込む","無理な姿勢で作業しない"]
[512080,"ドリルで削孔時、指を巻き込む","削孔箇所に手を入れない"]
[512080,"ドリルで削孔時、指を巻き込む","電動工具の始業前点検を実施する"]
[512080,"材料加工時、材料端部で指や手を切る","材料端部に手や指を入れない"]
[512080,"材料加工時、材料端部で指や手を切る","無理な姿勢で作業しない"]
[512080,"材料加工時、材料端部で指や手を切る","保護具を着装する"]
[512080,"材料搬入時、吊荷が外れ落下する","クレーン使用時の合図の徹底"]
[512080,"材料搬入時、吊荷が外れ落下する","声掛け合図の徹底"]
[512080,"材料搬入時、吊荷が外れ落下する","専用吊り具の始業前点検を実施する"]
[512080,"材料搬入時、吊荷が外れ落下する","吊荷荷重を確認する"]
[512080,"材料搬入時、吊荷が外れ落下する","吊荷下の人払いを行う"]
[512080,"材料搬入時、吊荷が外れ落下する","地切りの確認をする（333運動）"]
[512080,"材料搬入時、玉掛けワイヤーが切れ、吊荷が落下する","玉掛けワイヤーの始業前点検を実施する"]
[512080,"材料搬入時、玉掛けワイヤーが切れ、吊荷が落下する","声掛け合図の徹底"]
[512080,"材料搬入時、玉掛けワイヤーが切れ、吊荷が落下する","吊荷下の人払いを行う"]
[512080,"材料搬入時、玉掛けワイヤーが切れ、吊荷が落下する","吊荷荷重を確認する"]
[512080,"溶接時、火花が飛散し火災になる","火の粉の付近に可燃物を置かない"]
[512080,"溶接時、火花が飛散し火災になる","消火器・消火バケツを設置する"]
[512080,"溶接時、火花が飛散し火災になる","火気使用時の下部の人払いを行う"]
[512080,"溶接時、火傷する","消火器・消火バケツを設置する"]
[512080,"溶接時、火傷する","火気使用時の下部の人払いを行う"]
[512080,"溶接時、火傷する","保護具を着装する"]
[512080,"溶接時、火傷する","無理な姿勢で作業しない"]
[512080,"溶接時、火傷する","溶接箇所に手を近づけない"]
[512080,"ベビーサンダー使用時、誤って手を切る","保護手袋を着装する"]
[512080,"ベビーサンダー使用時、誤って手を切る","正しい姿勢で作業する"]
[512080,"ベビーサンダー使用時、誤って手を切る","保護カバーを使用する"]
[512080,"ベビーサンダー使用時、誤って手を切る","工具の始業前点検を実施する"]
[512080,"ベビーサンダー使用時、誤って手を切る","切断箇所に手を入れない"]
[512080,"ベビーサンダー使用時、目に鉄粉が入る","保護メガネを着装する"]
[512080,"ベビーサンダー使用時、目に鉄粉が入る","無理な姿勢で作業しない"]
[512080,"ベビーサンダー使用時、目に鉄粉が入る","保護カバーを使用する"]
[512080,"足場使用時、足場から墜落する","安全帯を掛けていない状況を作らない"]
[512080,"足場使用時、足場から墜落する","無理な姿勢で作業しない"]
[512080,"足場使用時、足場から墜落する","足場の始業前点検を実施する"]
[512080,"足場使用時、足場から墜落する","作業床の墜落転落防止措置を確認する"]
[512080,"足場使用時、足場から資材等を落下させる","無理な姿勢で作業しない"]
[512080,"足場使用時、足場から資材等を落下させる","作業下部の人払いを行う"]
[512080,"足場使用時、足場から資材等を落下させる","足場上の資材等を整理整頓する"]
[512080,"足場の隙間から墜落する","安全帯を掛けていない状況を作らない"]
[512080,"足場の隙間から墜落する","無理な姿勢で作業しない"]
[512080,"足場の隙間から墜落する","足場の始業前点検を実施する"]
[512080,"足場の隙間から墜落する","作業床の墜落転落防止措置の確認する"]
[512080,"足場上で躓いて転倒する","足場上の資材等を整理整頓する"]
[512080,"足場上で躓いて転倒する","無理な姿勢で作業しない"]
[512080,"足場上で躓いて転倒する","安全通路を移動する"]
[512090,"材料運搬時、躓いて転倒する","安全通路を移動する"]
[512090,"材料運搬時、躓いて転倒する","近道行為を禁止する"]
[512090,"カッターナイフで手を切る","カッターナイフを動かす方向に手を置かない"]
[512090,"カッターナイフで手を切る","無理な姿勢で作業しない"]
[512090,"ドリルで削孔時、指を巻き込む","無理な姿勢で作業しない"]
[512090,"ドリルで削孔時、指を巻き込む","削孔箇所に手を入れない"]
[512090,"ドリルで削孔時、指を巻き込む","電動工具の始業前点検を実施する"]
[512090,"溶接時、火花が飛散し火災になる","火の粉の付近に可燃物を置かない"]
[512090,"溶接時、火花が飛散し火災になる","消火器・消火バケツを設置する"]
[512090,"溶接時、火花が飛散し火災になる","火気使用時の下部の人払いを行う"]
[512090,"溶接時、火傷する","消火器・消火バケツを設置する"]
[512090,"溶接時、火傷する","火気使用時の下部の人払いを行う"]
[512090,"溶接時、火傷する","保護具を着装する"]
[512090,"溶接時、火傷する","無理な姿勢で作業しない"]
[512090,"溶接時、火傷する","溶接箇所に手を近づけない"]
[512090,"ベビーサンダー使用時、誤って手を切る","保護手袋を着装する"]
[512090,"ベビーサンダー使用時、誤って手を切る","正しい姿勢で作業する"]
[512090,"ベビーサンダー使用時、誤って手を切る","保護カバーを使用する"]
[512090,"ベビーサンダー使用時、誤って手を切る","工具の始業前点検を実施する"]
[512090,"ベビーサンダー使用時、誤って手を切る","切断箇所に手を入れない"]
[512090,"ベビーサンダー使用時、目にﾌﾟﾗｽﾁｯｸ片が入る","保護メガネを着装する"]
[512090,"ベビーサンダー使用時、目にﾌﾟﾗｽﾁｯｸ片が入る","無理な姿勢で作業しない"]
[512090,"ベビーサンダー使用時、目にﾌﾟﾗｽﾁｯｸ片が入る","保護カバーを使用する"]
[512090,"高速カッターで手を切る","保護手袋を着装する"]
[512090,"高速カッターで手を切る","正しい姿勢で作業する"]
[512090,"高速カッターで手を切る","高速カッターの保護カバーを使用する"]
[512090,"高速カッターで手を切る","工具の始業前点検を実施する"]
[512090,"高速カッターで手を切る","回転部には手を入れない"]
[512090,"足場使用時、足場から墜落する","安全帯を掛けていない状況を作らない"]
[512090,"足場使用時、足場から墜落する","無理な姿勢で作業しない"]
[512090,"足場使用時、足場から墜落する","足場の始業前点検を実施する"]
[512090,"足場使用時、足場から墜落する","作業床の墜落転落防止措置を確認する"]
[512090,"足場使用時、足場から資材等を落下させる","無理な姿勢で作業しない"]
[512090,"足場使用時、足場から資材等を落下させる","作業下部の人払いを行う"]
[512090,"足場使用時、足場から資材等を落下させる","足場上の資材等を整理整頓する"]
[512090,"足場の隙間から墜落する","安全帯を掛けていない状況を作らない"]
[512090,"足場の隙間から墜落する","無理な姿勢で作業しない"]
[512090,"足場の隙間から墜落する","足場の始業前点検を実施する"]
[512090,"足場の隙間から墜落する","作業床の墜落転落防止措置の確認する"]
[512090,"足場上で躓いて転倒する","足場上の資材等を整理整頓する"]
[512090,"足場上で躓いて転倒する","無理な姿勢で作業しない"]
[512090,"足場上で躓いて転倒する","安全通路を移動する"]
[512090,"高所作業車使用時、転落する","安全帯を必ず使用する"]
[512090,"高所作業車使用時、転落する","無理な姿勢で作業しない"]
[512090,"高所作業車使用時、転落する","高所作業車の始業前点検を実施する"]
[512090,"高所作業車使用時、転落する","作業床を確認する"]
[512090,"バンドで指を詰める","無理な姿勢で作業しない"]
[512090,"バンドで指を詰める","危険な所に指を入れない"]
[513010,"インパクトドライバー使用時に、先端部に接触し負傷する","削孔箇所に手を入れない"]
[513010,"インパクトドライバー使用時に、先端部に接触し負傷する","使用時は十分に手元の確認を行う"]
[513010,"インパクトドライバー使用時に、先端部に接触し負傷する","点検・整備時は電源を切る"]
[513010,"インパクトドライバー使用時に、先端部に接触し負傷する","仮置きの際もむやみに危険な場所に手を当てない"]
[513010,"材料運搬時、躓いて転倒する","安全通路を移動する"]
[513010,"材料運搬時、躓いて転倒する","近道行為を禁止する"]
[513010,"カッターナイフで手を切る","カッターナイフを動かす方向に手を置かない"]
[513010,"カッターナイフで手を切る","無理な姿勢で作業しない"]
[513010,"インパクトドライバー使用時、指を負傷する","無理な姿勢で作業しない"]
[513010,"インパクトドライバー使用時、指を負傷する","危険な所に手を入れない"]
[513010,"インパクトドライバー使用時、指を負傷する","電動工具の始業前点検を実施する"]
[513010,"誤ってハンマーで指を叩く","使用時は手元の確認を行う"]
[513010,"誤ってハンマーで指を叩く","暗い箇所では使用しない(手元の照明を明るくする)"]
[513010,"誤ってハンマーで指を叩く","保護手袋を着装する"]
[513010,"ベビーサンダー使用時、手を切る","保護手袋を着装する"]
[513010,"ベビーサンダー使用時、手を切る","正しい姿勢で作業する"]
[513010,"ベビーサンダー使用時、手を切る","保護カバーを使用する"]
[513010,"ベビーサンダー使用時、手を切る","工具の始業前点検を実施する"]
[513010,"ベビーサンダー使用時、手を切る","切断箇所に手を入れない"]
[513010,"立馬から転落する","物を持って昇降しない"]
[513010,"立馬から転落する","開き止めを確認する"]
[513010,"立馬から転落する","無理な姿勢で作業しない"]
[513010,"立馬から転落する","昇降時は必ず後ろ向きにおりる"]
[514010,"材料運搬時躓いて転倒する","安全通路を移動する"]
[514010,"材料運搬時躓いて転倒する","近道行為を禁止する"]
[514010,"カッターナイフで手を切る","カッターナイフを動かす方向に手を置かない"]
[514010,"カッターナイフで手を切る","無理な姿勢で作業しない"]
[514010,"インパクトドライバー使用時、指を負傷する","無理な姿勢で作業しない"]
[514010,"インパクトドライバー使用時、指を負傷する","危険な所に手を入れない"]
[514010,"インパクトドライバー使用時、指を負傷する","電動工具の始業前点検を実施する"]
[514010,"誤ってハンマーで指を叩く","使用時は手元の確認を行う"]
[514010,"誤ってハンマーで指を叩く","暗い箇所では使用しない(手元の照明を明るくする)"]
[514010,"誤ってハンマーで指を叩く","保護手袋を着装する"]
[514010,"ベビーサンダー使用時、手を切る","保護手袋を着装する"]
[514010,"ベビーサンダー使用時、手を切る","正しい姿勢で作業する"]
[514010,"ベビーサンダー使用時、手を切る","保護カバーを使用する"]
[514010,"ベビーサンダー使用時、手を切る","工具の始業前点検を実施する"]
[514010,"ベビーサンダー使用時、手を切る","切断箇所に手を入れない"]
[514010,"電動丸のこで指を切る","電動工具の始業前点検を実施する"]
[514010,"電動丸のこで指を切る","丸のこの保護カバーを使用する"]
[514010,"電動丸のこで指を切る","無理な姿勢で作業しない"]
[514010,"立馬から転落する","物を持って昇降しない"]
[514010,"立馬から転落する","開き止めを確認する"]
[514010,"立馬から転落する","無理な姿勢で作業しない"]
[514010,"立馬から転落する","昇降時は必ず後ろ向きにおりる"]
[601010,"材料運搬時、躓いて転倒する","安全通路を移動する"]
[601010,"材料運搬時、躓いて転倒する","近道行為を禁止する"]
[601010,"材料運搬時、段差に躓いて転倒する","床段差に足をのせない"]
[601010,"材料運搬時、段差に躓いて転倒する","安全通路を移動する"]
[601010,"カッターナイフで手を切る","カッターナイフを動かす方向に手を置かない"]
[601010,"カッターナイフで手を切る","無理な姿勢で作業しない"]
[601010,"ケーブル切断時、刃物で手を切る","刃物を動かす方向に手を置かない"]
[601010,"ケーブル切断時、刃物で手を切る","無理な姿勢で作業しない"]
[601010,"ケーブル切断時、刃物で手を切る","刃の出し入れを確認する"]
[601010,"高所作業車使用時、転落する","安全帯を必ず使用する"]
[601010,"高所作業車使用時、転落する","無理な姿勢で作業しない"]
[601010,"高所作業車使用時、転落する","高所作業車の始業前点検を実施する"]
[601010,"高所作業車使用時、転落する","作業床を確認する"]
[601010,"ベビーサンダー使用時、手を切る","保護手袋を着装する"]
[601010,"ベビーサンダー使用時、手を切る","正しい姿勢で作業する"]
[601010,"ベビーサンダー使用時、手を切る","保護カバーを使用する"]
[601010,"ベビーサンダー使用時、手を切る","工具の始業前点検を実施する"]
[601010,"ベビーサンダー使用時、手を切る","切断箇所に手を入れない"]
[601010,"材料切断時、高速カッターで手を切る","保護具を着装する"]
[601010,"材料切断時、高速カッターで手を切る","正しい姿勢で作業する"]
[601010,"材料切断時、高速カッターで手を切る","高速カッターの保護カバーを使用する"]
[601010,"材料切断時、高速カッターで手を切る","工具の始業前点検を実施する"]
[601010,"材料切断時、高速カッターで手を切る","切断箇所に手を入れない"]
[601010,"高速カッターを使用し、火花が飛散して火災になる","消火器・消火バケツ設置する"]
[601010,"高速カッターを使用し、火花が飛散して火災になる","工具の始業前点検を実施する"]
[601010,"高速カッターを使用し、火花が飛散して火災になる","高速カッターの保護カバーを使用する"]
[601010,"高速カッターを使用し、火花が飛散して火災になる","火の粉の付近に可燃物を置かない"]
[601010,"ドリルで削孔時、指を巻き込む","無理な姿勢で作業しない"]
[601010,"ドリルで削孔時、指を巻き込む","削孔箇所に手を入れない"]
[601010,"ドリルで削孔時、指を巻き込む","電動工具の始業前点検を実施する"]
[601010,"ドリルにて上向きに削孔する際、削孔片が目に入る","保護メガネを着装する"]
[601010,"ドリルにて上向きに削孔する際、削孔片が目に入る","無理な姿勢で作業しない"]
[601010,"ドリルにて上向きに削孔する際、削孔片が目に入る","保護具を着装する"]
[601010,"バンドで指を詰める","無理な姿勢で作業しない"]
[601010,"バンドで指を詰める","危険な所に指を入れない"]
[601010,"インパクトドライバー使用時、指を負傷する","無理な姿勢で作業しない"]
[601010,"インパクトドライバー使用時、指を負傷する","危険な所に手を入れない"]
[601010,"インパクトドライバー使用時、指を負傷する","電動工具の始業前点検を実施する"]
[601010,"梯子使用時、梯子から転落する","物を持って昇降しない"]
[601010,"梯子使用時、梯子から転落する","無理な姿勢で作業しない"]
[601010,"梯子使用時、梯子から転落する","梯子の固定状況を確認する"]
[601010,"梯子使用時、梯子から転落する","2人1組で作業を行う"]
[601010,"床置きラック施工時に躓きラックで脛を強打する","施工場所周辺の不要材を除去してから作業する"]
[601010,"EPS内縦ラック施工時に開口から部品を落下させ下階の作業員に当たる","開口部の養生を行いながら作業をする"]
[601010,"立馬から転落する","物を持って昇降しない"]
[601010,"立馬から転落する","開き止めを確認する"]
[601010,"立馬から転落する","無理な姿勢で作業しない"]
[601010,"立馬から転落する","昇降時は必ず後ろ向きにおりる"]
[601010,"立馬から転落する","手掛かり棒を適正に使用し、側面が分かるようにする"]
[601010,"切断小口で切る","切断後、小口処理をする（ﾊﾞﾘ取り）"]
[601010,"ラック吊り込み時にバランスを崩し立馬から転落する","無理な体勢で作業をしない"]
[601020,"カッターナイフで手を切る","刃先の方向に手を置かない"]
[601020,"カッターナイフで手を切る","無理な姿勢で作業しない"]
[601020,"高所作業車使用時、物が落下し負傷する","上下作業とならないよう確認する"]
[601020,"高所作業車使用時、物が落下し負傷する","高所作業車上の物は安定した状態で置く(仮結束等)"]
[601020,"狭小な作業場所で床段差に気づかずに、足をひねる","床段差に足をのせない"]
[601020,"狭小な作業場所で床段差に気づかずに、足をひねる","付近に段差や障害物がないか確認する"]
[601020,"狭小な作業場所で床段差に気づかずに、足をひねる","場内通行時には安全通路を通行する"]
[601020,"材料運搬時、躓いて転倒する","安全通路を移動する"]
[601020,"材料運搬時、躓いて転倒する","近道行為を禁止する"]
[601020,"材料運搬時、段差に躓いて転倒する","床段差に足をのせない"]
[601020,"材料運搬時、段差に躓いて転倒する","安全通路を移動する"]
[601020,"ケーブル切断時、刃物で手を切る","刃物を動かす方向に手を置かない"]
[601020,"ケーブル切断時、刃物で手を切る","無理な姿勢で作業しない"]
[601020,"ケーブル切断時、刃物で手を切る","刃の出し入れを確認する"]
[601020,"立馬から転落する","物を持って昇降しない"]
[601020,"立馬から転落する","開き止めを確認する"]
[601020,"立馬から転落する","無理な姿勢で作業しない"]
[601020,"立馬から転落する","昇降時は必ず後ろ向きにおりる"]
[601020,"高所作業車使用時、転落する","安全帯を必ず使用する"]
[601020,"高所作業車使用時、転落する","無理な姿勢で作業しない"]
[601020,"高所作業車使用時、転落する","高所作業車の始業前点検を実施する"]
[601020,"高所作業車使用時、転落する","作業床を確認する"]
[601020,"ベビーサンダー使用時、手を切る","保護手袋を着装する"]
[601020,"ベビーサンダー使用時、手を切る","正しい姿勢で作業する"]
[601020,"ベビーサンダー使用時、手を切る","保護カバーを使用する"]
[601020,"ベビーサンダー使用時、手を切る","工具の始業前点検を実施する"]
[601020,"ベビーサンダー使用時、手を切る","切断箇所に手を入れない"]
[601020,"ドリルにて上向きに削孔する際、削孔片が目に入る","保護メガネを着装する"]
[601020,"ドリルにて上向きに削孔する際、削孔片が目に入る","無理な姿勢で作業しない"]
[601020,"ドリルにて上向きに削孔する際、削孔片が目に入る","保護具を着装する"]
[601020,"バンドで指を詰める","無理な姿勢で作業しない"]
[601020,"バンドで指を詰める","危険な所に指を入れない"]
[601020,"梯子使用時、梯子から転落する","物を持って昇降しない"]
[601020,"梯子使用時、梯子から転落する","無理な姿勢で作業しない"]
[601020,"梯子使用時、梯子から転落する","梯子の固定状況を確認する"]
[601020,"梯子使用時、梯子から転落する","2人1組で作業を行う"]
[601020,"インパクトドライバー使用時、指を負傷する","無理な姿勢で作業しない"]
[601020,"インパクトドライバー使用時、指を負傷する","危険な所に手を入れない"]
[601020,"インパクトドライバー使用時、指を負傷する","電動工具の始業前点検を実施する"]
[601020,"幹線ドラム運搬時にドラムが逸走し作業員に接触する","運搬時はなるべく平坦で傾斜の少ないルートを選定する"]
[601020,"幹線ドラム運搬時にドラムが逸走し作業員に接触する","歯止めを用いてドラムの転がり防止を行う"]
[601020,"配管ベンダー使用時に力が逃げ転倒する","ベンダーと配管をしっかり固定してから曲げを行う"]
[601020,"天井先行配線（垂れ下げ）で頭をぶつける","通路部分は、最低FL+1800まで配線を垂れ下げない"]
[601020,"樹脂管切断時に、ｶｯﾀ-ﾅｲﾌで指を切る","太もも上で切断したり、無理な体勢で作業しない。"]
[601020,"樹脂管切断時に、ｶｯﾀ-ﾅｲﾌで指を切る","無理な姿勢で作業しない"]
[601020,"樹脂管切断時に、ｶｯﾀ-ﾅｲﾌで指を切る","カッターナイフを動かす方向に手を置かない"]
[601020,"床上の準備中配線に足を取られ挫く","安全通路に配線を置かない"]
[601020,"入線時にﾀｲﾐﾝｸﾞが合わずに転倒する","作業者同士で声を掛け合う"]
[601020,"配管配線時に吊りﾎﾞﾙﾄ等で手や目を突く","作業時は周囲の状況を良く確認する事"]
[601030,"材料運搬時、躓いて転倒する","安全通路を移動する"]
[601030,"材料運搬時、躓いて転倒する","近道行為を禁止する"]
[601030,"材料運搬時、段差に躓いて転倒する","床段差に足をのせない"]
[601030,"材料運搬時、段差に躓いて転倒する","安全通路を移動する"]
[601030,"カッターナイフで手を切る","カッターナイフを動かす方向に手を置かない"]
[601030,"カッターナイフで手を切る","無理な姿勢で作業しない"]
[601030,"ケーブル切断時、刃物で手を切る","刃物を動かす方向に手を置かない"]
[601030,"ケーブル切断時、刃物で手を切る","無理な姿勢で作業しない"]
[601030,"ケーブル切断時、刃物で手を切る","刃の出し入れを確認する"]
[601030,"足場の隙間から墜落する","安全帯を掛けていない状況を作らない"]
[601030,"足場の隙間から墜落する","無理な姿勢で作業しない"]
[601030,"足場の隙間から墜落する","足場の始業前点検を実施する"]
[601030,"足場の隙間から墜落する","作業床の墜落転落防止措置の確認する"]
[601030,"足場上で躓いて転倒する","足場上の資材等を整理整頓する"]
[601030,"足場上で躓いて転倒する","無理な姿勢で作業しない"]
[601030,"足場上で躓いて転倒する","安全通路を移動する"]
[601030,"高所作業車使用時、転落する","安全帯を必ず使用する"]
[601030,"高所作業車使用時、転落する","無理な姿勢で作業しない"]
[601030,"高所作業車使用時、転落する","高所作業車の始業前点検を実施する"]
[601030,"高所作業車使用時、転落する","作業床を確認する"]
[601030,"インパクトドライバー使用時、指を負傷する","無理な姿勢で作業しない"]
[601030,"インパクトドライバー使用時、指を負傷する","危険な所に手を入れない"]
[601030,"インパクトドライバー使用時、指を負傷する","電動工具の始業前点検を実施する"]
[601030,"受電切替時、感電する","作業手順を遵守する"]
[601030,"受電切替時、感電する","ゴム手袋を着装する"]
[601030,"受電切替時、感電する","電圧を確認する"]
[601030,"受電切替時、感電する","電源を切った後、作業する"]
[601030,"梯子使用時、梯子から転落する","物を持って昇降しない"]
[601030,"梯子使用時、梯子から転落する","無理な姿勢で作業しない"]
[601030,"梯子使用時、梯子から転落する","梯子の固定状況を確認する"]
[601030,"梯子使用時、梯子から転落する","2人1組で作業を行う"]
[601030,"器具搬入時に器具を持ちすぎて転倒する","一度に運搬する数量は前方、足元が確認できる程度の量とする"]
[601030,"器具開封時、エッジ等で指を切る","手袋、軍手を装着して作業する"]
[601030,"運搬時に落としてしまう","重い物は、２人１組で運搬する"]
[601030,"足場使用時、足場から墜落する","安全帯を掛けていない状況を作らない"]
[601030,"足場使用時、足場から墜落する","無理な姿勢で作業しない"]
[601030,"足場使用時、足場から墜落する","足場の始業前点検を実施する"]
[601030,"足場使用時、足場から墜落する","作業床の墜落転落防止措置を確認する"]
[601030,"立馬から転落する","物を持って昇降しない"]
[601030,"立馬から転落する","開き止めを確認する"]
[601030,"立馬から転落する","無理な姿勢で作業しない"]
[601030,"立馬から転落する","昇降時は必ず後ろ向きにおりる"]
[601030,"立馬から転落する","作業床を整備し無理な体勢で作業を行わない"]
[601040,"材料運搬時、躓いて転倒する","安全通路を移動する"]
[601040,"材料運搬時、躓いて転倒する","近道行為を禁止する"]
[601040,"材料運搬時、段差に躓いて転倒する","床段差に足をのせない"]
[601040,"材料運搬時、段差に躓いて転倒する","安全通路を移動する"]
[601040,"吊り込み時、ベルトスリングが切れ、吊荷が落下する","ベルトスリングの始業前点検を実施する"]
[601040,"吊り込み時、ベルトスリングが切れ、吊荷が落下する","声掛け合図の徹底"]
[601040,"吊り込み時、ベルトスリングが切れ、吊荷が落下する","吊荷下の人払いを行う"]
[601040,"吊り込み時、ベルトスリングが切れ、吊荷が落下する","吊荷荷重を確認する"]
[601040,"搬入車輛に接触する","後退時運転手はｻｲﾄﾞﾐﾗｰだけでなく、自分の目で後方を確認する"]
[601040,"搬入車輛に接触する","声掛け合図の徹底"]
[601040,"搬入車輛に接触する","ｶﾗｰｺｰﾝによる立ち入り禁止措置を行う"]
[601040,"搬入車輛に接触する","車輛と歩行者の区分けを行う"]
[601040,"受電切替時、感電する","作業手順を遵守する"]
[601040,"受電切替時、感電する","ゴム手袋を着装する"]
[601040,"受電切替時、感電する","電圧を確認する"]
[601040,"受電切替時、感電する","電源を切った後、作業する"]
[601040,"カッターナイフで手を切る","カッターナイフを動かす方向に手を置かない"]
[601040,"カッターナイフで手を切る","無理な姿勢で作業しない"]
[601040,"ケーブル切断時、刃物で手を切る","刃物を動かす方向に手を置かない"]
[601040,"ケーブル切断時、刃物で手を切る","無理な姿勢で作業しない"]
[601040,"ケーブル切断時、刃物で手を切る","刃の出し入れを確認する"]
[601040,"重量物を持って腰を痛める","膝を使い、物を持ちあげる"]
[601040,"重量物を持って腰を痛める","準備体操をしっかり行う"]
[601040,"重量物を持って腰を痛める","2人1組で重量物を運ぶ"]
[601040,"結線作業時に機械基礎上から転落する","安定した足場を作業場所前に設置する"]
[601040,"停電時の点検清掃時に残留電荷により感電する","作業接地を確実に取り、放電を確認してから作業する"]
[601040,"盤の建込み時に、倒れてしまう","重量を確認の上、人員配置をする"]
[601040,"キュービクル吊り込み時、ワイヤーが外れ落下する","クレーン使用時の合図の徹底"]
[601040,"キュービクル吊り込み時、ワイヤーが外れ落下する","声掛け合図の徹底"]
[601040,"キュービクル吊り込み時、ワイヤーが外れ落下する","玉掛けワイヤーの始業前点検を実施する"]
[601040,"キュービクル吊り込み時、ワイヤーが外れ落下する","吊荷荷重を確認する"]
[601040,"キュービクル吊り込み時、ワイヤーが外れ落下する","吊荷下の人払いを行う"]
[601040,"キュービクル吊り込み時、ワイヤーが外れ落下する","重量に似合うワイヤーを選定する"]
[601040,"キュービクル・盤据付時、手や指を詰める","不安定な状態でキュービクル・盤を置かない"]
[601040,"キュービクル・盤据付時、手や指を詰める","危険な所に手を入れない"]
[601040,"キュービクル・盤据付時、手や指を詰める","作業手順を遵守する"]
[601040,"キュービクル・盤据付時、手や指を詰める","作業者同士で声を掛け合う"]
[601040,"搬入時に第三者と接触する","誘導員の指示に従い行動する"]
[601040,"搬入車両の誘導が不十分で接触して他者と接触する","機械搬入時は事前にﾙｰﾄ等を打合せして誘導員を配置する"]
[601050,"材料運搬時、躓いて転倒する","安全通路を移動する"]
[601050,"材料運搬時、躓いて転倒する","近道行為を禁止する"]
[601050,"材料運搬時、段差に躓いて転倒する","床段差に足をのせない"]
[601050,"材料運搬時、段差に躓いて転倒する","安全通路を移動する"]
[601050,"カッターナイフで手を切る","カッターナイフを動かす方向に手を置かない"]
[601050,"カッターナイフで手を切る","無理な姿勢で作業しない"]
[601050,"ケーブル切断時、刃物で手を切る","刃物を動かす方向に手を置かない"]
[601050,"ケーブル切断時、刃物で手を切る","無理な姿勢で作業しない"]
[601050,"ケーブル切断時、刃物で手を切る","刃の出し入れを確認する"]
[601050,"重機(ＢＨ)と作業員が接触する","重機と作業員の区分けを行う"]
[601050,"重機(ＢＨ)と作業員が接触する","声掛け合図の徹底"]
[601050,"重機(ＢＨ)と作業員が接触する","ｶﾗｰｺｰﾝによる立ち入り禁止措置を行う"]
[601050,"重機(ＢＨ)と作業員が接触する","重機ＯＰの死角に入らない"]
[601050,"重機(ＢＨ)と作業員が接触する","グーパー運動を実施する"]
[601050,"地山・開口部から転落する","端部・開口部作業は安全帯を必ず使用する"]
[601050,"地山・開口部から転落する","無理な姿勢で作業しない"]
[601050,"地山・開口部から転落する","昇降設備を使用する"]
[601050,"地山・開口部から転落する","近道行為を禁止する"]
[601050,"地山・開口部から転落する","安全通路を移動する"]
[601050,"溶接時、火傷する","消火器・消火バケツを設置する"]
[601050,"溶接時、火傷する","火気使用時の人払いを行う"]
[601050,"溶接時、火傷する","保護手袋を着装する"]
[601050,"溶接時、火傷する","溶接箇所に手を近づけない"]
[601050,"スラブ上での作業中、スラブ筋に躓いて転倒する","スラブ筋上歩行の際、足元を確認し歩行する"]
[601050,"スラブ上での作業中、スラブ筋に躓いて転倒する","メッシュロード上を移動する"]
[601050,"スラブ上での作業中、スラブ段差に躓いて転倒する","スラブ筋上歩行の際、足元を確認し歩行する"]
[601050,"スラブ上での作業中、スラブ段差に躓いて転倒する","メッシュロード上を移動する"]
[601050,"作業中、吊荷が落ちて負傷する","吊荷直下には入らない"]
[601050,"インパクトドライバー使用時、指を負傷する","無理な姿勢で作業しない"]
[601050,"インパクトドライバー使用時、指を負傷する","危険な所に手を入れない"]
[601050,"インパクトドライバー使用時、指を負傷する","電動工具の始業前点検を実施する"]
[601050,"測定器配線に他職の作業員が躓き転倒する","測定時は配線が躓くようなルートとしない"]
[601050,"避雷導体敷設時に高所から転落する","安全帯を使用して無理のない姿勢且つ安定した作業床で作業する"]
[601050,"溶接時に、火花が飛び散り火事になる","消火器・消火バケツを設置する"]
[601050,"溶接時に、火花が飛び散り火事になる","火花養生を行う"]
[601050,"突針建て方時、強風で煽られる","強風時は、作業をしない"]
[601060,"材料運搬時、躓いて転倒する","安全通路を移動する"]
[601060,"材料運搬時、躓いて転倒する","近道行為を禁止する"]
[601060,"材料運搬時、段差に躓いて転倒する","床段差に足をのせない"]
[601060,"材料運搬時、段差に躓いて転倒する","安全通路を移動する"]
[601060,"カッターナイフで手を切る","カッターナイフを動かす方向に手を置かない"]
[601060,"カッターナイフで手を切る","無理な姿勢で作業しない"]
[601060,"配管切断時、刃物で手を切る","刃物を動かす方向に手を置かない"]
[601060,"配管切断時、刃物で手を切る","無理な姿勢で作業しない"]
[601060,"配管切断時、刃物で手を切る","刃の出し入れを確認する"]
[601060,"地山・開口部から転落する","端部・開口部作業は安全帯を必ず使用し、作業を行う"]
[601060,"地山・開口部から転落する","無理な姿勢で作業しない"]
[601060,"地山・開口部から転落する","昇降設備を使用する"]
[601060,"地山・開口部から転落する","近道行為を禁止する"]
[601060,"地山・開口部から転落する","安全通路を移動する"]
[601060,"搬入車輛に接触する","後退時運転手はｻｲﾄﾞﾐﾗｰだけでなく、自分の目で後方を確認する"]
[601060,"搬入車輛に接触する","声掛け合図の徹底"]
[601060,"搬入車輛に接触する","ｶﾗｰｺｰﾝによる立ち入り禁止措置を行う"]
[601060,"搬入車輛に接触する","車輛と歩行者の区分けを行う"]
[601060,"工事車輛の搬出入時、第三者と接触する","誘導員の合図に従う"]
[601060,"工事車輛の搬出入時、第三者と接触する","第三者から見える場所で合図する"]
[601060,"工事車輛の搬出入時、第三者と接触する","声掛け合図の徹底"]
[601060,"工事車輛の搬出入時、第三者と接触する","第三者優先で誘導を行う"]
[601060,"重量物を持って腰を痛める","膝を使い、物を持ちあげる"]
[601060,"重量物を持って腰を痛める","準備体操をしっかり行う"]
[601060,"重量物を持って腰を痛める","2人1組で重量物を運ぶ"]
[601060,"ハンドホール吊込み時、吊荷が外れ落下する","重機使用時の合図の徹底"]
[601060,"ハンドホール吊込み時、吊荷が外れ落下する","声掛け合図の徹底"]
[601060,"ハンドホール吊込み時、吊荷が外れ落下する","ベルトスリングの始業前点検を実施する"]
[601060,"ハンドホール吊込み時、吊荷が外れ落下する","吊荷荷重を確認する"]
[601060,"ハンドホール吊込み時、吊荷が外れ落下する","吊荷下の人払いを行う"]
[601060,"FEP管敷設時に管が跳ねかえり顔面に接触する","FEP管を確実に固定しながら作業する"]
[601060,"ハンドホール設置時、手や指を詰める","不安定な状態でハンドホールを置かない"]
[601060,"ハンドホール設置時、手や指を詰める","危険な所に手を入れない"]
[601060,"ハンドホール設置時、手や指を詰める","作業手順を遵守する"]
[601060,"ハンドホール設置時、手や指を詰める","オペーレーターと十分に合図を取りながら作業する"]
[601060,"重機(ＢＨ)と作業員が接触する","重機と作業員の区分けを行う"]
[601060,"重機(ＢＨ)と作業員が接触する","声掛け合図の徹底"]
[601060,"重機(ＢＨ)と作業員が接触する","ｶﾗｰｺｰﾝによる立ち入り禁止措置を行う"]
[601060,"重機(ＢＨ)と作業員が接触する","重機ＯＰの死角に入らない"]
[601060,"重機(ＢＨ)と作業員が接触する","グーパー運動を実施する"]
[601060,"重機(ＢＨ)と作業員が接触する","合図者を決め、旋回は合図者の指示でする"]
[601060,"地盤が崩壊する","地山を確認し、必要なら土留めをする"]
[601060,"重機を使っての作業の時に重機に人がはさまれる","声を掛け合図しながら作業をする。"]
[601060,"FRP切断時に工具で指を切る","太もも上で切断したり、無理な態勢で作業しない。"]
[601070,"材料運搬時、躓いて転倒する","安全通路を移動する"]
[601070,"材料運搬時、躓いて転倒する","近道行為を禁止する"]
[601070,"スラブ上での作業中、スラブ筋に躓いて転倒する","スラブ筋上歩行の際、足元を確認し歩行する"]
[601070,"スラブ上での作業中、スラブ筋に躓いて転倒する","メッシュロード上を移動する"]
[601070,"スラブ上での作業中、スラブ段差に躓いて転倒する","スラブ筋上歩行の際、足元を確認し歩行する"]
[601070,"スラブ上での作業中、スラブ段差に躓いて転倒する","メッシュロード上を移動する"]
[601070,"CD管切断時、刃物で手を切る","刃物を動かす方向に手を置かない"]
[601070,"CD管切断時、刃物で手を切る","無理な姿勢で作業しない"]
[601070,"CD管切断時、刃物で手を切る","刃の出し入れを確認する"]
[601070,"誤ってハンマーで指を叩く","使用時は手元の確認を行う"]
[601070,"誤ってハンマーで指を叩く","暗い箇所では使用しない(手元の照明を明るくする)"]
[601070,"誤ってハンマーで指を叩く","保護手袋を着装する"]
[601070,"作業中、吊荷が落ちて負傷する","吊荷直下には入らない"]
[601070,"スラブ端部・開口部から転落する","端部・開口部作業は安全帯を必ず使用し、作業を行う"]
[601070,"スラブ端部・開口部から転落する","無理な姿勢で作業しない"]
[601070,"スラブ端部・開口部から転落する","昇降設備を使用する"]
[601070,"スラブ端部・開口部から転落する","近道行為を禁止する"]
[601070,"スラブ端部・開口部から転落する","安全通路を移動する"]
[601070,"スラブ端部・開口部から転落する","後ろ向きで移動しない"]
[601070,"配管敷設時、鉄筋の結束線が指に刺さる","鉄筋上に不用意に手をつかないようにする"]
[601070,"配管敷設時、鉄筋間に足を挟み転倒する","鉄筋上を歩行時にﾒｯｼｭﾛｰﾄﾞを使用する"]
[601070,"材料運搬時、段差に躓いて転倒する","床段差に足をのせない"]
[601070,"材料運搬時、段差に躓いて転倒する","安全通路を移動する"]
[601070,"材料運搬時、段差に躓いて転倒する","両手に材料は持たないようにする"]
[601070,"樹脂管切断時に、ｶｯﾀ-ﾅｲﾌで指を切る","太もも上で切断したり、無理な態勢で作業しない"]
[601070,"樹脂管切断時に、ｶｯﾀ-ﾅｲﾌで指を切る","ナイフの前に指を出さない"]
[601080,"材料運搬時、躓いて転倒する","安全通路を移動する"]
[601080,"材料運搬時、躓いて転倒する","近道行為を禁止する"]
[601080,"材料運搬時、段差に躓いて転倒する","床段差に足をのせない"]
[601080,"材料運搬時、段差に躓いて転倒する","安全通路を移動する"]
[601080,"スラブ上での作業中、スラブ筋に躓いて転倒する","スラブ筋上歩行の際、足元を確認し歩行する"]
[601080,"スラブ上での作業中、スラブ筋に躓いて転倒する","メッシュロード上を移動する"]
[601080,"スラブ上での作業中、スラブ段差に躓いて転倒する","スラブ筋上歩行の際、足元を確認し歩行する"]
[601080,"スラブ上での作業中、スラブ段差に躓いて転倒する","メッシュロード上を移動する"]
[601080,"スリーブ切断時、刃物で手を切る","刃物を動かす方向に手を置かない"]
[601080,"スリーブ切断時、刃物で手を切る","無理な姿勢で作業しない"]
[601080,"スリーブ切断時、刃物で手を切る","刃の出し入れを確認する"]
[601080,"作業中、吊荷が落ちて負傷する","吊荷直下には入らない"]
[601080,"スラブ端部・開口部から転落する","端部・開口部作業は安全帯を必ず使用し、作業を行う"]
[601080,"スラブ端部・開口部から転落する","無理な姿勢で作業しない"]
[601080,"スラブ端部・開口部から転落する","昇降設備を使用する"]
[601080,"スラブ端部・開口部から転落する","近道行為を禁止する"]
[601080,"スラブ端部・開口部から転落する","安全通路を移動する"]
[601080,"スラブ端部・開口部から転落する","後ろ向きで移動しない"]
[601080,"移動時にスラブ型枠上で滑り転倒する","雨や露による濡れがないか確認する"]
[601080,"移動時にスラブ型枠上で滑り転倒する","足元を確認して通行する"]
[601080,"墨出し時に施工中の型枠に足を掛けて転落する","施工中の型枠などの踏込み禁止場所を確認する"]
[601080,"ｲﾝｻｰﾄ打設時に、ハンマーで手を叩く","使用時は手元の確認を行う"]
[601080,"ｲﾝｻｰﾄ打設時に、ハンマーで手を叩く","暗い箇所では使用しない(手元の照明を明るくする)"]
[601080,"ｲﾝｻｰﾄ打設時に、ハンマーで手を叩く","保護手袋を着装する"]
[601080,"ｽﾘｰﾌﾞ小口で指を切る","素手での作業は行わない"]
[601080,"ｽﾘｰﾌﾞ小口で指を切る","保護手袋を着装する"]
[601080,"ﾃﾞｯｷ溶断時に養生が不十分で周囲に引火する","ﾃﾞｯｷ溶断時は防炎ｼｰﾄ等で十分に養生する"]
[601080,"配管敷設時、鉄筋の結束線が指に刺さる","鉄筋上に不用意に手をつかないようにする"]
[601080,"配管敷設時、鉄筋間に足を挟み転倒する","鉄筋上を歩行時にﾒｯｼｭﾛｰﾄﾞを使用する"]
[601080,"紙ボイド撤去時に開口からバールを落とす","作業部下部の立入禁止措置を行う"]
[601090,"送電後、操作を誤って感電する","保護手袋を着装する"]
[601090,"送電後、操作を誤って感電する","作業手順を遵守する"]
[601090,"送電後、操作を誤って感電する","電圧を確認する"]
[601090,"耐圧試験実施時に他職の作業員が近づき感電する","試験時は立入禁止表示を行う"]
[601090,"送電後に関係者以外が操作を行い感電する","送電後は関係者以外操作禁止表示を行う"]
[601100,"立馬から転落する","物を持って昇降しない"]
[601100,"立馬から転落する","開き止めを確認する"]
[601100,"立馬から転落する","無理な姿勢で作業しない"]
[601100,"立馬から転落する","昇降時は必ず後ろ向きにおりる"]
[601100,"高所作業車使用時、転落する","安全帯を必ず使用する"]
[601100,"高所作業車使用時、転落する","無理な姿勢で作業しない"]
[601100,"高所作業車使用時、転落する","高所作業車の始業前点検を実施する"]
[601100,"高所作業車使用時、転落する","作業床を確認する"]
[601100,"ケーブル切断時、刃物で手を切る","刃物を動かす方向に手を置かない"]
[601100,"ケーブル切断時、刃物で手を切る","無理な姿勢で作業しない"]
[601100,"ケーブル切断時、刃物で手を切る","刃の出し入れを確認する"]
[601100,"梯子使用時、梯子から転落する","物を持って昇降しない"]
[601100,"梯子使用時、梯子から転落する","無理な姿勢で作業しない"]
[601100,"梯子使用時、梯子から転落する","梯子の固定状況を確認する"]
[601100,"梯子使用時、梯子から転落する","2人1組で作業を行う"]
[601100,"照明器具撤去時、感電する","配線ルートを確認する"]
[601100,"照明器具撤去時、感電する","保護手袋を着装する"]
[601100,"照明器具撤去時、感電する","撤去する前に、電圧を確認する"]
[601100,"照明撤去作業時、蛍光管を破損して破片でけがをする","蛍光管は必ず両手で持ち、周囲の物に当てないようにする"]
[601100,"幹線撤去作業時、撤去途中の幹線が脱落し指を詰める","長尺の幹線を撤去する際は小刻みに切断しながら撤去する"]
[601110,"床開口部から転落する","ハンドホールの蓋は不必要時には必ず閉める"]
[601110,"床開口部から転落する","開口部には開口部養生蓋を設置する"]
[601110,"床開口部から転落する","開口部廻りでは、他の段差・開口等を注意して歩行する"]
[601110,"作業中、吊荷が落ちて負傷する","吊荷直下には入らない"]
[601110,"高所作業車使用時、転落する","安全帯を必ず使用する"]
[601110,"高所作業車使用時、転落する","無理な姿勢で作業しない"]
[601110,"高所作業車使用時、転落する","高所作業車の始業前点検を実施する"]
[601110,"高所作業車使用時、転落する","作業床を確認する"]
[601110,"足場使用時、足場から墜落する","安全帯を掛けていない状況を作らない"]
[601110,"足場使用時、足場から墜落する","無理な姿勢で作業しない"]
[601110,"足場使用時、足場から墜落する","足場の始業前点検を実施する"]
[601110,"足場使用時、足場から墜落する","作業床の墜落転落防止措置を確認する"]
[601110,"足場の隙間から墜落する","安全帯を掛けていない状況を作らない"]
[601110,"足場の隙間から墜落する","無理な姿勢で作業しない"]
[601110,"足場の隙間から墜落する","足場の始業前点検を実施する"]
[601110,"足場の隙間から墜落する","作業床の墜落転落防止措置の確認する"]
[601110,"足場上で躓いて転倒する","足場上の資材等を整理整頓する"]
[601110,"足場上で躓いて転倒する","無理な姿勢で作業しない"]
[601110,"足場上で躓いて転倒する","安全通路を移動する"]
[601110,"現場巡回時に段差に躓き転倒する","歩行時は余所見や後ろ歩きをしないようにする"]
[601110,"既設調査時に無理な姿勢で天井内を見ようとして立馬から転落する","支障となる荷物は移動してから立馬を設置する"]
[601110,"長尺物を振り回す際、作業員・仕上材に接触する","2人1組で材料を運ぶ"]
[601110,"長尺物を振り回す際、作業員・仕上材に接触する","振り回す際は、事前に周囲確認し、人払いを行う"]
[601110,"長尺物を振り回す際、作業員・仕上材に接触する","声掛け合図の徹底"]
[601110,"ﾛｰﾘﾝｸﾞ足場上で足を滑らせて転落する","ﾛｰﾘﾝｸﾞ足場上での作業時は安全帯を確実に使用する"]
[601110,"高所作業車移動時に梁や突起物に挟まれる","高所作業車の移動時は足元だけでなく頭上にも注意する"]
[601110,"作業床から転落する","安全帯をどこでも取れる設備を設置する"]
[601110,"工具使用方法を誤ったために指を怪我する","工具使用時は適正な使用方法を守り、手元に注意して作業する"]
[601110,"玉掛けが適正に出来ておらず、吊り荷が落下する","玉掛けﾜｲﾔｰの点検および地切り確認を確実に実施する"]
[601110,"揚重機のｱｳﾄﾘｶﾞｰ引出が不足しており、重機が転倒する","揚重作業前に作業計画書を確認して適正に揚重機を使用する"]
[602010,"曲がり修正時に吊りボルトがはずれて顔面に当たる","天井インサートにボルトが確実に入っているか確認する"]
[602010,"曲がり修正時に吊りボルトがはずれて顔面に当たる","保護メガネの着装"]
[602010,"材料運搬時、躓いて転倒する","安全通路を移動する"]
[602010,"材料運搬時、躓いて転倒する","近道行為を禁止する"]
[602010,"材料運搬時、段差に躓いて転倒する","床段差に足をのせない"]
[602010,"材料運搬時、段差に躓いて転倒する","安全通路を移動する"]
[602010,"カッターナイフで手を切る","カッターナイフを動かす方向に手を置かない"]
[602010,"カッターナイフで手を切る","無理な姿勢で作業しない"]
[602010,"ベビーサンダー使用時、誤って手を切る","保護手袋を着装する"]
[602010,"ベビーサンダー使用時、誤って手を切る","正しい姿勢で作業する"]
[602010,"ベビーサンダー使用時、誤って手を切る","保護カバーを使用する"]
[602010,"ベビーサンダー使用時、誤って手を切る","工具の始業前点検を実施する"]
[602010,"ベビーサンダー使用時、誤って手を切る","切断箇所に手を入れない"]
[602010,"ドリルで削孔時、指を巻き込む","無理な姿勢で作業しない"]
[602010,"ドリルで削孔時、指を巻き込む","削孔箇所に手を入れない"]
[602010,"ドリルで削孔時、指を巻き込む","電動工具の始業前点検を実施する"]
[602010,"ドリルにて上向きに削孔する際、削孔片が目に入る","保護メガネを着装する"]
[602010,"ドリルにて上向きに削孔する際、削孔片が目に入る","無理な姿勢で作業しない"]
[602010,"ドリルにて上向きに削孔する際、削孔片が目に入る","保護具を着装する"]
[602010,"材料切断時、高速カッターで手を切る","保護具を着装する"]
[602010,"材料切断時、高速カッターで手を切る","正しい姿勢で作業する"]
[602010,"材料切断時、高速カッターで手を切る","高速カッターの保護カバーを使用する"]
[602010,"材料切断時、高速カッターで手を切る","工具の始業前点検を実施する"]
[602010,"材料切断時、高速カッターで手を切る","切断箇所に手を入れない"]
[602010,"立馬から転落する","物を持って昇降しない"]
[602010,"立馬から転落する","開き止めを確認する"]
[602010,"立馬から転落する","無理な姿勢で作業しない"]
[602010,"立馬から転落する","昇降時は必ず後ろ向きにおりる"]
[602010,"高所作業車使用時、転落する","安全帯を必ず使用する"]
[602010,"高所作業車使用時、転落する","無理な姿勢で作業しない"]
[602010,"高所作業車使用時、転落する","高所作業車の始業前点検を実施する"]
[602010,"高所作業車使用時、転落する","作業床を確認する"]
[602010,"足場使用時、足場から墜落する","安全帯を掛けていない状況を作らない"]
[602010,"足場使用時、足場から墜落する","無理な姿勢で作業しない"]
[602010,"足場使用時、足場から墜落する","足場の始業前点検を実施する"]
[602010,"足場使用時、足場から墜落する","作業床の墜落転落防止措置を確認する"]
[602010,"足場の隙間から墜落する","安全帯を掛けていない状況を作らない"]
[602010,"足場の隙間から墜落する","無理な姿勢で作業しない"]
[602010,"足場の隙間から墜落する","足場の始業前点検を実施する"]
[602010,"足場の隙間から墜落する","作業床の墜落転落防止措置の確認する"]
[602010,"足場上で躓いて転倒する","足場上の資材等を整理整頓する"]
[602010,"足場上で躓いて転倒する","無理な姿勢で作業しない"]
[602010,"足場上で躓いて転倒する","安全通路を移動する"]
[602010,"バンドで指を詰める","無理な姿勢で作業しない"]
[602010,"バンドで指を詰める","危険な所に指を入れない"]
[602010,"インパクトドライバー使用時、指を負傷する","無理な姿勢で作業しない"]
[602010,"インパクトドライバー使用時、指を負傷する","危険な所に手を入れない"]
[602010,"インパクトドライバー使用時、指を負傷する","電動工具の始業前点検を実施する"]
[602010,"吊りダクト上部の接続作業時に、ダクトに体重を掛けてしまいダクトと共に脱落する","ダクトには体重を掛けない"]
[602010,"ガス銃で誤って手を打ってしまう","ガス銃使用時は確実に狙いを定めて打つ"]
[602010,"先行吊りボルトでけがをする","作業用エリアの先行吊りボルトが分かるよう明示をする"]
[602010,"高所作業車操作時に構造材に挟まれる","周囲状況を確認してから操作する"]
[602010,"長尺配管運搬時に作業員・仕上材と接触する","長尺配管は必ず2人で運搬する"]
[602010,"配管時に吊りﾎﾞﾙﾄ等で手や目を突く","作業時は周囲の状況を良く確認する"]
[602020,"材料運搬時、躓いて転倒する","安全通路を移動する"]
[602020,"材料運搬時、躓いて転倒する","近道行為を禁止する"]
[602020,"材料運搬時、段差に躓いて転倒する","床段差に足をのせない"]
[602020,"材料運搬時、段差に躓いて転倒する","安全通路を移動する"]
[602020,"カッターナイフで手を切る","カッターナイフを動かす方向に手を置かない"]
[602020,"カッターナイフで手を切る","無理な姿勢で作業しない"]
[602020,"ベビーサンダー使用時、誤って手を切る","保護手袋を着装する"]
[602020,"ベビーサンダー使用時、誤って手を切る","正しい姿勢で作業する"]
[602020,"ベビーサンダー使用時、誤って手を切る","保護カバーを使用する"]
[602020,"ベビーサンダー使用時、誤って手を切る","工具の始業前点検を実施する"]
[602020,"ベビーサンダー使用時、誤って手を切る","切断箇所に手を入れない"]
[602020,"ドリルで削孔時、指を巻き込む","無理な姿勢で作業しない"]
[602020,"ドリルで削孔時、指を巻き込む","削孔箇所に手を入れない"]
[602020,"ドリルで削孔時、指を巻き込む","電動工具の始業前点検を実施する"]
[602020,"ドリルにて上向きに削孔する際、削孔片が目に入る","保護メガネを着装する"]
[602020,"ドリルにて上向きに削孔する際、削孔片が目に入る","無理な姿勢で作業しない"]
[602020,"ドリルにて上向きに削孔する際、削孔片が目に入る","保護具を着装する"]
[602020,"材料切断時、高速カッターで手を切る","保護具を着装する"]
[602020,"材料切断時、高速カッターで手を切る","正しい姿勢で作業する"]
[602020,"材料切断時、高速カッターで手を切る","高速カッターの保護カバーを使用する"]
[602020,"材料切断時、高速カッターで手を切る","工具の始業前点検を実施する"]
[602020,"材料切断時、高速カッターで手を切る","切断箇所に手を入れない"]
[602020,"立馬から転落する","物を持って昇降しない"]
[602020,"立馬から転落する","開き止めを確認する"]
[602020,"立馬から転落する","無理な姿勢で作業しない"]
[602020,"立馬から転落する","昇降時は必ず後ろ向きにおりる"]
[602020,"高所作業車使用時、転落する","安全帯を必ず使用する"]
[602020,"高所作業車使用時、転落する","無理な姿勢で作業しない"]
[602020,"高所作業車使用時、転落する","高所作業車の始業前点検を実施する"]
[602020,"高所作業車使用時、転落する","作業床を確認する"]
[602020,"足場使用時、足場から墜落する","安全帯を掛けていない状況を作らない"]
[602020,"足場使用時、足場から墜落する","無理な姿勢で作業しない"]
[602020,"足場使用時、足場から墜落する","足場の始業前点検を実施する"]
[602020,"足場使用時、足場から墜落する","作業床の墜落転落防止措置を確認する"]
[602020,"足場の隙間から墜落する","安全帯を掛けていない状況を作らない"]
[602020,"足場の隙間から墜落する","無理な姿勢で作業しない"]
[602020,"足場の隙間から墜落する","足場の始業前点検を実施する"]
[602020,"足場の隙間から墜落する","作業床の墜落転落防止措置の確認する"]
[602020,"足場上で躓いて転倒する","足場上の資材等を整理整頓する"]
[602020,"足場上で躓いて転倒する","無理な姿勢で作業しない"]
[602020,"足場上で躓いて転倒する","安全通路を移動する"]
[602020,"溶接時、火花が飛散し火災になる","火の粉の付近に可燃物を置かない"]
[602020,"溶接時、火花が飛散し火災になる","消火器・消火バケツを設置する"]
[602020,"溶接時、火花が飛散し火災になる","火気使用時の作業周囲の人払いを行う"]
[602020,"バンドで指を詰める","無理な姿勢で作業しない"]
[602020,"バンドで指を詰める","危険な所に指を入れない"]
[602020,"インパクトドライバー使用時、指を負傷する","無理な姿勢で作業しない"]
[602020,"インパクトドライバー使用時、指を負傷する","危険な所に手を入れない"]
[602020,"インパクトドライバー使用時、指を負傷する","電動工具の始業前点検を実施する"]
[602020,"冷媒配管溶接時、溶接直後の配管に触れて火傷する","溶接した配管は速やかに冷却し、それまで触れないようにする"]
[602020,"冷媒配管溶接時、溶接直後の配管に触れて火傷する","保護手袋を着装する"]
[602020,"冷媒配管溶接時、溶接直後の配管に触れて火傷する","消火器・消火バケツを設置する"]
[602020,"冷媒配管溶接時、溶接直後の配管に触れて火傷する","火気使用時の作業周囲の人払いを行う"]
[602020,"冷媒配管溶接時、溶接直後の配管に触れて火傷する","溶接箇所に手を近づけない"]
[602020,"冷媒配管溶接時、溶接直後の配管に触れて火傷する","無理な姿勢で作業しない"]
[602020,"冷媒管溶接時に、溶接光で目を焼いてしまう","遮光用の保護メガネを着装する"]
[602020,"配管切断断面で、指を切る","小口を処理する"]
[602020,"配管時に吊りﾎﾞﾙﾄ等で手や目を突く","作業時は周囲の状況を良く確認する"]
[602030,"重量機器運搬時に機器が転倒し挟まれる","作業床の強度等の確認を行う"]
[602030,"重量機器運搬時に機器が転倒し挟まれる","重量機器の重心を確認し、必要な転倒防止措置を行う"]
[602030,"重量機器設置時にバランスを崩し転倒する","支持材の固定点検・支持材の適正な使用をする"]
[602030,"材料運搬時、躓いて転倒する","安全通路を移動する"]
[602030,"材料運搬時、躓いて転倒する","近道行為を禁止する"]
[602030,"材料運搬時、段差に躓いて転倒する","床段差に足をのせない"]
[602030,"材料運搬時、段差に躓いて転倒する","安全通路を移動する"]
[602030,"吊り込み時、ベルトスリングが切れ、吊荷が落下する","ベルトスリングの始業前点検を実施する"]
[602030,"吊り込み時、ベルトスリングが切れ、吊荷が落下する","声掛け合図の徹底"]
[602030,"吊り込み時、ベルトスリングが切れ、吊荷が落下する","吊荷下の人払いを行う"]
[602030,"吊り込み時、ベルトスリングが切れ、吊荷が落下する","吊荷荷重を確認する"]
[602030,"搬入車輛に接触する","後退時運転手はｻｲﾄﾞﾐﾗｰだけでなく、自分の目で後方を確認する"]
[602030,"搬入車輛に接触する","声掛け合図の徹底"]
[602030,"搬入車輛に接触する","ｶﾗｰｺｰﾝによる立ち入り禁止措置を行う"]
[602030,"搬入車輛に接触する","車輛と歩行者の区分けを行う"]
[602030,"カッターナイフで手を切る","カッターナイフを動かす方向に手を置かない"]
[602030,"カッターナイフで手を切る","無理な姿勢で作業しない"]
[602030,"機器据付時、手や指を詰める","不安定な状態で機器を置かない"]
[602030,"機器据付時、手や指を詰める","危険な所に手を入れない"]
[602030,"機器据付時、手や指を詰める","作業手順を遵守する"]
[602030,"ベビーサンダー使用時、誤って手を切る","保護手袋を着装する"]
[602030,"ベビーサンダー使用時、誤って手を切る","正しい姿勢で作業する"]
[602030,"ベビーサンダー使用時、誤って手を切る","保護カバーを使用する"]
[602030,"ベビーサンダー使用時、誤って手を切る","工具の始業前点検を実施する"]
[602030,"ベビーサンダー使用時、誤って手を切る","切断箇所に手を入れない"]
[602030,"ドリルで削孔時、指を巻き込む","無理な姿勢で作業しない"]
[602030,"ドリルで削孔時、指を巻き込む","削孔箇所に手を入れない"]
[602030,"ドリルで削孔時、指を巻き込む","電動工具の始業前点検を実施する"]
[602030,"立馬から転落する","物を持って昇降しない"]
[602030,"立馬から転落する","開き止めを確認する"]
[602030,"立馬から転落する","無理な姿勢で作業しない"]
[602030,"立馬から転落する","昇降時は必ず後ろ向きにおりる"]
[602030,"重量物を持って腰を痛める","膝を使い、物を持ちあげる"]
[602030,"重量物を持って腰を痛める","準備体操をしっかり行う"]
[602030,"重量物を持って腰を痛める","2人1組で重量物を運ぶ"]
[602030,"天吊り機器吊り込み時にジャッキが転倒し挟まれる","ジャッキ据付場所が平坦であることを確認してから作業する"]
[602030,"大型機器搬入の荷ほどき時にトラックから転落する","予め立馬を準備し、安定した足場で荷ほどきを行う"]
[602030,"アンカーボルトで躓く","ｱﾝｶｰﾎﾞﾙﾄに目立つように注意明示する"]
[602030,"据付時に手を滑らせ物を落とす","人数配分を適正に行う"]
[602030,"機器吊り込み時同僚とのタイミングが合わす機器を落とす","作業手順を確認し声を掛け合い作業する"]
[602030,"機器吊り込み時、吊荷が外れ落下する","クレーン使用時の合図の徹底"]
[602030,"機器吊り込み時、吊荷が外れ落下する","声掛け合図の徹底"]
[602030,"機器吊り込み時、吊荷が外れ落下する","吊り具の始業前点検を実施する"]
[602030,"機器吊り込み時、吊荷が外れ落下する","吊荷荷重を確認する"]
[602030,"機器吊り込み時、吊荷が外れ落下する","吊荷下の人払いを行う"]
[602030,"機器吊り込み時、吊荷が外れ落下する","地切りを確認する"]
[602030,"揚重機のｱｳﾄﾘｶﾞｰ引出が不足しており、重機が転倒する","揚重作業前に作業計画書を確認して適正に揚重機を使用する"]
[602030,"不安定な状態で機械を据え付けようとして機械が転倒する","機械据付前には据付場所周囲を十分に確認する"]
[602030,"搬入車両の誘導が不十分で接触して他者と接触する","機械搬入時は事前にﾙｰﾄ等を打合せして誘導員を配置する"]
[602040,"材料運搬時、躓いて転倒する","安全通路を移動する"]
[602040,"材料運搬時、躓いて転倒する","近道行為を禁止する"]
[602040,"材料運搬時、段差に躓いて転倒する","床段差に足をのせない"]
[602040,"材料運搬時、段差に躓いて転倒する","安全通路を移動する"]
[602040,"ベビーサンダー使用時、誤って手を切る","保護手袋を着装する"]
[602040,"ベビーサンダー使用時、誤って手を切る","正しい姿勢で作業する"]
[602040,"ベビーサンダー使用時、誤って手を切る","保護カバーを使用する"]
[602040,"ベビーサンダー使用時、誤って手を切る","工具の始業前点検を実施する"]
[602040,"ベビーサンダー使用時、誤って手を切る","切断箇所に手を入れない"]
[602040,"ドリルで削孔時、指を巻き込む","無理な姿勢で作業しない"]
[602040,"ドリルで削孔時、指を巻き込む","削孔箇所に手を入れない"]
[602040,"ドリルで削孔時、指を巻き込む","電動工具の始業前点検を実施する"]
[602040,"ドリルにて上向きに削孔する際、削孔片が目に入る","保護メガネを着装する"]
[602040,"ドリルにて上向きに削孔する際、削孔片が目に入る","無理な姿勢で作業しない"]
[602040,"ドリルにて上向きに削孔する際、削孔片が目に入る","保護具を着装する"]
[602040,"材料切断時、高速カッターで手を切る","保護具を着装する"]
[602040,"材料切断時、高速カッターで手を切る","正しい姿勢で作業する"]
[602040,"材料切断時、高速カッターで手を切る","高速カッターの保護カバーを使用する"]
[602040,"材料切断時、高速カッターで手を切る","工具の始業前点検を実施する"]
[602040,"材料切断時、高速カッターで手を切る","切断箇所に手を入れない"]
[602040,"立馬から転落する","物を持って昇降しない"]
[602040,"立馬から転落する","開き止めを確認する"]
[602040,"立馬から転落する","無理な姿勢で作業しない"]
[602040,"立馬から転落する","昇降時は必ず後ろ向きにおりる"]
[602040,"高所作業車使用時、転落する","安全帯を必ず使用する"]
[602040,"高所作業車使用時、転落する","無理な姿勢で作業しない"]
[602040,"高所作業車使用時、転落する","高所作業車の始業前点検を実施する"]
[602040,"高所作業車使用時、転落する","作業床を確認する"]
[602040,"足場の隙間から墜落する","安全帯を掛けていない状況を作らない"]
[602040,"足場の隙間から墜落する","無理な姿勢で作業しない"]
[602040,"足場の隙間から墜落する","足場の始業前点検を実施する"]
[602040,"足場の隙間から墜落する","作業床の墜落転落防止措置の確認する"]
[602040,"足場上で躓いて転倒する","足場上の資材等を整理整頓する"]
[602040,"足場上で躓いて転倒する","無理な姿勢で作業しない"]
[602040,"足場上で躓いて転倒する","安全通路を移動する"]
[602040,"バンドで指を詰める","無理な姿勢で作業しない"]
[602040,"バンドで指を詰める","危険な所に指を入れない"]
[602040,"インパクトドライバー使用時、指を負傷する","無理な姿勢で作業しない"]
[602040,"インパクトドライバー使用時、指を負傷する","危険な所に手を入れない"]
[602040,"インパクトドライバー使用時、指を負傷する","電動工具の始業前点検を実施する"]
[602040,"足場使用時、足場から墜落する","安全帯を掛けていない状況を作らない"]
[602040,"足場使用時、足場から墜落する","無理な姿勢で作業しない"]
[602040,"足場使用時、足場から墜落する","足場の始業前点検を実施する"]
[602040,"足場使用時、足場から墜落する","作業床の墜落転落防止措置を確認する"]
[602040,"配管ベンダー使用時に力が逃げ転倒する","ベンダーと配管をしっかり固定してから曲げを行う"]
[602040,"樹脂管切断時に、ｶｯﾀ-ﾅｲﾌで指を切る","太もも上で切断したり、無理な体勢で作業しない。"]
[602040,"樹脂管切断時に、ｶｯﾀ-ﾅｲﾌで指を切る","カッターナイフを動かす方向に手を置かない"]
[602040,"樹脂管切断時に、ｶｯﾀ-ﾅｲﾌで指を切る","無理な姿勢で作業しない"]
[602040,"配管配線時に吊りﾎﾞﾙﾄ等で手や目を突く","作業時は周囲の状況を良く確認する事"]
[602050,"空調の冷媒配管切断時に残りのガスが噴き出し顔にあたる","保護メガネ、保護マスクの使用を徹底する"]
[602050,"空調の冷媒配管切断時に残りのガスが噴き出し顔にあたる","ガス抜きが完了したかを確認する"]
[602050,"現場内移動中コンクリート釘を踏み抜く","安全通路を確認する"]
[602050,"現場内移動中コンクリート釘を踏み抜く","安全通路上に障害物・残置物がないか確認する"]
[602050,"材料運搬時、躓いて転倒する","安全通路を移動する"]
[602050,"材料運搬時、躓いて転倒する","近道行為を禁止する"]
[602050,"材料運搬時、段差に躓いて転倒する","床段差に足をのせない"]
[602050,"材料運搬時、段差に躓いて転倒する","安全通路を移動する"]
[602050,"カッターナイフで手を切る","カッターナイフを動かす方向に手を置かない"]
[602050,"カッターナイフで手を切る","無理な姿勢で作業しない"]
[602050,"ベビーサンダー使用時、誤って手を切る","保護手袋を着装する"]
[602050,"ベビーサンダー使用時、誤って手を切る","正しい姿勢で作業する"]
[602050,"ベビーサンダー使用時、誤って手を切る","保護カバーを使用する"]
[602050,"ベビーサンダー使用時、誤って手を切る","工具の始業前点検を実施する"]
[602050,"ベビーサンダー使用時、誤って手を切る","切断箇所に手を入れない"]
[602050,"ドリルで削孔時、指を巻き込む","無理な姿勢で作業しない"]
[602050,"ドリルで削孔時、指を巻き込む","削孔箇所に手を入れない"]
[602050,"ドリルで削孔時、指を巻き込む","電動工具の始業前点検を実施する"]
[602050,"ドリルにて上向きに削孔する際、削孔片が目に入る","保護メガネを着装する"]
[602050,"ドリルにて上向きに削孔する際、削孔片が目に入る","無理な姿勢で作業しない"]
[602050,"ドリルにて上向きに削孔する際、削孔片が目に入る","保護具を着装する"]
[602050,"材料切断時、高速カッターで手を切る","保護具を着装する"]
[602050,"材料切断時、高速カッターで手を切る","正しい姿勢で作業する"]
[602050,"材料切断時、高速カッターで手を切る","高速カッターの保護カバーを使用する"]
[602050,"材料切断時、高速カッターで手を切る","工具の始業前点検を実施する"]
[602050,"材料切断時、高速カッターで手を切る","切断箇所に手を入れない"]
[602050,"立馬から転落する","物を持って昇降しない"]
[602050,"立馬から転落する","開き止めを確認する"]
[602050,"立馬から転落する","無理な姿勢で作業しない"]
[602050,"立馬から転落する","昇降時は必ず後ろ向きにおりる"]
[602050,"高所作業車使用時、転落する","安全帯を必ず使用する"]
[602050,"高所作業車使用時、転落する","無理な姿勢で作業しない"]
[602050,"高所作業車使用時、転落する","高所作業車の始業前点検を実施する"]
[602050,"高所作業車使用時、転落する","作業床を確認する"]
[602050,"バンドで指を詰める","無理な姿勢で作業しない"]
[602050,"バンドで指を詰める","危険な所に指を入れない"]
[602050,"インパクトドライバー使用時、指を負傷する","無理な姿勢で作業しない"]
[602050,"インパクトドライバー使用時、指を負傷する","危険な所に手を入れない"]
[602050,"インパクトドライバー使用時、指を負傷する","電動工具の始業前点検を実施する"]
[602050,"配管上部の接続作業時に、配管に体重を掛けてしまい足を滑らせ転落する","配管上に乗らない様に、作業床を設置する"]
[602050,"転がし配管のサドル固定用ｽﾞﾝｷﾞﾘで足を踏み抜く","足元を確認して歩行する"]
[602050,"糊付け作業時、気分が悪くなる","換気を十分良くとる"]
[602050,"長尺配管運搬時に作業員・仕上材と接触する","長尺配管は必ず2人で運搬する"]
[602050,"配管時に吊りﾎﾞﾙﾄ等で手や目を突く","作業時は周囲の状況を良く確認する"]
[602060,"材料運搬時、躓いて転倒する","安全通路を移動する"]
[602060,"材料運搬時、躓いて転倒する","近道行為を禁止する"]
[602060,"材料運搬時、段差に躓いて転倒する","床段差に足をのせない"]
[602060,"材料運搬時、段差に躓いて転倒する","安全通路を移動する"]
[602060,"ピット内昇降時に足を滑らせ墜落する","昇降時、上下・頭上・足元を確認する"]
[602060,"床下開口部から転落する","養生蓋の上には乗らない"]
[602060,"床下開口部から転落する","養生蓋は不必要時には必ず閉める"]
[602060,"カッターナイフで手を切る","カッターナイフを動かす方向に手を置かない"]
[602060,"カッターナイフで手を切る","無理な姿勢で作業しない"]
[602060,"ベビーサンダー使用時、誤って手を切る","保護手袋を着装する"]
[602060,"ベビーサンダー使用時、誤って手を切る","正しい姿勢で作業する"]
[602060,"ベビーサンダー使用時、誤って手を切る","保護カバーを使用する"]
[602060,"ベビーサンダー使用時、誤って手を切る","工具の始業前点検を実施する"]
[602060,"ベビーサンダー使用時、誤って手を切る","切断箇所に手を入れない"]
[602060,"溶接時、火花が飛散し火災になる","火の粉の付近に可燃物を置かない"]
[602060,"溶接時、火花が飛散し火災になる","消火器・消火バケツを設置する"]
[602060,"溶接時、火花が飛散し火災になる","火気使用時の作業周囲の人払いを行う"]
[602060,"溶接時、火傷する","消火器・消火バケツを設置する"]
[602060,"溶接時、火傷する","火気使用時の作業周囲の人払いを行う"]
[602060,"溶接時、火傷する","保護具を着装する"]
[602060,"溶接時、火傷する","無理な姿勢で作業しない"]
[602060,"溶接時、火傷する","溶接箇所に手を近づけない"]
[602060,"ドリルで削孔時、指を巻き込む","無理な姿勢で作業しない"]
[602060,"ドリルで削孔時、指を巻き込む","削孔箇所に手を入れない"]
[602060,"ドリルで削孔時、指を巻き込む","電動工具の始業前点検を実施する"]
[602060,"ドリルにて上向きに削孔する際、削孔片が目に入る","保護メガネを着装する"]
[602060,"ドリルにて上向きに削孔する際、削孔片が目に入る","無理な姿勢で作業しない"]
[602060,"ドリルにて上向きに削孔する際、削孔片が目に入る","保護具を着装する"]
[602060,"バンドで指を詰める","無理な姿勢で作業しない"]
[602060,"バンドで指を詰める","危険な所に指を入れない"]
[602060,"電動工具を使用して漏電する","コード類を水に浸けない"]
[602060,"電動工具を使用して漏電する","コンセントは水が掛らない様、養生する"]
[602060,"電動工具を使用して漏電する","電動工具の始業前点検を実施する"]
[602060,"インパクトドライバー使用時、指を負傷する","無理な姿勢で作業しない"]
[602060,"インパクトドライバー使用時、指を負傷する","危険な所に手を入れない"]
[602060,"インパクトドライバー使用時、指を負傷する","電動工具の始業前点検を実施する"]
[602060,"ピット内移動時に中腰になり腰を痛める","作業前、作業中の合間に十分に体をほぐす"]
[602060,"ピット内作業時に酸素欠乏症になる","送風機を使用する"]
[602060,"ピット内作業時に酸素欠乏症になる","2人1組で作業する"]
[602060,"ピット内作業時に酸素欠乏症になる","ピットに入る際は酸素濃度を測定する"]
[602060,"ピット内作業時に酸素欠乏症になる","監視人を配置する"]
[602060,"ピット内作業時に酸素欠乏症になる","特別教育を受けて作業する"]
[602060,"配管時に吊りﾎﾞﾙﾄ等で手や目を突く","作業時は周囲の状況を良く確認する"]
[602070,"角ﾀﾞｸﾄのﾌﾗﾝｼﾞ部に足を乗せて、滑らせ転倒する","不安全行動を禁止する"]
[602070,"角ﾀﾞｸﾄのﾌﾗﾝｼﾞ部に足を乗せて、滑らせ転倒する","無理な体勢で作業しない"]
[602070,"角ﾀﾞｸﾄのﾌﾗﾝｼﾞ部に足を乗せて、滑らせ転倒する","事前計画を確実に行う"]
[602070,"角ﾀﾞｸﾄのﾌﾗﾝｼﾞ部に足を乗せて、滑らせ転倒する","足場が必要な状況であれば、一旦作業を中止し足場を設置する"]
[602070,"角ﾀﾞｸﾄのﾌﾗﾝｼﾞ部に足を乗せて、滑らせ転倒する","作業床の確認を行う"]
[602070,"材料運搬時、躓いて転倒する","安全通路を移動する"]
[602070,"材料運搬時、躓いて転倒する","近道行為を禁止する"]
[602070,"材料運搬時、段差に躓いて転倒する","床段差に足をのせない"]
[602070,"材料運搬時、段差に躓いて転倒する","安全通路を移動する"]
[602070,"材料切断時、ベビーサンダー使用し、手を切る","保護手袋を着装する"]
[602070,"材料切断時、ベビーサンダー使用し、手を切る","正しい姿勢で作業する"]
[602070,"材料切断時、ベビーサンダー使用し、手を切る","保護カバーを使用する"]
[602070,"材料切断時、ベビーサンダー使用し、手を切る","工具の始業前点検を実施する"]
[602070,"材料切断時、ベビーサンダー使用し、手を切る","切断箇所に手を入れない"]
[602070,"立馬から転落する","物を持って昇降しない"]
[602070,"立馬から転落する","開き止めを確認する"]
[602070,"立馬から転落する","無理な姿勢で作業しない"]
[602070,"立馬から転落する","昇降時は必ず後ろ向きにおりる"]
[602070,"高所作業車使用時、転落する","安全帯を必ず使用する"]
[602070,"高所作業車使用時、転落する","無理な姿勢で作業しない"]
[602070,"高所作業車使用時、転落する","高所作業車の始業前点検を実施する"]
[602070,"高所作業車使用時、転落する","作業床を確認する"]
[602070,"足場使用時、足場から墜落する","安全帯を掛けていない状況を作らない"]
[602070,"足場使用時、足場から墜落する","無理な姿勢で作業しない"]
[602070,"足場使用時、足場から墜落する","足場の始業前点検を実施する"]
[602070,"足場使用時、足場から墜落する","作業床の墜落転落防止措置を確認する"]
[602070,"足場の隙間から墜落する","安全帯を掛けていない状況を作らない"]
[602070,"足場の隙間から墜落する","無理な姿勢で作業しない"]
[602070,"足場の隙間から墜落する","足場の始業前点検を実施する"]
[602070,"足場の隙間から墜落する","作業床の墜落転落防止措置の確認する"]
[602070,"足場上で躓いて転倒する","足場上の資材等を整理整頓する"]
[602070,"足場上で躓いて転倒する","無理な姿勢で作業しない"]
[602070,"足場上で躓いて転倒する","安全通路を移動する"]
[602070,"バンドで指を詰める","無理な姿勢で作業しない"]
[602070,"バンドで指を詰める","危険な所に指を入れない"]
[602070,"インパクトドライバー使用時、指を負傷する","無理な姿勢で作業しない"]
[602070,"インパクトドライバー使用時、指を負傷する","危険な所に手を入れない"]
[602070,"インパクトドライバー使用時、指を負傷する","電動工具の始業前点検を実施する"]
[602070,"床に放置された保温ピンを踏み抜く","作業後の片づけ時に忘れがないか確認する"]
[602070,"ラッキング材のエッジで手を切る","保護手袋を着装する"]
[602070,"グラスウールが喉にささる","保護マスクを着装する"]
[602070,"切断時、カッターナイフで指を切る","カッターナイフを動かす方向に指を置かない"]
[602070,"切断時、カッターナイフで指を切る","無理な姿勢で作業しない"]
[602070,"切断時、カッターナイフで指を切る","太もも上で切断したり、無理な体勢で作業しない。"]
[602080,"両手に荷物を持ったまま敷鉄板上を歩行し躓いて転倒する","敷鉄板上歩行の際は段差等がないかを確認する"]
[602080,"材料運搬時、躓いて転倒する","安全通路を移動する"]
[602080,"材料運搬時、躓いて転倒する","近道行為を禁止する"]
[602080,"材料運搬時、段差に躓いて転倒する","床段差に足をのせない"]
[602080,"材料運搬時、段差に躓いて転倒する","安全通路を移動する"]
[602080,"スラブ上での作業中、スラブ筋に躓いて転倒する","スラブ筋上歩行の際、足元を確認し歩行する"]
[602080,"スラブ上での作業中、スラブ筋に躓いて転倒する","メッシュロード上を移動する"]
[602080,"スラブ上での作業中、スラブ段差に躓いて転倒する","スラブ筋上歩行の際、足元を確認し歩行する"]
[602080,"スラブ上での作業中、スラブ段差に躓いて転倒する","メッシュロード上を移動する"]
[602080,"作業中、吊荷が落ちて負傷する","吊荷直下には入らない"]
[602080,"材料切断時、ベビーサンダー使用し、手を切る","保護手袋を着装する"]
[602080,"材料切断時、ベビーサンダー使用し、手を切る","正しい姿勢で作業する"]
[602080,"材料切断時、ベビーサンダー使用し、手を切る","保護カバーを使用する"]
[602080,"材料切断時、ベビーサンダー使用し、手を切る","工具の始業前点検を実施する"]
[602080,"材料切断時、ベビーサンダー使用し、手を切る","切断箇所に手を入れない"]
[602080,"材料切断時、高速カッターで手を切る","保護具を着装する"]
[602080,"材料切断時、高速カッターで手を切る","正しい姿勢で作業する"]
[602080,"材料切断時、高速カッターで手を切る","高速カッターの保護カバーを使用する"]
[602080,"材料切断時、高速カッターで手を切る","工具の始業前点検を実施する"]
[602080,"材料切断時、高速カッターで手を切る","切断箇所に手を入れない"]
[602080,"スラブ端部・開口部から転落する","端部・開口部作業は安全帯を必ず使用し、作業を行う"]
[602080,"スラブ端部・開口部から転落する","無理な姿勢で作業しない"]
[602080,"スラブ端部・開口部から転落する","昇降設備を使用する"]
[602080,"スラブ端部・開口部から転落する","近道行為を禁止する"]
[602080,"スラブ端部・開口部から転落する","安全通路を移動する"]
[602080,"スラブ端部・開口部から転落する","後ろ向きで移動しない"]
[602080,"移動時にスラブ型枠上で滑り転倒する","雨や露による濡れがないか確認する"]
[602080,"移動時にスラブ型枠上で滑り転倒する","足元を確認して通行する"]
[602080,"墨出し時に施工中の型枠に足を掛けて転落する","施工中の型枠などの踏込み禁止場所を確認する"]
[602080,"ｲﾝｻｰﾄ打設時に、ハンマーで手を叩く","使用時は手元の確認を行う"]
[602080,"ｲﾝｻｰﾄ打設時に、ハンマーで手を叩く","暗い箇所では使用しない(手元の照明を明るくする)"]
[602080,"ｲﾝｻｰﾄ打設時に、ハンマーで手を叩く","保護手袋を着装する"]
[602080,"ｽﾘｰﾌﾞ小口で指を切る","素手での作業は行わない"]
[602080,"ｽﾘｰﾌﾞ小口で指を切る","保護手袋を着装する"]
[602080,"ﾃﾞｯｷ溶断時に養生が不十分で周囲に引火する","ﾃﾞｯｷ溶断時は防炎ｼｰﾄ等で十分に養生する"]
[602080,"配管敷設時、鉄筋の結束線が指に刺さる","鉄筋上に不用意に手をつかないようにする"]
[602080,"配管敷設時、鉄筋間に足を挟み転倒する","鉄筋上を歩行時にﾒｯｼｭﾛｰﾄﾞを使用する"]
[602080,"紙ボイド撤去時に開口からバールを落とす","作業下部の立入禁止措置を行う"]
[602090,"送電後、操作を誤って感電する","保護手袋を着装する"]
[602090,"送電後、操作を誤って感電する","作業手順を遵守する"]
[602090,"送電後、操作を誤って感電する","電圧を確認する"]
[602090,"試運転確認時、立馬から転落する","物を持って昇降しない"]
[602090,"試運転確認時、立馬から転落する","開き止めを確認する"]
[602090,"試運転確認時、立馬から転落する","無理な姿勢で作業しない"]
[602090,"試運転確認時、立馬から転落する","昇降時は必ず後ろ向きにおりる"]
[602090,"試運転確認時、高所作業車から転落する","安全帯を必ず使用する"]
[602090,"試運転確認時、高所作業車から転落する","無理な姿勢で作業しない"]
[602090,"試運転確認時、高所作業車から転落する","高所作業車の始業前点検を実施する"]
[602090,"試運転確認時、高所作業車から転落する","作業床を確認する"]
[602090,"GHP運転時に高温部に接触し火傷する","GHPの運転は点検口を確実に閉じてから行う"]
[602090,"ファン運転時にベルトに巻き込まれる","ベルト回転部の位置を事前に視認してから運転する"]
[602100,"空調機撤去時、立馬から転落する","物を持って昇降しない"]
[602100,"空調機撤去時、立馬から転落する","開き止めを確認する"]
[602100,"空調機撤去時、立馬から転落する","無理な姿勢で作業しない"]
[602100,"空調機撤去時、立馬から転落する","昇降時は必ず後ろ向きにおりる"]
[602100,"空調機撤去時、高所作業車から転落する","安全帯を必ず使用する"]
[602100,"空調機撤去時、高所作業車から転落する","無理な姿勢で作業しない"]
[602100,"空調機撤去時、高所作業車から転落する","高所作業車の始業前点検を実施する"]
[602100,"空調機撤去時、高所作業車から転落する","作業床を確認する"]
[602100,"ケーブル切断時、刃物で手を切る","刃物を動かす方向に手を置かない"]
[602100,"ケーブル切断時、刃物で手を切る","無理な姿勢で作業しない"]
[602100,"ケーブル切断時、刃物で手を切る","刃の出し入れを確認する"]
[602100,"配管切断時、セーバーソーを使用し、手を切る","保護手袋を着装する"]
[602100,"配管切断時、セーバーソーを使用し、手を切る","正しい姿勢で作業する"]
[602100,"配管切断時、セーバーソーを使用し、手を切る","切断箇所に手を入れない"]
[602100,"配管切断時、セーバーソーを使用し、手を切る","工具の始業前点検を実施する"]
[602100,"ダクト撤去時、飛散したロックウールを吸い込んでしまう","保護具を着装し、必要に応じて封じ込めながら作業する"]
[602100,"冷媒管撤去時、誤った配管を切断してしまいガスを放出してしまう","配管系統を確認し回収の終わった管から撤去する"]
[602110,"作業中、吊荷が落ちて負傷する","吊荷直下には入らない"]
[602110,"長尺物を振り回す際、作業員にぶつける","2人1組で材料を運ぶ"]
[602110,"長尺物を振り回す際、作業員にぶつける","振り回す際は、事前に周囲確認し、人払いを行う"]
[602110,"長尺物を振り回す際、作業員にぶつける","声掛け合図の徹底"]
[602110,"高所作業車使用時、転落する","安全帯を必ず使用する"]
[602110,"高所作業車使用時、転落する","無理な姿勢で作業しない"]
[602110,"高所作業車使用時、転落する","高所作業車の始業前点検を実施する"]
[602110,"高所作業車使用時、転落する","作業床を確認する"]
[602110,"足場使用時、足場から墜落する","安全帯を掛けていない状況を作らない"]
[602110,"足場使用時、足場から墜落する","無理な姿勢で作業しない"]
[602110,"足場使用時、足場から墜落する","足場の始業前点検を実施する"]
[602110,"足場使用時、足場から墜落する","作業床の墜落転落防止措置を確認する"]
[602110,"足場の隙間から墜落する","安全帯を掛けていない状況を作らない"]
[602110,"足場の隙間から墜落する","無理な姿勢で作業しない"]
[602110,"足場の隙間から墜落する","足場の始業前点検を実施する"]
[602110,"足場の隙間から墜落する","作業床の墜落転落防止措置の確認する"]
[602110,"足場上で躓いて転倒する","足場上の資材等を整理整頓する"]
[602110,"足場上で躓いて転倒する","無理な姿勢で作業しない"]
[602110,"足場上で躓いて転倒する","安全通路を移動する"]
[602110,"現場巡回時に開口部から転落する","歩行時は余所見や後ろ歩きをしないようにする"]
[602110,"現場巡回時に開口部から転落する","開口部作業は安全帯を必ず使用し、作業を行う"]
[602110,"現場巡回時に開口部から転落する","無理な姿勢で作業しない"]
[602110,"現場巡回時に開口部から転落する","昇降設備を使用する"]
[602110,"現場巡回時に開口部から転落する","近道行為を禁止する"]
[602110,"現場巡回時に開口部から転落する","安全通路を移動する"]
[602110,"既設調査時に天井内に入り、天井ごと落ちてしまう","強度に不安のある天井には荷を掛けない"]
[602110,"同一作業場で作業が集中して他職と接触しけがをする","近接作業となる場合は声を掛けて確認を取る"]
[602110,"溶接作業中、周囲に引火し火災になる","作業場所に消火器・消火バケツを設置する"]
[602110,"溶接作業中、周囲に引火し火災になる","火の粉の付近に可燃物を置かない"]
[602110,"溶接作業中、周囲に引火し火災になる","火気使用時の作業周囲の人払いを行う"]
[603010,"材料運搬時、躓いて転倒する","安全通路を移動する"]
[603010,"材料運搬時、躓いて転倒する","近道行為を禁止する"]
[603010,"材料運搬時、段差に躓いて転倒する","床段差に足をのせない"]
[603010,"材料運搬時、段差に躓いて転倒する","安全通路を移動する"]
[603010,"スラブ上での作業中、スラブ筋に躓いて転倒する","スラブ筋上歩行の際、足元を確認し歩行する"]
[603010,"スラブ上での作業中、スラブ筋に躓いて転倒する","メッシュロード上を移動する"]
[603010,"スラブ上での作業中、スラブ段差に躓いて転倒する","スラブ筋上歩行の際、足元を確認し歩行する"]
[603010,"スラブ上での作業中、スラブ段差に躓いて転倒する","メッシュロード上を移動する"]
[603010,"作業中、吊荷が落ちて負傷する","吊荷直下には入らない"]
[603010,"材料切断時、ベビーサンダー使用し、手を切る","保護手袋を着装する"]
[603010,"材料切断時、ベビーサンダー使用し、手を切る","正しい姿勢で作業する"]
[603010,"材料切断時、ベビーサンダー使用し、手を切る","保護カバーを使用する"]
[603010,"材料切断時、ベビーサンダー使用し、手を切る","工具の始業前点検を実施する"]
[603010,"材料切断時、ベビーサンダー使用し、手を切る","切断箇所に手を入れない"]
[603010,"材料切断時、高速カッターで手を切る","保護具を着装する"]
[603010,"材料切断時、高速カッターで手を切る","正しい姿勢で作業する"]
[603010,"材料切断時、高速カッターで手を切る","高速カッターの保護カバーを使用する"]
[603010,"材料切断時、高速カッターで手を切る","工具の始業前点検を実施する"]
[603010,"材料切断時、高速カッターで手を切る","切断箇所に手を入れない"]
[603010,"スラブ端部・開口部から転落する","端部・開口部作業は安全帯を必ず使用し、作業を行う"]
[603010,"スラブ端部・開口部から転落する","無理な姿勢で作業しない"]
[603010,"スラブ端部・開口部から転落する","昇降設備を使用する"]
[603010,"スラブ端部・開口部から転落する","近道行為を禁止する"]
[603010,"スラブ端部・開口部から転落する","安全通路を移動する"]
[603010,"スラブ端部・開口部から転落する","後ろ向きで移動しない"]
[603010,"紙ボイド撤去時に開口からバールを落とす","作業下部の立入禁止措置を行う"]
[603010,"移動時にスラブ型枠上で滑り転倒する","雨や露による濡れがないか確認する"]
[603010,"移動時にスラブ型枠上で滑り転倒する","足元を確認して通行する"]
[603010,"墨出し時に施工中の型枠に足を掛けて転落する","施工中の型枠などの踏込み禁止場所を確認する"]
[603010,"ｲﾝｻｰﾄ打設時に、ハンマーで手を叩く","使用時は手元の確認を行う"]
[603010,"ｲﾝｻｰﾄ打設時に、ハンマーで手を叩く","暗い箇所では使用しない(手元の照明を明るくする)"]
[603010,"ｲﾝｻｰﾄ打設時に、ハンマーで手を叩く","保護手袋を着装する"]
[603010,"ｽﾘｰﾌﾞ小口で指を切る","素手での作業は行わない"]
[603010,"ｽﾘｰﾌﾞ小口で指を切る","保護手袋を着装する"]
[603010,"ﾃﾞｯｷ溶断時に養生が不十分で周囲に引火する","ﾃﾞｯｷ溶断時は防炎ｼｰﾄ等で十分に養生する"]
[603010,"配管敷設時、鉄筋の結束線が指に刺さる","鉄筋上に不用意に手をつかないようにする"]
[603010,"配管敷設時、鉄筋間に足を挟み転倒する","鉄筋上を歩行時にメッシュロードを使用する"]
[603020,"材料運搬時、躓いて転倒する","安全通路を移動する"]
[603020,"材料運搬時、躓いて転倒する","近道行為を禁止する"]
[603020,"材料運搬時、段差に躓いて転倒する","床段差に足をのせない"]
[603020,"材料運搬時、段差に躓いて転倒する","安全通路を移動する"]
[603020,"カッターナイフで手を切る","カッターナイフを動かす方向に手を置かない"]
[603020,"カッターナイフで手を切る","無理な姿勢で作業しない"]
[603020,"ベビーサンダー使用時、誤って手を切る","保護手袋を着装する"]
[603020,"ベビーサンダー使用時、誤って手を切る","正しい姿勢で作業する"]
[603020,"ベビーサンダー使用時、誤って手を切る","保護カバーを使用する"]
[603020,"ベビーサンダー使用時、誤って手を切る","工具の始業前点検を実施する"]
[603020,"ベビーサンダー使用時、誤って手を切る","切断箇所に手を入れない"]
[603020,"ドリルで削孔時、指を巻き込む","無理な姿勢で作業しない"]
[603020,"ドリルで削孔時、指を巻き込む","削孔箇所に手を入れない"]
[603020,"ドリルで削孔時、指を巻き込む","電動工具の始業前点検を実施する"]
[603020,"ドリルにて上向きに削孔する際、削孔片が目に入る","保護メガネを着装する"]
[603020,"ドリルにて上向きに削孔する際、削孔片が目に入る","無理な姿勢で作業しない"]
[603020,"ドリルにて上向きに削孔する際、削孔片が目に入る","保護具を着装する"]
[603020,"材料切断時、高速カッターで手を切る","保護具を着装する"]
[603020,"材料切断時、高速カッターで手を切る","正しい姿勢で作業する"]
[603020,"材料切断時、高速カッターで手を切る","高速カッターの保護カバーを使用する"]
[603020,"材料切断時、高速カッターで手を切る","工具の始業前点検を実施する"]
[603020,"材料切断時、高速カッターで手を切る","切断箇所に手を入れない"]
[603020,"立馬から転落する","物を持って昇降しない"]
[603020,"立馬から転落する","開き止めを確認する"]
[603020,"立馬から転落する","無理な姿勢で作業しない"]
[603020,"立馬から転落する","昇降時は必ず後ろ向きにおりる"]
[603020,"高所作業車使用時、転落する","安全帯を必ず使用する"]
[603020,"高所作業車使用時、転落する","無理な姿勢で作業しない"]
[603020,"高所作業車使用時、転落する","高所作業車の始業前点検を実施する"]
[603020,"高所作業車使用時、転落する","作業床を確認する"]
[603020,"足場使用時、足場から墜落する","安全帯を掛けていない状況を作らない"]
[603020,"足場使用時、足場から墜落する","無理な姿勢で作業しない"]
[603020,"足場使用時、足場から墜落する","足場の始業前点検を実施する"]
[603020,"足場使用時、足場から墜落する","作業床の墜落転落防止措置を確認する"]
[603020,"足場の隙間から墜落する","安全帯を掛けていない状況を作らない"]
[603020,"足場の隙間から墜落する","無理な姿勢で作業しない"]
[603020,"足場の隙間から墜落する","足場の始業前点検を実施する"]
[603020,"足場の隙間から墜落する","作業床の墜落転落防止措置の確認する"]
[603020,"足場上で躓いて転倒する","足場上の資材等を整理整頓する"]
[603020,"足場上で躓いて転倒する","無理な姿勢で作業しない"]
[603020,"足場上で躓いて転倒する","安全通路を移動する"]
[603020,"バンドで指を詰める","無理な姿勢で作業しない"]
[603020,"バンドで指を詰める","危険な所に指を入れない"]
[603020,"誤ってハンマーで指を叩く","使用時は手元の確認を行う"]
[603020,"誤ってハンマーで指を叩く","暗い箇所では使用しない(手元の照明を明るくする)"]
[603020,"誤ってハンマーで指を叩く","保護手袋を着装する"]
[603020,"塩ビ鋸で手や指を切る","手鋸を動かす方向に手や指を置かない"]
[603020,"塩ビ鋸で手や指を切る","無理な姿勢で作業しない"]
[603020,"塩ビ鋸で手や指を切る","保護手袋を着装する"]
[603020,"インパクトドライバー使用時、指を負傷する","無理な姿勢で作業しない"]
[603020,"インパクトドライバー使用時、指を負傷する","危険な所に手を入れない"]
[603020,"インパクトドライバー使用時、指を負傷する","電動工具の始業前点検を実施する"]
[603020,"会所吊り込み時、吊荷が外れ落下する","重機使用時の合図の徹底"]
[603020,"会所吊り込み時、吊荷が外れ落下する","声掛け合図の徹底"]
[603020,"会所吊り込み時、吊荷が外れ落下する","ベルトスリングの始業前点検を実施する"]
[603020,"会所吊り込み時、吊荷が外れ落下する","吊荷荷重を確認する"]
[603020,"会所吊り込み時、吊荷が外れ落下する","吊荷下の人払いを行う"]
[603020,"掘方に材料を運搬する際に脚をくじく","掘方に降りるルートを固定し、踏み固めておく"]
[603020,"境界近辺の掘削時に埋設配管を引っかける","外周部は特に慎重に掘るまたは手掘りする"]
[603020,"配管運搬時に、第三者と接触する","運搬時には、周囲を確認する"]
[603020,"水分摂取不足により熱中症になる","早めに休憩をとり、塩分水分を摂取する"]
[603020,"重機(ＢＨ)と作業員が接触する","重機と作業員の区分けを行う"]
[603020,"重機(ＢＨ)と作業員が接触する","声掛け合図の徹底"]
[603020,"重機(ＢＨ)と作業員が接触する","ｶﾗｰｺｰﾝによる立ち入り禁止措置を行う"]
[603020,"重機(ＢＨ)と作業員が接触する","重機ＯＰの死角に入らない"]
[603020,"重機(ＢＨ)と作業員が接触する","グーパー運動を実施する"]
[603020,"重機(ＢＨ)と作業員が接触する","合図者を配置し作業を行う"]
[603020,"長尺配管運搬時に作業員・仕上材と接触する","長尺配管は必ず2人で運搬する"]
[603030,"立馬から立馬へ移動中に脚元がずれ床スリーブ穴に落ち、バランスを崩して転落する","養生蓋等を確認する（設置した立馬の足元確認）"]
[603030,"立馬から立馬へ移動中に脚元がずれ床スリーブ穴に落ち、バランスを崩して転落する","立馬使用の作業標準を順守する"]
[603030,"立馬から立馬へ移動中に脚元がずれ床スリーブ穴に落ち、バランスを崩して転落する","立馬から他の立馬に乗り移らない"]
[603030,"立馬から立馬へ移動中に脚元がずれ床スリーブ穴に落ち、バランスを崩して転落する","外した養生蓋は必ず復旧する"]
[603030,"材料運搬時、躓いて転倒する","安全通路を移動する"]
[603030,"材料運搬時、躓いて転倒する","近道行為を禁止する"]
[603030,"材料運搬時、段差に躓いて転倒する","床段差に足をのせない"]
[603030,"材料運搬時、段差に躓いて転倒する","安全通路を移動する"]
[603030,"カッターナイフで手を切る","カッターナイフを動かす方向に手を置かない"]
[603030,"カッターナイフで手を切る","無理な姿勢で作業しない"]
[603030,"ベビーサンダー使用時、誤って手を切る","保護手袋を着装する"]
[603030,"ベビーサンダー使用時、誤って手を切る","正しい姿勢で作業する"]
[603030,"ベビーサンダー使用時、誤って手を切る","保護カバーを使用する"]
[603030,"ベビーサンダー使用時、誤って手を切る","工具の始業前点検を実施する"]
[603030,"ベビーサンダー使用時、誤って手を切る","切断箇所に手を入れない"]
[603030,"ドリルで削孔時、指を巻き込む","無理な姿勢で作業しない"]
[603030,"ドリルで削孔時、指を巻き込む","削孔箇所に手を入れない"]
[603030,"ドリルで削孔時、指を巻き込む","電動工具の始業前点検を実施する"]
[603030,"ドリルにて上向きに削孔する際、削孔片が目に入る","保護メガネを着装する"]
[603030,"ドリルにて上向きに削孔する際、削孔片が目に入る","無理な姿勢で作業しない"]
[603030,"ドリルにて上向きに削孔する際、削孔片が目に入る","保護具を着装する"]
[603030,"材料切断時、高速カッターで手を切る","保護具を着装する"]
[603030,"材料切断時、高速カッターで手を切る","正しい姿勢で作業する"]
[603030,"材料切断時、高速カッターで手を切る","高速カッターの保護カバーを使用する"]
[603030,"材料切断時、高速カッターで手を切る","工具の始業前点検を実施する"]
[603030,"材料切断時、高速カッターで手を切る","切断箇所に手を入れない"]
[603030,"立馬から転落する","物を持って昇降しない"]
[603030,"立馬から転落する","開き止めを確認する"]
[603030,"立馬から転落する","無理な姿勢で作業しない"]
[603030,"立馬から転落する","昇降時は必ず後ろ向きにおりる"]
[603030,"高所作業車使用時、転落する","安全帯を必ず使用する"]
[603030,"高所作業車使用時、転落する","無理な姿勢で作業しない"]
[603030,"高所作業車使用時、転落する","高所作業車の始業前点検を実施する"]
[603030,"高所作業車使用時、転落する","作業床を確認する"]
[603030,"バンドで指を詰める","無理な姿勢で作業しない"]
[603030,"バンドで指を詰める","危険な所に指を入れない"]
[603030,"誤ってハンマーで指を叩く","使用時は手元の確認を行う"]
[603030,"誤ってハンマーで指を叩く","暗い箇所では使用しない(手元の照明を明るくする)"]
[603030,"誤ってハンマーで指を叩く","保護手袋を着装する"]
[603030,"塩ビ鋸で手や指を切る","手鋸を動かす方向に手や指を置かない"]
[603030,"塩ビ鋸で手や指を切る","無理な姿勢で作業しない"]
[603030,"塩ビ鋸で手や指を切る","保護手袋を着装する"]
[603030,"インパクトドライバー使用時、指を負傷する","無理な姿勢で作業しない"]
[603030,"インパクトドライバー使用時、指を負傷する","危険な所に手を入れない"]
[603030,"インパクトドライバー使用時、指を負傷する","電動工具の始業前点検を実施する"]
[603030,"竪排水管施工時、耐火二層管の中身だけ抜けて足を挟む","内部の塩ビ管も小口を抑えて抜け落ちないようにする"]
[603030,"長尺配管を切断する際に他職が躓き転倒する","配管加工場は安全通路を確保して設営する"]
[603030,"糊付け作業時、気分が悪くなる","換気を十分良くとる"]
[603030,"長尺配管運搬時に作業員・仕上材と接触する","長尺配管は必ず2人で運搬する"]
[603030,"配管時に吊りﾎﾞﾙﾄ等で手や目を突く","作業時は周囲の状況を良く確認する"]
[603040,"材料運搬時、躓いて転倒する","安全通路を移動する"]
[603040,"材料運搬時、躓いて転倒する","近道行為を禁止する"]
[603040,"材料運搬時、段差に躓いて転倒する","床段差に足をのせない"]
[603040,"材料運搬時、段差に躓いて転倒する","安全通路を移動する"]
[603040,"ピット内昇降時に足を滑らせ墜落する","安全ブロックを使用する"]
[603040,"ピット内昇降時に足を滑らせ墜落する","昇降時、上下・頭上・足元を確認する"]
[603040,"ピット内作業時に酸素欠乏症になる","送風機を使用する"]
[603040,"ピット内作業時に酸素欠乏症になる","2人1組で作業する"]
[603040,"ピット内作業時に酸素欠乏症になる","ピットに入る際は酸素濃度を測定する"]
[603040,"ピット内作業時に酸素欠乏症になる","監視人を配置する"]
[603040,"ピット内作業時に酸素欠乏症になる","特別教育を受けて作業する"]
[603040,"床下開口部から転落する","養生蓋の上には乗らない"]
[603040,"床下開口部から転落する","養生蓋は不必要時には必ず閉める"]
[603040,"カッターナイフで手を切る","カッターナイフを動かす方向に手を置かない"]
[603040,"カッターナイフで手を切る","無理な姿勢で作業しない"]
[603040,"ベビーサンダー使用時、誤って手を切る","保護手袋を着装する"]
[603040,"ベビーサンダー使用時、誤って手を切る","正しい姿勢で作業する"]
[603040,"ベビーサンダー使用時、誤って手を切る","保護カバーを使用する"]
[603040,"ベビーサンダー使用時、誤って手を切る","工具の始業前点検を実施する"]
[603040,"ベビーサンダー使用時、誤って手を切る","切断箇所に手を入れない"]
[603040,"溶接時、火花が飛散し火災になる","火の粉の付近に可燃物を置かない"]
[603040,"溶接時、火花が飛散し火災になる","消火器・消火バケツを設置する"]
[603040,"溶接時、火花が飛散し火災になる","火気使用時の作業周囲の人払いを行う"]
[603040,"溶接時、火傷する","消火器・消火バケツを設置する"]
[603040,"溶接時、火傷する","火気使用時の作業周囲の人払いを行う"]
[603040,"溶接時、火傷する","保護具を着装する"]
[603040,"溶接時、火傷する","無理な姿勢で作業しない"]
[603040,"溶接時、火傷する","溶接箇所に手を近づけない"]
[603040,"ドリルで削孔時、指を巻き込む","無理な姿勢で作業しない"]
[603040,"ドリルで削孔時、指を巻き込む","削孔箇所に手を入れない"]
[603040,"ドリルで削孔時、指を巻き込む","電動工具の始業前点検を実施する"]
[603040,"ドリルにて上向きに削孔する際、削孔片が目に入る","保護メガネの着装する"]
[603040,"ドリルにて上向きに削孔する際、削孔片が目に入る","無理な姿勢で作業しない"]
[603040,"ドリルにて上向きに削孔する際、削孔片が目に入る","保護具を着装する"]
[603040,"バンドで指を詰める","無理な姿勢で作業しない"]
[603040,"バンドで指を詰める","危険な所に指を入れない"]
[603040,"電動工具を使用して漏電する","水溜りがある場所では使用しない"]
[603040,"電動工具を使用して漏電する","コンセントは水が掛らない様、養生する"]
[603040,"電動工具を使用して漏電する","電動工具の始業前点検を実施する"]
[603040,"誤ってハンマーで指を叩く","使用時は手元の確認を行う"]
[603040,"誤ってハンマーで指を叩く","暗い箇所では使用しない(手元の照明を明るくする)"]
[603040,"誤ってハンマーで指を叩く","保護手袋を着装する"]
[603040,"塩ビ鋸で手や指を切る","手鋸を動かす方向に手や指を置かない"]
[603040,"塩ビ鋸で手や指を切る","無理な姿勢で作業しない"]
[603040,"塩ビ鋸で手や指を切る","保護手袋を着装する"]
[603040,"インパクトドライバー使用時、指を負傷する","無理な姿勢で作業しない"]
[603040,"インパクトドライバー使用時、指を負傷する","危険な所に手を入れない"]
[603040,"インパクトドライバー使用時、指を負傷する","電動工具の始業前点検を実施する"]
[603040,"ピット内のたまり水が跳ねて目に入る","保護メガネを着装する"]
[603040,"梁型や支持材に頭や顔をぶつける","作業照度を確保してから作業する"]
[603040,"配管時に吊りﾎﾞﾙﾄ等で手や目を突く","作業時は周囲の状況を良く確認する"]
[603050,"材料運搬時、躓いて転倒する","安全通路を移動する"]
[603050,"材料運搬時、躓いて転倒する","近道行為を禁止する"]
[603050,"材料運搬時、段差に躓いて転倒する","床段差に足をのせない"]
[603050,"材料運搬時、段差に躓いて転倒する","安全通路を移動する"]
[603050,"吊り込み時、ベルトスリングが切れ、吊荷が落下する","ベルトスリングの始業前点検を実施する"]
[603050,"吊り込み時、ベルトスリングが切れ、吊荷が落下する","声掛け合図の徹底"]
[603050,"吊り込み時、ベルトスリングが切れ、吊荷が落下する","吊荷下の人払いを行う"]
[603050,"吊り込み時、ベルトスリングが切れ、吊荷が落下する","吊荷荷重を確認する"]
[603050,"カッターナイフで手を切る","カッターナイフを動かす方向に手を置かない"]
[603050,"カッターナイフで手を切る","無理な姿勢で作業しない"]
[603050,"機器据付時、手や指を詰める","不安定な状態で機器を置かない"]
[603050,"機器据付時、手や指を詰める","危険な所に手を入れない"]
[603050,"機器据付時、手や指を詰める","作業手順を遵守する"]
[603050,"ベビーサンダー使用時、誤って手を切る","保護手袋を着装する"]
[603050,"ベビーサンダー使用時、誤って手を切る","正しい姿勢で作業する"]
[603050,"ベビーサンダー使用時、誤って手を切る","保護カバーを使用する"]
[603050,"ベビーサンダー使用時、誤って手を切る","工具の始業前点検を実施する"]
[603050,"ベビーサンダー使用時、誤って手を切る","切断箇所に手を入れない"]
[603050,"ドリルで削孔時、指を巻き込む","無理な姿勢で作業しない"]
[603050,"ドリルで削孔時、指を巻き込む","削孔箇所に手を入れない"]
[603050,"ドリルで削孔時、指を巻き込む","電動工具の始業前点検を実施する"]
[603050,"立馬から転落する","物を持って昇降しない"]
[603050,"立馬から転落する","開き止めを確認する"]
[603050,"立馬から転落する","無理な姿勢で作業しない"]
[603050,"立馬から転落する","昇降時は必ず後ろ向きにおりる"]
[603050,"重量物を持って腰を痛める","膝を使い、物を持ちあげる"]
[603050,"重量物を持って腰を痛める","準備体操をしっかり行う"]
[603050,"重量物を持って腰を痛める","2人1組で重量物を運ぶ"]
[603050,"受水槽天端から転落する","安全帯を掛けられる設備を設けてから作業する"]
[603050,"アンカー打設時に粉じんが目に入る","保護メガネを着装する"]
[603050,"アンカーボルトで躓く","ｱﾝｶｰﾎﾞﾙﾄに目立つように注意明示する"]
[603050,"据付時に手を滑らせ物を落とす","人数配分を適正に行う"]
[603050,"機器吊り込み時、吊荷が外れ落下する","クレーン使用時の合図の徹底"]
[603050,"機器吊り込み時、吊荷が外れ落下する","声掛け合図の徹底"]
[603050,"機器吊り込み時、吊荷が外れ落下する","吊り具の始業前点検を実施する"]
[603050,"機器吊り込み時、吊荷が外れ落下する","吊荷荷重を確認する"]
[603050,"機器吊り込み時、吊荷が外れ落下する","吊荷下の人払いを行う"]
[603050,"機器吊り込み時、吊荷が外れ落下する","地切りを確認する"]
[603050,"揚重機のｱｳﾄﾘｶﾞｰ引出が不足しており、重機が転倒する","揚重作業前に作業計画書を確認して適正に揚重機を使用する"]
[603050,"不安定な状態で機械を据え付けようとして機械が転倒する","機械据付前には据付場所周囲を十分に確認する"]
[603050,"搬入車輛に接触する","後退時運転手はｻｲﾄﾞﾐﾗｰだけでなく、自分の目で後方を確認する"]
[603050,"搬入車輛に接触する","声掛け合図の徹底"]
[603050,"搬入車輛に接触する","ｶﾗｰｺｰﾝによる立ち入り禁止措置を行う"]
[603050,"搬入車輛に接触する","車輛と歩行者の区分けを行う"]
[603050,"搬入車輛に接触する","機械搬入時は事前にﾙｰﾄ等を打合せして誘導員を配置する"]
[603060,"材料運搬時、躓いて転倒する","安全通路を移動する"]
[603060,"材料運搬時、躓いて転倒する","近道行為を禁止する"]
[603060,"材料運搬時、段差に躓いて転倒する","床段差に足をのせない"]
[603060,"材料運搬時、段差に躓いて転倒する","安全通路を移動する"]
[603060,"材料切断時、ベビーサンダー使用し、手を切る","保護手袋を着装する"]
[603060,"材料切断時、ベビーサンダー使用し、手を切る","正しい姿勢で作業する"]
[603060,"材料切断時、ベビーサンダー使用し、手を切る","保護カバーを使用する"]
[603060,"材料切断時、ベビーサンダー使用し、手を切る","工具の始業前点検を実施する"]
[603060,"材料切断時、ベビーサンダー使用し、手を切る","切断箇所に手を入れない"]
[603060,"立馬から転落する","物を持って昇降しない"]
[603060,"立馬から転落する","開き止めを確認する"]
[603060,"立馬から転落する","無理な姿勢で作業しない"]
[603060,"立馬から転落する","昇降時は必ず後ろ向きにおりる"]
[603060,"高所作業車使用時、転落する","安全帯を必ず使用する"]
[603060,"高所作業車使用時、転落する","無理な姿勢で作業しない"]
[603060,"高所作業車使用時、転落する","高所作業車の始業前点検を実施する"]
[603060,"高所作業車使用時、転落する","作業床を確認する"]
[603060,"足場使用時、足場から墜落する","安全帯を掛けていない状況を作らない"]
[603060,"足場使用時、足場から墜落する","無理な姿勢で作業しない"]
[603060,"足場使用時、足場から墜落する","足場の始業前点検を実施する"]
[603060,"足場使用時、足場から墜落する","作業床の墜落転落防止措置を確認する"]
[603060,"足場の隙間から墜落する","安全帯を掛けていない状況を作らない"]
[603060,"足場の隙間から墜落する","無理な姿勢で作業しない"]
[603060,"足場の隙間から墜落する","足場の始業前点検を実施する"]
[603060,"足場の隙間から墜落する","作業床の墜落転落防止措置の確認する"]
[603060,"足場上で躓いて転倒する","足場上の資材等を整理整頓する"]
[603060,"足場上で躓いて転倒する","無理な姿勢で作業しない"]
[603060,"足場上で躓いて転倒する","安全通路を移動する"]
[603060,"バンドで指を詰める","無理な姿勢で作業しない"]
[603060,"バンドで指を詰める","危険な所に指を入れない"]
[603060,"インパクトドライバー使用時、指を負傷する","無理な姿勢で作業しない"]
[603060,"インパクトドライバー使用時、指を負傷する","危険な所に手を入れない"]
[603060,"インパクトドライバー使用時、指を負傷する","電動工具の始業前点検を実施する"]
[603060,"保温材加工時に裁ちばさみで指を切断する","手元を良く確認して作業する"]
[603060,"狭所での作業時に支持材で目を突く","作業場所内外に危険性がないか確認してから作業する"]
[603060,"グラスウールが喉にささる","保護マスクを着装する"]
[603060,"裁断時、ｶｯﾀｰﾅｲﾌで指を切る","カッターナイフを動かす方向に手を置かない"]
[603060,"裁断時、ｶｯﾀｰﾅｲﾌで指を切る","無理な姿勢で作業しない"]
[603060,"裁断時、ｶｯﾀｰﾅｲﾌで指を切る","安定した作業台で作業する"]
[603070,"試運転確認時、立馬から転落する","物を持って昇降しない"]
[603070,"試運転確認時、立馬から転落する","開き止めを確認する"]
[603070,"試運転確認時、立馬から転落する","無理な姿勢で作業しない"]
[603070,"試運転確認時、立馬から転落する","昇降時は必ず後ろ向きにおりる"]
[603070,"給湯循環の試験時に吹出した高温の湯で火傷する","作業手順の確認と、逃し弁の位置を確認し近づかない"]
[603070,"屋内消火栓放水試験時にホースが抜けて水撃を受ける","ホース等が確実に接続されていることを確認する"]
[603080,"温水機撤去時、立馬から転落する","物を持って昇降しない"]
[603080,"温水機撤去時、立馬から転落する","開き止めを確認する"]
[603080,"温水機撤去時、立馬から転落する","無理な姿勢で作業しない"]
[603080,"温水機撤去時、立馬から転落する","昇降時は必ず後ろ向きにおりる"]
[603080,"配管切断時、刃物で手を切る","刃物を動かす方向に手を置かない"]
[603080,"配管切断時、刃物で手を切る","無理な姿勢で作業しない"]
[603080,"配管切断時、刃物で手を切る","刃の出し入れを確認する"]
[603080,"配管切断時、セーバーソーを使用し、手を切る","保護手袋を着装する"]
[603080,"配管切断時、セーバーソーを使用し、手を切る","正しい姿勢で作業する"]
[603080,"配管切断時、セーバーソーを使用し、手を切る","切断箇所に手を入れない"]
[603080,"配管切断時、セーバーソーを使用し、手を切る","工具の始業前点検を実施する"]
[603080,"鋼管等をサンダーで切断する際に火の粉が既存仕上げに引火して火災となる","火花養生の徹底と残火確認を十分に行う"]
[603080,"既存配管をセーバーソーで切断する際に刃が折れて飛散する","工具使用前の点検を十分に行う"]
[603090,"作業中、吊荷が落ちて負傷する","吊荷直下には入らない"]
[603090,"長尺物を振り回す際、作業員にぶつける","2人1組で材料を運ぶ"]
[603090,"長尺物を振り回す際、作業員にぶつける","振り回す際は、事前に周囲確認し、人払いを行う"]
[603090,"長尺物を振り回す際、作業員にぶつける","声掛け合図の徹底"]
[603090,"高所作業車使用時、転落する","安全帯を必ず使用する"]
[603090,"高所作業車使用時、転落する","無理な姿勢で作業しない"]
[603090,"高所作業車使用時、転落する","高所作業車の始業前点検を実施する"]
[603090,"高所作業車使用時、転落する","作業床を確認する"]
[603090,"足場使用時、足場から墜落する","安全帯を掛けていない状況を作らない"]
[603090,"足場使用時、足場から墜落する","無理な姿勢で作業しない"]
[603090,"足場使用時、足場から墜落する","足場の始業前点検を実施する"]
[603090,"足場使用時、足場から墜落する","作業床の墜落転落防止措置を確認する"]
[603090,"足場の隙間から墜落する","安全帯を掛けていない状況を作らない"]
[603090,"足場の隙間から墜落する","無理な姿勢で作業しない"]
[603090,"足場の隙間から墜落する","足場の始業前点検を実施する"]
[603090,"足場の隙間から墜落する","作業床の墜落転落防止措置の確認する"]
[603090,"足場上で躓いて転倒する","足場上の資材等を整理整頓する"]
[603090,"足場上で躓いて転倒する","無理な姿勢で作業しない"]
[603090,"足場上で躓いて転倒する","安全通路を移動する"]
[603090,"マンホールを閉める際、指を挟む","無理な姿勢で作業しない"]
[603090,"マンホールを閉める際、指を挟む","危険な所に手を入れない"]
[603090,"マンホールを閉める際、指を挟む","マンホールを閉める際、声掛け合図をする"]
[603090,"事務所からの移動時に交通事故にあう","道の端を歩き、第三者に注意する"]
[604010,"材料運搬時、躓いて転倒する","安全通路を移動する"]
[604010,"材料運搬時、躓いて転倒する","近道行為を禁止する"]
[604010,"材料運搬時、段差に躓いて転倒する","床段差に足をのせない"]
[604010,"材料運搬時、段差に躓いて転倒する","安全通路を移動する"]
[604010,"カッターナイフで手を切る","カッターナイフを動かす方向に手を置かない"]
[604010,"カッターナイフで手を切る","無理な姿勢で作業しない"]
[604010,"重機(ＢＨ)と作業員が接触する","重機と作業員の区分けを行う"]
[604010,"重機(ＢＨ)と作業員が接触する","声掛け合図の徹底"]
[604010,"重機(ＢＨ)と作業員が接触する","ｶﾗｰｺｰﾝによる立ち入り禁止措置を行う"]
[604010,"重機(ＢＨ)と作業員が接触する","重機ＯＰの死角に入らない"]
[604010,"重機(ＢＨ)と作業員が接触する","グーパー運動を実施する"]
[604010,"地山・開口部から転落する","端部・開口部作業は安全帯を必ず使用し、作業を行う"]
[604010,"地山・開口部から転落する","無理な姿勢で作業しない"]
[604010,"地山・開口部から転落する","昇降設備を使用する"]
[604010,"地山・開口部から転落する","近道行為を禁止する"]
[604010,"地山・開口部から転落する","安全通路を移動する"]
[604010,"インサート打込み時、誤ってハンマーで指を叩く","使用時は手元の確認を行う"]
[604010,"インサート打込み時、誤ってハンマーで指を叩く","暗い箇所では使用しない(手元の照明を明るくする)"]
[604010,"インサート打込み時、誤ってハンマーで指を叩く","保護手袋を着装する"]
[604010,"インサート打込み作業中、吊荷が落ちて負傷する","吊荷直下には入らない"]
[604010,"ベビーサンダー使用時、誤って手を切る","保護手袋を着装する"]
[604010,"ベビーサンダー使用時、誤って手を切る","正しい姿勢で作業する"]
[604010,"ベビーサンダー使用時、誤って手を切る","保護カバーを使用する"]
[604010,"ベビーサンダー使用時、誤って手を切る","工具の始業前点検を実施する"]
[604010,"ベビーサンダー使用時、誤って手を切る","切断箇所に手を入れない"]
[604010,"ドリルで削孔時、指を巻き込む","無理な姿勢で作業しない"]
[604010,"ドリルで削孔時、指を巻き込む","削孔箇所に手を入れない"]
[604010,"ドリルで削孔時、指を巻き込む","電動工具の始業前点検を実施する"]
[604010,"ドリルにて上向きに削孔する際、削孔片が目に入る","保護メガネを着装する"]
[604010,"ドリルにて上向きに削孔する際、削孔片が目に入る","無理な姿勢で作業しない"]
[604010,"ドリルにて上向きに削孔する際、削孔片が目に入る","保護具を着装する"]
[604010,"立馬から転落する","物を持って昇降しない"]
[604010,"立馬から転落する","開き止めを確認する"]
[604010,"立馬から転落する","無理な姿勢で作業しない"]
[604010,"立馬から転落する","昇降時は必ず後ろ向きにおりる"]
[604010,"高所作業車使用時、転落する","安全帯を必ず使用する"]
[604010,"高所作業車使用時、転落する","無理な姿勢で作業しない"]
[604010,"高所作業車使用時、転落する","高所作業車の始業前点検を実施する"]
[604010,"高所作業車使用時、転落する","作業床を確認する"]
[604010,"バンドで指を詰める","無理な姿勢で作業しない"]
[604010,"バンドで指を詰める","危険な所に指を入れない"]
[604010,"材料切断時、高速カッターで手を切る","保護具を着装する"]
[604010,"材料切断時、高速カッターで手を切る","正しい姿勢で作業する"]
[604010,"材料切断時、高速カッターで手を切る","高速カッターの保護カバーを使用する"]
[604010,"材料切断時、高速カッターで手を切る","工具の始業前点検を実施する"]
[604010,"材料切断時、高速カッターで手を切る","切断箇所に手を入れない"]
[604010,"材料切断時、火花が飛散し火災になる","火の粉の付近に可燃物を置かない"]
[604010,"材料切断時、火花が飛散し火災になる","消火器・消火バケツを設置する"]
[604010,"材料切断時、火花が飛散し火災になる","火気使用時の作業周囲の人払いを行う"]
[604010,"ピット内昇降時に足を滑らせ墜落する","昇降時、上下・頭上・足元を確認する"]
[604010,"ピット内で酸欠する","送風機を使用する"]
[604010,"ピット内で酸欠する","一人作業はしない"]
[604010,"ピット内で酸欠する","ピットに入る際は酸素濃度を測定する"]
[604010,"ピット内で酸欠する","監視人を配置する"]
[604010,"ピット内で酸欠する","特別教育を受けて作業する"]
[605010,"材料運搬時、躓いて転倒する","安全通路を移動する"]
[605010,"材料運搬時、躓いて転倒する","近道行為を禁止する"]
[605010,"材料運搬時、段差に躓いて転倒する","床段差に足をのせない"]
[605010,"材料運搬時、段差に躓いて転倒する","安全通路を移動する"]
[605010,"搬入車輛に接触する","後退時運転手はｻｲﾄﾞﾐﾗｰだけでなく、自分の目で後方を確認する"]
[605010,"搬入車輛に接触する","声掛け合図の徹底"]
[605010,"搬入車輛に接触する","ｶﾗｰｺｰﾝによる立ち入り禁止措置を行う"]
[605010,"搬入車輛に接触する","車輛と歩行者の区分けを行う"]
[605010,"材料切断時、ベビーサンダー使用し、手を切る","保護手袋を着装する"]
[605010,"材料切断時、ベビーサンダー使用し、手を切る","正しい姿勢で作業する"]
[605010,"材料切断時、ベビーサンダー使用し、手を切る","保護カバーを使用する"]
[605010,"材料切断時、ベビーサンダー使用し、手を切る","工具の始業前点検を実施する"]
[605010,"材料切断時、ベビーサンダー使用し、手を切る","切断箇所に手を入れない"]
[605010,"カッターナイフで手を切る","カッターナイフを動かす方向に手を置かない"]
[605010,"カッターナイフで手を切る","無理な姿勢で作業しない"]
[605010,"ドリルで削孔時、指を巻き込む","無理な姿勢で作業しない"]
[605010,"ドリルで削孔時、指を巻き込む","削孔箇所に手を入れない"]
[605010,"ドリルで削孔時、指を巻き込む","電動工具の始業前点検を実施する"]
[605010,"ドリルにて上向きに削孔する際、削孔片が目に入る","保護メガネの着装する"]
[605010,"ドリルにて上向きに削孔する際、削孔片が目に入る","無理な姿勢で作業しない"]
[605010,"ドリルにて上向きに削孔する際、削孔片が目に入る","保護具を着装する"]
[605010,"ドリルにて上向きに削孔する際、削孔片が目に入る","保護カバーを使用する"]
[605010,"足場使用時、足場から墜落する","安全帯を掛けていない状況を作らない"]
[605010,"足場使用時、足場から墜落する","無理な姿勢で作業しない"]
[605010,"足場使用時、足場から墜落する","足場の始業前点検を実施する"]
[605010,"足場使用時、足場から墜落する","作業床の墜落転落防止措置を確認する"]
[605010,"開口部から転落する","開口部作業は安全帯を必ず使用し、作業を行う"]
[605010,"開口部から転落する","無理な姿勢で作業しない"]
[605010,"開口部から転落する","昇降設備を使用する"]
[605010,"開口部から転落する","近道行為を禁止する"]
[605010,"開口部から転落する","安全通路を移動する"]
[605010,"開口部から転落する","後ろ向きで移動しない"]
[605010,"重量物を持って腰を痛める","膝を使い、物を持ちあげる"]
[605010,"重量物を持って腰を痛める","準備体操をしっかり行う"]
[605010,"重量物を持って腰を痛める","2人1組で重量物を運ぶ"]
[605010,"溶接時、火花が飛散し火災になる","火の粉の付近に可燃物を置かない"]
[605010,"溶接時、火花が飛散し火災になる","消火器・消火バケツを設置する"]
[605010,"溶接時、火花が飛散し火災になる","火気使用時の作業周囲の人払いを行う"]
[605010,"溶接時、火傷する","消火器・消火バケツを設置する"]
[605010,"溶接時、火傷する","火気使用時の作業周囲の人払いを行う"]
[605010,"溶接時、火傷する","保護具を着装する"]
[605010,"溶接時、火傷する","無理な姿勢で作業しない"]
[605010,"溶接時、火傷する","溶接箇所に手を近づけない"]
[605010,"機器設置時、手や指を詰める","不安定な状態で機器を置かない"]
[605010,"機器設置時、手や指を詰める","危険な所に手を入れない"]
[605010,"機器設置時、手や指を詰める","作業手順を遵守する"]
[605010,"パネル組立時、手や指を詰める","不安定な状態でパネルを置かない"]
[605010,"パネル組立時、手や指を詰める","危険な所に手を入れない"]
[605010,"パネル組立時、手や指を詰める","作業手順を遵守する"]
[605010,"パネル組立時、手や指を詰める","暗い箇所では使用しない(手元の照明を明るくする)"]
[605010,"レール組立時、手や指を詰める","不安定な状態で機器を置かない"]
[605010,"レール組立時、手や指を詰める","危険な所に手を入れない"]
[605010,"レール組立時、手や指を詰める","作業手順を遵守する"]
[605010,"レール組立時、手や指を詰める","暗い箇所では使用しない(手元の照明を明るくする)"]
[605010,"レール組立時、仮設ゴンドラから転落する","高所作業は安全帯を必ず使用し、作業を行う"]
[605010,"レール組立時、仮設ゴンドラから転落する","作業手順を遵守する"]
[605010,"レール組立時、仮設ゴンドラから転落する","1人作業は行わない"]
[605010,"ウェイトに手や指を詰める","不安定な状態でウェイトを置かない"]
[605010,"ウェイトに手や指を詰める","危険な所に手や指を入れない"]
[605010,"ウェイトに手や指を詰める","作業手順を遵守する"]
[605010,"ウェイトに手や指を詰める","暗い箇所では使用しない(手元の照明を明るくする)"]
[605020,"材料運搬時、躓いて転倒する","安全通路を移動する"]
[605020,"材料運搬時、躓いて転倒する","近道行為を禁止する"]
[605020,"材料運搬時、段差に躓いて転倒する","床段差に足をのせない"]
[605020,"材料運搬時、段差に躓いて転倒する","安全通路を移動する"]
[605020,"搬入車輛に接触する","後退時運転手はｻｲﾄﾞﾐﾗｰだけでなく、自分の目で後方を確認する"]
[605020,"搬入車輛に接触する","声掛け合図の徹底"]
[605020,"搬入車輛に接触する","ｶﾗｰｺｰﾝによる立ち入り禁止措置を行う"]
[605020,"搬入車輛に接触する","車輛と歩行者の区分けを行う"]
[605020,"材料切断時、ベビーサンダー使用し、手を切る","保護手袋を着装する"]
[605020,"材料切断時、ベビーサンダー使用し、手を切る","正しい姿勢で作業する"]
[605020,"材料切断時、ベビーサンダー使用し、手を切る","保護カバーを使用する"]
[605020,"材料切断時、ベビーサンダー使用し、手を切る","工具の始業前点検を実施する"]
[605020,"材料切断時、ベビーサンダー使用し、手を切る","切断箇所に手を入れない"]
[605020,"カッターナイフで手を切る","カッターナイフを動かす方向に手を置かない"]
[605020,"カッターナイフで手を切る","無理な姿勢で作業しない"]
[605020,"ドリルで削孔時、指を巻き込む","無理な姿勢で作業しない"]
[605020,"ドリルで削孔時、指を巻き込む","削孔箇所に手を入れない"]
[605020,"ドリルで削孔時、指を巻き込む","電動工具の始業前点検を実施する"]
[605020,"開口部から転落する","開口部作業は安全帯を必ず使用し、作業を行う"]
[605020,"開口部から転落する","無理な姿勢で作業しない"]
[605020,"開口部から転落する","昇降設備を使用する"]
[605020,"開口部から転落する","近道行為を禁止する"]
[605020,"開口部から転落する","安全通路を移動する"]
[605020,"開口部から転落する","後ろ向きで移動しない"]
[605020,"重量物を持って腰を痛める","膝を使い、物を持ちあげる"]
[605020,"重量物を持って腰を痛める","準備体操をしっかり行う"]
[605020,"重量物を持って腰を痛める","2人1組で重量物を運ぶ"]
[605020,"溶接時、火花が飛散し火災になる","火の粉の付近に可燃物を置かない"]
[605020,"溶接時、火花が飛散し火災になる","消火器・消火バケツを設置する"]
[605020,"溶接時、火花が飛散し火災になる","火気使用時の作業周囲の人払いを行う"]
[605020,"溶接時、火傷する","消火器・消火バケツを設置する"]
[605020,"溶接時、火傷する","火気使用時の作業周囲の人払いを行う"]
[605020,"溶接時、火傷する","保護具を着装する"]
[605020,"溶接時、火傷する","無理な姿勢で作業しない"]
[605020,"溶接時、火傷する","溶接箇所に手を近づけない"]
[605020,"ステップ取付時、手や指を詰める","不安定な状態で機器を置かない"]
[605020,"ステップ取付時、手や指を詰める","危険な所に手を入れない"]
[605020,"ステップ取付時、手や指を詰める","作業手順を遵守する"]
[605020,"トラス吊り込み時、ワイヤーが切れ、吊荷が落下する","玉掛けワイヤーの始業前点検を実施する"]
[605020,"トラス吊り込み時、ワイヤーが切れ、吊荷が落下する","声掛け合図の徹底"]
[605020,"トラス吊り込み時、ワイヤーが切れ、吊荷が落下する","吊荷下の人払いを行う"]
[605020,"トラス吊り込み時、ワイヤーが切れ、吊荷が落下する","吊荷荷重を確認する"]
[605020,"サイドパネル取付時、指を詰める","不安定な状態で機器を置かない"]
[605020,"サイドパネル取付時、指を詰める","危険な所に指を入れない"]
[605020,"サイドパネル取付時、指を詰める","作業手順を遵守する"]
[605030,"材料運搬時、躓いて転倒する","安全通路を移動する"]
[605030,"材料運搬時、躓いて転倒する","近道行為を禁止する"]
[605030,"材料運搬時、段差に躓いて転倒する","床段差に足をのせない"]
[605030,"材料運搬時、段差に躓いて転倒する","安全通路を移動する"]
[605030,"搬入車輛に接触する","後退時運転手はｻｲﾄﾞﾐﾗｰだけでなく、自分の目で後方を確認する"]
[605030,"搬入車輛に接触する","声掛け合図の徹底"]
[605030,"搬入車輛に接触する","ｶﾗｰｺｰﾝによる立ち入り禁止措置を行う"]
[605030,"搬入車輛に接触する","車輛と歩行者の区分けを行う"]
[605030,"材料切断時、ベビーサンダー使用し、手を切る","保護手袋を着装する"]
[605030,"材料切断時、ベビーサンダー使用し、手を切る","正しい姿勢で作業する"]
[605030,"材料切断時、ベビーサンダー使用し、手を切る","保護カバーを使用する"]
[605030,"材料切断時、ベビーサンダー使用し、手を切る","工具の始業前点検を実施する"]
[605030,"材料切断時、ベビーサンダー使用し、手を切る","切断箇所に手を入れない"]
[605030,"カッターナイフで手を切る","カッターナイフを動かす方向に手を置かない"]
[605030,"カッターナイフで手を切る","無理な姿勢で作業しない"]
[605030,"ドリルで削孔時、指を巻き込む","無理な姿勢で作業しない"]
[605030,"ドリルで削孔時、指を巻き込む","削孔箇所に手を入れない"]
[605030,"ドリルで削孔時、指を巻き込む","電動工具の始業前点検を実施する"]
[605030,"開口部から転落する","開口部作業は安全帯を必ず使用し、作業を行う"]
[605030,"開口部から転落する","無理な姿勢で作業しない"]
[605030,"開口部から転落する","昇降設備を使用する"]
[605030,"開口部から転落する","近道行為を禁止する"]
[605030,"開口部から転落する","安全通路を移動する"]
[605030,"開口部から転落する","後ろ向きで移動しない"]
[605030,"重量物を持って腰を痛める","膝を使い、物を持ちあげる"]
[605030,"重量物を持って腰を痛める","準備体操をしっかり行う"]
[605030,"重量物を持って腰を痛める","2人1組で重量物を運ぶ"]
[605030,"溶接時、火花が飛散し火災になる","火の粉の付近に可燃物を置かない"]
[605030,"溶接時、火花が飛散し火災になる","消火器・消火バケツを設置する"]
[605030,"溶接時、火花が飛散し火災になる","火気使用時の作業周囲の人払いを行う"]
[605030,"溶接時、火傷する","消火器・消火バケツを設置する"]
[605030,"溶接時、火傷する","火気使用時の作業周囲の人払いを行う"]
[605030,"溶接時、火傷する","保護具を着装する"]
[605030,"溶接時、火傷する","無理な姿勢で作業しない"]
[605030,"溶接時、火傷する","溶接箇所に手を近づけない"]
[605030,"機器設置時、手や指を詰める","不安定な状態で機器を置かない"]
[605030,"機器設置時、手や指を詰める","危険な所に手を入れない"]
[605030,"機器設置時、手や指を詰める","作業手順を遵守する"]
[605030,"パレット組立時、手や指を詰める","不安定な状態でパレットを置かない"]
[605030,"パレット組立時、手や指を詰める","危険な所に手を入れない"]
[605030,"パレット組立時、手や指を詰める","作業手順を遵守する"]
[605030,"レール組立時、手や指を詰める","不安定な状態で機器を置かない"]
[605030,"レール組立時、手や指を詰める","危険な所に手を入れない"]
[605030,"レール組立時、手や指を詰める","作業手順を遵守する"]
[605030,"資材吊り込み時、吊荷が外れ落下する","クレーン使用時の合図の徹底"]
[605030,"資材吊り込み時、吊荷が外れ落下する","声掛け合図の徹底"]
[605030,"資材吊り込み時、吊荷が外れ落下する","ベルトスリングの始業前点検を実施する"]
[605030,"資材吊り込み時、吊荷が外れ落下する","吊荷荷重を確認する"]
[605030,"資材吊り込み時、吊荷が外れ落下する","吊荷下の人払いを行う"]
[605030,"吊り込み時、ベルトスリングが切れ、吊荷が落下する","ベルトスリングの始業前点検を実施する"]
[605030,"吊り込み時、ベルトスリングが切れ、吊荷が落下する","声掛け合図の徹底"]
[605030,"吊り込み時、ベルトスリングが切れ、吊荷が落下する","吊荷下の人払いを行う"]
[605030,"吊り込み時、ベルトスリングが切れ、吊荷が落下する","吊荷荷重を確認する"]
[605030,"試運転時、パレットに身体を挟む","パレット昇降時、声掛け合図の徹底"]
[605030,"試運転時、パレットに身体を挟む","無理な姿勢で作業しない"]
[605030,"試運転時、パレットに身体を挟む","作業手順を遵守する"]
[701010,"工事車輛の搬出入時、第三者と接触する","誘導員の合図に従う"]
[701010,"工事車輛の搬出入時、第三者と接触する","第三者から見える場所で合図する"]
[701010,"工事車輛の搬出入時、第三者と接触する","声掛け合図の徹底"]
[701010,"工事車輛の搬出入時、第三者と接触する","第三者優先で誘導を行う"]
[701010,"ダンプ後退時、バックホーと接触する","声掛け合図の徹底"]
[701010,"ダンプ後退時、バックホーと接触する","安全誘導の合図をする"]
[701010,"搬出車輛が作業員と接触する","声掛け合図の徹底"]
[701010,"搬出車輛が作業員と接触する","安全誘導の合図をする"]
[701010,"搬出車輛が作業員と接触する","搬出入車輛と作業員の通路の区分けを行う"]
[701010,"搬出車輛が作業員と接触する","後退時運転手はｻｲﾄﾞﾐﾗｰだけでなく、自分の目で後方を確認する"]
[701010,"重機(ＢＨ)と作業員が接触する","重機と作業員の区分けを行う"]
[701010,"重機(ＢＨ)と作業員が接触する","声掛け合図の徹底"]
[701010,"重機(ＢＨ)と作業員が接触する","ｶﾗｰｺｰﾝによる立ち入り禁止措置を行う"]
[701010,"重機(ＢＨ)と作業員が接触する","重機ＯＰの死角に入らない"]
[701010,"重機(ＢＨ)と作業員が接触する","グーパー運動を実施する"]
[701010,"法面(土砂)が崩壊する","法面養生を行う"]
[701010,"法面(土砂)が崩壊する","法面状況を確認する"]
[701010,"地山が崩壊する","ﾌﾞﾙｰｼｰﾄで養生を行う"]
[701010,"地山が崩壊する","地山状況を確認する"]
[701010,"残土が近隣家屋に流れる","近隣家屋との離隔距離を確認する"]
[701010,"残土が近隣家屋に流れる","重機ＯＰや手元は周囲の安全確認を行う"]
[701010,"残土が近隣家屋に流れる","土が流れない様、ﾌﾞﾙｰｼｰﾄ､ﾍﾞﾆｱ等で養生する"]
[701010,"材料運搬時、躓いて転倒する","安全通路を移動する"]
[701010,"材料運搬時、躓いて転倒する","近道行為を禁止する"]
[701010,"材料運搬時、段差に躓いて転倒する","床段差に足をのせない"]
[701010,"材料運搬時、段差に躓いて転倒する","安全通路を移動する"]
[701010,"敷鉄板で手を挟む","敷鉄板の下に手を入れない"]
[701010,"敷鉄板で手を挟む","敷鉄板を吊り上げる際は、専用吊り具を使用する"]
[701010,"敷鉄板で手を挟む","吊り具の始業前点検を実施する"]
[701010,"敷鉄板で手を挟む","声掛け合図の徹底"]
[701010,"不安定な状態で電動丸のこで指を切る","電動工具の始業前点検を実施する"]
[701010,"不安定な状態で電動丸のこで指を切る","丸のこの保護カバーの使用する"]
[701010,"不安定な状態で電動丸のこで指を切る","無理な姿勢で作業しない"]
[701010,"雨天時、丸のこを使用して感電する","ゴム手袋を使用する"]
[701010,"雨天時、丸のこを使用して感電する","雨がかかる場所では使用しない"]
[701010,"雨天時、丸のこを使用して感電する","丸のこの始業前点検を実施する"]
[701010,"雨天時、電動工具を使用して漏電する","雨がかかる場所では使用しない"]
[701010,"雨天時、電動工具を使用して漏電する","コンセントは雨が掛らない様、養生する"]
[701010,"雨天時、電動工具を使用して漏電する","電動工具の始業前点検を実施する"]
[701010,"誤ってハンマーで指を叩く","使用時は手元の確認を行う"]
[701010,"誤ってハンマーで指を叩く","暗い箇所では使用しない(手元の照明を明るくする)"]
[701010,"誤ってハンマーで指を叩く","保護手袋を着装する"]
[701010,"インパクトドライバー使用時、指を負傷する","無理な姿勢で作業しない"]
[701010,"インパクトドライバー使用時、指を負傷する","危険な所に手を入れない"]
[701010,"インパクトドライバー使用時、指を負傷する","電動工具の始業前点検を実施する"]
[701010,"パネルとの間に手・指を挟む","保護手袋を使用する"]
[701010,"パネルとの間に手・指を挟む","無理な姿勢で作業しない"]
[701010,"パネルとの間に手・指を挟む","危険な所に手を入れない"]
[701010,"ベビーサンダー使用時、手を切る","保護手袋を着装する"]
[701010,"ベビーサンダー使用時、手を切る","正しい姿勢で作業する"]
[701010,"ベビーサンダー使用時、手を切る","保護カバーを使用する"]
[701010,"ベビーサンダー使用時、手を切る","工具の始業前点検を実施する"]
[701010,"ベビーサンダー使用時、手を切る","切断箇所に手を入れない"]
[701010,"立馬から転落する","物を持って昇降しない"]
[701010,"立馬から転落する","開き止めを確認する"]
[701010,"立馬から転落する","無理な姿勢で作業しない"]
[701010,"立馬から転落する","昇降時は必ず後ろ向きにおりる"]
[701010,"重量物を持って腰を痛める","膝を使い、物を持ちあげる"]
[701010,"重量物を持って腰を痛める","準備体操をしっかり行う"]
[701010,"重量物を持って腰を痛める","2人1組で重量物を運ぶ"]
[701010,"資材荷卸し時、吊荷が外れ落下する","クレーン使用時の合図の徹底"]
[701010,"資材荷卸し時、吊荷が外れ落下する","声掛け合図の徹底"]
[701010,"資材荷卸し時、吊荷が外れ落下する","玉掛け用具の始業前点検を実施する"]
[701010,"資材荷卸し時、吊荷が外れ落下する","吊荷荷重を確認する"]
[701010,"資材荷卸し時、吊荷が外れ落下する","吊荷下の人払いを行う"]
[701010,"資材荷卸し時、吊荷が外れ落下する","地切りの確認をする（333運動）"]
[701010,"長尺物を振り回す際、作業員にぶつける","声掛け合図の徹底"]
[701010,"長尺物を振り回す際、作業員にぶつける","振り回す際は、事前に周囲確認し、人払いを行う"]
[701010,"長尺物を振り回す際、作業員にぶつける","ｶﾗｰｺｰﾝによる立ち入り禁止措置を行う"]
[701010,"コンクリート打設中、ホースに接触し転倒する","ホースの筒先に立たない"]
[701010,"コンクリート打設中、ホースに接触し転倒する","声掛け合図の徹底"]
[701010,"生コン車と接触する","安全通路を移動する"]
[701010,"生コン車と接触する","生コン運転手に誘導合図を送る"]
[701010,"ガス溶断時、火傷する","消火器・消火バケツを設置する"]
[701010,"ガス溶断時、火傷する","無理な姿勢で作業しない"]
[701010,"ガス溶断時、火傷する","保護具を着装する"]
[701010,"ガス溶断時、火傷する","溶断箇所に手足を近づけない"]
[701010,"ガス溶断時、火花が飛散し火災になる","火の粉の付近に可燃物を置かない"]
[701010,"ガス溶断時、火花が飛散し火災になる","消火器・消火バケツを設置する"]
[701010,"ガス溶断時、火花が飛散し火災になる","無理な姿勢で作業しない"]
[701010,"ガス溶断時、火花が飛散し火災になる","ｶﾗｰｺｰﾝによる立ち入り禁止措置を行う"]
[701010,"近隣家屋の壁を汚す・傷つける","近隣家屋との離隔距離を確認する"]
[701010,"近隣家屋の壁を汚す・傷つける","重機ＯＰや手元は周囲の安全確認を行う"]
[701010,"近隣家屋の壁を汚す・傷つける","ﾌﾞﾙｰｼｰﾄ､ﾍﾞﾆｱ等で養生する"]
[701010,"ゴミが飛散する","1作業1片付を徹底する"]
[701010,"ゴミが飛散する","作業周辺の整理整頓を徹底する"]
[701010,"ゴミが飛散する","飛散の恐れがある物を養生する"]
[702010,"U字溝切断時、エンジンカッターがはねて負傷する","適切なリン木を使用して切断する"]
[702010,"U字溝切断時、エンジンカッターがはねて負傷する","平らな場所で切断作業する"]
[702010,"U字溝切断時、エンジンカッターがはねて負傷する","無理な体勢で作業しない"]
[702010,"塩ビ管荷吊り時に手を挟む","危険な所に手を入れない"]
[702010,"塩ビ管荷吊り時に手を挟む","荷吊りの際はオペとの合図確認を徹底する"]
[702010,"PC水路設置時にワイヤーがはずれて吊り治具が落下する","適正な吊り治具を使用する"]
[702010,"工事車輛の搬入時、第三者と接触する","誘導員の合図に従う"]
[702010,"工事車輛の搬入時、第三者と接触する","第三者から見える場所で合図する"]
[702010,"工事車輛の搬入時、第三者と接触する","声掛け合図の徹底"]
[702010,"工事車輛の搬入時、第三者と接触する","第三者優先で誘導を行う"]
[702010,"材料運搬時躓いて転倒する","安全通路を移動する"]
[702010,"材料運搬時躓いて転倒する","近道行為を禁止する"]
[702010,"材料運搬時段差に躓いて転倒する","床段差に足をのせない"]
[702010,"材料運搬時段差に躓いて転倒する","安全通路を移動する"]
[702010,"重機(ＢＨ)と作業員が接触する","重機と作業員の区分けを行う"]
[702010,"重機(ＢＨ)と作業員が接触する","声掛け合図の徹底"]
[702010,"重機(ＢＨ)と作業員が接触する","ｶﾗｰｺｰﾝによる立ち入り禁止措置を行う"]
[702010,"重機(ＢＨ)と作業員が接触する","重機ＯＰの死角に入らない"]
[702010,"重機(ＢＨ)と作業員が接触する","グーパー運動を実施する"]
[702010,"ベビーサンダー使用時、手を切る","保護手袋を着装する"]
[702010,"ベビーサンダー使用時、手を切る","正しい姿勢で作業する"]
[702010,"ベビーサンダー使用時、手を切る","保護カバーを使用する"]
[702010,"ベビーサンダー使用時、手を切る","工具の始業前点検を実施する"]
[702010,"ベビーサンダー使用時、手を切る","切断箇所に手を入れない"]
[702010,"雨天時、電動工具を使用して漏電する","雨がかかる場所では使用しない"]
[702010,"雨天時、電動工具を使用して漏電する","コンセントは雨が掛らない様、養生する"]
[702010,"雨天時、電動工具を使用して漏電する","電動工具の始業前点検を実施する"]
[702010,"誤ってハンマーで指を叩く","使用時は手元の確認を行う"]
[702010,"誤ってハンマーで指を叩く","保護手袋を着装する"]
[702010,"重量物を持って腰を痛める","膝を使い、物を持ちあげる"]
[702010,"重量物を持って腰を痛める","準備体操をしっかり行う"]
[702010,"重量物を持って腰を痛める","2人1組で重量物を運ぶ"]
[702010,"会所吊り込み時、吊荷が外れ落下する","重機使用時の合図の徹底"]
[702010,"会所吊り込み時、吊荷が外れ落下する","声掛け合図の徹底"]
[702010,"会所吊り込み時、吊荷が外れ落下する","ベルトスリングの始業前点検を実施する"]
[702010,"会所吊り込み時、吊荷が外れ落下する","吊荷荷重を確認する"]
[702010,"会所吊り込み時、吊荷が外れ落下する","吊荷下の人払いを行う"]
[702010,"長尺物を振り回す際、作業員にぶつける","2人1組で材料を運ぶ"]
[702010,"長尺物を振り回す際、作業員にぶつける","振り回す際は、事前に周囲確認し、人払いを行う"]
[702010,"長尺物を振り回す際、作業員にぶつける","声掛け合図の徹底"]
[703010,"一輪車が荷運搬中に壊れて転倒し負傷する","工具の始業前点検の実施"]
[703010,"材料運搬時、躓いて転倒する","安全通路を移動する"]
[703010,"材料運搬時、躓いて転倒する","近道行為を禁止する"]
[703010,"工事車輛の搬出入時、第三者と接触する","誘導員の合図に従う"]
[703010,"工事車輛の搬出入時、第三者と接触する","第三者から見える場所で合図する"]
[703010,"工事車輛の搬出入時、第三者と接触する","声掛け合図の徹底"]
[703010,"工事車輛の搬出入時、第三者と接触する","第三者優先で誘導を行う"]
[703010,"ダンプ後退時、バックホーと接触する","声掛け合図の徹底"]
[703010,"ダンプ後退時、バックホーと接触する","安全誘導の合図をする"]
[703010,"ダンプ後退時、バックホーと接触する","後退時運転手はｻｲﾄﾞﾐﾗｰだけでなく、自分の目で後方を確認する"]
[703010,"搬出入車輛が作業員と接触する","声掛け合図の徹底"]
[703010,"搬出入車輛が作業員と接触する","安全誘導の合図をする"]
[703010,"搬出入車輛が作業員と接触する","搬出入車輛と作業員の通路の区分けを行う"]
[703010,"重機と作業員が接触する","重機と作業員の区分けを行う"]
[703010,"重機と作業員が接触する","声掛け合図の徹底"]
[703010,"重機と作業員が接触する","ｶﾗｰｺｰﾝによる立ち入り禁止措置を行う"]
[703010,"重機と作業員が接触する","重機ＯＰの死角に入らない"]
[703010,"重機と作業員が接触する","グーパー運動を実施する"]
[703010,"アスファルト使用時、火傷する","アスファルト運搬時はあわてないで作業する"]
[703010,"アスファルト使用時、火傷する","アスファルト使用時の作業周辺の人払いを行う"]
[703010,"アスファルト使用時、火傷する","保護具を着装する"]
[703010,"近隣家屋の壁を汚す・傷つける","近隣家屋との離隔距離を確認する"]
[703010,"近隣家屋の壁を汚す・傷つける","重機ＯＰや手元は周囲の安全確認を行う"]
[703010,"近隣家屋の壁を汚す・傷つける","ﾌﾞﾙｰｼｰﾄ､ﾍﾞﾆｱ等で養生する"]
[704010,"土中から突き出した番線にて足を負傷する","作業場所の確保"]
[704010,"土中から突き出した番線にて足を負傷する","作業場所に障害物･残置物がないか確認する"]
[704010,"土中から突き出した番線にて足を負傷する","安全靴を着装する"]
[704010,"材料運搬時、躓いて転倒する","安全通路を移動する"]
[704010,"材料運搬時、躓いて転倒する","近道行為を禁止する"]
[704010,"重機と作業員が接触する","重機と作業員の区分けを行う"]
[704010,"重機と作業員が接触する","声掛け合図の徹底"]
[704010,"重機と作業員が接触する","ｶﾗｰｺｰﾝによる立ち入り禁止措置を行う"]
[704010,"重機と作業員が接触する","重機ＯＰの死角に入らない"]
[704010,"重機と作業員が接触する","グーパー運動を実施する"]
[704010,"ベビーサンダー使用時、手を切る","保護手袋を着装する"]
[704010,"ベビーサンダー使用時、手を切る","正しい姿勢で作業する"]
[704010,"ベビーサンダー使用時、手を切る","保護カバーを使用する"]
[704010,"ベビーサンダー使用時、手を切る","工具の始業前点検を実施する"]
[704010,"ベビーサンダー使用時、手を切る","切断箇所に手を入れない"]
[704010,"インパクトドライバー使用時、指を負傷する","無理な姿勢で作業しない"]
[704010,"インパクトドライバー使用時、指を負傷する","危険な所に手を入れない"]
[704010,"インパクトドライバー使用時、指を負傷する","電動工具の始業前点検を実施する"]
[704010,"フェンス組立時、手や指を挟む","保護手袋を使用する"]
[704010,"フェンス組立時、手や指を挟む","無理な姿勢で作業しない"]
[704010,"フェンス組立時、手や指を挟む","危険な所に手や指を入れない"]
[704010,"近隣家屋の壁を汚す・傷つける","近隣家屋との離隔距離を確認する"]
[704010,"近隣家屋の壁を汚す・傷つける","重機ＯＰや手元は周囲の安全確認を行う"]
[704010,"近隣家屋の壁を汚す・傷つける","ﾌﾞﾙｰｼｰﾄ､ﾍﾞﾆｱ等で養生する"]
[704010,"近隣家屋の壁を汚す・傷つける","近隣家屋の傍に材料を置かない"]
[704010,"ゴミが飛散する","1作業1片付を徹底する"]
[704010,"ゴミが飛散する","作業周辺の整理整頓を徹底する"]
[704010,"ゴミが飛散する","飛散の恐れがある物を養生する"]
[705010,"工事車輛の搬出入時、第三者と接触する","誘導員の合図に従う"]
[705010,"工事車輛の搬出入時、第三者と接触する","第三者から見える場所で合図する"]
[705010,"工事車輛の搬出入時、第三者と接触する","声掛け合図の徹底"]
[705010,"工事車輛の搬出入時、第三者と接触する","第三者優先で誘導を行う"]
[705010,"ダンプ後退時、バックホーと接触する","声掛け合図の徹底"]
[705010,"ダンプ後退時、バックホーと接触する","安全誘導の合図をする"]
[705010,"ダンプ後退時、バックホーと接触する","後退時運転手はｻｲﾄﾞﾐﾗｰだけでなく、自分の目で後方を確認する"]
[705010,"搬出車輛が作業員と接触する","声掛け合図の徹底"]
[705010,"搬出車輛が作業員と接触する","安全誘導の合図をする"]
[705010,"搬出車輛が作業員と接触する","搬出入車輛と作業員の通路の区分けを行う"]
[705010,"重機(ＢＨ)と作業員が接触する","重機と作業員の区分けを行う"]
[705010,"重機(ＢＨ)と作業員が接触する","声掛け合図の徹底"]
[705010,"重機(ＢＨ)と作業員が接触する","ｶﾗｰｺｰﾝによる立ち入り禁止措置を行う"]
[705010,"重機(ＢＨ)と作業員が接触する","重機ＯＰの死角に入らない"]
[705010,"重機(ＢＨ)と作業員が接触する","グーパー運動を実施する"]
[705010,"法面(土砂)が崩壊する","法面養生を行う"]
[705010,"法面(土砂)が崩壊する","法面状況を確認する"]
[705010,"地山が崩壊する","ﾌﾞﾙｰｼｰﾄで養生を行う"]
[705010,"地山が崩壊する","地山状況を確認する"]
[705010,"残土が近隣家屋に流れる","近隣家屋との離隔距離を確認する"]
[705010,"残土が近隣家屋に流れる","重機ＯＰや手元は周囲の安全確認を行う"]
[705010,"残土が近隣家屋に流れる","土が流れない様、ﾌﾞﾙｰｼｰﾄ､ﾍﾞﾆｱ等で養生する"]
[705010,"材料運搬時躓いて転倒する","安全通路を移動する"]
[705010,"材料運搬時躓いて転倒する","近道行為を禁止する"]
[705010,"材料運搬時段差に躓いて転倒する","床段差に足をのせない"]
[705010,"材料運搬時段差に躓いて転倒する","安全通路を移動する"]
[705010,"敷鉄板で手を挟む","敷鉄板の下に手を入れない"]
[705010,"敷鉄板で手を挟む","敷鉄板を吊り上げる際は、専用吊り具を使用する"]
[705010,"敷鉄板で手を挟む","吊り具の始業前点検を実施する"]
[705010,"敷鉄板で手を挟む","声掛け合図の徹底"]
[705010,"不安定な状態で電動丸のこで指を切る","電動工具の始業前点検を実施する"]
[705010,"不安定な状態で電動丸のこで指を切る","丸のこの保護カバーの使用する"]
[705010,"不安定な状態で電動丸のこで指を切る","無理な姿勢で作業しない"]
[705010,"雨天時、丸のこを使用して感電する","ゴム手袋を使用する"]
[705010,"雨天時、丸のこを使用して感電する","雨がかかる場所では使用しない"]
[705010,"雨天時、丸のこを使用して感電する","丸のこの始業前点検を実施する"]
[705010,"雨天時、電動工具を使用して漏電する","雨がかかる場所では使用しない"]
[705010,"雨天時、電動工具を使用して漏電する","コンセントは雨が掛らない様、養生する"]
[705010,"雨天時、電動工具を使用して漏電する","電動工具の始業前点検を実施する"]
[705010,"誤ってハンマーで指を叩く","使用時は手元の確認を行う"]
[705010,"誤ってハンマーで指を叩く","暗い箇所では使用しない(手元の照明を明るくする)"]
[705010,"誤ってハンマーで指を叩く","保護手袋を着装する"]
[705010,"ベビーサンダー使用時、手を切る","保護手袋を着装する"]
[705010,"ベビーサンダー使用時、手を切る","正しい姿勢で作業する"]
[705010,"ベビーサンダー使用時、手を切る","保護カバーを使用する"]
[705010,"ベビーサンダー使用時、手を切る","工具の始業前点検を実施する"]
[705010,"ベビーサンダー使用時、手を切る","切断箇所に手を入れない"]
[705010,"足場使用時、足場から墜落する","安全帯を掛けていない状況を作らない"]
[705010,"足場使用時、足場から墜落する","無理な姿勢で作業しない"]
[705010,"足場使用時、足場から墜落する","足場の始業前点検を実施する"]
[705010,"足場使用時、足場から墜落する","作業床の墜落転落防止措置を確認する"]
[705010,"足場使用時、足場から資材等を落下させる","無理な姿勢で作業しない"]
[705010,"足場使用時、足場から資材等を落下させる","作業下部の人払いを行う"]
[705010,"足場使用時、足場から資材等を落下させる","足場上の資材等を整理整頓する"]
[705010,"足場の隙間から墜落する","安全帯を掛けていない状況を作らない"]
[705010,"足場の隙間から墜落する","無理な姿勢で作業しない"]
[705010,"足場の隙間から墜落する","足場の始業前点検を実施する"]
[705010,"足場の隙間から墜落する","作業床の墜落転落防止措置の確認する"]
[705010,"足場上で躓いて転倒する","足場上の資材等を整理整頓する"]
[705010,"足場上で躓いて転倒する","無理な姿勢で作業しない"]
[705010,"足場上で躓いて転倒する","安全通路を移動する"]
[705010,"コンクリート打設中、ホースに接触し転倒する","ホースの筒先に立たない"]
[705010,"コンクリート打設中、ホースに接触し転倒する","声掛け合図の徹底"]
[705010,"生コン車と接触する","安全通路を移動する"]
[705010,"生コン車と接触する","生コン運転手に誘導合図を送る"]
[705010,"資材荷卸し時、吊荷が外れ落下する","重機使用時の合図の徹底"]
[705010,"資材荷卸し時、吊荷が外れ落下する","声掛け合図の徹底"]
[705010,"資材荷卸し時、吊荷が外れ落下する","玉掛け用具の始業前点検を実施する"]
[705010,"資材荷卸し時、吊荷が外れ落下する","吊荷荷重を確認する"]
[705010,"資材荷卸し時、吊荷が外れ落下する","吊荷下の人払いを行う"]
[705010,"長尺物を振り回す際、作業員にぶつける","声掛け合図の徹底"]
[705010,"長尺物を振り回す際、作業員にぶつける","振り回す際は、事前に周囲確認し、人払いを行う"]
[705010,"長尺物を振り回す際、作業員にぶつける","ｶﾗｰｺｰﾝによる立ち入り禁止措置を行う"]
[705010,"重量物を持って腰を痛める","膝を使い、物を持ちあげる"]
[705010,"重量物を持って腰を痛める","準備体操をしっかり行う"]
[705010,"重量物を持って腰を痛める","2人1組で重量物を運ぶ"]
[705010,"近隣家屋の壁を汚す・傷つける","近隣家屋との離隔距離を確認する"]
[705010,"近隣家屋の壁を汚す・傷つける","重機ＯＰや手元は周囲の安全確認を行う"]
[705010,"近隣家屋の壁を汚す・傷つける","ﾌﾞﾙｰｼｰﾄ､ﾍﾞﾆｱ等で養生する"]
[705010,"ゴミが飛散する","1作業1片付を徹底する"]
[705010,"ゴミが飛散する","作業周辺の整理整頓を徹底する"]
[705010,"ゴミが飛散する","飛散の恐れがある物を養生する"]
[706010,"チェーンソー使用時、物にあたった反動で手足を負傷する","チェーンソーの始業前点検を実施する"]
[706010,"チェーンソー使用時、物にあたった反動で手足を負傷する","不安定な場所でチェーンソーを使用しない"]
[706010,"チェーンソー使用時、物にあたった反動で手足を負傷する","周囲障害物を確認し、撤去させる"]
[706010,"梯子作業中バランスを崩して転落する","単独作業を行わない（介添え者が梯子を必ず支える）"]
[706010,"梯子作業中バランスを崩して転落する","梯子上で作業を行わない"]
[706010,"材料運搬時、躓いて転倒する","安全通路を移動する"]
[706010,"材料運搬時、躓いて転倒する","近道行為を禁止する"]
[706010,"材料運搬時、段差に躓いて転倒する","床段差に足をのせない"]
[706010,"材料運搬時、段差に躓いて転倒する","安全通路を移動する"]
[706010,"工事車輛の搬出入時、第三者と接触する","誘導員の合図に従う"]
[706010,"工事車輛の搬出入時、第三者と接触する","第三者から見える場所で合図する"]
[706010,"工事車輛の搬出入時、第三者と接触する","声掛け合図の徹底"]
[706010,"工事車輛の搬出入時、第三者と接触する","第三者優先で誘導を行う"]
[706010,"ダンプ後退時、バックホーと接触する","声掛け合図の徹底"]
[706010,"ダンプ後退時、バックホーと接触する","安全誘導の合図をする"]
[706010,"ダンプ後退時、バックホーと接触する","後退時運転手はｻｲﾄﾞﾐﾗｰだけでなく、自分の目で後方を確認する"]
[706010,"搬出車輛が作業員と接触する","声掛け合図の徹底"]
[706010,"搬出車輛が作業員と接触する","安全誘導の合図をする"]
[706010,"搬出車輛が作業員と接触する","搬出入車輛と作業員の通路の区分けを行う"]
[706010,"重機(ＢＨ)と作業員が接触する","重機と作業員の区分けを行う"]
[706010,"重機(ＢＨ)と作業員が接触する","声掛け合図の徹底"]
[706010,"重機(ＢＨ)と作業員が接触する","ｶﾗｰｺｰﾝによる立ち入り禁止措置を行う"]
[706010,"重機(ＢＨ)と作業員が接触する","重機ＯＰの死角に入らない"]
[706010,"重機(ＢＨ)と作業員が接触する","グーパー運動を実施する"]
[706010,"手鋸で手や指を切る","手鋸を動かす方向に手や指を置かない"]
[706010,"手鋸で手や指を切る","無理な姿勢で作業しない"]
[706010,"手鋸で手や指を切る","保護手袋を着装する"]
[706010,"資材荷卸し時、吊荷が外れ落下する","重機使用時の合図の徹底"]
[706010,"資材荷卸し時、吊荷が外れ落下する","声掛け合図の徹底"]
[706010,"資材荷卸し時、吊荷が外れ落下する","玉掛け用具の始業前点検を実施する"]
[706010,"資材荷卸し時、吊荷が外れ落下する","吊荷荷重を確認する"]
[706010,"資材荷卸し時、吊荷が外れ落下する","吊荷下の人払いを行う"]
[706010,"重量物を持って腰を痛める","膝を使い、物を持ちあげる"]
[706010,"重量物を持って腰を痛める","準備体操をしっかり行う"]
[706010,"重量物を持って腰を痛める","2人1組で重量物を運ぶ"]
[706010,"近隣家屋の壁を汚す・傷つける","近隣家屋との離隔距離を確認する"]
[706010,"近隣家屋の壁を汚す・傷つける","重機ＯＰや手元は周囲の安全確認を行う"]
[706010,"近隣家屋の壁を汚す・傷つける","ﾌﾞﾙｰｼｰﾄ､ﾍﾞﾆｱ等で養生する"]
[706010,"ゴミが飛散する","1作業1片付を徹底する"]
[706010,"ゴミが飛散する","作業周辺の整理整頓を徹底する"]
[706010,"ゴミが飛散する","飛散の恐れがある物を養生する"]
[750010,"資材を荷下ろし時ワイヤーロープで手を挟む","不安定な状態で荷下ろししない"]
[750010,"資材を荷下ろし時ワイヤーロープで手を挟む","作業手順書で作業手順を確認し作業を行う"]
[750010,"油圧式ハンドクラッシャー使用時、シリンダーに手を詰める","油圧式ハンドクラッシャーを上向きで使用する場合は保持する設備を設置する"]
[750010,"油圧式ハンドクラッシャー使用時、シリンダーに手を詰める","スイッチ操作係と本体保持係はお互いに声掛けを行う"]
[750010,"重機移動時に動いた敷鉄板で足などを挟む","重機作業範囲内立入禁止"]
[750010,"重機移動時に動いた敷鉄板で足などを挟む","敷鉄板が動かないように固定する"]
[750010,"重機移動時に動いた敷鉄板で足などを挟む","敷鉄板の浮き・ガタつきがないか確認する"]
[750010,"誤って根がらみパイプを外し台車を転倒させて負傷する","許可なく設備の変更を行わない"]
[750010,"重機(ＢＨ)と作業員が接触する","重機と作業員の区分けを行う"]
[750010,"重機(ＢＨ)と作業員が接触する","声掛け合図の徹底"]
[750010,"重機(ＢＨ)と作業員が接触する","ｶﾗｰｺｰﾝによる立ち入り禁止措置を行う"]
[750010,"重機(ＢＨ)と作業員が接触する","重機ＯＰの死角に入らない"]
[750010,"重機(ＢＨ)と作業員が接触する","グーパー運動を実施する"]
[750010,"搬出車輛が第三者と接触する","重機と第三者の区分けを行う"]
[750010,"搬出車輛が第三者と接触する","声掛け合図の徹底"]
[750010,"搬出車輛が第三者と接触する","ｶﾗｰｺｰﾝによる立ち入り禁止措置を行う"]
[750010,"搬出車輛が第三者と接触する","誘導員の指示に従う"]
[750010,"搬出車輛が第三者と接触する","安全誘導の合図をする"]
[750010,"解体材が近隣家屋に接触する","声掛け合図の徹底"]
[750010,"解体材が近隣家屋に接触する","重機ＯＰや手元は周囲の安全確認を行う"]
[750010,"解体材が近隣家屋に接触する","安全誘導の合図をする"]
[750010,"解体材が近隣家屋に接触する","ﾌﾞﾙｰｼｰﾄ､ﾍﾞﾆｱ等で養生する"]
[750010,"材料運搬時、躓いて転倒する","安全通路を移動する"]
[750010,"材料運搬時、躓いて転倒する","近道行為を禁止する"]
[750010,"材料運搬時、段差に躓いて転倒する","床段差に足をのせない"]
[750010,"材料運搬時、段差に躓いて転倒する","安全通路を移動する"]
[750010,"搬出車両とバックホーが接触する","声掛け合図の徹底"]
[750010,"搬出車両とバックホーが接触する","安全誘導の合図をする"]
[750010,"搬出車両とバックホーが接触する","重機ＯＰや手元は周囲の安全確認を行う"]
[750010,"搬出車両とバックホーが接触する","後退時運転手はｻｲﾄﾞﾐﾗｰだけでなく、自分の目で後方を確認する"]
[750010,"搬出車輛が作業員と接触する","声掛け合図の徹底"]
[750010,"搬出車輛が作業員と接触する","安全誘導の合図をする"]
[750010,"搬出車輛が作業員と接触する","法定速度を遵守する"]
[750010,"搬出車輛が作業員と接触する","搬出入車輛と作業員の通路の区分けを行う"]
[750010,"ベビーサンダー・セーバーソー使用時、手を切る","保護手袋を着装する"]
[750010,"ベビーサンダー・セーバーソー使用時、手を切る","正しい姿勢で作業する"]
[750010,"ベビーサンダー・セーバーソー使用時、手を切る","工具の始業前点検を実施する"]
[750010,"解体材で手を切る","保護手袋を着装する"]
[750010,"解体材で手を切る","正しい姿勢で作業する"]
[750010,"解体材で手を切る","危険な所に手を入れない"]
[750010,"足場使用時、足場から墜落する","安全帯を掛けていない状況を作らない"]
[750010,"足場使用時、足場から墜落する","無理な姿勢で作業しない"]
[750010,"足場使用時、足場から墜落する","足場の始業前点検を実施する"]
[750010,"足場使用時、足場から墜落する","作業床の墜落転落防止措置を確認する"]
[750010,"足場使用時、足場から資材類を落下させる","無理な姿勢で作業しない"]
[750010,"足場使用時、足場から資材類を落下させる","作業下部の人払いを行う"]
[750010,"足場使用時、足場から資材類を落下させる","足場上の資材類を整理整頓する"]
[750010,"足場の隙間から墜落する","安全帯を掛けていない状況を作らない"]
[750010,"足場の隙間から墜落する","無理な姿勢で作業しない"]
[750010,"足場の隙間から墜落する","足場の始業前点検を実施する"]
[750010,"足場の隙間から墜落する","作業床の墜落転落防止措置の確認する"]
[750010,"足場上で躓いて転倒する","足場上の資材類を整理整頓する"]
[750010,"足場上で躓いて転倒する","無理な姿勢で作業しない"]
[750010,"足場上で躓いて転倒する","安全通路を移動する"]
[750010,"内装解体時、立馬から転落する","物を持って昇降しない"]
[750010,"内装解体時、立馬から転落する","開き止めを確認する"]
[750010,"内装解体時、立馬から転落する","無理な姿勢で作業しない"]
[750010,"内装解体時、立馬から転落する","昇降時は必ず後ろ向きにおりる"]
[750010,"内装解体時、釘を踏み抜いて足の裏を怪我する","解体材の整理整頓を行う"]
[750010,"内装解体時、釘を踏み抜いて足の裏を怪我する","安全靴の着装"]
[750010,"内装解体時、釘を踏み抜いて足の裏を怪我する","照明設備を整え、手元足元を明るくする"]
[750020,"重機(ＢＨ)と作業員が接触する","重機と作業員の区分けを行う"]
[750020,"重機(ＢＨ)と作業員が接触する","声掛け合図の徹底"]
[750020,"重機(ＢＨ)と作業員が接触する","ｶﾗｰｺｰﾝによる立ち入り禁止措置を行う"]
[750020,"重機(ＢＨ)と作業員が接触する","重機ＯＰの死角に入らない"]
[750020,"重機(ＢＨ)と作業員が接触する","グーパー運動を実施する"]
[750020,"搬出車輛が第三者と接触する","重機と第三者の区分けを行う"]
[750020,"搬出車輛が第三者と接触する","声掛け合図の徹底"]
[750020,"搬出車輛が第三者と接触する","ｶﾗｰｺｰﾝによる立ち入り禁止措置を行う"]
[750020,"搬出車輛が第三者と接触する","誘導員の指示に従う"]
[750020,"搬出車輛が第三者と接触する","安全誘導の合図をする"]
[750020,"解体材が近隣家屋に接触する","声掛け合図の徹底"]
[750020,"解体材が近隣家屋に接触する","重機ＯＰや手元は周囲の安全確認を行う"]
[750020,"解体材が近隣家屋に接触する","安全誘導の合図をする"]
[750020,"解体材が近隣家屋に接触する","ﾌﾞﾙｰｼｰﾄ､ﾍﾞﾆｱ等で養生する"]
[750020,"材料運搬時、躓いて転倒する","安全通路を移動する"]
[750020,"材料運搬時、躓いて転倒する","近道行為を禁止する"]
[750020,"材料運搬時、段差に躓いて転倒する","床段差に足をのせない"]
[750020,"材料運搬時、段差に躓いて転倒する","安全通路を移動する"]
[750020,"搬出車両とバックホーが接触する","声掛け合図の徹底"]
[750020,"搬出車両とバックホーが接触する","安全誘導の合図をする"]
[750020,"搬出車両とバックホーが接触する","重機ＯＰや手元は周囲の安全確認を行う"]
[750020,"搬出車両とバックホーが接触する","後退時運転手はｻｲﾄﾞﾐﾗｰだけでなく、自分の目で後方を確認する"]
[750020,"搬出車輛が作業員と接触する","声掛け合図の徹底"]
[750020,"搬出車輛が作業員と接触する","安全誘導の合図をする"]
[750020,"搬出車輛が作業員と接触する","法定速度を遵守する"]
[750020,"搬出車輛が作業員と接触する","搬出入車輛と作業員の通路の区分けを行う"]
[750020,"ベビーサンダー・セーバーソー使用時、手を切る","保護手袋を着装する"]
[750020,"ベビーサンダー・セーバーソー使用時、手を切る","正しい姿勢で作業する"]
[750020,"ベビーサンダー・セーバーソー使用時、手を切る","工具の始業前点検を実施する"]
[750020,"解体材で手を切る","保護手袋を着装する"]
[750020,"解体材で手を切る","正しい姿勢で作業する"]
[750020,"解体材で手を切る","危険な所に手を入れない"]
[750020,"ガス溶断時、火傷する","消火器・消火バケツを設置する"]
[750020,"ガス溶断時、火傷する","無理な姿勢で作業しない"]
[750020,"ガス溶断時、火傷する","保護具を着装する"]
[750020,"ガス溶断時、火傷する","溶断箇所に手足を近づけない"]
[750020,"ガス溶断時、火花が飛散し火災になる","火の粉の付近に可燃物を置かない"]
[750020,"ガス溶断時、火花が飛散し火災になる","消火器・消火バケツを設置する"]
[750020,"ガス溶断時、火花が飛散し火災になる","無理な姿勢で作業しない"]
[750020,"ガス溶断時、火花が飛散し火災になる","保護具を着装する"]
[750020,"ガス溶断時、火花が飛散し火災になる","ｶﾗｰｺｰﾝによる立ち入り禁止措置を行う"]
[750020,"足場使用時、足場から墜落する","安全帯を掛けていない状況を作らない"]
[750020,"足場使用時、足場から墜落する","無理な姿勢で作業しない"]
[750020,"足場使用時、足場から墜落する","足場の始業前点検を実施する"]
[750020,"足場使用時、足場から墜落する","作業床の墜落転落防止措置を確認する"]
[750020,"足場使用時、足場から資材類を落下させる","無理な姿勢で作業しない"]
[750020,"足場使用時、足場から資材類を落下させる","作業下部の人払いを行う"]
[750020,"足場使用時、足場から資材類を落下させる","足場上の資材類を整理整頓する"]
[750020,"足場の隙間から墜落する","安全帯を掛けていない状況を作らない"]
[750020,"足場の隙間から墜落する","無理な姿勢で作業しない"]
[750020,"足場の隙間から墜落する","足場の始業前点検を実施する"]
[750020,"足場の隙間から墜落する","作業床の墜落転落防止措置の確認する"]
[750020,"足場上で躓いて転倒する","足場上の材料・工具を整理整頓する"]
[750020,"足場上で躓いて転倒する","無理な姿勢で作業しない"]
[750020,"足場上で躓いて転倒する","安全通路を移動する"]
[750020,"内装解体時、立馬から転落する","物を持って昇降しない"]
[750020,"内装解体時、立馬から転落する","開き止めを確認する"]
[750020,"内装解体時、立馬から転落する","無理な姿勢で作業しない"]
[750020,"内装解体時、立馬から転落する","昇降時は必ず後ろ向きにおりる"]
[750020,"内装解体時、釘を踏み抜いて足の裏を怪我する","解体材の整理整頓を行う"]
[750020,"内装解体時、釘を踏み抜いて足の裏を怪我する","安全靴の着装"]
[750020,"内装解体時、釘を踏み抜いて足の裏を怪我する","照明設備を整え、手元足元を明るくする"]
[750030,"下地材を切断時、端部が跳ね上がって負傷する","下地材切断後に跳ね上がり等がないか確認する"]
[750030,"下地材を切断時、端部が跳ね上がって負傷する","手袋・メガネ等、保護具を使用する"]
[750030,"重機(ＢＨ)と作業員が接触する","重機と作業員の区分けを行う"]
[750030,"重機(ＢＨ)と作業員が接触する","声掛け合図の徹底"]
[750030,"重機(ＢＨ)と作業員が接触する","ｶﾗｰｺｰﾝによる立ち入り禁止措置を行う"]
[750030,"重機(ＢＨ)と作業員が接触する","重機ＯＰの死角に入らない"]
[750030,"重機(ＢＨ)と作業員が接触する","グーパー運動を実施する"]
[750030,"搬出車輛が第三者と接触する","重機と第三者の区分けを行う"]
[750030,"搬出車輛が第三者と接触する","声掛け合図の徹底"]
[750030,"搬出車輛が第三者と接触する","ｶﾗｰｺｰﾝによる立ち入り禁止措置を行う"]
[750030,"搬出車輛が第三者と接触する","誘導員の指示に従う"]
[750030,"搬出車輛が第三者と接触する","安全誘導の合図をする"]
[750030,"解体材が近隣家屋に接触する","声掛け合図の徹底"]
[750030,"解体材が近隣家屋に接触する","重機ＯＰや手元は周囲の安全確認を行う"]
[750030,"解体材が近隣家屋に接触する","安全誘導の合図をする"]
[750030,"解体材が近隣家屋に接触する","ﾌﾞﾙｰｼｰﾄ､ﾍﾞﾆｱ等で養生する"]
[750030,"材料運搬時、躓いて転倒する","安全通路を移動する"]
[750030,"材料運搬時、躓いて転倒する","近道行為を禁止する"]
[750030,"材料運搬時、段差に躓いて転倒する","床段差に足をのせない"]
[750030,"材料運搬時、段差に躓いて転倒する","安全通路を移動する"]
[750030,"搬出車両とバックホーが接触する","声掛け合図の徹底"]
[750030,"搬出車両とバックホーが接触する","安全誘導の合図をする"]
[750030,"搬出車両とバックホーが接触する","重機ＯＰや手元は周囲の安全確認を行う"]
[750030,"搬出車両とバックホーが接触する","後退時運転手はｻｲﾄﾞﾐﾗｰだけでなく、自分の目で後方を確認する"]
[750030,"搬出車輛が作業員と接触する","声掛け合図の徹底"]
[750030,"搬出車輛が作業員と接触する","安全誘導の合図をする"]
[750030,"搬出車輛が作業員と接触する","法定速度を遵守する"]
[750030,"搬出車輛が作業員と接触する","搬出入車輛と作業員の通路の区分けを行う"]
[750030,"ベビーサンダー・セーバーソー使用時、手を切る","保護手袋を着装する"]
[750030,"ベビーサンダー・セーバーソー使用時、手を切る","正しい姿勢で作業する"]
[750030,"ベビーサンダー・セーバーソー使用時、手を切る","工具の始業前点検を実施する"]
[750030,"解体材で手を切る","保護手袋を着装する"]
[750030,"解体材で手を切る","正しい姿勢で作業する"]
[750030,"解体材で手を切る","危険な所に手を入れない"]
[750030,"ガス溶断時、火傷する","消火器・消火バケツを設置する"]
[750030,"ガス溶断時、火傷する","無理な姿勢で作業しない"]
[750030,"ガス溶断時、火傷する","保護具を着装する"]
[750030,"ガス溶断時、火傷する","溶断箇所に手足を近づけない"]
[750030,"ガス溶断時、火花が飛散し火災になる","火の粉の付近に可燃物を置かない"]
[750030,"ガス溶断時、火花が飛散し火災になる","消火器・消火バケツを設置する"]
[750030,"ガス溶断時、火花が飛散し火災になる","無理な姿勢で作業しない"]
[750030,"ガス溶断時、火花が飛散し火災になる","保護具を着装する"]
[750030,"ガス溶断時、火花が飛散し火災になる","ｶﾗｰｺｰﾝによる立ち入り禁止措置を行う"]
[750030,"足場使用時、足場から墜落する","安全帯を掛けていない状況を作らない"]
[750030,"足場使用時、足場から墜落する","無理な姿勢で作業しない"]
[750030,"足場使用時、足場から墜落する","足場の始業前点検を実施する"]
[750030,"足場使用時、足場から墜落する","作業床の墜落転落防止措置を確認する"]
[750030,"足場使用時、足場から資材類を落下させる","無理な姿勢で作業しない"]
[750030,"足場使用時、足場から資材類を落下させる","作業下部の人払いを行う"]
[750030,"足場使用時、足場から資材類を落下させる","足場上の資材類を整理整頓する"]
[750030,"足場の隙間から墜落する","安全帯を掛けていない状況を作らない"]
[750030,"足場の隙間から墜落する","無理な姿勢で作業しない"]
[750030,"足場の隙間から墜落する","足場の始業前点検を実施する"]
[750030,"足場の隙間から墜落する","作業床の墜落転落防止措置の確認する"]
[750030,"足場上で躓いて転倒する","足場上の資材類を整理整頓する"]
[750030,"足場上で躓いて転倒する","無理な姿勢で作業しない"]
[750030,"足場上で躓いて転倒する","安全通路を移動する"]
[750030,"内装解体時、立馬から転落する","物を持って昇降しない"]
[750030,"内装解体時、立馬から転落する","開き止めを確認する"]
[750030,"内装解体時、立馬から転落する","無理な姿勢で作業しない"]
[750030,"内装解体時、立馬から転落する","昇降時は必ず後ろ向きにおりる"]
[750030,"内装解体時、釘を踏み抜いて足の裏を怪我する","解体材の整理整頓を行う"]
[750030,"内装解体時、釘を踏み抜いて足の裏を怪我する","安全靴の着装"]
[750030,"内装解体時、釘を踏み抜いて足の裏を怪我する","照明設備を整え、手元足元を明るくする"]
[750040,"上から物が落下し、人に当たる","上下作業とならないよう確認する"]
[750040,"上から物が落下し、人に当たる","落下養生ネットの確認"]
[750040,"斫りガラが落ちてきて体にあたる","斫りガラはこまめに片付ける"]
[750040,"斫りガラが落ちてきて体にあたる","手袋・メガネ等、保護具を使用する"]
[750040,"斫りガラが落ちてきて体にあたる","危険な所に入って作業しない"]
[750040,"斫りガラが落ちてきて体にあたる","上下作業とならないよう確認する"]
[750040,"斫りガラが落ちてきて体にあたる","ガラの飛散範囲内に他の人がいないか確認する"]
[750040,"スクレーパー使用時誤って手を負傷する","刃先の方向に手を置かない"]
[750040,"資材運搬時、躓いて転倒する","安全通路を移動する"]
[750040,"資材運搬時、躓いて転倒する","近道行為を禁止する"]
[750040,"資材運搬時、段差に躓いて転倒する","床段差に足をのせない"]
[750040,"資材運搬時、段差に躓いて転倒する","安全通路を移動する"]
[750040,"ホースに躓いて転倒する","ホースを整理する"]
[750040,"ホースに躓いて転倒する","安全通路を移動する"]
[750040,"サンダー使用時、誤って手を切る","保護手袋を着装する"]
[750040,"サンダー使用時、誤って手を切る","正しい姿勢で作業する"]
[750040,"サンダー使用時、誤って手を切る","保護カバーを使用する"]
[750040,"サンダー使用時、誤って手を切る","工具の始業前点検を実施する"]
[750040,"サンダー使用時、誤って手を切る","切断箇所に手を入れない"]
[750040,"サンダー使用時、鉄粉が飛散し、目に鉄粉が入る","保護メガネを着装する"]
[750040,"サンダー使用時、鉄粉が飛散し、目に鉄粉が入る","無理な姿勢で作業しない"]
[750040,"サンダー使用時、鉄粉が飛散し、目に鉄粉が入る","保護具を着装する"]
[750040,"斫りガラが飛散し、目にコンクリート片が入る","保護メガネを着装する"]
[750040,"斫りガラが飛散し、目にコンクリート片が入る","無理な姿勢で作業しない"]
[750040,"斫りガラが飛散し、目にコンクリート片が入る","保護具を着装する"]
[750040,"足場使用時、足場から墜落する","安全帯を掛けていない状況を作らない"]
[750040,"足場使用時、足場から墜落する","無理な姿勢で作業しない"]
[750040,"足場使用時、足場から墜落する","足場の始業前点検を実施する"]
[750040,"足場使用時、足場から墜落する","作業床の墜落転落防止措置を確認する"]
[750040,"足場使用時、足場から斫りガラを落下させる","無理な姿勢で作業しない"]
[750040,"足場使用時、足場から斫りガラを落下させる","作業下部の人払いを行う"]
[750040,"足場使用時、足場から斫りガラを落下させる","こまめに斫りガラを片付ける"]
[750040,"足場使用時、足場から斫りガラを落下させる","ガラ受け養生を設置する"]
[750040,"足場の隙間から墜落する","安全帯を掛けていない状況を作らない"]
[750040,"足場の隙間から墜落する","無理な姿勢で作業しない"]
[750040,"足場の隙間から墜落する","足場の始業前点検を実施する"]
[750040,"足場の隙間から墜落する","作業床の墜落転落防止措置の確認する"]
[750040,"足場上で躓いて転倒する","足場上の資材類を整理整頓する"]
[750040,"足場上で躓いて転倒する","無理な姿勢で作業しない"]
[750040,"足場上で躓いて転倒する","安全通路を移動する"]
[750040,"斫り作業中、工具に指を詰める","保護手袋を着装する"]
[750040,"斫り作業中、工具に指を詰める","無理な姿勢で作業しない"]
[750040,"斫り作業中、工具に指を詰める","振動箇所に手を入れない"]
[750040,"斫り作業中、工具に指を詰める","工具の始業前点検を実施する"]
[750040,"立馬から転落する","物を持って昇降しない"]
[750040,"立馬から転落する","開き止めを確認する"]
[750040,"立馬から転落する","無理な姿勢で作業しない"]
[750040,"立馬から転落する","昇降時は必ず後ろ向きにおりる"]
[750050,"超高圧水で人が負傷する（機械異常）","グリップはしっかりと握る"]
[750050,"超高圧水で人が負傷する（機械異常）","ガンの吐出方向に人を立ち入らせない"]
[750050,"超高圧水で人が負傷する（機械異常）","定期点検・始業前点検を確実に行う（異常時はメーカーに連絡する）"]
[750050,"超高圧水で人が負傷する（機械異常）","作業準備時には必ず電源を停止する/"]
[750050,"材料運搬時、躓いて転倒する","安全通路を移動する"]
[750050,"材料運搬時、躓いて転倒する","近道行為を禁止する"]
[750050,"材料運搬時、段差に躓いて転倒する","床段差に足をのせない"]
[750050,"材料運搬時、段差に躓いて転倒する","安全通路を移動する"]
[750050,"キャプタイヤーに躓き転倒する","安全通路を移動する"]
[750050,"キャプタイヤーに躓き転倒する","キャプタイヤーの整理整線を行う"]
[750050,"ノズルに手を挟む","危険な所に手を入れない"]
[750050,"ノズルに手を挟む","操作員との合図確認を行う"]
[750050,"ノズルに手を挟む","ノズルに回転カバーを取り付ける"]
[750050,"足場使用時、足場から墜落する","安全帯を掛けていない状況を作らない"]
[750050,"足場使用時、足場から墜落する","無理な姿勢で作業しない"]
[750050,"足場使用時、足場から墜落する","足場の始業前点検を実施する"]
[750050,"足場使用時、足場から墜落する","作業床の墜落転落防止措置を確認する"]
[750050,"足場の隙間から墜落する","安全帯を掛けていない状況を作らない"]
[750050,"足場の隙間から墜落する","無理な姿勢で作業しない"]
[750050,"足場の隙間から墜落する","足場の始業前点検を実施する"]
[750050,"足場の隙間から墜落する","作業床の墜落転落防止措置の確認する"]
[750050,"足場上で躓いて転倒する","足場上の資材等を整理整頓する"]
[750050,"足場上で躓いて転倒する","無理な姿勢で作業しない"]
[750050,"足場上で躓いて転倒する","安全通路を移動する"]
[750050,"作業時、手元を誤ってジェット水が飛散する","養生状況を点検する"]
[750050,"作業時、手元を誤ってジェット水が飛散する","飛散防止養生を行う"]
[750050,"作業時、手元を誤ってジェット水が飛散する","無理な姿勢で作業しない"]
[750050,"作業時、手元を誤ってジェット水が飛散する","使用時は十分に手元の確認を行う"]
[750050,"作業時、手元を誤ってジェット水が飛散する","ｶﾗｰｺｰﾝによる立ち入り禁止措置を行う"]
[750060,"ハンマードリルに手を巻き込まれる","点検・整備時は電源を切る"]
[750060,"ハンマードリルに手を巻き込まれる","キリ部分に手を添えない"]
[750060,"材料運搬時、躓いて転倒する","安全通路を移動する"]
[750060,"材料運搬時、躓いて転倒する","近道行為を禁止する"]
[750060,"材料運搬時、段差に躓いて転倒する","床段差に足をのせない"]
[750060,"材料運搬時、段差に躓いて転倒する","安全通路を移動する"]
[750060,"ドリルで削孔時、指を巻き込む","無理な姿勢で作業しない"]
[750060,"ドリルで削孔時、指を巻き込む","削孔箇所に手を入れない"]
[750060,"ドリルで削孔時、指を巻き込む","電動工具の始業前点検を実施する"]
[750060,"足場使用時、足場から墜落する","安全帯を掛けていない状況を作らない"]
[750060,"足場使用時、足場から墜落する","無理な姿勢で作業しない"]
[750060,"足場使用時、足場から墜落する","足場の始業前点検を実施する"]
[750060,"足場使用時、足場から墜落する","作業床の墜落転落防止措置を確認する"]
[750060,"足場の隙間から墜落する","安全帯を掛けていない状況を作らない"]
[750060,"足場の隙間から墜落する","無理な姿勢で作業しない"]
[750060,"足場の隙間から墜落する","足場の始業前点検を実施する"]
[750060,"足場の隙間から墜落する","作業床の墜落転落防止措置の確認する"]
[750060,"足場上で躓いて転倒する","足場上の資材等を整理整頓する"]
[750060,"足場上で躓いて転倒する","無理な姿勢で作業しない"]
[750060,"足場上で躓いて転倒する","安全通路を移動する"]
[750060,"高所作業車使用時、転落する","安全帯を必ず使用する"]
[750060,"高所作業車使用時、転落する","無理な姿勢で作業しない"]
[750060,"高所作業車使用時、転落する","高所作業車の始業前点検を実施する"]
[750060,"高所作業車使用時、転落する","作業床を確認する"]
[750060,"立馬から転落する","物を持って昇降しない"]
[750060,"立馬から転落する","開き止めを確認する"]
[750060,"立馬から転落する","無理な姿勢で作業しない"]
[750060,"立馬から転落する","昇降時は必ず後ろ向きにおりる"]
[750060,"ドリルにて上向きに削孔する際、削孔片が目に入る","保護メガネを着装する"]
[750060,"ドリルにて上向きに削孔する際、削孔片が目に入る","無理な姿勢で作業しない"]
[750060,"ドリルにて上向きに削孔する際、削孔片が目に入る","保護具を着装する"]
[750070,"スラブ（フェローデッキ）上で躓いて転倒する","スラブ筋施工後はメッシュロードを敷設し、その上を移動する"]
[750070,"スラブ（フェローデッキ）上で躓いて転倒する","スラブ筋上歩行の際、足元を確認しゆっくりと歩行する"]
[750070,"材料運搬時、躓いて転倒する","安全通路を移動する"]
[750070,"材料運搬時、躓いて転倒する","近道行為を禁止する"]
[750070,"材料運搬時、段差に躓いて転倒する","床段差に足をのせない"]
[750070,"材料運搬時、段差に躓いて転倒する","安全通路を移動する"]
[750070,"キャプタイヤーに躓き転倒する","安全通路を移動する"]
[750070,"キャプタイヤーに躓き転倒する","キャプタイヤーの整理整線を行う"]
[750070,"ドリルで削孔時、指を巻き込む","無理な姿勢で作業しない"]
[750070,"ドリルで削孔時、指を巻き込む","削孔箇所に手を入れない"]
[750070,"ドリルで削孔時、指を巻き込む","電動工具の始業前点検を実施する"]
[750070,"鋼材を仮置きする際、手を挟む","不安定な状態で鋼材を置かない"]
[750070,"鋼材を仮置きする際、手を挟む","危険な所に手を入れない"]
[750070,"重量物を持って腰を痛める","膝を使い、物を持ちあげる"]
[750070,"重量物を持って腰を痛める","準備体操をしっかり行う"]
[750070,"重量物を持って腰を痛める","2人1組で重量物を運ぶ"]
[750070,"足場使用時、足場から墜落する","安全帯を掛けていない状況を作らない"]
[750070,"足場使用時、足場から墜落する","無理な姿勢で作業しない"]
[750070,"足場使用時、足場から墜落する","足場の始業前点検を実施する"]
[750070,"足場使用時、足場から墜落する","作業床の墜落転落防止措置を確認する"]
[750070,"足場の隙間から墜落する","安全帯を掛けていない状況を作らない"]
[750070,"足場の隙間から墜落する","無理な姿勢で作業しない"]
[750070,"足場の隙間から墜落する","足場の始業前点検を実施する"]
[750070,"足場の隙間から墜落する","作業床の墜落転落防止措置の確認する"]
[750070,"足場上で躓いて転倒する","足場上の資材等を整理整頓する"]
[750070,"足場上で躓いて転倒する","無理な姿勢で作業しない"]
[750070,"足場上で躓いて転倒する","安全通路を移動する"]
[750070,"ﾛｰﾘﾝｸﾞﾀﾜｰ使用時、転落する","安全帯を必ず使用する"]
[750070,"ﾛｰﾘﾝｸﾞﾀﾜｰ使用時、転落する","無理な姿勢で作業しない"]
[750070,"ﾛｰﾘﾝｸﾞﾀﾜｰ使用時、転落する","高所作業車の始業前点検を実施する"]
[750070,"ﾛｰﾘﾝｸﾞﾀﾜｰ使用時、転落する","作業床を確認する"]
[750070,"立馬から転落する","物を持って昇降しない"]
[750070,"立馬から転落する","開き止めを確認する"]
[750070,"立馬から転落する","無理な姿勢で作業しない"]
[750070,"立馬から転落する","昇降時は必ず後ろ向きにおりる"]
[750070,"溶接時、火傷する","消火器・消火バケツを設置する"]
[750070,"溶接時、火傷する","火気使用時の人払いを行う"]
[750070,"溶接時、火傷する","保護具を着装する"]
[750070,"溶接時、火傷する","溶接箇所に手を近づけない"]
[750070,"溶接時、火花が飛散し火災が発生する","火の粉の付近に可燃物を置かない"]
[750070,"溶接時、火花が飛散し火災が発生する","消火器・消火バケツを設置する"]
[750070,"溶接時、火花が飛散し火災が発生する","火気使用時の人払いを行う"]
[750070,"溶接時、火花が飛散し火災が発生する","保護具を着装する"]
[750080,"固定用金物撤去中、立馬から墜落する","設置した立馬の足元状態を確認する"]
[750080,"固定用金物撤去中、立馬から墜落する","不安定な姿勢で作業しない"]
[750080,"釘を踏み抜く","釘仕舞を確実に行う"]
[750080,"釘を踏み抜く","木片・ガラ等の上に足を置かない"]
[750080,"釘を踏み抜く","作業床の片付けを行う"]
[750080,"釘抜き作業中、勢いがついて転倒する","無理な姿勢で作業しない"]
[750080,"釘抜き作業中、勢いがついて転倒する","無理に力を入れ過ぎない"]
[750080,"差し筋を跨いで転倒する","近道行為の禁止"]
[750080,"差し筋を跨いで転倒する","安全通路を確認し通行する"]
[750080,"段差に躓いて転倒する","梁筋上歩行の際、足元を確認し歩行する"]
[750080,"段差に躓いて転倒する","安全通路を歩行する"]
[750080,"ハンドミキサー使用時、手や服が巻き込まれる","使用時は手元の確認を行う"]
[750080,"ハンドミキサー使用時、手や服が巻き込まれる","暗い箇所では使用しない"]
[750080,"ハンドミキサー使用時、手や服が巻き込まれる","服装の乱れが無いか確認する"]
[750080,"ハンドミキサー使用時、手や服が巻き込まれる","作業場所を確保する"]
[750080,"溶接時、火傷する","消火器・消火バケツを設置する"]
[750080,"溶接時、火傷する","火気使用時の人払いを行う"]
[750080,"溶接時、火傷する","保護具を着装する"]
[750080,"溶接時、感電する","ゴム手袋を着装する"]
[750080,"溶接時、感電する","火気使用時の人払いを行う"]
[750080,"溶接時、感電する","保護具を着装する"]
[750080,"溶接時、火花が飛散する","火の粉の付近に可燃物を置かない"]
[750080,"溶接時、火花が飛散する","消火器・消火バケツを設置する"]
[750080,"溶接時、火花が飛散する","火気使用時の人払いを行う"]
[750080,"溶接時、火花が飛散する","保護具を着装する"]
[750080,"梁上から転落する","親綱を張り、安全帯を使用する"]
[750080,"梁上から転落する","無理な姿勢で作業しない"]
[750080,"梁上から転落する","危険な箇所には登らない"]
[750080,"梁上から転落する","昇降設備を使用する"]
[750080,"キャプタイヤーに躓き転倒する","安全通路を移動する"]
[750080,"キャプタイヤーに躓き転倒する","キャプタイヤーの整理整線を行う"]
[750080,"立馬から転落する","物を持って昇降しない"]
[750080,"立馬から転落する","手摺棒を全箇所伸ばす"]
[750080,"立馬から転落する","無理な姿勢で作業しない"]
[750080,"立馬から転落する","昇降時は必ず後ろ向きにおりる"]
[750080,"立馬から転落する","安全帯を使用する"]
[750080,"クレーン使用時、吊荷が落下する","クレーン使用時の合図の徹底"]
[750080,"クレーン使用時、吊荷が落下する","声掛け合図の徹底"]
[750080,"クレーン使用時、吊荷が落下する","玉掛けワイヤーの始業前点検を実施する"]
[750080,"クレーン使用時、吊荷が落下する","吊荷荷重の確認する"]
[750080,"クレーン使用時、吊荷が落下する","吊荷の下の人払い徹底"]
[750080,"クレーン使用時、吊荷が落下する","地切りの確認（333運動）"]

{"sheet":"災害一覧","index":25,"n_rows":1000,"n_cols":5,"rows_kept":1000,"cut":false,"hidden":false,"merged":[]}
["災害ID","災害内容","工種名","工種ID","災害種別"]
[1,"立馬で材料荷渡しや作業時に転落する","近隣家屋調査工事",101020,"重大災害"]
[2,"立馬の脚が段差・床スリｰブにはまり、または縮んで転落・転倒する","近隣家屋調査工事",101020,"重大災害"]
[3,"立馬から降りる時に踏み外して転落する","近隣家屋調査工事",101020,"重大災害"]
[4,"立馬で作業時に　　　　　　　　　　にて怪我をする","近隣家屋調査工事",101020,"重大災害"]
[5,"立馬で材料荷渡しや作業時に転落する","仮設建物工事（組立・解体）",102010,"重大災害"]
[6,"立馬の脚が段差・床スリｰブにはまり、または縮んで転落・転倒する","仮設建物工事（組立・解体）",102010,"重大災害"]
[7,"立馬から降りる時に踏み外して転落する","仮設建物工事（組立・解体）",102010,"重大災害"]
[8,"立馬で作業時に　　　　　　　　　　にて怪我をする","仮設建物工事（組立・解体）",102010,"重大災害"]
[9,"サンダｰや丸のこ使用時、手がぶれたり、刃がはねて負傷する","仮囲工事",103020,"重大災害"]
[10,"立馬で材料荷渡しや作業時に転落する","仮囲工事",103020,"重大災害"]
[11,"立馬の脚が段差・床スリｰブにはまり、または縮んで転落・転倒する","仮囲工事",103020,"重大災害"]
[12,"立馬から降りる時に踏み外して転落する","仮囲工事",103020,"重大災害"]
[13,"立馬で作業時に　　　　　　　　　　にて怪我をする","仮囲工事",103020,"重大災害"]
[14,"立馬で材料荷渡しや作業時に転落する","工事用電気設備工事",105010,"重大災害"]
[15,"立馬の脚が段差・床スリｰブにはまり、または縮んで転落・転倒する","工事用電気設備工事",105010,"重大災害"]
[16,"立馬から降りる時に踏み外して転落する","工事用電気設備工事",105010,"重大災害"]
[17,"立馬で作業時に　　　　　　　　　　にて怪我をする","工事用電気設備工事",105010,"重大災害"]
[18,"立馬で材料荷渡しや作業時に転落する","工事用給排水設備工事",105020,"重大災害"]
[19,"立馬の脚が段差・床スリｰブにはまり、または縮んで転落・転倒する","工事用給排水設備工事",105020,"重大災害"]
[20,"立馬から降りる時に踏み外して転落する","工事用給排水設備工事",105020,"重大災害"]
[21,"立馬で作業時に　　　　　　　　　　にて怪我をする","工事用給排水設備工事",105020,"重大災害"]
[22,"揚重作業時クレｰンが転倒する","揚重機（建方・解体）",108010,"重大災害"]
[23,"安全ブロックを使用せず梯子やタラップから転落する","揚重機（建方・解体）",108010,"重大災害"]
[24,"立馬で材料荷渡しや作業時に転落する","揚重機（建方・解体）",108010,"重大災害"]
[25,"立馬の脚が段差・床スリｰブにはまり、または縮んで転落・転倒する","揚重機（建方・解体）",108010,"重大災害"]
[26,"立馬から降りる時に踏み外して転落する","揚重機（建方・解体）",108010,"重大災害"]
[27,"立馬で作業時に　　　　　　　　　　にて怪我をする","揚重機（建方・解体）",108010,"重大災害"]
[28,"立馬で材料荷渡しや作業時に転落する","各種試験",109010,"重大災害"]
[29,"立馬の脚が段差・床スリｰブにはまり、または縮んで転落・転倒する","各種試験",109010,"重大災害"]
[30,"立馬から降りる時に踏み外して転落する","各種試験",109010,"重大災害"]
[31,"立馬で作業時に　　　　　　　　　　にて怪我をする","各種試験",109010,"重大災害"]
[32,"立馬で材料荷渡しや作業時に転落する","運搬・荷揚・揚重",110010,"重大災害"]
[33,"立馬の脚が段差・床スリｰブにはまり、または縮んで転落・転倒する","運搬・荷揚・揚重",110010,"重大災害"]
[34,"立馬から降りる時に踏み外して転落する","運搬・荷揚・揚重",110010,"重大災害"]
[35,"立馬で作業時に　　　　　　　　　　にて怪我をする","運搬・荷揚・揚重",110010,"重大災害"]
[36,"立馬で材料荷渡しや作業時に転落する","遣方墨出工事",201010,"重大災害"]
[37,"立馬の脚が段差・床スリｰブにはまり、または縮んで転落・転倒する","遣方墨出工事",201010,"重大災害"]
[38,"立馬から降りる時に踏み外して転落する","遣方墨出工事",201010,"重大災害"]
[39,"立馬で作業時に　　　　　　　　　　にて怪我をする","遣方墨出工事",201010,"重大災害"]
[40,"サンダｰや丸のこ使用時、手がぶれたり、刃がはねて負傷する","内外足場組立・解体工事（枠組・ビケ・単管足場）",202010,"重大災害"]
[41,"立馬で材料荷渡しや作業時に転落する","内外足場組立・解体工事（枠組・ビケ・単管足場）",202010,"重大災害"]
[42,"立馬の脚が段差・床スリｰブにはまり、または縮んで転落・転倒する","内外足場組立・解体工事（枠組・ビケ・単管足場）",202010,"重大災害"]
[43,"立馬から降りる時に踏み外して転落する","内外足場組立・解体工事（枠組・ビケ・単管足場）",202010,"重大災害"]
[44,"立馬で作業時に　　　　　　　　　　にて怪我をする","内外足場組立・解体工事（枠組・ビケ・単管足場）",202010,"重大災害"]
[45,"サンダｰや丸のこ使用時、手がぶれたり、刃がはねて負傷する","内外足場組立・解体工事（ローリング・荷取ステージ等）",202020,"重大災害"]
[46,"立馬で材料荷渡しや作業時に転落する","内外足場組立・解体工事（ローリング・荷取ステージ等）",202020,"重大災害"]
[47,"立馬の脚が段差・床スリｰブにはまり、または縮んで転落・転倒する","内外足場組立・解体工事（ローリング・荷取ステージ等）",202020,"重大災害"]
[48,"立馬から降りる時に踏み外して転落する","内外足場組立・解体工事（ローリング・荷取ステージ等）",202020,"重大災害"]
[49,"立馬で作業時に　　　　　　　　　　にて怪我をする","内外足場組立・解体工事（ローリング・荷取ステージ等）",202020,"重大災害"]
[50,"サンダｰや丸のこ使用時、手がぶれたり、刃がはねて負傷する","専用仮設工事（通路足場）",203010,"重大災害"]
[51,"立馬で材料荷渡しや作業時に転落する","専用仮設工事（通路足場）",203010,"重大災害"]
[52,"立馬の脚が段差・床スリｰブにはまり、または縮んで転落・転倒する","専用仮設工事（通路足場）",203010,"重大災害"]
[53,"立馬から降りる時に踏み外して転落する","専用仮設工事（通路足場）",203010,"重大災害"]
[54,"立馬で作業時に　　　　　　　　　　にて怪我をする","専用仮設工事（通路足場）",203010,"重大災害"]
[55,"サンダｰや丸のこ使用時、手がぶれたり、刃がはねて負傷する","専用仮設工事（コンクリート足場）",203020,"重大災害"]
[56,"立馬で材料荷渡しや作業時に転落する","専用仮設工事（コンクリート足場）",203020,"重大災害"]
[57,"立馬の脚が段差・床スリｰブにはまり、または縮んで転落・転倒する","専用仮設工事（コンクリート足場）",203020,"重大災害"]
[58,"立馬から降りる時に踏み外して転落する","専用仮設工事（コンクリート足場）",203020,"重大災害"]
[59,"立馬で作業時に　　　　　　　　　　にて怪我をする","専用仮設工事（コンクリート足場）",203020,"重大災害"]
[60,"サンダｰや丸のこ使用時、手がぶれたり、刃がはねて負傷する","専用仮設工事（鉄骨吊り足場等）",203030,"重大災害"]
[61,"立馬で材料荷渡しや作業時に転落する","専用仮設工事（鉄骨吊り足場等）",203030,"重大災害"]
[62,"立馬の脚が段差・床スリｰブにはまり、または縮んで転落・転倒する","専用仮設工事（鉄骨吊り足場等）",203030,"重大災害"]
[63,"立馬から降りる時に踏み外して転落する","専用仮設工事（鉄骨吊り足場等）",203030,"重大災害"]
[64,"立馬で作業時に　　　　　　　　　　にて怪我をする","専用仮設工事（鉄骨吊り足場等）",203030,"重大災害"]
[65,"立馬で材料荷渡しや作業時に転落する","安全設備工事（シート・ネット）",204010,"重大災害"]
[66,"立馬の脚が段差・床スリｰブにはまり、または縮んで転落・転倒する","安全設備工事（シート・ネット）",204010,"重大災害"]
[67,"立馬から降りる時に踏み外して転落する","安全設備工事（シート・ネット）",204010,"重大災害"]
[68,"立馬で作業時に　　　　　　　　　　にて怪我をする","安全設備工事（シート・ネット）",204010,"重大災害"]
[69,"立馬で材料荷渡しや作業時に転落する","片付清掃工事",205010,"重大災害"]
[70,"立馬の脚が段差・床スリｰブにはまり、または縮んで転落・転倒する","片付清掃工事",205010,"重大災害"]
[71,"立馬から降りる時に踏み外して転落する","片付清掃工事",205010,"重大災害"]
[72,"立馬で作業時に　　　　　　　　　　にて怪我をする","片付清掃工事",205010,"重大災害"]
[73,"立馬で材料荷渡しや作業時に転落する","美装工事",205020,"重大災害"]
[74,"立馬の脚が段差・床スリｰブにはまり、または縮んで転落・転倒する","美装工事",205020,"重大災害"]
[75,"立馬から降りる時に踏み外して転落する","美装工事",205020,"重大災害"]
[76,"立馬で作業時に　　　　　　　　　　にて怪我をする","美装工事",205020,"重大災害"]
[77,"揚重作業時クレｰンが転倒する","構台組立・解体工事",206010,"重大災害"]
[78,"サンダｰや丸のこ使用時、手がぶれたり、刃がはねて負傷する","構台組立・解体工事",206010,"重大災害"]
[79,"立馬で材料荷渡しや作業時に転落する","構台組立・解体工事",206010,"重大災害"]
[80,"立馬の脚が段差・床スリｰブにはまり、または縮んで転落・転倒する","構台組立・解体工事",206010,"重大災害"]
[81,"立馬から降りる時に踏み外して転落する","構台組立・解体工事",206010,"重大災害"]
[82,"立馬で作業時に　　　　　　　　　　にて怪我をする","構台組立・解体工事",206010,"重大災害"]
[83,"サンダｰや丸のこ使用時、手がぶれたり、刃がはねて負傷する","土工事",301010,"重大災害"]
[84,"安全ブロックを使用せず梯子やタラップから転落する","土工事",301010,"重大災害"]
[85,"立馬で材料荷渡しや作業時に転落する","土工事",301010,"重大災害"]
[86,"立馬の脚が段差・床スリｰブにはまり、または縮んで転落・転倒する","土工事",301010,"重大災害"]
[87,"立馬から降りる時に踏み外して転落する","土工事",301010,"重大災害"]
[88,"立馬で作業時に　　　　　　　　　　にて怪我をする","土工事",301010,"重大災害"]
[89,"揚重作業時クレｰンが転倒する","山留工事（親杭・シートパイル・SMW等)",301020,"重大災害"]
[90,"サンダｰや丸のこ使用時、手がぶれたり、刃がはねて負傷する","山留工事（親杭・シートパイル・SMW等)",301020,"重大災害"]
[91,"立馬で材料荷渡しや作業時に転落する","山留工事（親杭・シートパイル・SMW等)",301020,"重大災害"]
[92,"立馬の脚が段差・床スリｰブにはまり、または縮んで転落・転倒する","山留工事（親杭・シートパイル・SMW等)",301020,"重大災害"]
[93,"立馬から降りる時に踏み外して転落する","山留工事（親杭・シートパイル・SMW等)",301020,"重大災害"]
[94,"立馬で作業時に　　　　　　　　　　にて怪我をする","山留工事（親杭・シートパイル・SMW等)",301020,"重大災害"]
[95,"揚重作業時クレｰンが転倒する","山留工事（切梁組立・解体）",301030,"重大災害"]
[96,"サンダｰや丸のこ使用時、手がぶれたり、刃がはねて負傷する","山留工事（切梁組立・解体）",301030,"重大災害"]
[97,"立馬で材料荷渡しや作業時に転落する","山留工事（切梁組立・解体）",301030,"重大災害"]
[98,"立馬の脚が段差・床スリｰブにはまり、または縮んで転落・転倒する","山留工事（切梁組立・解体）",301030,"重大災害"]
[99,"立馬から降りる時に踏み外して転落する","山留工事（切梁組立・解体）",301030,"重大災害"]
[100,"立馬で作業時に　　　　　　　　　　にて怪我をする","山留工事（切梁組立・解体）",301030,"重大災害"]
[101,"揚重作業時クレｰンが転倒する","地業工事",302010,"重大災害"]
[102,"サンダｰや丸のこ使用時、手がぶれたり、刃がはねて負傷する","地業工事",302010,"重大災害"]
[103,"立馬で材料荷渡しや作業時に転落する","地業工事",302010,"重大災害"]
[104,"立馬の脚が段差・床スリｰブにはまり、または縮んで転落・転倒する","地業工事",302010,"重大災害"]
[105,"立馬から降りる時に踏み外して転落する","地業工事",302010,"重大災害"]
[106,"立馬で作業時に　　　　　　　　　　にて怪我をする","地業工事",302010,"重大災害"]
[107,"安全ブロックを使用せず梯子やタラップから転落する","コンクリート工事（打設）",401010,"重大災害"]
[108,"立馬で材料荷渡しや作業時に転落する","コンクリート工事（打設）",401010,"重大災害"]
[109,"立馬の脚が段差・床スリｰブにはまり、または縮んで転落・転倒する","コンクリート工事（打設）",401010,"重大災害"]
[110,"立馬から降りる時に踏み外して転落する","コンクリート工事（打設）",401010,"重大災害"]
[111,"立馬で作業時に　　　　　　　　　　にて怪我をする","コンクリート工事（打設）",401010,"重大災害"]
[112,"サンダｰや丸のこ使用時、手がぶれたり、刃がはねて負傷する","コンクリート工事（圧送）",401020,"重大災害"]
[113,"安全ブロックを使用せず梯子やタラップから転落する","コンクリート工事（圧送）",401020,"重大災害"]
[114,"立馬で材料荷渡しや作業時に転落する","コンクリート工事（圧送）",401020,"重大災害"]
[115,"立馬の脚が段差・床スリｰブにはまり、または縮んで転落・転倒する","コンクリート工事（圧送）",401020,"重大災害"]
[116,"立馬から降りる時に踏み外して転落する","コンクリート工事（圧送）",401020,"重大災害"]
[117,"立馬で作業時に　　　　　　　　　　にて怪我をする","コンクリート工事（圧送）",401020,"重大災害"]
[118,"サンダｰや丸のこ使用時、手がぶれたり、刃がはねて負傷する","型枠組立工事（基礎・地中梁）",402010,"重大災害"]
[119,"安全ブロックを使用せず梯子やタラップから転落する","型枠組立工事（基礎・地中梁）",402010,"重大災害"]
[120,"立馬で材料荷渡しや作業時に転落する","型枠組立工事（基礎・地中梁）",402010,"重大災害"]
[121,"立馬の脚が段差・床スリｰブにはまり、または縮んで転落・転倒する","型枠組立工事（基礎・地中梁）",402010,"重大災害"]
[122,"立馬から降りる時に踏み外して転落する","型枠組立工事（基礎・地中梁）",402010,"重大災害"]
[123,"立馬で作業時に　　　　　　　　　　にて怪我をする","型枠組立工事（基礎・地中梁）",402010,"重大災害"]
[124,"サンダｰや丸のこ使用時、手がぶれたり、刃がはねて負傷する","型枠組立工事（柱・壁）",402020,"重大災害"]
[125,"立馬で材料荷渡しや作業時に転落する","型枠組立工事（柱・壁）",402020,"重大災害"]
[126,"立馬の脚が段差・床スリｰブにはまり、または縮んで転落・転倒する","型枠組立工事（柱・壁）",402020,"重大災害"]
[127,"立馬から降りる時に踏み外して転落する","型枠組立工事（柱・壁）",402020,"重大災害"]
[128,"立馬で作業時に　　　　　　　　　　にて怪我をする","型枠組立工事（柱・壁）",402020,"重大災害"]
[129,"サンダｰや丸のこ使用時、手がぶれたり、刃がはねて負傷する","型枠組立工事（梁・スラブ）",402030,"重大災害"]
[130,"立馬で材料荷渡しや作業時に転落する","型枠組立工事（梁・スラブ）",402030,"重大災害"]
[131,"立馬の脚が段差・床スリｰブにはまり、または縮んで転落・転倒する","型枠組立工事（梁・スラブ）",402030,"重大災害"]
[132,"立馬から降りる時に踏み外して転落する","型枠組立工事（梁・スラブ）",402030,"重大災害"]
[133,"立馬で作業時に　　　　　　　　　　にて怪我をする","型枠組立工事（梁・スラブ）",402030,"重大災害"]
[134,"サンダｰや丸のこ使用時、手がぶれたり、刃がはねて負傷する","型枠組立工事（持出スラブ）",402040,"重大災害"]
[135,"立馬で材料荷渡しや作業時に転落する","型枠組立工事（持出スラブ）",402040,"重大災害"]
[136,"立馬の脚が段差・床スリｰブにはまり、または縮んで転落・転倒する","型枠組立工事（持出スラブ）",402040,"重大災害"]
[137,"立馬から降りる時に踏み外して転落する","型枠組立工事（持出スラブ）",402040,"重大災害"]
[138,"立馬で作業時に　　　　　　　　　　にて怪我をする","型枠組立工事（持出スラブ）",402040,"重大災害"]
[139,"サンダｰや丸のこ使用時、手がぶれたり、刃がはねて負傷する","型枠解体工事（側面）",402050,"重大災害"]
[140,"立馬で材料荷渡しや作業時に転落する","型枠解体工事（側面）",402050,"重大災害"]
[141,"立馬の脚が段差・床スリｰブにはまり、または縮んで転落・転倒する","型枠解体工事（側面）",402050,"重大災害"]
[142,"立馬から降りる時に踏み外して転落する","型枠解体工事（側面）",402050,"重大災害"]
[143,"立馬で作業時に　　　　　　　　　　にて怪我をする","型枠解体工事（側面）",402050,"重大災害"]
[144,"サンダｰや丸のこ使用時、手がぶれたり、刃がはねて負傷する","型枠解体工事（梁・スラブ）",402060,"重大災害"]
[145,"立馬で材料荷渡しや作業時に転落する","型枠解体工事（梁・スラブ）",402060,"重大災害"]
[146,"立馬の脚が段差・床スリｰブにはまり、または縮んで転落・転倒する","型枠解体工事（梁・スラブ）",402060,"重大災害"]
[147,"立馬から降りる時に踏み外して転落する","型枠解体工事（梁・スラブ）",402060,"重大災害"]
[148,"立馬で作業時に　　　　　　　　　　にて怪我をする","型枠解体工事（梁・スラブ）",402060,"重大災害"]
[149,"サンダｰや丸のこ使用時、手がぶれたり、刃がはねて負傷する","型枠工事（その他）",402070,"重大災害"]
[150,"立馬で材料荷渡しや作業時に転落する","型枠工事（その他）",402070,"重大災害"]
[151,"立馬の脚が段差・床スリｰブにはまり、または縮んで転落・転倒する","型枠工事（その他）",402070,"重大災害"]
[152,"立馬から降りる時に踏み外して転落する","型枠工事（その他）",402070,"重大災害"]
[153,"立馬で作業時に　　　　　　　　　　にて怪我をする","型枠工事（その他）",402070,"重大災害"]
[154,"揚重作業時クレｰンが転倒する","鉄筋組立工事（基礎・地中梁）",403010,"重大災害"]
[155,"サンダｰや丸のこ使用時、手がぶれたり、刃がはねて負傷する","鉄筋組立工事（基礎・地中梁）",403010,"重大災害"]
[156,"安全ブロックを使用せず梯子やタラップから転落する","鉄筋組立工事（基礎・地中梁）",403010,"重大災害"]
[157,"立馬で材料荷渡しや作業時に転落する","鉄筋組立工事（基礎・地中梁）",403010,"重大災害"]
[158,"立馬の脚が段差・床スリｰブにはまり、または縮んで転落・転倒する","鉄筋組立工事（基礎・地中梁）",403010,"重大災害"]
[159,"立馬から降りる時に踏み外して転落する","鉄筋組立工事（基礎・地中梁）",403010,"重大災害"]
[160,"立馬で作業時に　　　　　　　　　　にて怪我をする","鉄筋組立工事（基礎・地中梁）",403010,"重大災害"]
[161,"揚重作業時クレｰンが転倒する","鉄筋組立工事（柱・壁）",403020,"重大災害"]
[162,"サンダｰや丸のこ使用時、手がぶれたり、刃がはねて負傷する","鉄筋組立工事（柱・壁）",403020,"重大災害"]
[163,"立馬で材料荷渡しや作業時に転落する","鉄筋組立工事（柱・壁）",403020,"重大災害"]
[164,"立馬の脚が段差・床スリｰブにはまり、または縮んで転落・転倒する","鉄筋組立工事（柱・壁）",403020,"重大災害"]
[165,"立馬から降りる時に踏み外して転落する","鉄筋組立工事（柱・壁）",403020,"重大災害"]
[166,"立馬で作業時に　　　　　　　　　　にて怪我をする","鉄筋組立工事（柱・壁）",403020,"重大災害"]
[167,"揚重作業時クレｰンが転倒する","鉄筋組立工事（梁・スラブ）",403030,"重大災害"]
[168,"サンダｰや丸のこ使用時、手がぶれたり、刃がはねて負傷する","鉄筋組立工事（梁・スラブ）",403030,"重大災害"]
[169,"立馬で材料荷渡しや作業時に転落する","鉄筋組立工事（梁・スラブ）",403030,"重大災害"]
[170,"立馬の脚が段差・床スリｰブにはまり、または縮んで転落・転倒する","鉄筋組立工事（梁・スラブ）",403030,"重大災害"]
[171,"立馬から降りる時に踏み外して転落する","鉄筋組立工事（梁・スラブ）",403030,"重大災害"]
[172,"立馬で作業時に　　　　　　　　　　にて怪我をする","鉄筋組立工事（梁・スラブ）",403030,"重大災害"]
[173,"サンダｰや丸のこ使用時、手がぶれたり、刃がはねて負傷する","鉄筋工事（その他）",403040,"重大災害"]
[174,"立馬で材料荷渡しや作業時に転落する","鉄筋工事（その他）",403040,"重大災害"]
[175,"立馬の脚が段差・床スリｰブにはまり、または縮んで転落・転倒する","鉄筋工事（その他）",403040,"重大災害"]
[176,"立馬から降りる時に踏み外して転落する","鉄筋工事（その他）",403040,"重大災害"]
[177,"立馬で作業時に　　　　　　　　　　にて怪我をする","鉄筋工事（その他）",403040,"重大災害"]
[178,"サンダｰや丸のこ使用時、手がぶれたり、刃がはねて負傷する","鉄筋継手工事（圧接・溶接）",403050,"重大災害"]
[179,"立馬で材料荷渡しや作業時に転落する","鉄筋継手工事（圧接・溶接）",403050,"重大災害"]
[180,"立馬の脚が段差・床スリｰブにはまり、または縮んで転落・転倒する","鉄筋継手工事（圧接・溶接）",403050,"重大災害"]
[181,"立馬から降りる時に踏み外して転落する","鉄筋継手工事（圧接・溶接）",403050,"重大災害"]
[182,"立馬で作業時に　　　　　　　　　　にて怪我をする","鉄筋継手工事（圧接・溶接）",403050,"重大災害"]
[183,"サンダｰや丸のこ使用時、手がぶれたり、刃がはねて負傷する","鉄筋継手工事（機械式）",403060,"重大災害"]
[184,"立馬で材料荷渡しや作業時に転落する","鉄筋継手工事（機械式）",403060,"重大災害"]
[185,"立馬の脚が段差・床スリｰブにはまり、または縮んで転落・転倒する","鉄筋継手工事（機械式）",403060,"重大災害"]
[186,"立馬から降りる時に踏み外して転落する","鉄筋継手工事（機械式）",403060,"重大災害"]
[187,"立馬で作業時に　　　　　　　　　　にて怪我をする","鉄筋継手工事（機械式）",403060,"重大災害"]
[188,"揚重作業時クレｰンが転倒する","鉄骨工事（搬入・仮置）",404010,"重大災害"]
[189,"サンダｰや丸のこ使用時、手がぶれたり、刃がはねて負傷する","鉄骨工事（搬入・仮置）",404010,"重大災害"]
[190,"立馬で材料荷渡しや作業時に転落する","鉄骨工事（搬入・仮置）",404010,"重大災害"]
[191,"立馬の脚が段差・床スリｰブにはまり、または縮んで転落・転倒する","鉄骨工事（搬入・仮置）",404010,"重大災害"]
[192,"立馬から降りる時に踏み外して転落する","鉄骨工事（搬入・仮置）",404010,"重大災害"]
[193,"立馬で作業時に　　　　　　　　　　にて怪我をする","鉄骨工事（搬入・仮置）",404010,"重大災害"]
[194,"揚重作業時クレｰンが転倒する","鉄骨工事（建方）",404020,"重大災害"]
[195,"サンダｰや丸のこ使用時、手がぶれたり、刃がはねて負傷する","鉄骨工事（建方）",404020,"重大災害"]
[196,"安全ブロックを使用せず梯子やタラップから転落する","鉄骨工事（建方）",404020,"重大災害"]
[197,"立馬で材料荷渡しや作業時に転落する","鉄骨工事（建方）",404020,"重大災害"]
[198,"立馬の脚が段差・床スリｰブにはまり、または縮んで転落・転倒する","鉄骨工事（建方）",404020,"重大災害"]
[199,"立馬から降りる時に踏み外して転落する","鉄骨工事（建方）",404020,"重大災害"]
[200,"立馬で作業時に　　　　　　　　　　にて怪我をする","鉄骨工事（建方）",404020,"重大災害"]
[201,"サンダｰや丸のこ使用時、手がぶれたり、刃がはねて負傷する","鉄骨工事（建ち直し・本締め）",404030,"重大災害"]
[202,"安全ブロックを使用せず梯子やタラップから転落する","鉄骨工事（建ち直し・本締め）",404030,"重大災害"]
[203,"立馬で材料荷渡しや作業時に転落する","鉄骨工事（建ち直し・本締め）",404030,"重大災害"]
[204,"立馬の脚が段差・床スリｰブにはまり、または縮んで転落・転倒する","鉄骨工事（建ち直し・本締め）",404030,"重大災害"]
[205,"立馬から降りる時に踏み外して転落する","鉄骨工事（建ち直し・本締め）",404030,"重大災害"]
[206,"立馬で作業時に　　　　　　　　　　にて怪我をする","鉄骨工事（建ち直し・本締め）",404030,"重大災害"]
[207,"サンダｰや丸のこ使用時、手がぶれたり、刃がはねて負傷する","鉄骨工事（デッキプレート搬入・取込）",404040,"重大災害"]
[208,"立馬で材料荷渡しや作業時に転落する","鉄骨工事（デッキプレート搬入・取込）",404040,"重大災害"]
[209,"立馬の脚が段差・床スリｰブにはまり、または縮んで転落・転倒する","鉄骨工事（デッキプレート搬入・取込）",404040,"重大災害"]
[210,"立馬から降りる時に踏み外して転落する","鉄骨工事（デッキプレート搬入・取込）",404040,"重大災害"]
[211,"立馬で作業時に　　　　　　　　　　にて怪我をする","鉄骨工事（デッキプレート搬入・取込）",404040,"重大災害"]
[212,"サンダｰや丸のこ使用時、手がぶれたり、刃がはねて負傷する","鉄骨工事（デッキプレート敷込）",404050,"重大災害"]
[213,"立馬で材料荷渡しや作業時に転落する","鉄骨工事（デッキプレート敷込）",404050,"重大災害"]
[214,"立馬の脚が段差・床スリｰブにはまり、または縮んで転落・転倒する","鉄骨工事（デッキプレート敷込）",404050,"重大災害"]
[215,"立馬から降りる時に踏み外して転落する","鉄骨工事（デッキプレート敷込）",404050,"重大災害"]
[216,"立馬で作業時に　　　　　　　　　　にて怪我をする","鉄骨工事（デッキプレート敷込）",404050,"重大災害"]
[217,"サンダｰや丸のこ使用時、手がぶれたり、刃がはねて負傷する","鉄骨工事（現場溶接）",404060,"重大災害"]
[218,"立馬で材料荷渡しや作業時に転落する","鉄骨工事（現場溶接）",404060,"重大災害"]
[219,"立馬の脚が段差・床スリｰブにはまり、または縮んで転落・転倒する","鉄骨工事（現場溶接）",404060,"重大災害"]
[220,"立馬から降りる時に踏み外して転落する","鉄骨工事（現場溶接）",404060,"重大災害"]
[221,"立馬で作業時に　　　　　　　　　　にて怪我をする","鉄骨工事（現場溶接）",404060,"重大災害"]
[222,"サンダｰや丸のこ使用時、手がぶれたり、刃がはねて負傷する","鉄骨工事（スタッド）",404070,"重大災害"]
[223,"立馬で材料荷渡しや作業時に転落する","鉄骨工事（スタッド）",404070,"重大災害"]
[224,"立馬の脚が段差・床スリｰブにはまり、または縮んで転落・転倒する","鉄骨工事（スタッド）",404070,"重大災害"]
[225,"立馬から降りる時に踏み外して転落する","鉄骨工事（スタッド）",404070,"重大災害"]
[226,"立馬で作業時に　　　　　　　　　　にて怪我をする","鉄骨工事（スタッド）",404070,"重大災害"]
[227,"サンダｰや丸のこ使用時、手がぶれたり、刃がはねて負傷する","鉄骨工事（耐火被覆）",404080,"重大災害"]
[228,"立馬で材料荷渡しや作業時に転落する","鉄骨工事（耐火被覆）",404080,"重大災害"]
[229,"立馬の脚が段差・床スリｰブにはまり、または縮んで転落・転倒する","鉄骨工事（耐火被覆）",404080,"重大災害"]
[230,"立馬から降りる時に踏み外して転落する","鉄骨工事（耐火被覆）",404080,"重大災害"]
[231,"立馬で作業時に　　　　　　　　　　にて怪我をする","鉄骨工事（耐火被覆）",404080,"重大災害"]
[232,"揚重作業時クレｰンが転倒する","PC工事（柱・梁）",405010,"重大災害"]
[233,"サンダｰや丸のこ使用時、手がぶれたり、刃がはねて負傷する","PC工事（柱・梁）",405010,"重大災害"]
[234,"立馬で材料荷渡しや作業時に転落する","PC工事（柱・梁）",405010,"重大災害"]
[235,"立馬の脚が段差・床スリｰブにはまり、または縮んで転落・転倒する","PC工事（柱・梁）",405010,"重大災害"]
[236,"立馬から降りる時に踏み外して転落する","PC工事（柱・梁）",405010,"重大災害"]
[237,"立馬で作業時に　　　　　　　　　　にて怪我をする","PC工事（柱・梁）",405010,"重大災害"]
[238,"揚重作業時クレｰンが転倒する","PC工事（スラブ・バルコニー）",405020,"重大災害"]
[239,"サンダｰや丸のこ使用時、手がぶれたり、刃がはねて負傷する","PC工事（スラブ・バルコニー）",405020,"重大災害"]
[240,"立馬で材料荷渡しや作業時に転落する","PC工事（スラブ・バルコニー）",405020,"重大災害"]
[241,"立馬の脚が段差・床スリｰブにはまり、または縮んで転落・転倒する","PC工事（スラブ・バルコニー）",405020,"重大災害"]
[242,"立馬から降りる時に踏み外して転落する","PC工事（スラブ・バルコニー）",405020,"重大災害"]
[243,"立馬で作業時に　　　　　　　　　　にて怪我をする","PC工事（スラブ・バルコニー）",405020,"重大災害"]
[244,"サンダｰや丸のこ使用時、手がぶれたり、刃がはねて負傷する","プレストレスト工事（設置・緊張）",405030,"重大災害"]
[245,"立馬で材料荷渡しや作業時に転落する","プレストレスト工事（設置・緊張）",405030,"重大災害"]
[246,"立馬の脚が段差・床スリｰブにはまり、または縮んで転落・転倒する","プレストレスト工事（設置・緊張）",405030,"重大災害"]
[247,"立馬から降りる時に踏み外して転落する","プレストレスト工事（設置・緊張）",405030,"重大災害"]
[248,"立馬で作業時に　　　　　　　　　　にて怪我をする","プレストレスト工事（設置・緊張）",405030,"重大災害"]
[249,"サンダｰや丸のこ使用時、手がぶれたり、刃がはねて負傷する","組積工事（ALC・成形板）",501010,"重大災害"]
[250,"立馬で材料荷渡しや作業時に転落する","組積工事（ALC・成形板）",501010,"重大災害"]
[251,"立馬の脚が段差・床スリｰブにはまり、または縮んで転落・転倒する","組積工事（ALC・成形板）",501010,"重大災害"]
[252,"立馬から降りる時に踏み外して転落する","組積工事（ALC・成形板）",501010,"重大災害"]
[253,"立馬で作業時に　　　　　　　　　　にて怪我をする","組積工事（ALC・成形板）",501010,"重大災害"]
[254,"サンダｰや丸のこ使用時、手がぶれたり、刃がはねて負傷する","組積工事（ｺﾝｸﾘｰﾄﾌﾞﾛｯｸ、ｶﾞﾗｽﾌﾞﾛｯｸ等）",501020,"重大災害"]
[255,"立馬で材料荷渡しや作業時に転落する","組積工事（ｺﾝｸﾘｰﾄﾌﾞﾛｯｸ、ｶﾞﾗｽﾌﾞﾛｯｸ等）",501020,"重大災害"]
[256,"立馬の脚が段差・床スリｰブにはまり、または縮んで転落・転倒する","組積工事（ｺﾝｸﾘｰﾄﾌﾞﾛｯｸ、ｶﾞﾗｽﾌﾞﾛｯｸ等）",501020,"重大災害"]
[257,"立馬から降りる時に踏み外して転落する","組積工事（ｺﾝｸﾘｰﾄﾌﾞﾛｯｸ、ｶﾞﾗｽﾌﾞﾛｯｸ等）",501020,"重大災害"]
[258,"立馬で作業時に　　　　　　　　　　にて怪我をする","組積工事（ｺﾝｸﾘｰﾄﾌﾞﾛｯｸ、ｶﾞﾗｽﾌﾞﾛｯｸ等）",501020,"重大災害"]
[259,"安全ブロックを使用せず梯子やタラップから転落する","防水工事（アスファルト）",502010,"重大災害"]
[260,"立馬で材料荷渡しや作業時に転落する","防水工事（アスファルト）",502010,"重大災害"]
[261,"立馬の脚が段差・床スリｰブにはまり、または縮んで転落・転倒する","防水工事（アスファルト）",502010,"重大災害"]
[262,"立馬から降りる時に踏み外して転落する","防水工事（アスファルト）",502010,"重大災害"]
[263,"立馬で作業時に　　　　　　　　　　にて怪我をする","防水工事（アスファルト）",502010,"重大災害"]
[264,"安全ブロックを使用せず梯子やタラップから転落する","防水工事（シート）",502020,"重大災害"]
[265,"立馬で材料荷渡しや作業時に転落する","防水工事（シート）",502020,"重大災害"]
[266,"立馬の脚が段差・床スリｰブにはまり、または縮んで転落・転倒する","防水工事（シート）",502020,"重大災害"]
[267,"立馬から降りる時に踏み外して転落する","防水工事（シート）",502020,"重大災害"]
[268,"立馬で作業時に　　　　　　　　　　にて怪我をする","防水工事（シート）",502020,"重大災害"]
[269,"安全ブロックを使用せず梯子やタラップから転落する","防水工事（塗膜）",502030,"重大災害"]
[270,"立馬で材料荷渡しや作業時に転落する","防水工事（塗膜）",502030,"重大災害"]
[271,"立馬の脚が段差・床スリｰブにはまり、または縮んで転落・転倒する","防水工事（塗膜）",502030,"重大災害"]
[272,"立馬から降りる時に踏み外して転落する","防水工事（塗膜）",502030,"重大災害"]
[273,"立馬で作業時に　　　　　　　　　　にて怪我をする","防水工事（塗膜）",502030,"重大災害"]
[274,"安全ブロックを使用せず梯子やタラップから転落する","防水工事（シーリング）",502040,"重大災害"]
[275,"立馬で材料荷渡しや作業時に転落する","防水工事（シーリング）",502040,"重大災害"]
[276,"立馬の脚が段差・床スリｰブにはまり、または縮んで転落・転倒する","防水工事（シーリング）",502040,"重大災害"]
[277,"立馬から降りる時に踏み外して転落する","防水工事（シーリング）",502040,"重大災害"]
[278,"立馬で作業時に　　　　　　　　　　にて怪我をする","防水工事（シーリング）",502040,"重大災害"]
[279,"サンダｰや丸のこ使用時、手がぶれたり、刃がはねて負傷する","石工事",503010,"重大災害"]
[280,"立馬で材料荷渡しや作業時に転落する","石工事",503010,"重大災害"]
[281,"立馬の脚が段差・床スリｰブにはまり、または縮んで転落・転倒する","石工事",503010,"重大災害"]
[282,"立馬から降りる時に踏み外して転落する","石工事",503010,"重大災害"]
[283,"立馬で作業時に　　　　　　　　　　にて怪我をする","石工事",503010,"重大災害"]
[284,"サンダｰや丸のこ使用時、手がぶれたり、刃がはねて負傷する","タイル工事",504010,"重大災害"]
[285,"安全ブロックを使用せず梯子やタラップから転落する","タイル工事",504010,"重大災害"]
[286,"立馬で材料荷渡しや作業時に転落する","タイル工事",504010,"重大災害"]
[287,"立馬の脚が段差・床スリｰブにはまり、または縮んで転落・転倒する","タイル工事",504010,"重大災害"]
[288,"立馬から降りる時に踏み外して転落する","タイル工事",504010,"重大災害"]
[289,"立馬で作業時に　　　　　　　　　　にて怪我をする","タイル工事",504010,"重大災害"]
[290,"サンダｰや丸のこ使用時、手がぶれたり、刃がはねて負傷する","木工事",505010,"重大災害"]
[291,"立馬で材料荷渡しや作業時に転落する","木工事",505010,"重大災害"]
[292,"立馬の脚が段差・床スリｰブにはまり、または縮んで転落・転倒する","木工事",505010,"重大災害"]
[293,"立馬から降りる時に踏み外して転落する","木工事",505010,"重大災害"]
[294,"立馬で作業時に　　　　　　　　　　にて怪我をする","木工事",505010,"重大災害"]
[295,"サンダｰや丸のこ使用時、手がぶれたり、刃がはねて負傷する","金属工事（足場作業）",506010,"重大災害"]
[296,"立馬で材料荷渡しや作業時に転落する","金属工事（足場作業）",506010,"重大災害"]
[297,"立馬の脚が段差・床スリｰブにはまり、または縮んで転落・転倒する","金属工事（足場作業）",506010,"重大災害"]
[298,"立馬から降りる時に踏み外して転落する","金属工事（足場作業）",506010,"重大災害"]
[299,"立馬で作業時に　　　　　　　　　　にて怪我をする","金属工事（足場作業）",506010,"重大災害"]
[300,"サンダｰや丸のこ使用時、手がぶれたり、刃がはねて負傷する","金属工事（溶接作業）",506020,"重大災害"]
[301,"立馬で材料荷渡しや作業時に転落する","金属工事（溶接作業）",506020,"重大災害"]
[302,"立馬の脚が段差・床スリｰブにはまり、または縮んで転落・転倒する","金属工事（溶接作業）",506020,"重大災害"]
[303,"立馬から降りる時に踏み外して転落する","金属工事（溶接作業）",506020,"重大災害"]
[304,"立馬で作業時に　　　　　　　　　　にて怪我をする","金属工事（溶接作業）",506020,"重大災害"]
[305,"サンダｰや丸のこ使用時、手がぶれたり、刃がはねて負傷する","金属工事（その他）",506030,"重大災害"]
[306,"安全ブロックを使用せず梯子やタラップから転落する","金属工事（その他）",506030,"重大災害"]
[307,"立馬で材料荷渡しや作業時に転落する","金属工事（その他）",506030,"重大災害"]
[308,"立馬の脚が段差・床スリｰブにはまり、または縮んで転落・転倒する","金属工事（その他）",506030,"重大災害"]
[309,"立馬から降りる時に踏み外して転落する","金属工事（その他）",506030,"重大災害"]
[310,"立馬で作業時に　　　　　　　　　　にて怪我をする","金属工事（その他）",506030,"重大災害"]
[311,"サンダｰや丸のこ使用時、手がぶれたり、刃がはねて負傷する","左官工事",507010,"重大災害"]
[312,"安全ブロックを使用せず梯子やタラップから転落する","左官工事",507010,"重大災害"]
[313,"立馬で材料荷渡しや作業時に転落する","左官工事",507010,"重大災害"]
[314,"立馬の脚が段差・床スリｰブにはまり、または縮んで転落・転倒する","左官工事",507010,"重大災害"]
[315,"立馬から降りる時に踏み外して転落する","左官工事",507010,"重大災害"]
[316,"立馬で作業時に　　　　　　　　　　にて怪我をする","左官工事",507010,"重大災害"]
[317,"サンダｰや丸のこ使用時、手がぶれたり、刃がはねて負傷する","左官工事（土間）",507020,"重大災害"]
[318,"サンダｰや丸のこ使用時、手がぶれたり、刃がはねて負傷する","木製建具工事",508010,"重大災害"]
[319,"立馬で材料荷渡しや作業時に転落する","木製建具工事",508010,"重大災害"]
[320,"立馬の脚が段差・床スリｰブにはまり、または縮んで転落・転倒する","木製建具工事",508010,"重大災害"]
[321,"立馬から降りる時に踏み外して転落する","木製建具工事",508010,"重大災害"]
[322,"立馬で作業時に　　　　　　　　　　にて怪我をする","木製建具工事",508010,"重大災害"]
[323,"サンダｰや丸のこ使用時、手がぶれたり、刃がはねて負傷する","金属製建具工事（AW)",509010,"重大災害"]
[324,"立馬で材料荷渡しや作業時に転落する","金属製建具工事（AW)",509010,"重大災害"]
[325,"立馬の脚が段差・床スリｰブにはまり、または縮んで転落・転倒する","金属製建具工事（AW)",509010,"重大災害"]
[326,"立馬から降りる時に踏み外して転落する","金属製建具工事（AW)",509010,"重大災害"]
[327,"立馬で作業時に　　　　　　　　　　にて怪我をする","金属製建具工事（AW)",509010,"重大災害"]
[328,"サンダｰや丸のこ使用時、手がぶれたり、刃がはねて負傷する","金属製建具工事（SD)",509020,"重大災害"]
[329,"立馬で材料荷渡しや作業時に転落する","金属製建具工事（SD)",509020,"重大災害"]
[330,"立馬の脚が段差・床スリｰブにはまり、または縮んで転落・転倒する","金属製建具工事（SD)",509020,"重大災害"]
[331,"立馬から降りる時に踏み外して転落する","金属製建具工事（SD)",509020,"重大災害"]
[332,"立馬で作業時に　　　　　　　　　　にて怪我をする","金属製建具工事（SD)",509020,"重大災害"]
[333,"サンダｰや丸のこ使用時、手がぶれたり、刃がはねて負傷する","金属製建具工事（SS・重量SS)",509030,"重大災害"]
[334,"立馬で材料荷渡しや作業時に転落する","金属製建具工事（SS・重量SS)",509030,"重大災害"]
[335,"立馬の脚が段差・床スリｰブにはまり、または縮んで転落・転倒する","金属製建具工事（SS・重量SS)",509030,"重大災害"]
[336,"立馬から降りる時に踏み外して転落する","金属製建具工事（SS・重量SS)",509030,"重大災害"]
[337,"立馬で作業時に　　　　　　　　　　にて怪我をする","金属製建具工事（SS・重量SS)",509030,"重大災害"]
[338,"サンダｰや丸のこ使用時、手がぶれたり、刃がはねて負傷する","金属製建具工事（CW)",509040,"重大災害"]
[339,"立馬で材料荷渡しや作業時に転落する","金属製建具工事（CW)",509040,"重大災害"]
[340,"立馬の脚が段差・床スリｰブにはまり、または縮んで転落・転倒する","金属製建具工事（CW)",509040,"重大災害"]
[341,"立馬から降りる時に踏み外して転落する","金属製建具工事（CW)",509040,"重大災害"]
[342,"立馬で作業時に　　　　　　　　　　にて怪我をする","金属製建具工事（CW)",509040,"重大災害"]
[343,"立馬で材料荷渡しや作業時に転落する","ガラス工事",510010,"重大災害"]
[344,"立馬の脚が段差・床スリｰブにはまり、または縮んで転落・転倒する","ガラス工事",510010,"重大災害"]
[345,"立馬から降りる時に踏み外して転落する","ガラス工事",510010,"重大災害"]
[346,"立馬で作業時に　　　　　　　　　　にて怪我をする","ガラス工事",510010,"重大災害"]
[347,"立馬で材料荷渡しや作業時に転落する","塗装工事（塗装・塗床）",511010,"重大災害"]
[348,"立馬の脚が段差・床スリｰブにはまり、または縮んで転落・転倒する","塗装工事（塗装・塗床）",511010,"重大災害"]
[349,"立馬から降りる時に踏み外して転落する","塗装工事（塗装・塗床）",511010,"重大災害"]
[350,"立馬で作業時に　　　　　　　　　　にて怪我をする","塗装工事（塗装・塗床）",511010,"重大災害"]
[351,"立馬で材料荷渡しや作業時に転落する","吹付工事",511020,"重大災害"]
[352,"立馬の脚が段差・床スリｰブにはまり、または縮んで転落・転倒する","吹付工事",511020,"重大災害"]
[353,"立馬から降りる時に踏み外して転落する","吹付工事",511020,"重大災害"]
[354,"立馬で作業時に　　　　　　　　　　にて怪我をする","吹付工事",511020,"重大災害"]
[355,"サンダｰや丸のこ使用時、手がぶれたり、刃がはねて負傷する","内装工事（壁・天井下地）",512010,"重大災害"]
[356,"立馬で材料荷渡しや作業時に転落する","内装工事（壁・天井下地）",512010,"重大災害"]
[357,"立馬の脚が段差・床スリｰブにはまり、または縮んで転落・転倒する","内装工事（壁・天井下地）",512010,"重大災害"]
[358,"立馬から降りる時に踏み外して転落する","内装工事（壁・天井下地）",512010,"重大災害"]
[359,"立馬で作業時に　　　　　　　　　　にて怪我をする","内装工事（壁・天井下地）",512010,"重大災害"]
[360,"サンダｰや丸のこ使用時、手がぶれたり、刃がはねて負傷する","内装工事（ボード貼り）",512020,"重大災害"]
[361,"立馬で材料荷渡しや作業時に転落する","内装工事（ボード貼り）",512020,"重大災害"]
[362,"立馬の脚が段差・床スリｰブにはまり、または縮んで転落・転倒する","内装工事（ボード貼り）",512020,"重大災害"]
[363,"立馬から降りる時に踏み外して転落する","内装工事（ボード貼り）",512020,"重大災害"]
[364,"立馬で作業時に　　　　　　　　　　にて怪我をする","内装工事（ボード貼り）",512020,"重大災害"]
[365,"立馬で材料荷渡しや作業時に転落する","内装工事（壁・天井仕上げ）",512030,"重大災害"]
[366,"立馬の脚が段差・床スリｰブにはまり、または縮んで転落・転倒する","内装工事（壁・天井仕上げ）",512030,"重大災害"]
[367,"立馬から降りる時に踏み外して転落する","内装工事（壁・天井仕上げ）",512030,"重大災害"]
[368,"立馬で作業時に　　　　　　　　　　にて怪我をする","内装工事（壁・天井仕上げ）",512030,"重大災害"]
[369,"サンダｰや丸のこ使用時、手がぶれたり、刃がはねて負傷する","内装工事（床下地）",512040,"重大災害"]
[370,"立馬で材料荷渡しや作業時に転落する","内装工事（カーテン・ブラインド）",512060,"重大災害"]
[371,"立馬の脚が段差・床スリｰブにはまり、または縮んで転落・転倒する","内装工事（カーテン・ブラインド）",512060,"重大災害"]
[372,"立馬から降りる時に踏み外して転落する","内装工事（カーテン・ブラインド）",512060,"重大災害"]
[373,"立馬で作業時に　　　　　　　　　　にて怪我をする","内装工事（カーテン・ブラインド）",512060,"重大災害"]
[374,"立馬で材料荷渡しや作業時に転落する","ウレタン吹付工事",512070,"重大災害"]
[375,"立馬の脚が段差・床スリｰブにはまり、または縮んで転落・転倒する","ウレタン吹付工事",512070,"重大災害"]
[376,"立馬から降りる時に踏み外して転落する","ウレタン吹付工事",512070,"重大災害"]
[377,"立馬で作業時に　　　　　　　　　　にて怪我をする","ウレタン吹付工事",512070,"重大災害"]
[378,"サンダｰや丸のこ使用時、手がぶれたり、刃がはねて負傷する","屋根工事",512080,"重大災害"]
[379,"安全ブロックを使用せず梯子やタラップから転落する","屋根工事",512080,"重大災害"]
[380,"立馬で材料荷渡しや作業時に転落する","屋根工事",512080,"重大災害"]
[381,"立馬の脚が段差・床スリｰブにはまり、または縮んで転落・転倒する","屋根工事",512080,"重大災害"]
[382,"立馬から降りる時に踏み外して転落する","屋根工事",512080,"重大災害"]
[383,"立馬で作業時に　　　　　　　　　　にて怪我をする","屋根工事",512080,"重大災害"]
[384,"サンダｰや丸のこ使用時、手がぶれたり、刃がはねて負傷する","樋工事",512090,"重大災害"]
[385,"安全ブロックを使用せず梯子やタラップから転落する","樋工事",512090,"重大災害"]
[386,"立馬で材料荷渡しや作業時に転落する","樋工事",512090,"重大災害"]
[387,"立馬の脚が段差・床スリｰブにはまり、または縮んで転落・転倒する","樋工事",512090,"重大災害"]
[388,"立馬から降りる時に踏み外して転落する","樋工事",512090,"重大災害"]
[389,"立馬で作業時に　　　　　　　　　　にて怪我をする","樋工事",512090,"重大災害"]
[390,"サンダｰや丸のこ使用時、手がぶれたり、刃がはねて負傷する","仕上ユニット工事（UB、洗面、キッチン、家具等）",513010,"重大災害"]
[391,"立馬で材料荷渡しや作業時に転落する","仕上ユニット工事（UB、洗面、キッチン、家具等）",513010,"重大災害"]
[392,"立馬の脚が段差・床スリｰブにはまり、または縮んで転落・転倒する","仕上ユニット工事（UB、洗面、キッチン、家具等）",513010,"重大災害"]
[393,"立馬から降りる時に踏み外して転落する","仕上ユニット工事（UB、洗面、キッチン、家具等）",513010,"重大災害"]
[394,"立馬で作業時に　　　　　　　　　　にて怪我をする","仕上ユニット工事（UB、洗面、キッチン、家具等）",513010,"重大災害"]
[395,"サンダｰや丸のこ使用時、手がぶれたり、刃がはねて負傷する","その他仕上工事（トイレブース他）",514010,"重大災害"]
[396,"立馬で材料荷渡しや作業時に転落する","その他仕上工事（トイレブース他）",514010,"重大災害"]
[397,"立馬の脚が段差・床スリｰブにはまり、または縮んで転落・転倒する","その他仕上工事（トイレブース他）",514010,"重大災害"]
[398,"立馬から降りる時に踏み外して転落する","その他仕上工事（トイレブース他）",514010,"重大災害"]
[399,"立馬で作業時に　　　　　　　　　　にて怪我をする","その他仕上工事（トイレブース他）",514010,"重大災害"]
[400,"サンダｰや丸のこ使用時、手がぶれたり、刃がはねて負傷する","電気設備工事（ケーブルラック）",601010,"重大災害"]
[401,"立馬で材料荷渡しや作業時に転落する","電気設備工事（ケーブルラック）",601010,"重大災害"]
[402,"立馬の脚が段差・床スリｰブにはまり、または縮んで転落・転倒する","電気設備工事（ケーブルラック）",601010,"重大災害"]
[403,"立馬から降りる時に踏み外して転落する","電気設備工事（ケーブルラック）",601010,"重大災害"]
[404,"立馬で作業時に　　　　　　　　　　にて怪我をする","電気設備工事（ケーブルラック）",601010,"重大災害"]
[405,"サンダｰや丸のこ使用時、手がぶれたり、刃がはねて負傷する","電気設備工事（配線・配管）",601020,"重大災害"]
[406,"立馬で材料荷渡しや作業時に転落する","電気設備工事（配線・配管）",601020,"重大災害"]
[407,"立馬の脚が段差・床スリｰブにはまり、または縮んで転落・転倒する","電気設備工事（配線・配管）",601020,"重大災害"]
[408,"立馬から降りる時に踏み外して転落する","電気設備工事（配線・配管）",601020,"重大災害"]
[409,"立馬で作業時に　　　　　　　　　　にて怪我をする","電気設備工事（配線・配管）",601020,"重大災害"]
[410,"サンダｰや丸のこ使用時、手がぶれたり、刃がはねて負傷する","電気設備工事（照明器具・機器）",601030,"重大災害"]
[411,"立馬で材料荷渡しや作業時に転落する","電気設備工事（照明器具・機器）",601030,"重大災害"]
[412,"立馬の脚が段差・床スリｰブにはまり、または縮んで転落・転倒する","電気設備工事（照明器具・機器）",601030,"重大災害"]
[413,"立馬から降りる時に踏み外して転落する","電気設備工事（照明器具・機器）",601030,"重大災害"]
[414,"立馬で作業時に　　　　　　　　　　にて怪我をする","電気設備工事（照明器具・機器）",601030,"重大災害"]
[415,"揚重作業時クレｰンが転倒する","電気設備工事（キュービクル・盤）",601040,"重大災害"]
[416,"サンダｰや丸のこ使用時、手がぶれたり、刃がはねて負傷する","電気設備工事（キュービクル・盤）",601040,"重大災害"]
[417,"立馬で材料荷渡しや作業時に転落する","電気設備工事（キュービクル・盤）",601040,"重大災害"]
[418,"立馬の脚が段差・床スリｰブにはまり、または縮んで転落・転倒する","電気設備工事（キュービクル・盤）",601040,"重大災害"]
[419,"立馬から降りる時に踏み外して転落する","電気設備工事（キュービクル・盤）",601040,"重大災害"]
[420,"立馬で作業時に　　　　　　　　　　にて怪我をする","電気設備工事（キュービクル・盤）",601040,"重大災害"]
[421,"サンダｰや丸のこ使用時、手がぶれたり、刃がはねて負傷する","電気設備工事（避雷針・接地）",601050,"重大災害"]
[422,"安全ブロックを使用せず梯子やタラップから転落する","電気設備工事（避雷針・接地）",601050,"重大災害"]
[423,"立馬で材料荷渡しや作業時に転落する","電気設備工事（避雷針・接地）",601050,"重大災害"]
[424,"立馬の脚が段差・床スリｰブにはまり、または縮んで転落・転倒する","電気設備工事（避雷針・接地）",601050,"重大災害"]
[425,"立馬から降りる時に踏み外して転落する","電気設備工事（避雷針・接地）",601050,"重大災害"]
[426,"立馬で作業時に　　　　　　　　　　にて怪我をする","電気設備工事（避雷針・接地）",601050,"重大災害"]
[427,"サンダｰや丸のこ使用時、手がぶれたり、刃がはねて負傷する","電気設備工事（埋設配管）",601060,"重大災害"]
[428,"立馬で材料荷渡しや作業時に転落する","電気設備工事（埋設配管）",601060,"重大災害"]
[429,"立馬の脚が段差・床スリｰブにはまり、または縮んで転落・転倒する","電気設備工事（埋設配管）",601060,"重大災害"]
[430,"立馬から降りる時に踏み外して転落する","電気設備工事（埋設配管）",601060,"重大災害"]
[431,"立馬で作業時に　　　　　　　　　　にて怪我をする","電気設備工事（埋設配管）",601060,"重大災害"]
[432,"サンダｰや丸のこ使用時、手がぶれたり、刃がはねて負傷する","電気設備工事（打込配管）",601070,"重大災害"]
[433,"立馬で材料荷渡しや作業時に転落する","電気設備工事（打込配管）",601070,"重大災害"]
[434,"立馬の脚が段差・床スリｰブにはまり、または縮んで転落・転倒する","電気設備工事（打込配管）",601070,"重大災害"]
[435,"立馬から降りる時に踏み外して転落する","電気設備工事（打込配管）",601070,"重大災害"]
[436,"立馬で作業時に　　　　　　　　　　にて怪我をする","電気設備工事（打込配管）",601070,"重大災害"]
[437,"サンダｰや丸のこ使用時、手がぶれたり、刃がはねて負傷する","電気設備工事（スリーブ・インサート）",601080,"重大災害"]
[438,"立馬で材料荷渡しや作業時に転落する","電気設備工事（スリーブ・インサート）",601080,"重大災害"]
[439,"立馬の脚が段差・床スリｰブにはまり、または縮んで転落・転倒する","電気設備工事（スリーブ・インサート）",601080,"重大災害"]
[440,"立馬から降りる時に踏み外して転落する","電気設備工事（スリーブ・インサート）",601080,"重大災害"]
[441,"立馬で作業時に　　　　　　　　　　にて怪我をする","電気設備工事（スリーブ・インサート）",601080,"重大災害"]
[442,"立馬で材料荷渡しや作業時に転落する","電気設備工事（試運転調整）",601090,"重大災害"]
[443,"立馬の脚が段差・床スリｰブにはまり、または縮んで転落・転倒する","電気設備工事（試運転調整）",601090,"重大災害"]
[444,"立馬から降りる時に踏み外して転落する","電気設備工事（試運転調整）",601090,"重大災害"]
[445,"立馬で作業時に　　　　　　　　　　にて怪我をする","電気設備工事（試運転調整）",601090,"重大災害"]
[446,"サンダｰや丸のこ使用時、手がぶれたり、刃がはねて負傷する","電気設備工事（撤去工事）",601100,"重大災害"]
[447,"立馬で材料荷渡しや作業時に転落する","電気設備工事（撤去工事）",601100,"重大災害"]
[448,"立馬の脚が段差・床スリｰブにはまり、または縮んで転落・転倒する","電気設備工事（撤去工事）",601100,"重大災害"]
[449,"立馬から降りる時に踏み外して転落する","電気設備工事（撤去工事）",601100,"重大災害"]
[450,"立馬で作業時に　　　　　　　　　　にて怪我をする","電気設備工事（撤去工事）",601100,"重大災害"]
[451,"サンダｰや丸のこ使用時、手がぶれたり、刃がはねて負傷する","電気設備工事（その他）",601110,"重大災害"]
[452,"立馬で材料荷渡しや作業時に転落する","電気設備工事（その他）",601110,"重大災害"]
[453,"立馬の脚が段差・床スリｰブにはまり、または縮んで転落・転倒する","電気設備工事（その他）",601110,"重大災害"]
[454,"立馬から降りる時に踏み外して転落する","電気設備工事（その他）",601110,"重大災害"]
[455,"立馬で作業時に　　　　　　　　　　にて怪我をする","電気設備工事（その他）",601110,"重大災害"]
[456,"サンダｰや丸のこ使用時、手がぶれたり、刃がはねて負傷する","空調設備工事（ダクト）",602010,"重大災害"]
[457,"立馬で材料荷渡しや作業時に転落する","空調設備工事（ダクト）",602010,"重大災害"]
[458,"立馬の脚が段差・床スリｰブにはまり、または縮んで転落・転倒する","空調設備工事（ダクト）",602010,"重大災害"]
[459,"立馬から降りる時に踏み外して転落する","空調設備工事（ダクト）",602010,"重大災害"]
[460,"立馬で作業時に　　　　　　　　　　にて怪我をする","空調設備工事（ダクト）",602010,"重大災害"]
[461,"サンダｰや丸のこ使用時、手がぶれたり、刃がはねて負傷する","空調設備工事（冷媒・ドレン）",602020,"重大災害"]
[462,"立馬で材料荷渡しや作業時に転落する","空調設備工事（冷媒・ドレン）",602020,"重大災害"]
[463,"立馬の脚が段差・床スリｰブにはまり、または縮んで転落・転倒する","空調設備工事（冷媒・ドレン）",602020,"重大災害"]
[464,"立馬から降りる時に踏み外して転落する","空調設備工事（冷媒・ドレン）",602020,"重大災害"]
[465,"立馬で作業時に　　　　　　　　　　にて怪我をする","空調設備工事（冷媒・ドレン）",602020,"重大災害"]
[466,"揚重作業時クレｰンが転倒する","空調設備工事（機械搬入・据付・その他）",602030,"重大災害"]
[467,"サンダｰや丸のこ使用時、手がぶれたり、刃がはねて負傷する","空調設備工事（機械搬入・据付・その他）",602030,"重大災害"]
[468,"立馬で材料荷渡しや作業時に転落する","空調設備工事（機械搬入・据付・その他）",602030,"重大災害"]
[469,"立馬の脚が段差・床スリｰブにはまり、または縮んで転落・転倒する","空調設備工事（機械搬入・据付・その他）",602030,"重大災害"]
[470,"立馬から降りる時に踏み外して転落する","空調設備工事（機械搬入・据付・その他）",602030,"重大災害"]
[471,"立馬で作業時に　　　　　　　　　　にて怪我をする","空調設備工事（機械搬入・据付・その他）",602030,"重大災害"]
[472,"サンダｰや丸のこ使用時、手がぶれたり、刃がはねて負傷する","空調設備工事（計装配線・配管）",602040,"重大災害"]
[473,"立馬で材料荷渡しや作業時に転落する","空調設備工事（計装配線・配管）",602040,"重大災害"]
[474,"立馬の脚が段差・床スリｰブにはまり、または縮んで転落・転倒する","空調設備工事（計装配線・配管）",602040,"重大災害"]
[475,"立馬から降りる時に踏み外して転落する","空調設備工事（計装配線・配管）",602040,"重大災害"]
[476,"立馬で作業時に　　　　　　　　　　にて怪我をする","空調設備工事（計装配線・配管）",602040,"重大災害"]
[477,"サンダｰや丸のこ使用時、手がぶれたり、刃がはねて負傷する","空調設備工事（屋内配管）",602050,"重大災害"]
[478,"立馬で材料荷渡しや作業時に転落する","空調設備工事（屋内配管）",602050,"重大災害"]
[479,"立馬の脚が段差・床スリｰブにはまり、または縮んで転落・転倒する","空調設備工事（屋内配管）",602050,"重大災害"]
[480,"立馬から降りる時に踏み外して転落する","空調設備工事（屋内配管）",602050,"重大災害"]
[481,"立馬で作業時に　　　　　　　　　　にて怪我をする","空調設備工事（屋内配管）",602050,"重大災害"]
[482,"サンダｰや丸のこ使用時、手がぶれたり、刃がはねて負傷する","空調設備工事（ピット内配管）",602060,"重大災害"]
[483,"安全ブロックを使用せず梯子やタラップから転落する","空調設備工事（ピット内配管）",602060,"重大災害"]
[484,"立馬で材料荷渡しや作業時に転落する","空調設備工事（ピット内配管）",602060,"重大災害"]
[485,"立馬の脚が段差・床スリｰブにはまり、または縮んで転落・転倒する","空調設備工事（ピット内配管）",602060,"重大災害"]
[486,"立馬から降りる時に踏み外して転落する","空調設備工事（ピット内配管）",602060,"重大災害"]
[487,"立馬で作業時に　　　　　　　　　　にて怪我をする","空調設備工事（ピット内配管）",602060,"重大災害"]
[488,"サンダｰや丸のこ使用時、手がぶれたり、刃がはねて負傷する","空調設備工事（保温）",602070,"重大災害"]
[489,"立馬で材料荷渡しや作業時に転落する","空調設備工事（保温）",602070,"重大災害"]
[490,"立馬の脚が段差・床スリｰブにはまり、または縮んで転落・転倒する","空調設備工事（保温）",602070,"重大災害"]
[491,"立馬から降りる時に踏み外して転落する","空調設備工事（保温）",602070,"重大災害"]
[492,"立馬で作業時に　　　　　　　　　　にて怪我をする","空調設備工事（保温）",602070,"重大災害"]
[493,"サンダｰや丸のこ使用時、手がぶれたり、刃がはねて負傷する","空調設備工事（スリーブ・インサート）",602080,"重大災害"]
[494,"立馬で材料荷渡しや作業時に転落する","空調設備工事（スリーブ・インサート）",602080,"重大災害"]
[495,"立馬の脚が段差・床スリｰブにはまり、または縮んで転落・転倒する","空調設備工事（スリーブ・インサート）",602080,"重大災害"]
[496,"立馬から降りる時に踏み外して転落する","空調設備工事（スリーブ・インサート）",602080,"重大災害"]
[497,"立馬で作業時に　　　　　　　　　　にて怪我をする","空調設備工事（スリーブ・インサート）",602080,"重大災害"]
[498,"立馬で材料荷渡しや作業時に転落する","空調設備工事（試運転調整）",602090,"重大災害"]
[499,"立馬の脚が段差・床スリｰブにはまり、または縮んで転落・転倒する","空調設備工事（試運転調整）",602090,"重大災害"]
[500,"立馬から降りる時に踏み外して転落する","空調設備工事（試運転調整）",602090,"重大災害"]
[501,"立馬で作業時に　　　　　　　　　　にて怪我をする","空調設備工事（試運転調整）",602090,"重大災害"]
[502,"サンダｰや丸のこ使用時、手がぶれたり、刃がはねて負傷する","空調設備工事（撤去工事）",602100,"重大災害"]
[503,"立馬で材料荷渡しや作業時に転落する","空調設備工事（撤去工事）",602100,"重大災害"]
[504,"立馬の脚が段差・床スリｰブにはまり、または縮んで転落・転倒する","空調設備工事（撤去工事）",602100,"重大災害"]
[505,"立馬から降りる時に踏み外して転落する","空調設備工事（撤去工事）",602100,"重大災害"]
[506,"立馬で作業時に　　　　　　　　　　にて怪我をする","空調設備工事（撤去工事）",602100,"重大災害"]
[507,"サンダｰや丸のこ使用時、手がぶれたり、刃がはねて負傷する","空調設備工事（その他）",602110,"重大災害"]
[508,"立馬で材料荷渡しや作業時に転落する","空調設備工事（その他）",602110,"重大災害"]
[509,"立馬の脚が段差・床スリｰブにはまり、または縮んで転落・転倒する","空調設備工事（その他）",602110,"重大災害"]
[510,"立馬から降りる時に踏み外して転落する","空調設備工事（その他）",602110,"重大災害"]
[511,"立馬で作業時に　　　　　　　　　　にて怪我をする","空調設備工事（その他）",602110,"重大災害"]
[512,"サンダｰや丸のこ使用時、手がぶれたり、刃がはねて負傷する","給排水衛生設備工事（スリーブ・インサート）",603010,"重大災害"]
[513,"立馬で材料荷渡しや作業時に転落する","給排水衛生設備工事（スリーブ・インサート）",603010,"重大災害"]
[514,"立馬の脚が段差・床スリｰブにはまり、または縮んで転落・転倒する","給排水衛生設備工事（スリーブ・インサート）",603010,"重大災害"]
[515,"立馬から降りる時に踏み外して転落する","給排水衛生設備工事（スリーブ・インサート）",603010,"重大災害"]
[516,"立馬で作業時に　　　　　　　　　　にて怪我をする","給排水衛生設備工事（スリーブ・インサート）",603010,"重大災害"]
[517,"サンダｰや丸のこ使用時、手がぶれたり、刃がはねて負傷する","給排水衛生設備工事（屋外配管・その他）",603020,"重大災害"]
[518,"立馬で材料荷渡しや作業時に転落する","給排水衛生設備工事（屋外配管・その他）",603020,"重大災害"]
[519,"立馬の脚が段差・床スリｰブにはまり、または縮んで転落・転倒する","給排水衛生設備工事（屋外配管・その他）",603020,"重大災害"]
[520,"立馬から降りる時に踏み外して転落する","給排水衛生設備工事（屋外配管・その他）",603020,"重大災害"]
[521,"立馬で作業時に　　　　　　　　　　にて怪我をする","給排水衛生設備工事（屋外配管・その他）",603020,"重大災害"]
[522,"サンダｰや丸のこ使用時、手がぶれたり、刃がはねて負傷する","給排水衛生設備工事（屋内配管・その他）",603030,"重大災害"]
[523,"立馬で材料荷渡しや作業時に転落する","給排水衛生設備工事（屋内配管・その他）",603030,"重大災害"]
[524,"立馬の脚が段差・床スリｰブにはまり、または縮んで転落・転倒する","給排水衛生設備工事（屋内配管・その他）",603030,"重大災害"]
[525,"立馬から降りる時に踏み外して転落する","給排水衛生設備工事（屋内配管・その他）",603030,"重大災害"]
[526,"立馬で作業時に　　　　　　　　　　にて怪我をする","給排水衛生設備工事（屋内配管・その他）",603030,"重大災害"]
[527,"サンダｰや丸のこ使用時、手がぶれたり、刃がはねて負傷する","給排水衛生設備工事（ピット内配管）",603040,"重大災害"]
[528,"安全ブロックを使用せず梯子やタラップから転落する","給排水衛生設備工事（ピット内配管）",603040,"重大災害"]
[529,"立馬で材料荷渡しや作業時に転落する","給排水衛生設備工事（ピット内配管）",603040,"重大災害"]
[530,"立馬の脚が段差・床スリｰブにはまり、または縮んで転落・転倒する","給排水衛生設備工事（ピット内配管）",603040,"重大災害"]
[531,"立馬から降りる時に踏み外して転落する","給排水衛生設備工事（ピット内配管）",603040,"重大災害"]
[532,"立馬で作業時に　　　　　　　　　　にて怪我をする","給排水衛生設備工事（ピット内配管）",603040,"重大災害"]
[533,"揚重作業時クレｰンが転倒する","給排水衛生設備工事（機械搬入・据付・その他）",603050,"重大災害"]
[534,"サンダｰや丸のこ使用時、手がぶれたり、刃がはねて負傷する","給排水衛生設備工事（機械搬入・据付・その他）",603050,"重大災害"]
[535,"立馬で材料荷渡しや作業時に転落する","給排水衛生設備工事（機械搬入・据付・その他）",603050,"重大災害"]
[536,"立馬の脚が段差・床スリｰブにはまり、または縮んで転落・転倒する","給排水衛生設備工事（機械搬入・据付・その他）",603050,"重大災害"]
[537,"立馬から降りる時に踏み外して転落する","給排水衛生設備工事（機械搬入・据付・その他）",603050,"重大災害"]
[538,"立馬で作業時に　　　　　　　　　　にて怪我をする","給排水衛生設備工事（機械搬入・据付・その他）",603050,"重大災害"]
[539,"サンダｰや丸のこ使用時、手がぶれたり、刃がはねて負傷する","給排水衛生設備工事（保温）",603060,"重大災害"]
[540,"立馬で材料荷渡しや作業時に転落する","給排水衛生設備工事（保温）",603060,"重大災害"]
[541,"立馬の脚が段差・床スリｰブにはまり、または縮んで転落・転倒する","給排水衛生設備工事（保温）",603060,"重大災害"]
[542,"立馬から降りる時に踏み外して転落する","給排水衛生設備工事（保温）",603060,"重大災害"]
[543,"立馬で作業時に　　　　　　　　　　にて怪我をする","給排水衛生設備工事（保温）",603060,"重大災害"]
[544,"立馬で材料荷渡しや作業時に転落する","給排水衛生設備工事（試運転調整）",603070,"重大災害"]
[545,"立馬の脚が段差・床スリｰブにはまり、または縮んで転落・転倒する","給排水衛生設備工事（試運転調整）",603070,"重大災害"]
[546,"立馬から降りる時に踏み外して転落する","給排水衛生設備工事（試運転調整）",603070,"重大災害"]
[547,"立馬で作業時に　　　　　　　　　　にて怪我をする","給排水衛生設備工事（試運転調整）",603070,"重大災害"]
[548,"サンダｰや丸のこ使用時、手がぶれたり、刃がはねて負傷する","給排水衛生設備工事（撤去工事）",603080,"重大災害"]
[549,"立馬で材料荷渡しや作業時に転落する","給排水衛生設備工事（撤去工事）",603080,"重大災害"]
[550,"立馬の脚が段差・床スリｰブにはまり、または縮んで転落・転倒する","給排水衛生設備工事（撤去工事）",603080,"重大災害"]
[551,"立馬から降りる時に踏み外して転落する","給排水衛生設備工事（撤去工事）",603080,"重大災害"]
[552,"立馬で作業時に　　　　　　　　　　にて怪我をする","給排水衛生設備工事（撤去工事）",603080,"重大災害"]
[553,"サンダｰや丸のこ使用時、手がぶれたり、刃がはねて負傷する","給排水衛生設備工事（その他）",603090,"重大災害"]
[554,"立馬で材料荷渡しや作業時に転落する","給排水衛生設備工事（その他）",603090,"重大災害"]
[555,"立馬の脚が段差・床スリｰブにはまり、または縮んで転落・転倒する","給排水衛生設備工事（その他）",603090,"重大災害"]
[556,"立馬から降りる時に踏み外して転落する","給排水衛生設備工事（その他）",603090,"重大災害"]
[557,"立馬で作業時に　　　　　　　　　　にて怪我をする","給排水衛生設備工事（その他）",603090,"重大災害"]
[558,"サンダｰや丸のこ使用時、手がぶれたり、刃がはねて負傷する","その他設備工事",604010,"重大災害"]
[559,"立馬で材料荷渡しや作業時に転落する","その他設備工事",604010,"重大災害"]
[560,"立馬の脚が段差・床スリｰブにはまり、または縮んで転落・転倒する","その他設備工事",604010,"重大災害"]
[561,"立馬から降りる時に踏み外して転落する","その他設備工事",604010,"重大災害"]
[562,"立馬で作業時に　　　　　　　　　　にて怪我をする","その他設備工事",604010,"重大災害"]
[563,"サンダｰや丸のこ使用時、手がぶれたり、刃がはねて負傷する","輸送設備工事（エレベーター、ダムウェイダー等）",605010,"重大災害"]
[564,"立馬で材料荷渡しや作業時に転落する","輸送設備工事（エレベーター、ダムウェイダー等）",605010,"重大災害"]
[565,"立馬の脚が段差・床スリｰブにはまり、または縮んで転落・転倒する","輸送設備工事（エレベーター、ダムウェイダー等）",605010,"重大災害"]
[566,"立馬から降りる時に踏み外して転落する","輸送設備工事（エレベーター、ダムウェイダー等）",605010,"重大災害"]
[567,"立馬で作業時に　　　　　　　　　　にて怪我をする","輸送設備工事（エレベーター、ダムウェイダー等）",605010,"重大災害"]
[568,"サンダｰや丸のこ使用時、手がぶれたり、刃がはねて負傷する","輸送設備工事（エスカレーター)",605020,"重大災害"]
[569,"立馬で材料荷渡しや作業時に転落する","輸送設備工事（エスカレーター)",605020,"重大災害"]
[570,"立馬の脚が段差・床スリｰブにはまり、または縮んで転落・転倒する","輸送設備工事（エスカレーター)",605020,"重大災害"]
[571,"立馬から降りる時に踏み外して転落する","輸送設備工事（エスカレーター)",605020,"重大災害"]
[572,"立馬で作業時に　　　　　　　　　　にて怪我をする","輸送設備工事（エスカレーター)",605020,"重大災害"]
[573,"サンダｰや丸のこ使用時、手がぶれたり、刃がはねて負傷する","機械据付工事（立駐等）",605030,"重大災害"]
[574,"立馬で材料荷渡しや作業時に転落する","機械据付工事（立駐等）",605030,"重大災害"]
[575,"立馬の脚が段差・床スリｰブにはまり、または縮んで転落・転倒する","機械据付工事（立駐等）",605030,"重大災害"]
[576,"立馬から降りる時に踏み外して転落する","機械据付工事（立駐等）",605030,"重大災害"]
[577,"立馬で作業時に　　　　　　　　　　にて怪我をする","機械据付工事（立駐等）",605030,"重大災害"]
[578,"サンダｰや丸のこ使用時、手がぶれたり、刃がはねて負傷する","外構工事（構築物等）",701010,"重大災害"]
[579,"立馬で材料荷渡しや作業時に転落する","外構工事（構築物等）",701010,"重大災害"]
[580,"立馬の脚が段差・床スリｰブにはまり、または縮んで転落・転倒する","外構工事（構築物等）",701010,"重大災害"]
[581,"立馬から降りる時に踏み外して転落する","外構工事（構築物等）",701010,"重大災害"]
[582,"立馬で作業時に　　　　　　　　　　にて怪我をする","外構工事（構築物等）",701010,"重大災害"]
[583,"サンダｰや丸のこ使用時、手がぶれたり、刃がはねて負傷する","排水工事",702010,"重大災害"]
[584,"サンダｰや丸のこ使用時、手がぶれたり、刃がはねて負傷する","舗装工事",703010,"重大災害"]
[585,"サンダｰや丸のこ使用時、手がぶれたり、刃がはねて負傷する","囲障工事",704010,"重大災害"]
[586,"立馬で材料荷渡しや作業時に転落する","囲障工事",704010,"重大災害"]
[587,"立馬の脚が段差・床スリｰブにはまり、または縮んで転落・転倒する","囲障工事",704010,"重大災害"]
[588,"立馬から降りる時に踏み外して転落する","囲障工事",704010,"重大災害"]
[589,"立馬で作業時に　　　　　　　　　　にて怪我をする","囲障工事",704010,"重大災害"]
[590,"サンダｰや丸のこ使用時、手がぶれたり、刃がはねて負傷する","敷地造成工事",705010,"重大災害"]
[591,"サンダｰや丸のこ使用時、手がぶれたり、刃がはねて負傷する","植栽・造園工事",706010,"重大災害"]
[592,"立馬で材料荷渡しや作業時に転落する","植栽・造園工事",706010,"重大災害"]
[593,"立馬の脚が段差・床スリｰブにはまり、または縮んで転落・転倒する","植栽・造園工事",706010,"重大災害"]
[594,"立馬から降りる時に踏み外して転落する","植栽・造園工事",706010,"重大災害"]
[595,"立馬で作業時に　　　　　　　　　　にて怪我をする","植栽・造園工事",706010,"重大災害"]
[596,"サンダｰや丸のこ使用時、手がぶれたり、刃がはねて負傷する","解体撤去工事（RC造）",750010,"重大災害"]
[597,"立馬で材料荷渡しや作業時に転落する","解体撤去工事（RC造）",750010,"重大災害"]
[598,"立馬の脚が段差・床スリｰブにはまり、または縮んで転落・転倒する","解体撤去工事（RC造）",750010,"重大災害"]
[599,"立馬から降りる時に踏み外して転落する","解体撤去工事（RC造）",750010,"重大災害"]
[600,"立馬で作業時に　　　　　　　　　　にて怪我をする","解体撤去工事（RC造）",750010,"重大災害"]
[601,"サンダｰや丸のこ使用時、手がぶれたり、刃がはねて負傷する","解体撤去工事（SRC造）",750020,"重大災害"]
[602,"立馬で材料荷渡しや作業時に転落する","解体撤去工事（SRC造）",750020,"重大災害"]
[603,"立馬の脚が段差・床スリｰブにはまり、または縮んで転落・転倒する","解体撤去工事（SRC造）",750020,"重大災害"]
[604,"立馬から降りる時に踏み外して転落する","解体撤去工事（SRC造）",750020,"重大災害"]
[605,"立馬で作業時に　　　　　　　　　　にて怪我をする","解体撤去工事（SRC造）",750020,"重大災害"]
[606,"サンダｰや丸のこ使用時、手がぶれたり、刃がはねて負傷する","解体撤去工事（S造他）",750030,"重大災害"]
[607,"立馬で材料荷渡しや作業時に転落する","解体撤去工事（S造他）",750030,"重大災害"]
[608,"立馬の脚が段差・床スリｰブにはまり、または縮んで転落・転倒する","解体撤去工事（S造他）",750030,"重大災害"]
[609,"立馬から降りる時に踏み外して転落する","解体撤去工事（S造他）",750030,"重大災害"]
[610,"立馬で作業時に　　　　　　　　　　にて怪我をする","解体撤去工事（S造他）",750030,"重大災害"]
[611,"サンダｰや丸のこ使用時、手がぶれたり、刃がはねて負傷する","斫り工事",750040,"重大災害"]
[612,"立馬で材料荷渡しや作業時に転落する","斫り工事",750040,"重大災害"]
[613,"立馬の脚が段差・床スリｰブにはまり、または縮んで転落・転倒する","斫り工事",750040,"重大災害"]
[614,"立馬から降りる時に踏み外して転落する","斫り工事",750040,"重大災害"]
[615,"立馬で作業時に　　　　　　　　　　にて怪我をする","斫り工事",750040,"重大災害"]
[616,"サンダｰや丸のこ使用時、手がぶれたり、刃がはねて負傷する","ウォータージェット工事",750050,"重大災害"]
[617,"立馬で材料荷渡しや作業時に転落する","ウォータージェット工事",750050,"重大災害"]
[618,"立馬の脚が段差・床スリｰブにはまり、または縮んで転落・転倒する","ウォータージェット工事",750050,"重大災害"]
[619,"立馬から降りる時に踏み外して転落する","ウォータージェット工事",750050,"重大災害"]
[620,"立馬で作業時に　　　　　　　　　　にて怪我をする","ウォータージェット工事",750050,"重大災害"]
[621,"サンダｰや丸のこ使用時、手がぶれたり、刃がはねて負傷する","アンカー打設工事",750060,"重大災害"]
[622,"立馬で材料荷渡しや作業時に転落する","アンカー打設工事",750060,"重大災害"]
[623,"立馬の脚が段差・床スリｰブにはまり、または縮んで転落・転倒する","アンカー打設工事",750060,"重大災害"]
[624,"立馬から降りる時に踏み外して転落する","アンカー打設工事",750060,"重大災害"]
[625,"立馬で作業時に　　　　　　　　　　にて怪我をする","アンカー打設工事",750060,"重大災害"]
[626,"サンダｰや丸のこ使用時、手がぶれたり、刃がはねて負傷する","雑鍛冶工事",750070,"重大災害"]
[627,"立馬で材料荷渡しや作業時に転落する","雑鍛冶工事",750070,"重大災害"]
[628,"立馬の脚が段差・床スリｰブにはまり、または縮んで転落・転倒する","雑鍛冶工事",750070,"重大災害"]
[629,"立馬から降りる時に踏み外して転落する","雑鍛冶工事",750070,"重大災害"]
[630,"立馬で作業時に　　　　　　　　　　にて怪我をする","雑鍛冶工事",750070,"重大災害"]
[631,"サンダｰや丸のこ使用時、手がぶれたり、刃がはねて負傷する","その他工事",750080,"重大災害"]
[632,"立馬で材料荷渡しや作業時に転落する","その他工事",750080,"重大災害"]
[633,"立馬の脚が段差・床スリｰブにはまり、または縮んで転落・転倒する","その他工事",750080,"重大災害"]
[634,"立馬から降りる時に踏み外して転落する","その他工事",750080,"重大災害"]
[635,"立馬で作業時に　　　　　　　　　　にて怪我をする","その他工事",750080,"重大災害"]
[636,"資材荷吊り時アウトリガー下地盤が沈下しユニック車が転倒する","運搬・荷揚・揚重",110010,"重大災害"]
[637,"資材荷吊り時敷鉄板の角にアウトリガーを設置しユニック車が転倒する","運搬・荷揚・揚重",110010,"重大災害"]
[638,"資材荷吊り時過過重になりユニック車が転倒する","運搬・荷揚・揚重",110010,"重大災害"]
[639,"敷鉄板を敷き並べ時に下にある石をどけようとして手を入れた際にフックが外れ挟まれる","運搬・荷揚・揚重",110010,"重大災害"]
[640,"枠組足場解体荷下ろし中、妻手摺の隙間から墜落する","内外足場組立・解体工事（枠組・ビケ・単管足場）",202010,"重大災害"]
[641,"足場の大バラシ時、玉掛けワイヤーに引掛かり足場が倒れる","内外足場組立・解体工事（枠組・ビケ・単管足場）",202010,"重大災害"]
[642,"足場の大バラシ時、介錯ロープがワイヤーに引掛かり足場が倒れる","内外足場組立・解体工事（枠組・ビケ・単管足場）",202010,"重大災害"]
[643,"足場材荷下ろし時不安定な状態で下桟に足を掛けはずれた衝撃で足場から墜落する","内外足場組立・解体工事（枠組・ビケ・単管足場）",202010,"重大災害"]
[644,"足場材荷下ろし時開口のある状態で下桟に足を掛けはずれた衝撃で足場から墜落する","内外足場組立・解体工事（枠組・ビケ・単管足場）",202010,"重大災害"]
[645,"ローリング足場が倒れて負傷する","内外足場組立・解体工事（ローリング・荷取ステージ等）",202020,"重大災害"]
[646,"単管通路足場組立中雨天で足を滑らして足場から墜落する","専用仮設工事（通路足場）",203010,"重大災害"]
[647,"単管一本の上でシート紐を結束時、誤って墜落する","安全設備工事（シート・ネット）",204010,"重大災害"]
[648,"シートが落下して人に当たる","安全設備工事（シート・ネット）",204010,"重大災害"]
[649,"シートが落下して電線他に引っ掛かる","安全設備工事（シート・ネット）",204010,"重大災害"]
[650,"後ろ向きに掃き掃除中コーナー部の足場の隙間から墜落する","片付清掃工事",205010,"重大災害"]
[651,"足場の隙間から墜落する","片付清掃工事",205010,"重大災害"]
[652,"敷鉄板吊り込み時に、玉掛けワイヤーがはずれて落下する","土工事",301010,"重大災害"]
[653,"敷鉄板を不安定な状態（ﾊﾞｯｸﾌｫｰの爪）で保持しはずれて人にあたる","土工事",301010,"重大災害"]
[654,"敷鉄板を不安定な状態で保持しはずれて人にあたる","土工事",301010,"重大災害"]
[655,"ダンプ車荷台上から急発進され反動で転落する","土工事",301010,"重大災害"]
[656,"ガラを運搬中、床段差部で一輪車を持上げて腰を痛める","土工事",301010,"重大災害"]
[657,"砕石敷均し中、後進してきたダンプにひかれる","土工事",301010,"重大災害"]
[658,"生コンバケツをクレーンにて吊り土砂を降ろす時に反動で手を挟む","土工事",301010,"重大災害"]
[659,"クレーンで荷吊り時、荷崩れを起こし手を挟む","山留工事（親杭・シートパイル・SMW等)",301020,"重大災害"]
[660,"鋼矢板吊込作業時、ﾗｼﾞｺﾝｼｬｯｸﾙが玉掛けワイヤーごとはずれて落下し接触する","山留工事（親杭・シートパイル・SMW等)",301020,"重大災害"]
[661,"ポンプ車のブームを合図なく動かしバランスを崩して転倒する","コンクリート工事（圧送）",401020,"重大災害"]
[662,"立馬上で作業中突風にあおられ材料と共に転落する","型枠組立工事（柱・壁）",402020,"重大災害"]
[663,"パイプサポートが倒れて負傷する","型枠組立工事（柱・壁）",402020,"重大災害"]
[664,"充電式丸のこ使用時（やむなく使用時）刃がはねて負傷する","型枠組立工事（柱・壁）",402020,"重大災害"]
[665,"支保工足場上移動中、足場の隙間から墜落する","型枠組立工事（梁・スラブ）",402030,"重大災害"]
[666,"支保工足場上移動中、足場の隙間に足を突っ込む","型枠組立工事（梁・スラブ）",402030,"重大災害"]
[667,"移動中梁上からバランスを崩して転落する","型枠解体工事（側面）",402050,"重大災害"]
[668,"支保工が解体された持出しｽﾗﾌﾞ型枠に乗り墜落する","型枠解体工事（梁・スラブ）",402060,"重大災害"]
[669,"地中梁上でバランスを崩し墜落する","鉄筋組立工事（基礎・地中梁）",403010,"重大災害"]
[670,"足場板端部（跳ね出し部）に乗った時、反対側端部が持ち上がり転落する","鉄筋組立工事（基礎・地中梁）",403010,"重大災害"]
[671,"立馬から壁筋に片足を掛け作業中転落する","鉄筋組立工事（柱・壁）",403020,"重大災害"]
[672,"仮置き鉄筋に足を乗せて滑り、立馬から転落する","鉄筋組立工事（柱・壁）",403020,"重大災害"]
[673,"地組架台が倒れて、鉄筋と接触する","鉄筋組立工事（梁・スラブ）",403030,"重大災害"]
[674,"溶接治具運搬時、足場に手をぶつけて負傷する","鉄筋継手工事（圧接・溶接）",403050,"重大災害"]
[675,"吊荷が強風であおられる","鉄骨工事（建方）",404020,"重大災害"]
[676,"建方中に梁上から墜落する","鉄骨工事（建方）",404020,"重大災害"]
[677,"鉄骨建入治具での使用時に、定められた以外の使用をして負傷する","鉄骨工事（建ち直し・本締め）",404030,"重大災害"]
[678,"デッキ端部で安全帯を掛けようとして足を滑らせ墜落する","鉄骨工事（デッキプレート敷込）",404050,"重大災害"]
[679,"デッキが鉄骨から外れて落下する","鉄骨工事（デッキプレート敷込）",404050,"重大災害"]
[680,"安全帯掛け替え中バランスを崩して墜落する","鉄骨工事（デッキプレート敷込）",404050,"重大災害"]
[681,"仮敷きのデッキプレートを歩行中転落する","鉄骨工事（デッキプレート敷込）",404050,"重大災害"]
[682,"バルコニー端部で水平ﾈｯﾄを取り外して作業中転落する","左官工事",507010,"重大災害"]
[683,"ミキサーからモルタルを取り出す時に蓋が開かず無理をして回転体に手を挟まれる","左官工事",507010,"重大災害"]
[684,"無理な姿勢でﾎｰｽを引っ張り上げようとして足を痛める","ウレタン吹付工事",512070,"重大災害"]
[685,"重量機器運搬時に機器が転倒し挟まれる","空調設備工事（機械搬入・据付・その他）",602030,"重大災害"]
[686,"重量機器設置時にバランスを崩し転倒する","空調設備工事（機械搬入・据付・その他）",602030,"重大災害"]
[687,"空調の冷媒配管切断時に残りのガスが噴き出し顔にあたる","空調設備工事（屋内配管）",602050,"重大災害"]
[688,"角ﾀﾞｸﾄのﾌﾗﾝｼﾞ部に足を乗せて、滑らせ転倒する","空調設備工事（保温）",602070,"重大災害"]
[689,"立馬から立馬へ移動中に脚元がずれ床スリーブ穴に落ち、バランスを崩して転落する","給排水衛生設備工事（屋内配管・その他）",603030,"重大災害"]
[690,"U字溝切断時、エンジンカッターがはねて負傷する","排水工事",702010,"重大災害"]
[691,"チェーンソー使用時、物にあたった反動で手足を負傷する","植栽・造園工事",706010,"重大災害"]
[692,"梯子作業中バランスを崩して転落する","植栽・造園工事",706010,"重大災害"]
[693,"資材を荷下ろし時ワイヤーロープで手を挟む","解体撤去工事（RC造）",750010,"重大災害"]
[694,"油圧式ハンドクラッシャー使用時、シリンダーに手を詰める","解体撤去工事（RC造）",750010,"重大災害"]
[695,"重機移動時に動いた敷鉄板で足などを挟む","解体撤去工事（RC造）",750010,"重大災害"]
[696,"誤って根がらみパイプを外し台車を転倒させて負傷する","解体撤去工事（RC造）",750010,"重大災害"]
[697,"超高圧水で人が負傷する（機械異常）","ウォータージェット工事",750050,"重大災害"]
[698,"スラブ（フェローデッキ）上で躓いて転倒する","雑鍛冶工事",750070,"重大災害"]
[699,"固定用金物撤去中、立馬から墜落する","その他工事",750080,"重大災害"]
[700,"資材運搬時、鋼板が滑り落ち足を負傷する","仮囲工事",103020,"軽微災害"]
[701,"束ねてあるビニールテープ切断時に、カッターナイフで手を切る","工事用電気設備工事",105010,"軽微災害"]
[702,"作業場所移動時、外部足場の階段で足が滑り転倒する","工事用電気設備工事",105010,"軽微災害"]
[703,"積込み中の資材の荷崩れで負傷する","運搬・荷揚・揚重",110010,"軽微災害"]
[704,"運搬中の資材の荷崩れで負傷する","運搬・荷揚・揚重",110010,"軽微災害"]
[705,"資材運搬中に躓き転倒する","運搬・荷揚・揚重",110010,"軽微災害"]
[706,"資材運搬時、台車に手を挟まれて負傷する","運搬・荷揚・揚重",110010,"軽微災害"]
[707,"敷鉄板荷吊り時に玉掛けワイヤーが外れ、敷鉄板で手足を挟む","運搬・荷揚・揚重",110010,"軽微災害"]
[708,"ユニック作業中誤作動にて吊荷が振れて負傷する","運搬・荷揚・揚重",110010,"軽微災害"]
[709,"ハンドリフトを車上から下ろす時に手を挟む","運搬・荷揚・揚重",110010,"軽微災害"]
[710,"重量物運搬時パレットが傾き倒れる","運搬・荷揚・揚重",110010,"軽微災害"]
[711,"資材にあたって負傷する","内外足場組立・解体工事（枠組・ビケ・単管足場）",202010,"軽微災害"]
[712,"単管パイプとクランプで指を挟む","内外足場組立・解体工事（枠組・ビケ・単管足場）",202010,"軽微災害"]
[713,"単管パイプを受け取る際、バランスを崩して転倒する","内外足場組立・解体工事（枠組・ビケ・単管足場）",202010,"軽微災害"]
[714,"外壁の控えを取付け時に折り曲げた波板で手を負傷する","内外足場組立・解体工事（枠組・ビケ・単管足場）",202010,"軽微災害"]
[715,"資材荷下ろし時に落下し、人にあたる","専用仮設工事（コンクリート足場）",203020,"軽微災害"]
[716,"ライトステップ移設中、脚が閉じて手を挟む","専用仮設工事（鉄骨吊り足場等）",203030,"軽微災害"]
[717,"資材運搬時物が落下して負傷する","片付清掃工事",205010,"軽微災害"]
[718,"後進ダンプにひかれて負傷する","片付清掃工事",205010,"軽微災害"]
[719,"スクレイパー刃の取替時に手を切る","片付清掃工事",205010,"軽微災害"]
[720,"重量物運搬時インターロッキングに躓いて足の上に落下する","片付清掃工事",205010,"軽微災害"]
[721,"クレーンで荷吊り時、荷が振れて落下する","構台組立・解体工事",206010,"軽微災害"]
[722,"ガス切断時アセチレンガスが漏れ、火事になる","構台組立・解体工事",206010,"軽微災害"]
[723,"敷鉄板敷き込み時、足を滑らせて転倒する","土工事",301010,"軽微災害"]
[724,"資材等を持ち上げようとして腰を痛める","土工事",301010,"軽微災害"]
[725,"重機使用時に誤って旋回レバーに触れ、作業員と接触する","土工事",301010,"軽微災害"]
[726,"重機移動時に敷鉄板で足を挟む","山留工事（親杭・シートパイル・SMW等)",301020,"軽微災害"]
[727,"インパクトドライバー使用時、指を巻き込まれて負傷する","地業工事",302010,"軽微災害"]
[728,"杭周廻りのぬかるみに足をとられ、転倒する","地業工事",302010,"軽微災害"]
[729,"クレーンで荷吊り時、荷が振れて手を挟む","地業工事",302010,"軽微災害"]
[730,"荷吊り中、吊りフックから外れ敷鉄板で手を挟む","地業工事",302010,"軽微災害"]
[731,"玉掛け作業時、吊り治具が体に当たり負傷する","地業工事",302010,"軽微災害"]
[732,"ホース先端よりセメントミルクが飛び出し顔にかかる","地業工事",302010,"軽微災害"]
[733,"一輪車運搬時に作業床から転落する","コンクリート工事（打設）",401010,"軽微災害"]
[734,"昇降設備を使用せずに墜落する","コンクリート工事（打設）",401010,"軽微災害"]
[735,"物を取ろうと足場に足を掛け滑って転落する","コンクリート工事（打設）",401010,"軽微災害"]
[736,"釜場に足をとられて転倒する","コンクリート工事（打設）",401010,"軽微災害"]
[737,"打設後鉄筋水洗い時に足を乗せたサポートが外れて転倒する","コンクリート工事（打設）",401010,"軽微災害"]
[738,"スラブ筋上でバランスを崩して転倒する","コンクリート工事（圧送）",401020,"軽微災害"]
[739,"手足にコンクリートが触れてただれる","コンクリート工事（圧送）",401020,"軽微災害"]
[740,"結束バンド切断時に鋼管が崩れて負傷する","型枠組立工事（基礎・地中梁）",402010,"軽微災害"]
[741,"打ち損じた釘が目にあたる","型枠組立工事（柱・壁）",402020,"軽微災害"]
[742,"布板昇降ハッチの蓋が閉まり手を詰める","型枠組立工事（柱・壁）",402020,"軽微災害"]
[743,"丸のこ使用時わき見をして負傷する","型枠組立工事（柱・壁）",402020,"軽微災害"]
[744,"振り上げたハンマーが目にあたる","型枠組立工事（柱・壁）",402020,"軽微災害"]
[745,"釘打ち機が暴発し手を負傷する","型枠組立工事（柱・壁）",402020,"軽微災害"]
[746,"手摺壁に足をかける際、足が滑り転倒する","型枠組立工事（柱・壁）",402020,"軽微災害"]
[747,"釘打ち機使用時誤って操作し負傷する","型枠組立工事（梁・スラブ）",402030,"軽微災害"]
[748,"足場の中桟に足を掛け作業中、中桟が外れて転落する","型枠組立工事（梁・スラブ）",402030,"軽微災害"]
[749,"梁型枠をクレーンにて架設の時、ワイヤーがはずれて落下する","型枠組立工事（梁・スラブ）",402030,"軽微災害"]
[750,"高所作業車移動時に開口部の養生蓋に引っ掛かって転倒する","型枠組立工事（梁・スラブ）",402030,"軽微災害"]
[751,"ﾊﾟｲﾌﾟｻﾎﾟｰﾄ受け渡し時上部サポートが抜けて負傷する","型枠解体工事（側面）",402050,"軽微災害"]
[752,"小払し中、型枠材の釘が手に刺さる","型枠解体工事（側面）",402050,"軽微災害"]
[753,"バール使用時誤って手にあたる","型枠解体工事（側面）",402050,"軽微災害"]
[754,"大形型枠脱型時クレーンで吊上げた際に落下し負傷する","型枠解体工事（側面）",402050,"軽微災害"]
[755,"金物くさび取外し時、はねて目にあたり負傷する","型枠解体工事（側面）",402050,"軽微災害"]
[756,"鋼管荷渡し時、手を挟む","型枠解体工事（側面）",402050,"軽微災害"]
[757,"地中梁を乗り越える時に手足を負傷する","型枠解体工事（側面）",402050,"軽微災害"]
[758,"資材運搬時、型枠が滑り落ち足を負傷する","型枠解体工事（側面）",402050,"軽微災害"]
[759,"スラブ底解体時、足場の根がらみ単管で足を滑らせ転倒する","型枠解体工事（梁・スラブ）",402060,"軽微災害"]
[760,"型枠解体時、目にゴミが入る","型枠解体工事（梁・スラブ）",402060,"軽微災害"]
[761,"パイプサポートを緩めた時、根太材が落下して負傷する","型枠解体工事（梁・スラブ）",402060,"軽微災害"]
[762,"丸のこ使用時目にゴミが入る","型枠工事（その他）",402070,"軽微災害"]
[763,"端太角荷下ろし時、足場で手を挟む","型枠工事（その他）",402070,"軽微災害"]
[764,"鉄筋受渡し時に梁筋にて手を詰める","鉄筋組立工事（基礎・地中梁）",403010,"軽微災害"]
[765,"運搬時に鉄筋と接触して負傷する","鉄筋組立工事（基礎・地中梁）",403010,"軽微災害"]
[766,"地組した鉄筋が倒れて人に当たり負傷する","鉄筋組立工事（基礎・地中梁）",403010,"軽微災害"]
[767,"梁筋を仮固定していた結束線が切れ、足の上に落ちる","鉄筋組立工事（基礎・地中梁）",403010,"軽微災害"]
[768,"上部に束ねていたフープ筋が自重でずれて手を挟む","鉄筋組立工事（柱・壁）",403020,"軽微災害"]
[769,"スラブ（ﾃﾞｯｷ）上梁筋をまたごうとして転倒する","鉄筋組立工事（梁・スラブ）",403030,"軽微災害"]
[770,"スラブ上で躓いて、転倒する","鉄筋組立工事（梁・スラブ）",403030,"軽微災害"]
[771,"スラブより突き出た差し筋を踏み抜き負傷する","鉄筋組立工事（梁・スラブ）",403030,"軽微災害"]
[772,"梁型枠を跨ぐ時に足を滑らせ梁底に転落する","鉄筋組立工事（梁・スラブ）",403030,"軽微災害"]
[773,"配筋中梁筋にて指を挟む","鉄筋組立工事（梁・スラブ）",403030,"軽微災害"]
[774,"工具で手を挟む","鉄筋工事（その他）",403040,"軽微災害"]
[775,"地中梁圧接中、移動時に転落する","鉄筋継手工事（圧接・溶接）",403050,"軽微災害"]
[776,"壁の差筋をまたぎ転倒する","鉄筋継手工事（圧接・溶接）",403050,"軽微災害"]
[777,"梁底移動中足が滑り転倒する","鉄筋継手工事（圧接・溶接）",403050,"軽微災害"]
[778,"鉄骨地組中（スタンション親綱設置）梁上から踏み外して転落する","鉄骨工事（搬入・仮置）",404010,"軽微災害"]
[779,"シャーレンチ運搬時バランスを崩して転倒する","鉄骨工事（建ち直し・本締め）",404030,"軽微災害"]
[780,"鉄骨建ち直し用フックに躓き転倒する","鉄骨工事（建ち直し・本締め）",404030,"軽微災害"]
[781,"ローリング足場の手摺が外れて転落する","鉄骨工事（耐火被覆）",404080,"軽微災害"]
[782,"アスロック板吊上げ時アスロック板が折れ手を挟む","組積工事（ALC・成形板）",501010,"軽微災害"]
[783,"トラックが急に動き出し荷台から転落する","組積工事（ALC・成形板）",501010,"軽微災害"]
[784,"設備機器に体をぶつけて負傷する","防水工事（シーリング）",502040,"軽微災害"]
[785,"バックアップ材切断時カッターナイフで手を切る","防水工事（シーリング）",502040,"軽微災害"]
[786,"既存シール撤去時カッターナイフで手を切る","防水工事（シーリング）",502040,"軽微災害"]
[787,"作業終了後、段差で躓き足をひねる","防水工事（シーリング）",502040,"軽微災害"]
[788,"作業場所移動時、仮設階段で足が滑り転倒する","金属工事（足場作業）",506010,"軽微災害"]
[789,"鋼材材料に指を挟む","金属工事（その他）",506030,"軽微災害"]
[790,"敷鉄板段差部で足がはまり負傷する","金属工事（その他）",506030,"軽微災害"]
[791,"鉄骨部材をまたごうとした時に足を負傷する","金属工事（その他）",506030,"軽微災害"]
[792,"資材結束用バンドを切断する際にカッターナイフで手を切る","左官工事",507010,"軽微災害"]
[793,"前かがみで物を持ち上げた際、腰を痛める","左官工事",507010,"軽微災害"]
[794,"ﾊﾞﾙｺﾆｰ手摺補修の際上から物が落下して負傷する","左官工事",507010,"軽微災害"]
[795,"移動中溝に足を取られて負傷する","左官工事",507010,"軽微災害"]
[796,"足を滑らせて転倒する","左官工事（土間）",507020,"軽微災害"]
[797,"セットハンマーで建入れ調整中、手をたたき負傷する","金属製建具工事（AW)",509010,"軽微災害"]
[798,"取付作業中吊元の後打ちアンカーが抜け、吊り荷が落下して手にあたる","金属製建具工事（SD)",509020,"軽微災害"]
[799,"部材搬入時荷渡しする際に取り損ねて手を負傷する","金属製建具工事（CW)",509040,"軽微災害"]
[800,"ガラス切断時にガラスで手を切る","ガラス工事",510010,"軽微災害"]
[801,"ローリング足場から降りる時に転落する","塗装工事（塗装・塗床）",511010,"軽微災害"]
[802,"作業足場の段差から転落する","塗装工事（塗装・塗床）",511010,"軽微災害"]
[803,"足場上材料運搬時、筋交に資材ごと手をぶつけ負傷する","吹付工事",511020,"軽微災害"]
[804,"ハンマードリルに手を巻き込まれる","内装工事（壁・天井下地）",512010,"軽微災害"]
[805,"後ろ向きで移動した際にカラーコーンで躓き負傷する","内装工事（壁・天井下地）",512010,"軽微災害"]
[806,"資材運搬時、階段でバランスを崩して転倒する","内装工事（ボード貼り）",512020,"軽微災害"]
[807,"カッターナイフで誤って手を切る","内装工事（壁・天井仕上げ）",512030,"軽微災害"]
[808,"足場板の段差で足をひねる","ウレタン吹付工事",512070,"軽微災害"]
[809,"インパクトドライバー使用時に、先端部に接触し負傷する","仕上ユニット工事（UB、洗面、キッチン、家具等）",513010,"軽微災害"]
[810,"カッターナイフで手を切る","電気設備工事（配線・配管）",601020,"軽微災害"]
[811,"高所作業車使用時、物が落下し負傷する","電気設備工事（配線・配管）",601020,"軽微災害"]
[812,"狭小な作業場所で床段差に気づかずに、足をひねる","電気設備工事（配線・配管）",601020,"軽微災害"]
[813,"床開口部から転落する","電気設備工事（その他）",601110,"軽微災害"]
[814,"曲がり修正時に吊りボルトがはずれて顔面に当たる","空調設備工事（ダクト）",602010,"軽微災害"]
[815,"現場内移動中コンクリート釘を踏み抜く","空調設備工事（屋内配管）",602050,"軽微災害"]
[816,"両手に荷物を持ったまま敷鉄板上を歩行し躓いて転倒する","空調設備工事（スリーブ・インサート）",602080,"軽微災害"]
[817,"塩ビ管荷吊り時に手を挟む","排水工事",702010,"軽微災害"]
[818,"PC水路設置時にワイヤーがはずれて吊り治具が落下する","排水工事",702010,"軽微災害"]
[819,"一輪車が荷運搬中に壊れて転倒し負傷する","舗装工事",703010,"軽微災害"]
[820,"土中から突き出した番線にて足を負傷する","囲障工事",704010,"軽微災害"]
[821,"下地材を切断時、端部が跳ね上がって負傷する","解体撤去工事（S造他）",750030,"軽微災害"]
[822,"上から物が落下し、人に当たる","斫り工事",750040,"軽微災害"]
[823,"斫りガラが落ちてきて体にあたる","斫り工事",750040,"軽微災害"]
[824,"スクレーパー使用時誤って手を負傷する","斫り工事",750040,"軽微災害"]
[825,"ハンマードリルに手を巻き込まれる","アンカー打設工事",750060,"軽微災害"]
[826,"釘を踏み抜く","その他工事",750080,"軽微災害"]
[827,"釘抜き作業中、勢いがついて転倒する","その他工事",750080,"軽微災害"]
[828,"差し筋を跨いで転倒する","その他工事",750080,"軽微災害"]
[{"$f":"ROW()-2","v":828},null,null,{"$f":"IF(C830=\"\",\"\",VLOOKUP(C830, 工種一覧!$B$2:$C$287, 4, FALSE))","v":""}]
[829,null,null,{"$f":"IF(C831=\"\",\"\",VLOOKUP(C831, 工種一覧!$B$2:$C$287, 4, FALSE))","v":""}]
[830,null,null,{"$f":"IF(C832=\"\",\"\",VLOOKUP(C832, 工種一覧!$B$2:$C$287, 4, FALSE))","v":""}]
[831,null,null,{"$f":"IF(C833=\"\",\"\",VLOOKUP(C833, 工種一覧!$B$2:$C$287, 4, FALSE))","v":""}]
[832,null,null,{"$f":"IF(C834=\"\",\"\",VLOOKUP(C834, 工種一覧!$B$2:$C$287, 4, FALSE))","v":""}]
[833,null,null,{"$f":"IF(C835=\"\",\"\",VLOOKUP(C835, 工種一覧!$B$2:$C$287, 4, FALSE))","v":""}]
[834,null,null,{"$f":"IF(C836=\"\",\"\",VLOOKUP(C836, 工種一覧!$B$2:$C$287, 4, FALSE))","v":""}]
[835,null,null,{"$f":"IF(C837=\"\",\"\",VLOOKUP(C837, 工種一覧!$B$2:$C$287, 4, FALSE))","v":""}]
[836,null,null,{"$f":"IF(C838=\"\",\"\",VLOOKUP(C838, 工種一覧!$B$2:$C$287, 4, FALSE))","v":""}]
[837,null,null,{"$f":"IF(C839=\"\",\"\",VLOOKUP(C839, 工種一覧!$B$2:$C$287, 4, FALSE))","v":""}]
[838,null,null,{"$f":"IF(C840=\"\",\"\",VLOOKUP(C840, 工種一覧!$B$2:$C$287, 4, FALSE))","v":""}]
[839,null,null,{"$f":"IF(C841=\"\",\"\",VLOOKUP(C841, 工種一覧!$B$2:$C$287, 4, FALSE))","v":""}]
[840,null,null,{"$f":"IF(C842=\"\",\"\",VLOOKUP(C842, 工種一覧!$B$2:$C$287, 4, FALSE))","v":""}]
[841,null,null,{"$f":"IF(C843=\"\",\"\",VLOOKUP(C843, 工種一覧!$B$2:$C$287, 4, FALSE))","v":""}]
[842,null,null,{"$f":"IF(C844=\"\",\"\",VLOOKUP(C844, 工種一覧!$B$2:$C$287, 4, FALSE))","v":""}]
[843,null,null,{"$f":"IF(C845=\"\",\"\",VLOOKUP(C845, 工種一覧!$B$2:$C$287, 4, FALSE))","v":""}]
[844,null,null,{"$f":"IF(C846=\"\",\"\",VLOOKUP(C846, 工種一覧!$B$2:$C$287, 4, FALSE))","v":""}]
[845,null,null,{"$f":"IF(C847=\"\",\"\",VLOOKUP(C847, 工種一覧!$B$2:$C$287, 4, FALSE))","v":""}]
[846,null,null,{"$f":"IF(C848=\"\",\"\",VLOOKUP(C848, 工種一覧!$B$2:$C$287, 4, FALSE))","v":""}]
[847,null,null,{"$f":"IF(C849=\"\",\"\",VLOOKUP(C849, 工種一覧!$B$2:$C$287, 4, FALSE))","v":""}]
[848,null,null,{"$f":"IF(C850=\"\",\"\",VLOOKUP(C850, 工種一覧!$B$2:$C$287, 4, FALSE))","v":""}]
[849,null,null,{"$f":"IF(C851=\"\",\"\",VLOOKUP(C851, 工種一覧!$B$2:$C$287, 4, FALSE))","v":""}]
[850,null,null,{"$f":"IF(C852=\"\",\"\",VLOOKUP(C852, 工種一覧!$B$2:$C$287, 4, FALSE))","v":""}]
[851,null,null,{"$f":"IF(C853=\"\",\"\",VLOOKUP(C853, 工種一覧!$B$2:$C$287, 4, FALSE))","v":""}]
[852,null,null,{"$f":"IF(C854=\"\",\"\",VLOOKUP(C854, 工種一覧!$B$2:$C$287, 4, FALSE))","v":""}]
[853,null,null,{"$f":"IF(C855=\"\",\"\",VLOOKUP(C855, 工種一覧!$B$2:$C$287, 4, FALSE))","v":""}]
[854,null,null,{"$f":"IF(C856=\"\",\"\",VLOOKUP(C856, 工種一覧!$B$2:$C$287, 4, FALSE))","v":""}]
[855,null,null,{"$f":"IF(C857=\"\",\"\",VLOOKUP(C857, 工種一覧!$B$2:$C$287, 4, FALSE))","v":""}]
[856,null,null,{"$f":"IF(C858=\"\",\"\",VLOOKUP(C858, 工種一覧!$B$2:$C$287, 4, FALSE))","v":""}]
[857,null,null,{"$f":"IF(C859=\"\",\"\",VLOOKUP(C859, 工種一覧!$B$2:$C$287, 4, FALSE))","v":""}]
[858,null,null,{"$f":"IF(C860=\"\",\"\",VLOOKUP(C860, 工種一覧!$B$2:$C$287, 4, FALSE))","v":""}]
[859,null,null,{"$f":"IF(C861=\"\",\"\",VLOOKUP(C861, 工種一覧!$B$2:$C$287, 4, FALSE))","v":""}]
[860,null,null,{"$f":"IF(C862=\"\",\"\",VLOOKUP(C862, 工種一覧!$B$2:$C$287, 4, FALSE))","v":""}]
[861,null,null,{"$f":"IF(C863=\"\",\"\",VLOOKUP(C863, 工種一覧!$B$2:$C$287, 4, FALSE))","v":""}]
[862,null,null,{"$f":"IF(C864=\"\",\"\",VLOOKUP(C864, 工種一覧!$B$2:$C$287, 4, FALSE))","v":""}]
[{"$f":"ROW()-2","v":863},null,null,{"$f":"IF(C865=\"\",\"\",VLOOKUP(C865, 工種一覧!$B$2:$C$287, 4, FALSE))","v":""}]
[864,null,null,{"$f":"IF(C866=\"\",\"\",VLOOKUP(C866, 工種一覧!$B$2:$C$287, 4, FALSE))","v":""}]
[865,null,null,{"$f":"IF(C867=\"\",\"\",VLOOKUP(C867, 工種一覧!$B$2:$C$287, 4, FALSE))","v":""}]
[866,null,null,{"$f":"IF(C868=\"\",\"\",VLOOKUP(C868, 工種一覧!$B$2:$C$287, 4, FALSE))","v":""}]
[867,null,null,{"$f":"IF(C869=\"\",\"\",VLOOKUP(C869, 工種一覧!$B$2:$C$287, 4, FALSE))","v":""}]
[868,null,null,{"$f":"IF(C870=\"\",\"\",VLOOKUP(C870, 工種一覧!$B$2:$C$287, 4, FALSE))","v":""}]
[869,null,null,{"$f":"IF(C871=\"\",\"\",VLOOKUP(C871, 工種一覧!$B$2:$C$287, 4, FALSE))","v":""}]
[870,null,null,{"$f":"IF(C872=\"\",\"\",VLOOKUP(C872, 工種一覧!$B$2:$C$287, 4, FALSE))","v":""}]
[871,null,null,{"$f":"IF(C873=\"\",\"\",VLOOKUP(C873, 工種一覧!$B$2:$C$287, 4, FALSE))","v":""}]
[872,null,null,{"$f":"IF(C874=\"\",\"\",VLOOKUP(C874, 工種一覧!$B$2:$C$287, 4, FALSE))","v":""}]
[873,null,null,{"$f":"IF(C875=\"\",\"\",VLOOKUP(C875, 工種一覧!$B$2:$C$287, 4, FALSE))","v":""}]
[874,null,null,{"$f":"IF(C876=\"\",\"\",VLOOKUP(C876, 工種一覧!$B$2:$C$287, 4, FALSE))","v":""}]
[875,null,null,{"$f":"IF(C877=\"\",\"\",VLOOKUP(C877, 工種一覧!$B$2:$C$287, 4, FALSE))","v":""}]
[876,null,null,{"$f":"IF(C878=\"\",\"\",VLOOKUP(C878, 工種一覧!$B$2:$C$287, 4, FALSE))","v":""}]
[877,null,null,{"$f":"IF(C879=\"\",\"\",VLOOKUP(C879, 工種一覧!$B$2:$C$287, 4, FALSE))","v":""}]
[878,null,null,{"$f":"IF(C880=\"\",\"\",VLOOKUP(C880, 工種一覧!$B$2:$C$287, 4, FALSE))","v":""}]
[879,null,null,{"$f":"IF(C881=\"\",\"\",VLOOKUP(C881, 工種一覧!$B$2:$C$287, 4, FALSE))","v":""}]
[880,null,null,{"$f":"IF(C882=\"\",\"\",VLOOKUP(C882, 工種一覧!$B$2:$C$287, 4, FALSE))","v":""}]
[881,null,null,{"$f":"IF(C883=\"\",\"\",VLOOKUP(C883, 工種一覧!$B$2:$C$287, 4, FALSE))","v":""}]
[882,null,null,{"$f":"IF(C884=\"\",\"\",VLOOKUP(C884, 工種一覧!$B$2:$C$287, 4, FALSE))","v":""}]
[883,null,null,{"$f":"IF(C885=\"\",\"\",VLOOKUP(C885, 工種一覧!$B$2:$C$287, 4, FALSE))","v":""}]
[884,null,null,{"$f":"IF(C886=\"\",\"\",VLOOKUP(C886, 工種一覧!$B$2:$C$287, 4, FALSE))","v":""}]
[885,null,null,{"$f":"IF(C887=\"\",\"\",VLOOKUP(C887, 工種一覧!$B$2:$C$287, 4, FALSE))","v":""}]
[886,null,null,{"$f":"IF(C888=\"\",\"\",VLOOKUP(C888, 工種一覧!$B$2:$C$287, 4, FALSE))","v":""}]
[887,null,null,{"$f":"IF(C889=\"\",\"\",VLOOKUP(C889, 工種一覧!$B$2:$C$287, 4, FALSE))","v":""}]
[888,null,null,{"$f":"IF(C890=\"\",\"\",VLOOKUP(C890, 工種一覧!$B$2:$C$287, 4, FALSE))","v":""}]
[889,null,null,{"$f":"IF(C891=\"\",\"\",VLOOKUP(C891, 工種一覧!$B$2:$C$287, 4, FALSE))","v":""}]
[890,null,null,{"$f":"IF(C892=\"\",\"\",VLOOKUP(C892, 工種一覧!$B$2:$C$287, 4, FALSE))","v":""}]
[891,null,null,{"$f":"IF(C893=\"\",\"\",VLOOKUP(C893, 工種一覧!$B$2:$C$287, 4, FALSE))","v":""}]
[892,null,null,{"$f":"IF(C894=\"\",\"\",VLOOKUP(C894, 工種一覧!$B$2:$C$287, 4, FALSE))","v":""}]
[893,null,null,{"$f":"IF(C895=\"\",\"\",VLOOKUP(C895, 工種一覧!$B$2:$C$287, 4, FALSE))","v":""}]
[894,null,null,{"$f":"IF(C896=\"\",\"\",VLOOKUP(C896, 工種一覧!$B$2:$C$287, 4, FALSE))","v":""}]
[895,null,null,{"$f":"IF(C897=\"\",\"\",VLOOKUP(C897, 工種一覧!$B$2:$C$287, 4, FALSE))","v":""}]
[896,null,null,{"$f":"IF(C898=\"\",\"\",VLOOKUP(C898, 工種一覧!$B$2:$C$287, 4, FALSE))","v":""}]
[897,null,null,{"$f":"IF(C899=\"\",\"\",VLOOKUP(C899, 工種一覧!$B$2:$C$287, 4, FALSE))","v":""}]
[898,null,null,{"$f":"IF(C900=\"\",\"\",VLOOKUP(C900, 工種一覧!$B$2:$C$287, 4, FALSE))","v":""}]
[899,null,null,{"$f":"IF(C901=\"\",\"\",VLOOKUP(C901, 工種一覧!$B$2:$C$287, 4, FALSE))","v":""}]
[900,null,null,{"$f":"IF(C902=\"\",\"\",VLOOKUP(C902, 工種一覧!$B$2:$C$287, 4, FALSE))","v":""}]
[901,null,null,{"$f":"IF(C903=\"\",\"\",VLOOKUP(C903, 工種一覧!$B$2:$C$287, 4, FALSE))","v":""}]
[902,null,null,{"$f":"IF(C904=\"\",\"\",VLOOKUP(C904, 工種一覧!$B$2:$C$287, 4, FALSE))","v":""}]
[903,null,null,{"$f":"IF(C905=\"\",\"\",VLOOKUP(C905, 工種一覧!$B$2:$C$287, 4, FALSE))","v":""}]
[904,null,null,{"$f":"IF(C906=\"\",\"\",VLOOKUP(C906, 工種一覧!$B$2:$C$287, 4, FALSE))","v":""}]
[905,null,null,{"$f":"IF(C907=\"\",\"\",VLOOKUP(C907, 工種一覧!$B$2:$C$287, 4, FALSE))","v":""}]
[906,null,null,{"$f":"IF(C908=\"\",\"\",VLOOKUP(C908, 工種一覧!$B$2:$C$287, 4, FALSE))","v":""}]
[907,null,null,{"$f":"IF(C909=\"\",\"\",VLOOKUP(C909, 工種一覧!$B$2:$C$287, 4, FALSE))","v":""}]
[908,null,null,{"$f":"IF(C910=\"\",\"\",VLOOKUP(C910, 工種一覧!$B$2:$C$287, 4, FALSE))","v":""}]
[909,null,null,{"$f":"IF(C911=\"\",\"\",VLOOKUP(C911, 工種一覧!$B$2:$C$287, 4, FALSE))","v":""}]
[910,null,null,{"$f":"IF(C912=\"\",\"\",VLOOKUP(C912, 工種一覧!$B$2:$C$287, 4, FALSE))","v":""}]
[911,null,null,{"$f":"IF(C913=\"\",\"\",VLOOKUP(C913, 工種一覧!$B$2:$C$287, 4, FALSE))","v":""}]
[912,null,null,{"$f":"IF(C914=\"\",\"\",VLOOKUP(C914, 工種一覧!$B$2:$C$287, 4, FALSE))","v":""}]
[913,null,null,{"$f":"IF(C915=\"\",\"\",VLOOKUP(C915, 工種一覧!$B$2:$C$287, 4, FALSE))","v":""}]
[914,null,null,{"$f":"IF(C916=\"\",\"\",VLOOKUP(C916, 工種一覧!$B$2:$C$287, 4, FALSE))","v":""}]
[915,null,null,{"$f":"IF(C917=\"\",\"\",VLOOKUP(C917, 工種一覧!$B$2:$C$287, 4, FALSE))","v":""}]
[916,null,null,{"$f":"IF(C918=\"\",\"\",VLOOKUP(C918, 工種一覧!$B$2:$C$287, 4, FALSE))","v":""}]
[917,null,null,{"$f":"IF(C919=\"\",\"\",VLOOKUP(C919, 工種一覧!$B$2:$C$287, 4, FALSE))","v":""}]
[918,null,null,{"$f":"IF(C920=\"\",\"\",VLOOKUP(C920, 工種一覧!$B$2:$C$287, 4, FALSE))","v":""}]
[919,null,null,{"$f":"IF(C921=\"\",\"\",VLOOKUP(C921, 工種一覧!$B$2:$C$287, 4, FALSE))","v":""}]
[920,null,null,{"$f":"IF(C922=\"\",\"\",VLOOKUP(C922, 工種一覧!$B$2:$C$287, 4, FALSE))","v":""}]
[921,null,null,{"$f":"IF(C923=\"\",\"\",VLOOKUP(C923, 工種一覧!$B$2:$C$287, 4, FALSE))","v":""}]
[922,null,null,{"$f":"IF(C924=\"\",\"\",VLOOKUP(C924, 工種一覧!$B$2:$C$287, 4, FALSE))","v":""}]
[923,null,null,{"$f":"IF(C925=\"\",\"\",VLOOKUP(C925, 工種一覧!$B$2:$C$287, 4, FALSE))","v":""}]
[924,null,null,{"$f":"IF(C926=\"\",\"\",VLOOKUP(C926, 工種一覧!$B$2:$C$287, 4, FALSE))","v":""}]
[925,null,null,{"$f":"IF(C927=\"\",\"\",VLOOKUP(C927, 工種一覧!$B$2:$C$287, 4, FALSE))","v":""}]
[926,null,null,{"$f":"IF(C928=\"\",\"\",VLOOKUP(C928, 工種一覧!$B$2:$C$287, 4, FALSE))","v":""}]
[{"$f":"ROW()-2","v":927},null,null,{"$f":"IF(C929=\"\",\"\",VLOOKUP(C929, 工種一覧!$B$2:$C$287, 4, FALSE))","v":""}]
[928,null,null,{"$f":"IF(C930=\"\",\"\",VLOOKUP(C930, 工種一覧!$B$2:$C$287, 4, FALSE))","v":""}]
[929,null,null,{"$f":"IF(C931=\"\",\"\",VLOOKUP(C931, 工種一覧!$B$2:$C$287, 4, FALSE))","v":""}]
[930,null,null,{"$f":"IF(C932=\"\",\"\",VLOOKUP(C932, 工種一覧!$B$2:$C$287, 4, FALSE))","v":""}]
[931,null,null,{"$f":"IF(C933=\"\",\"\",VLOOKUP(C933, 工種一覧!$B$2:$C$287, 4, FALSE))","v":""}]
[932,null,null,{"$f":"IF(C934=\"\",\"\",VLOOKUP(C934, 工種一覧!$B$2:$C$287, 4, FALSE))","v":""}]
[933,null,null,{"$f":"IF(C935=\"\",\"\",VLOOKUP(C935, 工種一覧!$B$2:$C$287, 4, FALSE))","v":""}]
[934,null,null,{"$f":"IF(C936=\"\",\"\",VLOOKUP(C936, 工種一覧!$B$2:$C$287, 4, FALSE))","v":""}]
[935,null,null,{"$f":"IF(C937=\"\",\"\",VLOOKUP(C937, 工種一覧!$B$2:$C$287, 4, FALSE))","v":""}]
[936,null,null,{"$f":"IF(C938=\"\",\"\",VLOOKUP(C938, 工種一覧!$B$2:$C$287, 4, FALSE))","v":""}]
[937,null,null,{"$f":"IF(C939=\"\",\"\",VLOOKUP(C939, 工種一覧!$B$2:$C$287, 4, FALSE))","v":""}]
[938,null,null,{"$f":"IF(C940=\"\",\"\",VLOOKUP(C940, 工種一覧!$B$2:$C$287, 4, FALSE))","v":""}]
[939,null,null,{"$f":"IF(C941=\"\",\"\",VLOOKUP(C941, 工種一覧!$B$2:$C$287, 4, FALSE))","v":""}]
[940,null,null,{"$f":"IF(C942=\"\",\"\",VLOOKUP(C942, 工種一覧!$B$2:$C$287, 4, FALSE))","v":""}]
[941,null,null,{"$f":"IF(C943=\"\",\"\",VLOOKUP(C943, 工種一覧!$B$2:$C$287, 4, FALSE))","v":""}]
[942,null,null,{"$f":"IF(C944=\"\",\"\",VLOOKUP(C944, 工種一覧!$B$2:$C$287, 4, FALSE))","v":""}]
[943,null,null,{"$f":"IF(C945=\"\",\"\",VLOOKUP(C945, 工種一覧!$B$2:$C$287, 4, FALSE))","v":""}]
[944,null,null,{"$f":"IF(C946=\"\",\"\",VLOOKUP(C946, 工種一覧!$B$2:$C$287, 4, FALSE))","v":""}]
[945,null,null,{"$f":"IF(C947=\"\",\"\",VLOOKUP(C947, 工種一覧!$B$2:$C$287, 4, FALSE))","v":""}]
[946,null,null,{"$f":"IF(C948=\"\",\"\",VLOOKUP(C948, 工種一覧!$B$2:$C$287, 4, FALSE))","v":""}]
[947,null,null,{"$f":"IF(C949=\"\",\"\",VLOOKUP(C949, 工種一覧!$B$2:$C$287, 4, FALSE))","v":""}]
[948,null,null,{"$f":"IF(C950=\"\",\"\",VLOOKUP(C950, 工種一覧!$B$2:$C$287, 4, FALSE))","v":""}]
[949,null,null,{"$f":"IF(C951=\"\",\"\",VLOOKUP(C951, 工種一覧!$B$2:$C$287, 4, FALSE))","v":""}]
[950,null,null,{"$f":"IF(C952=\"\",\"\",VLOOKUP(C952, 工種一覧!$B$2:$C$287, 4, FALSE))","v":""}]
[951,null,null,{"$f":"IF(C953=\"\",\"\",VLOOKUP(C953, 工種一覧!$B$2:$C$287, 4, FALSE))","v":""}]
[952,null,null,{"$f":"IF(C954=\"\",\"\",VLOOKUP(C954, 工種一覧!$B$2:$C$287, 4, FALSE))","v":""}]
[953,null,null,{"$f":"IF(C955=\"\",\"\",VLOOKUP(C955, 工種一覧!$B$2:$C$287, 4, FALSE))","v":""}]
[954,null,null,{"$f":"IF(C956=\"\",\"\",VLOOKUP(C956, 工種一覧!$B$2:$C$287, 4, FALSE))","v":""}]
[955,null,null,{"$f":"IF(C957=\"\",\"\",VLOOKUP(C957, 工種一覧!$B$2:$C$287, 4, FALSE))","v":""}]
[956,null,null,{"$f":"IF(C958=\"\",\"\",VLOOKUP(C958, 工種一覧!$B$2:$C$287, 4, FALSE))","v":""}]
[957,null,null,{"$f":"IF(C959=\"\",\"\",VLOOKUP(C959, 工種一覧!$B$2:$C$287, 4, FALSE))","v":""}]
[958,null,null,{"$f":"IF(C960=\"\",\"\",VLOOKUP(C960, 工種一覧!$B$2:$C$287, 4, FALSE))","v":""}]
[959,null,null,{"$f":"IF(C961=\"\",\"\",VLOOKUP(C961, 工種一覧!$B$2:$C$287, 4, FALSE))","v":""}]
[960,null,null,{"$f":"IF(C962=\"\",\"\",VLOOKUP(C962, 工種一覧!$B$2:$C$287, 4, FALSE))","v":""}]
[961,null,null,{"$f":"IF(C963=\"\",\"\",VLOOKUP(C963, 工種一覧!$B$2:$C$287, 4, FALSE))","v":""}]
[962,null,null,{"$f":"IF(C964=\"\",\"\",VLOOKUP(C964, 工種一覧!$B$2:$C$287, 4, FALSE))","v":""}]
[963,null,null,{"$f":"IF(C965=\"\",\"\",VLOOKUP(C965, 工種一覧!$B$2:$C$287, 4, FALSE))","v":""}]
[964,null,null,{"$f":"IF(C966=\"\",\"\",VLOOKUP(C966, 工種一覧!$B$2:$C$287, 4, FALSE))","v":""}]
[965,null,null,{"$f":"IF(C967=\"\",\"\",VLOOKUP(C967, 工種一覧!$B$2:$C$287, 4, FALSE))","v":""}]
[966,null,null,{"$f":"IF(C968=\"\",\"\",VLOOKUP(C968, 工種一覧!$B$2:$C$287, 4, FALSE))","v":""}]
[967,null,null,{"$f":"IF(C969=\"\",\"\",VLOOKUP(C969, 工種一覧!$B$2:$C$287, 4, FALSE))","v":""}]
[968,null,null,{"$f":"IF(C970=\"\",\"\",VLOOKUP(C970, 工種一覧!$B$2:$C$287, 4, FALSE))","v":""}]
[969,null,null,{"$f":"IF(C971=\"\",\"\",VLOOKUP(C971, 工種一覧!$B$2:$C$287, 4, FALSE))","v":""}]
[970,null,null,{"$f":"IF(C972=\"\",\"\",VLOOKUP(C972, 工種一覧!$B$2:$C$287, 4, FALSE))","v":""}]
[971,null,null,{"$f":"IF(C973=\"\",\"\",VLOOKUP(C973, 工種一覧!$B$2:$C$287, 4, FALSE))","v":""}]
[972,null,null,{"$f":"IF(C974=\"\",\"\",VLOOKUP(C974, 工種一覧!$B$2:$C$287, 4, FALSE))","v":""}]
[973,null,null,{"$f":"IF(C975=\"\",\"\",VLOOKUP(C975, 工種一覧!$B$2:$C$287, 4, FALSE))","v":""}]
[974,null,null,{"$f":"IF(C976=\"\",\"\",VLOOKUP(C976, 工種一覧!$B$2:$C$287, 4, FALSE))","v":""}]
[975,null,null,{"$f":"IF(C977=\"\",\"\",VLOOKUP(C977, 工種一覧!$B$2:$C$287, 4, FALSE))","v":""}]
[976,null,null,{"$f":"IF(C978=\"\",\"\",VLOOKUP(C978, 工種一覧!$B$2:$C$287, 4, FALSE))","v":""}]
[977,null,null,{"$f":"IF(C979=\"\",\"\",VLOOKUP(C979, 工種一覧!$B$2:$C$287, 4, FALSE))","v":""}]
[978,null,null,{"$f":"IF(C980=\"\",\"\",VLOOKUP(C980, 工種一覧!$B$2:$C$287, 4, FALSE))","v":""}]
[979,null,null,{"$f":"IF(C981=\"\",\"\",VLOOKUP(C981, 工種一覧!$B$2:$C$287, 4, FALSE))","v":""}]
[980,null,null,{"$f":"IF(C982=\"\",\"\",VLOOKUP(C982, 工種一覧!$B$2:$C$287, 4, FALSE))","v":""}]
[981,null,null,{"$f":"IF(C983=\"\",\"\",VLOOKUP(C983, 工種一覧!$B$2:$C$287, 4, FALSE))","v":""}]
[982,null,null,{"$f":"IF(C984=\"\",\"\",VLOOKUP(C984, 工種一覧!$B$2:$C$287, 4, FALSE))","v":""}]
[983,null,null,{"$f":"IF(C985=\"\",\"\",VLOOKUP(C985, 工種一覧!$B$2:$C$287, 4, FALSE))","v":""}]
[984,null,null,{"$f":"IF(C986=\"\",\"\",VLOOKUP(C986, 工種一覧!$B$2:$C$287, 4, FALSE))","v":""}]
[985,null,null,{"$f":"IF(C987=\"\",\"\",VLOOKUP(C987, 工種一覧!$B$2:$C$287, 4, FALSE))","v":""}]
[986,null,null,{"$f":"IF(C988=\"\",\"\",VLOOKUP(C988, 工種一覧!$B$2:$C$287, 4, FALSE))","v":""}]
[987,null,null,{"$f":"IF(C989=\"\",\"\",VLOOKUP(C989, 工種一覧!$B$2:$C$287, 4, FALSE))","v":""}]
[988,null,null,{"$f":"IF(C990=\"\",\"\",VLOOKUP(C990, 工種一覧!$B$2:$C$287, 4, FALSE))","v":""}]
[989,null,null,{"$f":"IF(C991=\"\",\"\",VLOOKUP(C991, 工種一覧!$B$2:$C$287, 4, FALSE))","v":""}]
[990,null,null,{"$f":"IF(C992=\"\",\"\",VLOOKUP(C992, 工種一覧!$B$2:$C$287, 4, FALSE))","v":""}]
[{"$f":"ROW()-2","v":991},null,null,{"$f":"IF(C993=\"\",\"\",VLOOKUP(C993, 工種一覧!$B$2:$C$287, 4, FALSE))","v":""}]
[992,null,null,{"$f":"IF(C994=\"\",\"\",VLOOKUP(C994, 工種一覧!$B$2:$C$287, 4, FALSE))","v":""}]
[993,null,null,{"$f":"IF(C995=\"\",\"\",VLOOKUP(C995, 工種一覧!$B$2:$C$287, 4, FALSE))","v":""}]
[994,null,null,{"$f":"IF(C996=\"\",\"\",VLOOKUP(C996, 工種一覧!$B$2:$C$287, 4, FALSE))","v":""}]
[995,null,null,{"$f":"IF(C997=\"\",\"\",VLOOKUP(C997, 工種一覧!$B$2:$C$287, 4, FALSE))","v":""}]
[996,null,null,{"$f":"IF(C998=\"\",\"\",VLOOKUP(C998, 工種一覧!$B$2:$C$287, 4, FALSE))","v":""}]
[997,null,null,{"$f":"IF(C999=\"\",\"\",VLOOKUP(C999, 工種一覧!$B$2:$C$287, 4, FALSE))","v":""}]
[998,null,null,{"$f":"IF(C1000=\"\",\"\",VLOOKUP(C1000, 工種一覧!$B$2:$C$287, 4, FALSE))","v":""}]